{"text_format":"1","workbook":"xlsx","n_sheets":15,"sheets":["LIQUIDAÇÃO REAJ. 50ª","LIQUIDAÇÃO REAJ.","REEQUILÍBRIO 50ª","REEQUILÍBRIO","CRON. FINANC.","1ª MEDIÇÃO","2ª MEDIÇÃO","3ª MEDIÇÃO","4ª MEDIÇÃO","5ª MEDIÇÃO","6ª MEDIÇÃO","7ª MEDIÇÃO","8ª MEDIÇÃO","9ª MEDIÇÃO","PLANILHA SINTÉTICA"],"not_rendered":{"charts":2,"images":4,"macros":1,"external_links":8,"defined_names":606,"comments":0,"pivot_tables":0},"unopened":[],"bounds":{"document_bytes":16777216,"sheet_cells":100000,"rows_first":2000,"rows_last":500,"rows_between":2000,"halvings":0,"cell_chars":16384,"cell_head_chars":4096},"cells_cut":0,"cells_raw":0,"read":"whole","date_system":"1900"}

{"sheet":"LIQUIDAÇÃO REAJ. 50ª","index":0,"n_rows":109,"n_cols":12,"rows_kept":109,"cut":false,"hidden":true,"merged":[[5,0,6,0],[5,1,6,1],[5,2,6,2],[5,3,6,3],[5,4,6,4],[107,12,107,13],[108,12,108,13],[109,12,109,13],[0,8,3,11],[3,1,3,3],[3,6,3,7],[5,5,6,5],[5,6,5,7],[0,1,0,3],[0,6,0,7],[1,1,1,3],[1,6,1,7],[2,1,2,3],[2,6,2,7]]}
["  '","PODER JUDICIÁRIO",null,null,null,"Obra:",{"$f":"#REF!","v":{"$error":"#REF!"}},null,"REAJUSTE DA MEDIÇÃO 49ª MEDIÇÃO CONFORME  5ºTA"]
[null,"TRIBUNAL DE JUSTIÇA DE PERNAMBUCO",null,null,null,"Local:",{"$f":"#REF!","v":{"$error":"#REF!"}}]
[null,"DIRETORIA DE ENGENHARIA E ARQUITETURA",null,null,null,"Contrato:",{"$f":"#REF!","v":{"$error":"#REF!"}}]
[null,"PLANILHA PARA LIQUIDAÇÃO - 49ª MEDIÇÃO ",null,null,null,"Contratada:",{"$f":"#REF!","v":{"$error":"#REF!"}}]
[null,null,null,null,null,null,"DATA:","2022-02-10","REAJUSTE:",0.2225,"REAJUSTE:",0.2225]
["Item","Código","Cód. Efisco","Discriminação/especificação dos serviços","UNID","QUANT","SERVIÇO",null,"OBRA",null,"BENS PERMANENTES"]
[null,null,null,null,null,null,"P. UNIT.","P. PARCIAL","P. UNIT.","P. PARCIAL","P. UNIT.","P. PARCIAL"]
["1.2",{"$f":"IF(COUNTA(#REF!)>0,VLOOKUP($A8,'PLANILHA SINTÉTICA'!$A$10:$T$1083,2,0),\"\")","v":"Administração local pelo período da obra."},{"$f":"IF(COUNTA(A8)>0,VLOOKUP($A8,'[8]PLANILHA SINTÉTICA'!$A$9:$U$1082,3,0),\"\")","v":"401010-8"},{"$f":"IF(COUNTA(A8)>0,VLOOKUP($A8,'PLANILHA SINTÉTICA'!$A$10:$T$1083,4,0),\"\")","v":18},{"$f":"IF(COUNTA(A8)>0,VLOOKUP($A8,'PLANILHA SINTÉTICA'!$A$10:$T$1083,5,0),\"\")","v":17.836600000000001},{"$f":"IF(ISERROR(VLOOKUP($A8,#REF!,8,0)),0,(VLOOKUP($A8,#REF!,8,0)))","v":0},{"$f":"IF(COUNTA(A8)>0,VLOOKUP($A8,'[8]PLANILHA SINTÉTICA'!$A$9:$AC$1082,15,0),\"\")","v":124499.82467999999},{"$f":"ROUND(G8*F8,2)","v":0},{"$f":"ROUND($G8*$J$5,2)","v":27701.21},{"$f":"ROUND($H8*$J$5,2)","v":0}]
["1.25",{"$f":"IF(COUNTA(#REF!)>0,VLOOKUP($A9,'PLANILHA SINTÉTICA'!$A$10:$T$1083,2,0),\"\")","v":"Desmontagem de andaimes do tipo fachadeiro inclusive carregamento, descarregamento e transporte posto/obra"},{"$f":"IF(COUNTA(A9)>0,VLOOKUP($A9,'[8]PLANILHA SINTÉTICA'!$A$9:$U$1082,3,0),\"\")","v":"411687-9"},{"$f":"IF(COUNTA(A9)>0,VLOOKUP($A9,'PLANILHA SINTÉTICA'!$A$10:$T$1083,4,0),\"\")","v":3784},{"$f":"IF(COUNTA(A9)>0,VLOOKUP($A9,'PLANILHA SINTÉTICA'!$A$10:$T$1083,5,0),\"\")","v":3783.9999999999991},{"$f":"IF(ISERROR(VLOOKUP($A9,#REF!,8,0)),0,(VLOOKUP($A9,#REF!,8,0)))","v":0},{"$f":"IF(COUNTA(A9)>0,VLOOKUP($A9,'[8]PLANILHA SINTÉTICA'!$A$9:$AC$1082,15,0),\"\")","v":2.84876},0,0.63,0]
["5.4",{"$f":"IF(COUNTA(#REF!)>0,VLOOKUP($A10,'PLANILHA SINTÉTICA'!$A$10:$T$1083,2,0),\"\")","v":"Porcelanato Bianco polido, 62,5x62,5cm Elizabeth ou equivalente, assentadas com argamassa colante AC III Quartzolit ou equivalente e rejuntadas com argamassa de rejuntamento flexível Quartzolit ou equivalente."},{"$f":"IF(COUNTA(A10)>0,VLOOKUP($A10,'[8]PLANILHA SINTÉTICA'!$A$9:$U$1082,3,0),\"\")","v":"428759-2"},{"$f":"IF(COUNTA(A10)>0,VLOOKUP($A10,'PLANILHA SINTÉTICA'!$A$10:$T$1083,4,0),\"\")","v":2463},{"$f":"IF(COUNTA(A10)>0,VLOOKUP($A10,'PLANILHA SINTÉTICA'!$A$10:$T$1083,5,0),\"\")","v":2189.4114000000004},{"$f":"IF(ISERROR(VLOOKUP($A10,#REF!,8,0)),0,(VLOOKUP($A10,#REF!,8,0)))","v":0},{"$f":"IF(COUNTA(A10)>0,VLOOKUP($A10,'[8]PLANILHA SINTÉTICA'!$A$9:$AC$1082,15,0),\"\")","v":70.864784},0,15.77,0]
["7.3",{"$f":"IF(COUNTA(#REF!)>0,VLOOKUP($A11,'PLANILHA SINTÉTICA'!$A$10:$T$1083,2,0),\"\")","v":"Fornecimento e assentamento de piso tátil DIRECIONAL em lajota de concreto, com dimensões (0,25x0,25)m, aplicado sobre lastro de concreto 1:4:8 com 5cm de espessura, inclusive execução de lastro."},{"$f":"IF(COUNTA(A11)>0,VLOOKUP($A11,'[8]PLANILHA SINTÉTICA'!$A$9:$U$1082,3,0),\"\")","v":"428691-0"},{"$f":"IF(COUNTA(A11)>0,VLOOKUP($A11,'PLANILHA SINTÉTICA'!$A$10:$T$1083,4,0),\"\")","v":1.3},{"$f":"IF(COUNTA(A11)>0,VLOOKUP($A11,'PLANILHA SINTÉTICA'!$A$10:$T$1083,5,0),\"\")","v":1.3},{"$f":"IF(ISERROR(VLOOKUP($A11,#REF!,8,0)),0,(VLOOKUP($A11,#REF!,8,0)))","v":0},{"$f":"IF(COUNTA(A11)>0,VLOOKUP($A11,'[8]PLANILHA SINTÉTICA'!$A$9:$AC$1082,15,0),\"\")","v":106.812894},0,23.77,0]
["7.4",{"$f":"IF(COUNTA(#REF!)>0,VLOOKUP($A12,'PLANILHA SINTÉTICA'!$A$10:$T$1083,2,0),\"\")","v":"Fornecimento e assentamento de piso tátil de ALERTA em lajota de concreto, com dimensões (0,25x0,25)m, aplicado sobre lastro de concreto 1:4:8 com 5cm de espessura, inclusive execução de lastro."},{"$f":"IF(COUNTA(A12)>0,VLOOKUP($A12,'[8]PLANILHA SINTÉTICA'!$A$9:$U$1082,3,0),\"\")","v":"428692-8"},{"$f":"IF(COUNTA(A12)>0,VLOOKUP($A12,'PLANILHA SINTÉTICA'!$A$10:$T$1083,4,0),\"\")","v":7.3},{"$f":"IF(COUNTA(A12)>0,VLOOKUP($A12,'PLANILHA SINTÉTICA'!$A$10:$T$1083,5,0),\"\")","v":7.3},{"$f":"IF(ISERROR(VLOOKUP($A12,#REF!,8,0)),0,(VLOOKUP($A12,#REF!,8,0)))","v":0},{"$f":"IF(COUNTA(A12)>0,VLOOKUP($A12,'[8]PLANILHA SINTÉTICA'!$A$9:$AC$1082,15,0),\"\")","v":106.812894},0,23.77,0]
["8.41",{"$f":"IF(COUNTA(#REF!)>0,VLOOKUP($A13,'PLANILHA SINTÉTICA'!$A$10:$T$1083,2,0),\"\")","v":"Fornecimento e assentamento de  DIVIBOX em granito Verde Ubatuba medindo 7cm de altura e 4cm de espessura. "},{"$f":"IF(COUNTA(A13)>0,VLOOKUP($A13,'[8]PLANILHA SINTÉTICA'!$A$9:$U$1082,3,0),\"\")","v":"470735-4"},{"$f":"IF(COUNTA(A13)>0,VLOOKUP($A13,'PLANILHA SINTÉTICA'!$A$10:$T$1083,4,0),\"\")","v":4.8},{"$f":"IF(COUNTA(A13)>0,VLOOKUP($A13,'PLANILHA SINTÉTICA'!$A$10:$T$1083,5,0),\"\")","v":4.8},{"$f":"IF(ISERROR(VLOOKUP($A13,#REF!,8,0)),0,(VLOOKUP($A13,#REF!,8,0)))","v":0},{"$f":"IF(COUNTA(A13)>0,VLOOKUP($A13,'[8]PLANILHA SINTÉTICA'!$A$9:$AC$1082,15,0),\"\")","v":48.792388000000003},0,10.86,0]
["8.43",{"$f":"IF(COUNTA(#REF!)>0,VLOOKUP($A14,'PLANILHA SINTÉTICA'!$A$10:$T$1083,2,0),\"\")","v":"Fornecimento e instalação de espelho para ESCADA DE ACESSO PRINCIPAL em granito polido Verde Ubatuba com altura de 18cm, conforme detalhe 36/45."},{"$f":"IF(COUNTA(A14)>0,VLOOKUP($A14,'[8]PLANILHA SINTÉTICA'!$A$9:$U$1082,3,0),\"\")","v":"470712-5"},{"$f":"IF(COUNTA(A14)>0,VLOOKUP($A14,'PLANILHA SINTÉTICA'!$A$10:$T$1083,4,0),\"\")","v":93},{"$f":"IF(COUNTA(A14)>0,VLOOKUP($A14,'PLANILHA SINTÉTICA'!$A$10:$T$1083,5,0),\"\")","v":93.000000000000014},{"$f":"IF(ISERROR(VLOOKUP($A14,#REF!,8,0)),0,(VLOOKUP($A14,#REF!,8,0)))","v":0},{"$f":"IF(COUNTA(A14)>0,VLOOKUP($A14,'[8]PLANILHA SINTÉTICA'!$A$9:$AC$1082,15,0),\"\")","v":53.360210000000002},0,11.87,0]
["9.3",{"$f":"IF(COUNTA(#REF!)>0,VLOOKUP($A15,'PLANILHA SINTÉTICA'!$A$10:$T$1083,2,0),\"\")","v":"Aplicação manual de pintura com tinta látex acrílica em paredes na cor branco neve, duas demãos. "},{"$f":"IF(COUNTA(A15)>0,VLOOKUP($A15,'[8]PLANILHA SINTÉTICA'!$A$9:$U$1082,3,0),\"\")","v":"432006-9"},{"$f":"IF(COUNTA(A15)>0,VLOOKUP($A15,'PLANILHA SINTÉTICA'!$A$10:$T$1083,4,0),\"\")","v":9217},{"$f":"IF(COUNTA(A15)>0,VLOOKUP($A15,'PLANILHA SINTÉTICA'!$A$10:$T$1083,5,0),\"\")","v":7833.9800000000005},{"$f":"IF(ISERROR(VLOOKUP($A15,#REF!,8,0)),0,(VLOOKUP($A15,#REF!,8,0)))","v":0},{"$f":"IF(COUNTA(A15)>0,VLOOKUP($A15,'[8]PLANILHA SINTÉTICA'!$A$9:$AC$1082,15,0),\"\")","v":8.2794819999999998},0,1.84,0]
["9.8",{"$f":"IF(COUNTA(#REF!)>0,VLOOKUP($A16,'PLANILHA SINTÉTICA'!$A$10:$T$1083,2,0),\"\")","v":"Pintura acrílica de faixas de demarcação, 10 cm de largura (estacionamento)."},{"$f":"IF(COUNTA(A16)>0,VLOOKUP($A16,'[8]PLANILHA SINTÉTICA'!$A$9:$U$1082,3,0),\"\")","v":"469734-0"},{"$f":"IF(COUNTA(A16)>0,VLOOKUP($A16,'PLANILHA SINTÉTICA'!$A$10:$T$1083,4,0),\"\")","v":402},{"$f":"IF(COUNTA(A16)>0,VLOOKUP($A16,'PLANILHA SINTÉTICA'!$A$10:$T$1083,5,0),\"\")","v":402},{"$f":"IF(ISERROR(VLOOKUP($A16,#REF!,8,0)),0,(VLOOKUP($A16,#REF!,8,0)))","v":0},{"$f":"IF(COUNTA(A16)>0,VLOOKUP($A16,'[8]PLANILHA SINTÉTICA'!$A$9:$AC$1082,15,0),\"\")","v":14.433002},0,3.21,0]
["10.1",{"$f":"IF(COUNTA(#REF!)>0,VLOOKUP($A17,'PLANILHA SINTÉTICA'!$A$10:$T$1083,2,0),\"\")","v":"Fornecimento e instalação de esquadrias tipo \"PELE DE VIDRO\", em alumínio anodizado cor bronze, com vidro laminado refletivo 6mm na cor verde, composta por painéis fixos e painéis de abrir tipo maximar, inclusive fechos e braços articulados em alumínio anodizado bronze, conforme projetos. (EPV1)"},{"$f":"IF(COUNTA(A17)>0,VLOOKUP($A17,'[8]PLANILHA SINTÉTICA'!$A$9:$U$1082,3,0),\"\")","v":"464030-6"},{"$f":"IF(COUNTA(A17)>0,VLOOKUP($A17,'PLANILHA SINTÉTICA'!$A$10:$T$1083,4,0),\"\")","v":292},{"$f":"IF(COUNTA(A17)>0,VLOOKUP($A17,'PLANILHA SINTÉTICA'!$A$10:$T$1083,5,0),\"\")","v":292},{"$f":"IF(ISERROR(VLOOKUP($A17,#REF!,8,0)),0,(VLOOKUP($A17,#REF!,8,0)))","v":0},{"$f":"IF(COUNTA(A17)>0,VLOOKUP($A17,'[8]PLANILHA SINTÉTICA'!$A$9:$AC$1082,15,0),\"\")","v":1052.222988},0,234.12,0]
["10.10",{"$f":"IF(COUNTA(#REF!)>0,VLOOKUP($A18,'PLANILHA SINTÉTICA'!$A$10:$T$1083,2,0),\"\")","v":"Fornecimento e assentamento de Porta em esquadria de vidro temperado verde (PVT1), espessura 10mm, com duas folhas de abrir 1,15mx2,10m cada folha, inclusive ferragens, conforme detalhe. (Salão do Júri, auditório e espera -vara infância)"},{"$f":"IF(COUNTA(A18)>0,VLOOKUP($A18,'[8]PLANILHA SINTÉTICA'!$A$9:$U$1082,3,0),\"\")","v":"470832-6"},{"$f":"IF(COUNTA(A18)>0,VLOOKUP($A18,'PLANILHA SINTÉTICA'!$A$10:$T$1083,4,0),\"\")","v":3},{"$f":"IF(COUNTA(A18)>0,VLOOKUP($A18,'PLANILHA SINTÉTICA'!$A$10:$T$1083,5,0),\"\")","v":3},{"$f":"IF(ISERROR(VLOOKUP($A18,#REF!,8,0)),0,(VLOOKUP($A18,#REF!,8,0)))","v":0},{"$f":"IF(COUNTA(A18)>0,VLOOKUP($A18,'[8]PLANILHA SINTÉTICA'!$A$9:$AC$1082,15,0),\"\")","v":2842.9076719999998},0,632.54999999999995,0]
["10.16",{"$f":"IF(COUNTA(#REF!)>0,VLOOKUP($A19,'PLANILHA SINTÉTICA'!$A$10:$T$1083,2,0),\"\")","v":"Fornecimento e assentamento de Porta (PA5) em esquadria de alumínio anodizado bronze com venezianas industriais, de giro com uma folha dim (0,60x2,10m). (Laje condensadores)"},{"$f":"IF(COUNTA(A19)>0,VLOOKUP($A19,'[8]PLANILHA SINTÉTICA'!$A$9:$U$1082,3,0),\"\")","v":"470835-0"},{"$f":"IF(COUNTA(A19)>0,VLOOKUP($A19,'PLANILHA SINTÉTICA'!$A$10:$T$1083,4,0),\"\")","v":3},{"$f":"IF(COUNTA(A19)>0,VLOOKUP($A19,'PLANILHA SINTÉTICA'!$A$10:$T$1083,5,0),\"\")","v":3},{"$f":"IF(ISERROR(VLOOKUP($A19,#REF!,8,0)),0,(VLOOKUP($A19,#REF!,8,0)))","v":0},{"$f":"IF(COUNTA(A19)>0,VLOOKUP($A19,'[8]PLANILHA SINTÉTICA'!$A$9:$AC$1082,15,0),\"\")","v":809.82498999999996},0,180.19,0]
["10.22",{"$f":"IF(COUNTA(#REF!)>0,VLOOKUP($A20,'PLANILHA SINTÉTICA'!$A$10:$T$1083,2,0),\"\")","v":"Fornecimento e instalação de janela em alumínio anodizado bronze tipo correr, com vidro liso verde, espessura de 6mm, dimensão (7,28x1,70)m - JAV3. (Laje para condensadores - DET 02/36)"},{"$f":"IF(COUNTA(A20)>0,VLOOKUP($A20,'[8]PLANILHA SINTÉTICA'!$A$9:$U$1082,3,0),\"\")","v":"481936-5"},{"$f":"IF(COUNTA(A20)>0,VLOOKUP($A20,'PLANILHA SINTÉTICA'!$A$10:$T$1083,4,0),\"\")","v":1},{"$f":"IF(COUNTA(A20)>0,VLOOKUP($A20,'PLANILHA SINTÉTICA'!$A$10:$T$1083,5,0),\"\")","v":1},{"$f":"IF(ISERROR(VLOOKUP($A20,#REF!,8,0)),0,(VLOOKUP($A20,#REF!,8,0)))","v":0},{"$f":"IF(COUNTA(A20)>0,VLOOKUP($A20,'[8]PLANILHA SINTÉTICA'!$A$9:$AC$1082,15,0),\"\")","v":5692.6858579999998},0,1266.6199999999999,0]
["10.23",{"$f":"IF(COUNTA(#REF!)>0,VLOOKUP($A21,'PLANILHA SINTÉTICA'!$A$10:$T$1083,2,0),\"\")","v":"Fornecimento e instalação de janela com porta de alumínio anodizado bronze tipo correr, com vidro liso verde, espessura de 6mm, dimensão (6,05x1,70)m e (1,23x2,80)m - JAV3. (Laje condensadores - DET 03/36)"},{"$f":"IF(COUNTA(A21)>0,VLOOKUP($A21,'[8]PLANILHA SINTÉTICA'!$A$9:$U$1082,3,0),\"\")","v":"482907-7"},{"$f":"IF(COUNTA(A21)>0,VLOOKUP($A21,'PLANILHA SINTÉTICA'!$A$10:$T$1083,4,0),\"\")","v":3},{"$f":"IF(COUNTA(A21)>0,VLOOKUP($A21,'PLANILHA SINTÉTICA'!$A$10:$T$1083,5,0),\"\")","v":3},{"$f":"IF(ISERROR(VLOOKUP($A21,#REF!,8,0)),0,(VLOOKUP($A21,#REF!,8,0)))","v":0},{"$f":"IF(COUNTA(A21)>0,VLOOKUP($A21,'[8]PLANILHA SINTÉTICA'!$A$9:$AC$1082,15,0),\"\")","v":5947.7388760000003},0,1323.37,0]
["10.24",{"$f":"IF(COUNTA(#REF!)>0,VLOOKUP($A22,'PLANILHA SINTÉTICA'!$A$10:$T$1083,2,0),\"\")","v":"Fornecimento e instalação de janela em alumínio anodizado bronze tipo correr, com vidro liso verde, espessura de 6mm, dimensão (6,96x1,70)m - JAV4. (Laje condensadores - DET 03/36)"},{"$f":"IF(COUNTA(A22)>0,VLOOKUP($A22,'[8]PLANILHA SINTÉTICA'!$A$9:$U$1082,3,0),\"\")","v":"481937-3"},{"$f":"IF(COUNTA(A22)>0,VLOOKUP($A22,'PLANILHA SINTÉTICA'!$A$10:$T$1083,4,0),\"\")","v":4},{"$f":"IF(COUNTA(A22)>0,VLOOKUP($A22,'PLANILHA SINTÉTICA'!$A$10:$T$1083,5,0),\"\")","v":4},{"$f":"IF(ISERROR(VLOOKUP($A22,#REF!,8,0)),0,(VLOOKUP($A22,#REF!,8,0)))","v":0},{"$f":"IF(COUNTA(A22)>0,VLOOKUP($A22,'[8]PLANILHA SINTÉTICA'!$A$9:$AC$1082,15,0),\"\")","v":5337.887436},0,1187.68,0]
["10.29",{"$f":"IF(COUNTA(#REF!)>0,VLOOKUP($A23,'PLANILHA SINTÉTICA'!$A$10:$T$1083,2,0),\"\")","v":"Fornecimento e instalação de janela em alumínio anodizado bronze tipo correr, com vidro liso verde, espessura de 6mm, dimensão (5,13x1,70 + 1,30x2,80)m - JAV9. (Laje condensadores - DET 08/36)"},{"$f":"IF(COUNTA(A23)>0,VLOOKUP($A23,'[8]PLANILHA SINTÉTICA'!$A$9:$U$1082,3,0),\"\")","v":"482906-9"},{"$f":"IF(COUNTA(A23)>0,VLOOKUP($A23,'PLANILHA SINTÉTICA'!$A$10:$T$1083,4,0),\"\")","v":3},{"$f":"IF(COUNTA(A23)>0,VLOOKUP($A23,'PLANILHA SINTÉTICA'!$A$10:$T$1083,5,0),\"\")","v":3},{"$f":"IF(ISERROR(VLOOKUP($A23,#REF!,8,0)),0,(VLOOKUP($A23,#REF!,8,0)))","v":0},{"$f":"IF(COUNTA(A23)>0,VLOOKUP($A23,'[8]PLANILHA SINTÉTICA'!$A$9:$AC$1082,15,0),\"\")","v":4024.8026900000004},0,895.52,0]
["10.30",{"$f":"IF(COUNTA(#REF!)>0,VLOOKUP($A24,'PLANILHA SINTÉTICA'!$A$10:$T$1083,2,0),\"\")","v":"Fornecimento e instalação de janela em alumínio anodizado bronze tipo correr, com vidro liso verde, espessura de 6mm, dimensão (6,75x1,70)m - JAV10. (Laje condensadores - DET 09/36)"},{"$f":"IF(COUNTA(A24)>0,VLOOKUP($A24,'[8]PLANILHA SINTÉTICA'!$A$9:$U$1082,3,0),\"\")","v":"481941-1"},{"$f":"IF(COUNTA(A24)>0,VLOOKUP($A24,'PLANILHA SINTÉTICA'!$A$10:$T$1083,4,0),\"\")","v":3},{"$f":"IF(COUNTA(A24)>0,VLOOKUP($A24,'PLANILHA SINTÉTICA'!$A$10:$T$1083,5,0),\"\")","v":3},{"$f":"IF(ISERROR(VLOOKUP($A24,#REF!,8,0)),0,(VLOOKUP($A24,#REF!,8,0)))","v":0},{"$f":"IF(COUNTA(A24)>0,VLOOKUP($A24,'[8]PLANILHA SINTÉTICA'!$A$9:$AC$1082,15,0),\"\")","v":5098.7317920000005},0,1134.47,0]
["11.1",{"$f":"IF(COUNTA(#REF!)>0,VLOOKUP($A25,'PLANILHA SINTÉTICA'!$A$10:$T$1083,2,0),\"\")","v":"Fornecimento e instalação de Gradil externo Eletrogradi Sitela ou equivalente, cor verde, conforme detalhe. (Entrada PRINCIPAL)"},{"$f":"IF(COUNTA(A25)>0,VLOOKUP($A25,'[8]PLANILHA SINTÉTICA'!$A$9:$U$1082,3,0),\"\")","v":"460845-3"},{"$f":"IF(COUNTA(A25)>0,VLOOKUP($A25,'PLANILHA SINTÉTICA'!$A$10:$T$1083,4,0),\"\")","v":137},{"$f":"IF(COUNTA(A25)>0,VLOOKUP($A25,'PLANILHA SINTÉTICA'!$A$10:$T$1083,5,0),\"\")","v":136.18},{"$f":"IF(ISERROR(VLOOKUP($A25,#REF!,8,0)),0,(VLOOKUP($A25,#REF!,8,0)))","v":0},{"$f":"IF(COUNTA(A25)>0,VLOOKUP($A25,'[8]PLANILHA SINTÉTICA'!$A$9:$AC$1082,15,0),\"\")","v":232.94678199999998},0,51.83,0]
["11.4",{"$f":"IF(COUNTA(#REF!)>0,VLOOKUP($A26,'PLANILHA SINTÉTICA'!$A$10:$T$1083,2,0),\"\")","v":"Fornecimento e instalação de PORTÃO pivotante para acesso PEDESTRES, medindo (5,10x2,11)m, com arame em aço MTC, camada de zinco, revestimento em Poliéster aplicado eletrostaticamente com camadas de 100 a 200 micons, montantes em tubo industrial com pintura eletrostática cor verde, referência Eletrogradi - da SITELA ou equivalente da BELGO modelo Nylofor 3D, conforme detalhe 33/45."},{"$f":"IF(COUNTA(A26)>0,VLOOKUP($A26,'[8]PLANILHA SINTÉTICA'!$A$9:$U$1082,3,0),\"\")","v":"461085-7"},{"$f":"IF(COUNTA(A26)>0,VLOOKUP($A26,'PLANILHA SINTÉTICA'!$A$10:$T$1083,4,0),\"\")","v":1},{"$f":"IF(COUNTA(A26)>0,VLOOKUP($A26,'PLANILHA SINTÉTICA'!$A$10:$T$1083,5,0),\"\")","v":1},{"$f":"IF(ISERROR(VLOOKUP($A26,#REF!,8,0)),0,(VLOOKUP($A26,#REF!,8,0)))","v":0},{"$f":"IF(COUNTA(A26)>0,VLOOKUP($A26,'[8]PLANILHA SINTÉTICA'!$A$9:$AC$1082,15,0),\"\")","v":3737.9800380000001},0,831.7,0]
["11.5",{"$f":"IF(COUNTA(#REF!)>0,VLOOKUP($A27,'PLANILHA SINTÉTICA'!$A$10:$T$1083,2,0),\"\")","v":"Fornecimento e assentamento de grade de proteção em ferro (Janelas), com barra chata 1\" x 1/8\", formando quadros com espaçamento = 15cm e moldura de contorno em barra chata de 1\" x 1/4\", pintados com zarcão ou antiferrugem, conforme detalhe. (Chumbadas por dentro do fórum)."},{"$f":"IF(COUNTA(A27)>0,VLOOKUP($A27,'[8]PLANILHA SINTÉTICA'!$A$9:$U$1082,3,0),\"\")","v":"461601-4"},{"$f":"IF(COUNTA(A27)>0,VLOOKUP($A27,'PLANILHA SINTÉTICA'!$A$10:$T$1083,4,0),\"\")","v":105},{"$f":"IF(COUNTA(A27)>0,VLOOKUP($A27,'PLANILHA SINTÉTICA'!$A$10:$T$1083,5,0),\"\")","v":100.78},{"$f":"IF(ISERROR(VLOOKUP($A27,#REF!,8,0)),0,(VLOOKUP($A27,#REF!,8,0)))","v":0},{"$f":"IF(COUNTA(A27)>0,VLOOKUP($A27,'[8]PLANILHA SINTÉTICA'!$A$9:$AC$1082,15,0),\"\")","v":299.02074400000004},0,66.53,0]
["12.1",{"$f":"IF(COUNTA(#REF!)>0,VLOOKUP($A28,'PLANILHA SINTÉTICA'!$A$10:$T$1083,2,0),\"\")","v":"Fornecimento e instalação de corrimão em aço inox AISI 304, escovado, composto de guarda corpo com diâmetro de 1 1/2\" e altura em relação ao piso de 1,10m; corrimãos com diâmetro de 1 1/2\", com alturas em relação ao piso de 0,92m e 0,70m; longarinas intermediárias com diâmetro de 1/2\", com alturas em relação ao piso de 0,44m e 0,25m; balaústre de aço inox com diâmetro de 1 1/2\", fixado no piso com roseta em aço inox nas dimensões 5\" x 1/8\" e chumbador metálico tipo UR 6mm, conforme detalhes de arquitetura-Prancha 19/46. (Rampa e escada principal)- CORRIMÃO INOX PISO - TIPO 1."},{"$f":"IF(COUNTA(A28)>0,VLOOKUP($A28,'[8]PLANILHA SINTÉTICA'!$A$9:$U$1082,3,0),\"\")","v":"460716-3"},{"$f":"IF(COUNTA(A28)>0,VLOOKUP($A28,'PLANILHA SINTÉTICA'!$A$10:$T$1083,4,0),\"\")","v":78},{"$f":"IF(COUNTA(A28)>0,VLOOKUP($A28,'PLANILHA SINTÉTICA'!$A$10:$T$1083,5,0),\"\")","v":68.7},{"$f":"IF(ISERROR(VLOOKUP($A28,#REF!,8,0)),0,(VLOOKUP($A28,#REF!,8,0)))","v":0},{"$f":"IF(COUNTA(A28)>0,VLOOKUP($A28,'[8]PLANILHA SINTÉTICA'!$A$9:$AC$1082,15,0),\"\")","v":422.873988},0,94.09,0]
["12.3",{"$f":"IF(COUNTA(#REF!)>0,VLOOKUP($A29,'PLANILHA SINTÉTICA'!$A$10:$T$1083,2,0),\"\")","v":"Fornecimento e instalação de Corrimão em aço inox escovado, composto por guarda corpo com diâmetro de 1 e 1/2\", longarinas intermediárias com diâmetro de 1/2\", e corrimão duplo (NOS DOIS LADOS DO GUARDA CORPO) com diâmetro de 1 e 1/2\". Altura do guarda corpo de 1,10m e do corrimão duplo de 0,92m (parte superior) e 0,70m (parte inferior). Balaústres com diâmetro de 1 e 1/2\", fixados ao chão com roseta de fixação. Detalhe 18/46 Escada de acesso principal. CORRIMÃO INOX PISO - TIPO 3."},{"$f":"IF(COUNTA(A29)>0,VLOOKUP($A29,'[8]PLANILHA SINTÉTICA'!$A$9:$U$1082,3,0),\"\")","v":"476429-3"},{"$f":"IF(COUNTA(A29)>0,VLOOKUP($A29,'PLANILHA SINTÉTICA'!$A$10:$T$1083,4,0),\"\")","v":3},{"$f":"IF(COUNTA(A29)>0,VLOOKUP($A29,'PLANILHA SINTÉTICA'!$A$10:$T$1083,5,0),\"\")","v":3},{"$f":"IF(ISERROR(VLOOKUP($A29,#REF!,8,0)),0,(VLOOKUP($A29,#REF!,8,0)))","v":0},{"$f":"IF(COUNTA(A29)>0,VLOOKUP($A29,'[8]PLANILHA SINTÉTICA'!$A$9:$AC$1082,15,0),\"\")","v":528.604602},0,117.61,0]
["12.4",{"$f":"IF(COUNTA(#REF!)>0,VLOOKUP($A30,'PLANILHA SINTÉTICA'!$A$10:$T$1083,2,0),\"\")","v":"Fornecimento e assentamento de  Corrimão tubular em ferro com diâmetro 1  1/2\" com tubo em \"L\" com diâmetro de 3/4\", fixado na parede com roseta de acabamento, inclusive pintura automotiva, conforme detalhe. (Escada interna) - CORRIMÃO FERRO PAREDE - TIPO 5."},{"$f":"IF(COUNTA(A30)>0,VLOOKUP($A30,'[8]PLANILHA SINTÉTICA'!$A$9:$U$1082,3,0),\"\")","v":"476867-1"},{"$f":"IF(COUNTA(A30)>0,VLOOKUP($A30,'PLANILHA SINTÉTICA'!$A$10:$T$1083,4,0),\"\")","v":151},{"$f":"IF(COUNTA(A30)>0,VLOOKUP($A30,'PLANILHA SINTÉTICA'!$A$10:$T$1083,5,0),\"\")","v":151},{"$f":"IF(ISERROR(VLOOKUP($A30,#REF!,8,0)),0,(VLOOKUP($A30,#REF!,8,0)))","v":0},{"$f":"IF(COUNTA(A30)>0,VLOOKUP($A30,'[8]PLANILHA SINTÉTICA'!$A$9:$AC$1082,15,0),\"\")","v":114.99169000000001},0,25.59,0]
["16.10",{"$f":"IF(COUNTA(#REF!)>0,VLOOKUP($A31,'PLANILHA SINTÉTICA'!$A$10:$T$1083,2,0),\"\")","v":"Fornecimento e assentamento de tubos soldáveis de PVC rígido diâmetro 32 mm, inclusive conexões  abertura e fechamento de valas para alimentador predial. (dreno ar condicionado)"},{"$f":"IF(COUNTA(A31)>0,VLOOKUP($A31,'[8]PLANILHA SINTÉTICA'!$A$9:$U$1082,3,0),\"\")","v":"460516-0"},{"$f":"IF(COUNTA(A31)>0,VLOOKUP($A31,'PLANILHA SINTÉTICA'!$A$10:$T$1083,4,0),\"\")","v":1490},{"$f":"IF(COUNTA(A31)>0,VLOOKUP($A31,'PLANILHA SINTÉTICA'!$A$10:$T$1083,5,0),\"\")","v":594.43000000000006},78,{"$f":"IF(COUNTA(A31)>0,VLOOKUP($A31,'[8]PLANILHA SINTÉTICA'!$A$9:$AC$1082,15,0),\"\")","v":13.375561999999999},1043.29,2.98,232.13]
["16.32",{"$f":"IF(COUNTA(#REF!)>0,VLOOKUP($A32,'PLANILHA SINTÉTICA'!$A$10:$T$1083,2,0),\"\")","v":"Fornecimento de torneira de pressão para lavatório linha Benefit, fabricação Docol ou equivalente. (wc Especial)."},{"$f":"IF(COUNTA(A32)>0,VLOOKUP($A32,'[8]PLANILHA SINTÉTICA'!$A$9:$U$1082,3,0),\"\")","v":"203038-1"},{"$f":"IF(COUNTA(A32)>0,VLOOKUP($A32,'PLANILHA SINTÉTICA'!$A$10:$T$1083,4,0),\"\")","v":84},{"$f":"IF(COUNTA(A32)>0,VLOOKUP($A32,'PLANILHA SINTÉTICA'!$A$10:$T$1083,5,0),\"\")","v":16},{"$f":"IF(ISERROR(VLOOKUP($A32,#REF!,8,0)),0,(VLOOKUP($A32,#REF!,8,0)))","v":0},{"$f":"IF(COUNTA(A32)>0,VLOOKUP($A32,'[8]PLANILHA SINTÉTICA'!$A$9:$AC$1082,15,0),\"\")","v":440.88750199999998},0,98.1,0]
["16.38",{"$f":"IF(COUNTA(#REF!)>0,VLOOKUP($A33,'PLANILHA SINTÉTICA'!$A$10:$T$1083,2,0),\"\")","v":"Fornecimento com instalação de Torneira cromada de mesa para lavatório temporizada pressão bica baixa com acionamento manual e fechamento automático, Fabrimar ou equivalente (Wc's)"},{"$f":"IF(COUNTA(A33)>0,VLOOKUP($A33,'[8]PLANILHA SINTÉTICA'!$A$9:$U$1082,3,0),\"\")","v":"442617-7"},{"$f":"IF(COUNTA(A33)>0,VLOOKUP($A33,'PLANILHA SINTÉTICA'!$A$10:$T$1083,4,0),\"\")","v":98},{"$f":"IF(COUNTA(A33)>0,VLOOKUP($A33,'PLANILHA SINTÉTICA'!$A$10:$T$1083,5,0),\"\")","v":84},{"$f":"IF(ISERROR(VLOOKUP($A33,#REF!,8,0)),0,(VLOOKUP($A33,#REF!,8,0)))","v":0},{"$f":"IF(COUNTA(A33)>0,VLOOKUP($A33,'[8]PLANILHA SINTÉTICA'!$A$9:$AC$1082,15,0),\"\")","v":146.39084599999998},0,32.57,0]
["16.40",{"$f":"IF(COUNTA(#REF!)>0,VLOOKUP($A34,'PLANILHA SINTÉTICA'!$A$10:$T$1083,2,0),\"\")","v":"Fornecimento e instalação de TORNEIRA cromada tubo móvel parede para cozinha, ref. 1168, linha ASCOT, fabricação Fabrimar ou equivalente. (COPA)"},{"$f":"IF(COUNTA(A34)>0,VLOOKUP($A34,'[8]PLANILHA SINTÉTICA'!$A$9:$U$1082,3,0),\"\")","v":"295050-2"},{"$f":"IF(COUNTA(A34)>0,VLOOKUP($A34,'PLANILHA SINTÉTICA'!$A$10:$T$1083,4,0),\"\")","v":7},{"$f":"IF(COUNTA(A34)>0,VLOOKUP($A34,'PLANILHA SINTÉTICA'!$A$10:$T$1083,5,0),\"\")","v":7},{"$f":"IF(ISERROR(VLOOKUP($A34,#REF!,8,0)),0,(VLOOKUP($A34,#REF!,8,0)))","v":0},{"$f":"IF(COUNTA(A34)>0,VLOOKUP($A34,'[8]PLANILHA SINTÉTICA'!$A$9:$AC$1082,15,0),\"\")","v":86.107261999999992},0,19.16,0]
["16.53",{"$f":"IF(COUNTA(#REF!)>0,VLOOKUP($A35,'PLANILHA SINTÉTICA'!$A$10:$T$1083,2,0),\"\")","v":"Fornecimento e instalação de porta papel higiênico sem tampa - Eco Cromado, referência 337413 Expambox ou equivalente."},{"$f":"IF(COUNTA(A35)>0,VLOOKUP($A35,'[8]PLANILHA SINTÉTICA'!$A$9:$U$1082,3,0),\"\")","v":"216905-3"},{"$f":"IF(COUNTA(A35)>0,VLOOKUP($A35,'PLANILHA SINTÉTICA'!$A$10:$T$1083,4,0),\"\")","v":95},{"$f":"IF(COUNTA(A35)>0,VLOOKUP($A35,'PLANILHA SINTÉTICA'!$A$10:$T$1083,5,0),\"\")","v":94},{"$f":"IF(ISERROR(VLOOKUP($A35,#REF!,8,0)),0,(VLOOKUP($A35,#REF!,8,0)))","v":0},{"$f":"IF(COUNTA(A35)>0,VLOOKUP($A35,'[8]PLANILHA SINTÉTICA'!$A$9:$AC$1082,15,0),\"\")","v":45.675654000000002},0,10.16,0]
["16.55",{"$f":"IF(COUNTA(#REF!)>0,VLOOKUP($A36,'PLANILHA SINTÉTICA'!$A$10:$T$1083,2,0),\"\")","v":"Fornecimento e assentamento de saboneteira plástica de parede, tipo dispenser para sabonete líquido, com reservatório de 800 a 1.500ml."},{"$f":"IF(COUNTA(A36)>0,VLOOKUP($A36,'[8]PLANILHA SINTÉTICA'!$A$9:$U$1082,3,0),\"\")","v":"209858-0"},{"$f":"IF(COUNTA(A36)>0,VLOOKUP($A36,'PLANILHA SINTÉTICA'!$A$10:$T$1083,4,0),\"\")","v":34},{"$f":"IF(COUNTA(A36)>0,VLOOKUP($A36,'PLANILHA SINTÉTICA'!$A$10:$T$1083,5,0),\"\")","v":28},{"$f":"IF(ISERROR(VLOOKUP($A36,#REF!,8,0)),0,(VLOOKUP($A36,#REF!,8,0)))","v":0},{"$f":"IF(COUNTA(A36)>0,VLOOKUP($A36,'[8]PLANILHA SINTÉTICA'!$A$9:$AC$1082,15,0),\"\")","v":46.25356},0,10.29,0]
["16.56",{"$f":"IF(COUNTA(#REF!)>0,VLOOKUP($A37,'PLANILHA SINTÉTICA'!$A$10:$T$1083,2,0),\"\")","v":"Conjunto moto-bomba (centrífuga), P= 3 CV, Schneider, Dancor ou equivalente, inclusive acessórios, fixação e instalação."},{"$f":"IF(COUNTA(A37)>0,VLOOKUP($A37,'[8]PLANILHA SINTÉTICA'!$A$9:$U$1082,3,0),\"\")","v":"481950-0"},{"$f":"IF(COUNTA(A37)>0,VLOOKUP($A37,'PLANILHA SINTÉTICA'!$A$10:$T$1083,4,0),\"\")","v":2},{"$f":"IF(COUNTA(A37)>0,VLOOKUP($A37,'PLANILHA SINTÉTICA'!$A$10:$T$1083,5,0),\"\")","v":2},{"$f":"IF(ISERROR(VLOOKUP($A37,#REF!,8,0)),0,(VLOOKUP($A37,#REF!,8,0)))","v":0},{"$f":"IF(COUNTA(A37)>0,VLOOKUP($A37,'[8]PLANILHA SINTÉTICA'!$A$9:$AC$1082,15,0),\"\")","v":1550.881836},0,null,null,{"$f":"ROUND($G37*$J$5,2)","v":345.07},{"$f":"ROUND($H37*$J$5,2)","v":0}]
["16.59",{"$f":"IF(COUNTA(#REF!)>0,VLOOKUP($A38,'PLANILHA SINTÉTICA'!$A$10:$T$1083,2,0),\"\")","v":"Chave de bóia superior 10A/ 250v, fornecimento e instalação."},{"$f":"IF(COUNTA(A38)>0,VLOOKUP($A38,'[8]PLANILHA SINTÉTICA'!$A$9:$U$1082,3,0),\"\")","v":"438964-6"},{"$f":"IF(COUNTA(A38)>0,VLOOKUP($A38,'PLANILHA SINTÉTICA'!$A$10:$T$1083,4,0),\"\")","v":2},{"$f":"IF(COUNTA(A38)>0,VLOOKUP($A38,'PLANILHA SINTÉTICA'!$A$10:$T$1083,5,0),\"\")","v":2},{"$f":"IF(ISERROR(VLOOKUP($A38,#REF!,8,0)),0,(VLOOKUP($A38,#REF!,8,0)))","v":0},{"$f":"IF(COUNTA(A38)>0,VLOOKUP($A38,'[8]PLANILHA SINTÉTICA'!$A$9:$AC$1082,15,0),\"\")","v":61.433481999999998},0,{"$f":"ROUND($G38*$J$5,2)","v":13.67},{"$f":"ROUND($H38*$J$5,2)","v":0}]
["18.27",{"$f":"IF(COUNTA(#REF!)>0,VLOOKUP($A39,'PLANILHA SINTÉTICA'!$A$10:$T$1083,2,0),\"\")","v":"Verga pré-moldada para janelas com mais de 1,5 m de vão. "},{"$f":"IF(COUNTA(A39)>0,VLOOKUP($A39,'[8]PLANILHA SINTÉTICA'!$A$9:$U$1082,3,0),\"\")","v":"456457-0"},{"$f":"IF(COUNTA(A39)>0,VLOOKUP($A39,'PLANILHA SINTÉTICA'!$A$10:$T$1083,4,0),\"\")","v":22},{"$f":"IF(COUNTA(A39)>0,VLOOKUP($A39,'PLANILHA SINTÉTICA'!$A$10:$T$1083,5,0),\"\")","v":16},{"$f":"IF(ISERROR(VLOOKUP($A39,#REF!,8,0)),0,(VLOOKUP($A39,#REF!,8,0)))","v":0},{"$f":"IF(COUNTA(A39)>0,VLOOKUP($A39,'[8]PLANILHA SINTÉTICA'!$A$9:$AC$1082,15,0),\"\")","v":22.36307},0,4.9800000000000004,0]
["18.29",{"$f":"IF(COUNTA(#REF!)>0,VLOOKUP($A40,'PLANILHA SINTÉTICA'!$A$10:$T$1083,2,0),\"\")","v":"Verga pré-moldada para portas com mais de 1,5 m de vão."},{"$f":"IF(COUNTA(A40)>0,VLOOKUP($A40,'[8]PLANILHA SINTÉTICA'!$A$9:$U$1082,3,0),\"\")","v":"444316-0"},{"$f":"IF(COUNTA(A40)>0,VLOOKUP($A40,'PLANILHA SINTÉTICA'!$A$10:$T$1083,4,0),\"\")","v":2.6},{"$f":"IF(COUNTA(A40)>0,VLOOKUP($A40,'PLANILHA SINTÉTICA'!$A$10:$T$1083,5,0),\"\")","v":2.6},{"$f":"IF(ISERROR(VLOOKUP($A40,#REF!,8,0)),0,(VLOOKUP($A40,#REF!,8,0)))","v":0},{"$f":"IF(COUNTA(A40)>0,VLOOKUP($A40,'[8]PLANILHA SINTÉTICA'!$A$9:$AC$1082,15,0),\"\")","v":22.019917999999997},0,4.9000000000000004,0]
["18.30",{"$f":"IF(COUNTA(#REF!)>0,VLOOKUP($A41,'PLANILHA SINTÉTICA'!$A$10:$T$1083,2,0),\"\")","v":"Contraverga pré-moldada para vãos de mais de 1,5 m de comprimento."},{"$f":"IF(COUNTA(A41)>0,VLOOKUP($A41,'[8]PLANILHA SINTÉTICA'!$A$9:$U$1082,3,0),\"\")","v":"457789-2"},{"$f":"IF(COUNTA(A41)>0,VLOOKUP($A41,'PLANILHA SINTÉTICA'!$A$10:$T$1083,4,0),\"\")","v":22},{"$f":"IF(COUNTA(A41)>0,VLOOKUP($A41,'PLANILHA SINTÉTICA'!$A$10:$T$1083,5,0),\"\")","v":16},{"$f":"IF(ISERROR(VLOOKUP($A41,#REF!,8,0)),0,(VLOOKUP($A41,#REF!,8,0)))","v":0},{"$f":"IF(COUNTA(A41)>0,VLOOKUP($A41,'[8]PLANILHA SINTÉTICA'!$A$9:$AC$1082,15,0),\"\")","v":20.097016},0,4.47,0]
["18.38",{"$f":"IF(COUNTA(#REF!)>0,VLOOKUP($A42,'PLANILHA SINTÉTICA'!$A$10:$T$1083,2,0),\"\")","v":"Fornecimento e assentamento de cobogó cavernoso 20 x 20 cm."},{"$f":"IF(COUNTA(A42)>0,VLOOKUP($A42,'[8]PLANILHA SINTÉTICA'!$A$9:$U$1082,3,0),\"\")","v":"438776-7"},{"$f":"IF(COUNTA(A42)>0,VLOOKUP($A42,'PLANILHA SINTÉTICA'!$A$10:$T$1083,4,0),\"\")","v":7},{"$f":"IF(COUNTA(A42)>0,VLOOKUP($A42,'PLANILHA SINTÉTICA'!$A$10:$T$1083,5,0),\"\")","v":7},{"$f":"IF(ISERROR(VLOOKUP($A42,#REF!,8,0)),0,(VLOOKUP($A42,#REF!,8,0)))","v":0},{"$f":"IF(COUNTA(A42)>0,VLOOKUP($A42,'[8]PLANILHA SINTÉTICA'!$A$9:$AC$1082,15,0),\"\")","v":141.25273799999999},0,31.43,0]
["18.39",{"$f":"IF(COUNTA(#REF!)>0,VLOOKUP($A43,'PLANILHA SINTÉTICA'!$A$10:$T$1083,2,0),\"\")","v":"Fundo selador PVA para ambientes internos, uma demão. (TETO)"},{"$f":"IF(COUNTA(A43)>0,VLOOKUP($A43,'[8]PLANILHA SINTÉTICA'!$A$9:$U$1082,3,0),\"\")","v":"432002-6"},{"$f":"IF(COUNTA(A43)>0,VLOOKUP($A43,'PLANILHA SINTÉTICA'!$A$10:$T$1083,4,0),\"\")","v":156},{"$f":"IF(COUNTA(A43)>0,VLOOKUP($A43,'PLANILHA SINTÉTICA'!$A$10:$T$1083,5,0),\"\")","v":153.69999999999999},{"$f":"IF(ISERROR(VLOOKUP($A43,#REF!,8,0)),0,(VLOOKUP($A43,#REF!,8,0)))","v":0},{"$f":"IF(COUNTA(A43)>0,VLOOKUP($A43,'[8]PLANILHA SINTÉTICA'!$A$9:$AC$1082,15,0),\"\")","v":2.380598},0,0.53,0]
["18.73",{"$f":"IF(COUNTA(#REF!)>0,VLOOKUP($A44,'PLANILHA SINTÉTICA'!$A$10:$T$1083,2,0),\"\")","v":"Registro de gaveta bruto, latão, roscável, 3/4\u0094, fornecido e instalado em ramal de água."},{"$f":"IF(COUNTA(A44)>0,VLOOKUP($A44,'[8]PLANILHA SINTÉTICA'!$A$9:$U$1082,3,0),\"\")","v":"431750-5"},{"$f":"IF(COUNTA(A44)>0,VLOOKUP($A44,'PLANILHA SINTÉTICA'!$A$10:$T$1083,4,0),\"\")","v":1},{"$f":"IF(COUNTA(A44)>0,VLOOKUP($A44,'PLANILHA SINTÉTICA'!$A$10:$T$1083,5,0),\"\")","v":1},{"$f":"IF(ISERROR(VLOOKUP($A44,#REF!,8,0)),0,(VLOOKUP($A44,#REF!,8,0)))","v":0},{"$f":"IF(COUNTA(A44)>0,VLOOKUP($A44,'[8]PLANILHA SINTÉTICA'!$A$9:$AC$1082,15,0),\"\")","v":28.729762000000001},0,6.39,0]
["18.74",{"$f":"IF(COUNTA(#REF!)>0,VLOOKUP($A45,'PLANILHA SINTÉTICA'!$A$10:$T$1083,2,0),\"\")","v":"Fornecimento de registro de gaveta com canopla, acabamento cromado, ref. 1509-C39, Deca ou similar, linha prata, diâmetro de 3/4 pol., inclusive fixação."},{"$f":"IF(COUNTA(A45)>0,VLOOKUP($A45,'[8]PLANILHA SINTÉTICA'!$A$9:$U$1082,3,0),\"\")","v":"436218-7"},{"$f":"IF(COUNTA(A45)>0,VLOOKUP($A45,'PLANILHA SINTÉTICA'!$A$10:$T$1083,4,0),\"\")","v":3},{"$f":"IF(COUNTA(A45)>0,VLOOKUP($A45,'PLANILHA SINTÉTICA'!$A$10:$T$1083,5,0),\"\")","v":3},{"$f":"IF(ISERROR(VLOOKUP($A45,#REF!,8,0)),0,(VLOOKUP($A45,#REF!,8,0)))","v":0},{"$f":"IF(COUNTA(A45)>0,VLOOKUP($A45,'[8]PLANILHA SINTÉTICA'!$A$9:$AC$1082,15,0),\"\")","v":75.234432000000012},0,16.739999999999998,0]
["18.75",{"$f":"IF(COUNTA(#REF!)>0,VLOOKUP($A46,'PLANILHA SINTÉTICA'!$A$10:$T$1083,2,0),\"\")","v":"Registro de gaveta com canopla 1\" - fornecimento e instalação"},{"$f":"IF(COUNTA(A46)>0,VLOOKUP($A46,'[8]PLANILHA SINTÉTICA'!$A$9:$U$1082,3,0),\"\")","v":"430172-2"},{"$f":"IF(COUNTA(A46)>0,VLOOKUP($A46,'PLANILHA SINTÉTICA'!$A$10:$T$1083,4,0),\"\")","v":1},{"$f":"IF(COUNTA(A46)>0,VLOOKUP($A46,'PLANILHA SINTÉTICA'!$A$10:$T$1083,5,0),\"\")","v":1},{"$f":"IF(ISERROR(VLOOKUP($A46,#REF!,8,0)),0,(VLOOKUP($A46,#REF!,8,0)))","v":0},{"$f":"IF(COUNTA(A46)>0,VLOOKUP($A46,'[8]PLANILHA SINTÉTICA'!$A$9:$AC$1082,15,0),\"\")","v":90.384464000000008},0,20.11,0]
["19.66",{"$f":"IF(COUNTA(#REF!)>0,VLOOKUP($A47,'PLANILHA SINTÉTICA'!$A$10:$T$1083,2,0),\"\")","v":"Fornecimento e instalação de janela em alumínio anodizado bronze tipo correr, com vidro liso verde, espessura de 6mm, dimensão (1,00x0,50)m - JAV15."},{"$f":"IF(COUNTA(A47)>0,VLOOKUP($A47,'[8]PLANILHA SINTÉTICA'!$A$9:$U$1082,3,0),\"\")","v":"472698-7"},{"$f":"IF(COUNTA(A47)>0,VLOOKUP($A47,'PLANILHA SINTÉTICA'!$A$10:$T$1083,4,0),\"\")","v":1},{"$f":"IF(COUNTA(A47)>0,VLOOKUP($A47,'PLANILHA SINTÉTICA'!$A$10:$T$1083,5,0),\"\")","v":1},{"$f":"IF(ISERROR(VLOOKUP($A47,#REF!,8,0)),0,(VLOOKUP($A47,#REF!,8,0)))","v":0},{"$f":"IF(COUNTA(A47)>0,VLOOKUP($A47,'[8]PLANILHA SINTÉTICA'!$A$9:$AC$1082,15,0),\"\")","v":229.984026},0,51.17,0]
["19.67",{"$f":"IF(COUNTA(#REF!)>0,VLOOKUP($A48,'PLANILHA SINTÉTICA'!$A$10:$T$1083,2,0),\"\")","v":"Fornecimento e assentamento de Kit Porta Pronta PM2 (dim.=0,70x2,10m), porta semi-oca (folha espessura 35mm), contraplacada em compensado com lâmina de Corrupixá ou Liptus, revestida em laminado melamínico madeirado cor branca, inclusive fitamento da porta em PVC, grade e alizares em madeira Liptus em tábuas secas em estufa com acabamento em primer branco, chumbada com espuma de poliuretano, dobradiças em inox com rolamento,  de 3 1/2 x 3\", fechadura em inox, escovado, marca La Fonte, Imab ou equivalente, código HI MARS, conforme detalhe. (Wc guarita)"},{"$f":"IF(COUNTA(A48)>0,VLOOKUP($A48,'[8]PLANILHA SINTÉTICA'!$A$9:$U$1082,3,0),\"\")","v":"430086-6"},{"$f":"IF(COUNTA(A48)>0,VLOOKUP($A48,'PLANILHA SINTÉTICA'!$A$10:$T$1083,4,0),\"\")","v":1},{"$f":"IF(COUNTA(A48)>0,VLOOKUP($A48,'PLANILHA SINTÉTICA'!$A$10:$T$1083,5,0),\"\")","v":1},{"$f":"IF(ISERROR(VLOOKUP($A48,#REF!,8,0)),0,(VLOOKUP($A48,#REF!,8,0)))","v":0},{"$f":"IF(COUNTA(A48)>0,VLOOKUP($A48,'[8]PLANILHA SINTÉTICA'!$A$9:$AC$1082,15,0),\"\")","v":628.98510599999997},0,139.94999999999999,0]
["19.68",{"$f":"IF(COUNTA(#REF!)>0,VLOOKUP($A49,'PLANILHA SINTÉTICA'!$A$10:$T$1083,2,0),\"\")","v":"Porta em esquadria de alumínio anodizado bronze com venezianas industriais, de giro com uma folha. 0,90x2,10m (PA3)"},{"$f":"IF(COUNTA(A49)>0,VLOOKUP($A49,'[8]PLANILHA SINTÉTICA'!$A$9:$U$1082,3,0),\"\")","v":"470867-9"},{"$f":"IF(COUNTA(A49)>0,VLOOKUP($A49,'PLANILHA SINTÉTICA'!$A$10:$T$1083,4,0),\"\")","v":1},{"$f":"IF(COUNTA(A49)>0,VLOOKUP($A49,'PLANILHA SINTÉTICA'!$A$10:$T$1083,5,0),\"\")","v":1},{"$f":"IF(ISERROR(VLOOKUP($A49,#REF!,8,0)),0,(VLOOKUP($A49,#REF!,8,0)))","v":0},{"$f":"IF(COUNTA(A49)>0,VLOOKUP($A49,'[8]PLANILHA SINTÉTICA'!$A$9:$AC$1082,15,0),\"\")","v":1231.5987279999999},0,274.02999999999997,0]
["20.17",{"$f":"IF(COUNTA(#REF!)>0,VLOOKUP($A50,'PLANILHA SINTÉTICA'!$A$10:$T$1083,2,0),\"\")","v":"Contrapiso em argamassa traço 1:4 (cimento e areia), preparo mecânico com betoneira 400 L, aplicado em áreas secas sobre laje, aderido, espessura 2cm, acabamento não reforçado."},{"$f":"IF(COUNTA(A50)>0,VLOOKUP($A50,'[8]PLANILHA SINTÉTICA'!$A$9:$U$1082,3,0),\"\")","v":"430928-6"},{"$f":"IF(COUNTA(A50)>0,VLOOKUP($A50,'PLANILHA SINTÉTICA'!$A$10:$T$1083,4,0),\"\")","v":25.3},{"$f":"IF(COUNTA(A50)>0,VLOOKUP($A50,'PLANILHA SINTÉTICA'!$A$10:$T$1083,5,0),\"\")","v":23.4},{"$f":"IF(ISERROR(VLOOKUP($A50,#REF!,8,0)),0,(VLOOKUP($A50,#REF!,8,0)))","v":0},{"$f":"IF(COUNTA(A50)>0,VLOOKUP($A50,'[8]PLANILHA SINTÉTICA'!$A$9:$AC$1082,15,0),\"\")","v":18.788824000000002},0,4.18,0]
["20.26",{"$f":"IF(COUNTA(#REF!)>0,VLOOKUP($A51,'PLANILHA SINTÉTICA'!$A$10:$T$1083,2,0),\"\")","v":"Impermeabilização de superfície com manta asfáltica protegida com filme de alumínio gofrado (de espessura 0,8mm), inclusa aplicação de emulsão asfáltica, E=3mm. (Laje)"},{"$f":"IF(COUNTA(A51)>0,VLOOKUP($A51,'[8]PLANILHA SINTÉTICA'!$A$9:$U$1082,3,0),\"\")","v":"431420-4"},{"$f":"IF(COUNTA(A51)>0,VLOOKUP($A51,'PLANILHA SINTÉTICA'!$A$10:$T$1083,4,0),\"\")","v":5.4},{"$f":"IF(COUNTA(A51)>0,VLOOKUP($A51,'PLANILHA SINTÉTICA'!$A$10:$T$1083,5,0),\"\")","v":5.38},{"$f":"IF(ISERROR(VLOOKUP($A51,#REF!,8,0)),0,(VLOOKUP($A51,#REF!,8,0)))","v":0},{"$f":"IF(COUNTA(A51)>0,VLOOKUP($A51,'[8]PLANILHA SINTÉTICA'!$A$9:$AC$1082,15,0),\"\")","v":74.509743999999998},0,16.579999999999998,0]
["20.27",{"$f":"IF(COUNTA(#REF!)>0,VLOOKUP($A52,'PLANILHA SINTÉTICA'!$A$10:$T$1083,2,0),\"\")","v":"Fornecimento e instalação de  PORTÃO pivotante para LIXEIRA, com gradil Eletrogradi, na cor bronze, (1,50x2,11)m conforme detalhes."},{"$f":"IF(COUNTA(A52)>0,VLOOKUP($A52,'[8]PLANILHA SINTÉTICA'!$A$9:$U$1082,3,0),\"\")","v":"475555-3"},{"$f":"IF(COUNTA(A52)>0,VLOOKUP($A52,'PLANILHA SINTÉTICA'!$A$10:$T$1083,4,0),\"\")","v":6.33},{"$f":"IF(COUNTA(A52)>0,VLOOKUP($A52,'PLANILHA SINTÉTICA'!$A$10:$T$1083,5,0),\"\")","v":6.33},{"$f":"IF(ISERROR(VLOOKUP($A52,#REF!,8,0)),0,(VLOOKUP($A52,#REF!,8,0)))","v":0},{"$f":"IF(COUNTA(A52)>0,VLOOKUP($A52,'[8]PLANILHA SINTÉTICA'!$A$9:$AC$1082,15,0),\"\")","v":801.96902799999998},0,178.44,0]
["26.1",{"$f":"IF(COUNTA(#REF!)>0,VLOOKUP($A53,'PLANILHA SINTÉTICA'!$A$10:$T$1083,2,0),\"\")","v":"Fornecimento e assentamento de mastro para bandeira em tubo de ferro galvanizado de 2.1/2\", 2\" e 1.1/2'' conforme detalhe, inclusive pintura anticorrosiva e em esmalte sintético, cor a definir, com fixação no piso. (Conforme detalhe 40/45)"},{"$f":"IF(COUNTA(A53)>0,VLOOKUP($A53,'[8]PLANILHA SINTÉTICA'!$A$9:$U$1082,3,0),\"\")","v":"429836-5"},{"$f":"IF(COUNTA(A53)>0,VLOOKUP($A53,'PLANILHA SINTÉTICA'!$A$10:$T$1083,4,0),\"\")","v":16},{"$f":"IF(COUNTA(A53)>0,VLOOKUP($A53,'PLANILHA SINTÉTICA'!$A$10:$T$1083,5,0),\"\")","v":16},{"$f":"IF(ISERROR(VLOOKUP($A53,#REF!,8,0)),0,(VLOOKUP($A53,#REF!,8,0)))","v":0},{"$f":"IF(COUNTA(A53)>0,VLOOKUP($A53,'[8]PLANILHA SINTÉTICA'!$A$9:$AC$1082,15,0),\"\")","v":155.34910400000001},0,34.57,0]
["26.2",{"$f":"IF(COUNTA(#REF!)>0,VLOOKUP($A54,'PLANILHA SINTÉTICA'!$A$10:$T$1083,2,0),\"\")","v":"Fornecimento e instalação de letreiro \" FÓRUM DE LIMOEIRO\" com letras tipo caixa, fonte Arial Black, com 10,00 cm de profundidade, altura com 80,00 cm, em chapa de aço INOX 304 escovado, com sistema de fixação, pregos e buchas ou perfil tipo \"L\". (Detalhe 41/45) "},{"$f":"IF(COUNTA(A54)>0,VLOOKUP($A54,'[8]PLANILHA SINTÉTICA'!$A$9:$U$1082,3,0),\"\")","v":"470289-1"},{"$f":"IF(COUNTA(A54)>0,VLOOKUP($A54,'PLANILHA SINTÉTICA'!$A$10:$T$1083,4,0),\"\")","v":16},{"$f":"IF(COUNTA(A54)>0,VLOOKUP($A54,'PLANILHA SINTÉTICA'!$A$10:$T$1083,5,0),\"\")","v":16},{"$f":"IF(ISERROR(VLOOKUP($A54,#REF!,8,0)),0,(VLOOKUP($A54,#REF!,8,0)))","v":0},{"$f":"IF(COUNTA(A54)>0,VLOOKUP($A54,'[8]PLANILHA SINTÉTICA'!$A$9:$AC$1082,15,0),\"\")","v":187.012666},0,41.61,0]
["26.7",{"$f":"IF(COUNTA(#REF!)>0,VLOOKUP($A55,'PLANILHA SINTÉTICA'!$A$10:$T$1083,2,0),\"\")","v":"Fornecimento de espelho cristal 4mm, colocado sobre chapas de isopor, fixado com parafuso de latão, inclusive assentamento."},{"$f":"IF(COUNTA(A55)>0,VLOOKUP($A55,'[8]PLANILHA SINTÉTICA'!$A$9:$U$1082,3,0),\"\")","v":"429778-4"},{"$f":"IF(COUNTA(A55)>0,VLOOKUP($A55,'PLANILHA SINTÉTICA'!$A$10:$T$1083,4,0),\"\")","v":60.1},{"$f":"IF(COUNTA(A55)>0,VLOOKUP($A55,'PLANILHA SINTÉTICA'!$A$10:$T$1083,5,0),\"\")","v":59.1},{"$f":"IF(ISERROR(VLOOKUP($A55,#REF!,8,0)),0,(VLOOKUP($A55,#REF!,8,0)))","v":0},{"$f":"IF(COUNTA(A55)>0,VLOOKUP($A55,'[8]PLANILHA SINTÉTICA'!$A$9:$AC$1082,15,0),\"\")","v":240.169442},0,53.44,0]
["26.8",{"$f":"IF(COUNTA(#REF!)>0,VLOOKUP($A56,'PLANILHA SINTÉTICA'!$A$10:$T$1083,2,0),\"\")","v":"Fornecimento e colocação de escultura em concreto medindo 2m de altura (justiça cega), conforme detalhe."},{"$f":"IF(COUNTA(A56)>0,VLOOKUP($A56,'[8]PLANILHA SINTÉTICA'!$A$9:$U$1082,3,0),\"\")","v":"484189-1"},{"$f":"IF(COUNTA(A56)>0,VLOOKUP($A56,'PLANILHA SINTÉTICA'!$A$10:$T$1083,4,0),\"\")","v":1},{"$f":"IF(COUNTA(A56)>0,VLOOKUP($A56,'PLANILHA SINTÉTICA'!$A$10:$T$1083,5,0),\"\")","v":1},{"$f":"IF(ISERROR(VLOOKUP($A56,#REF!,8,0)),0,(VLOOKUP($A56,#REF!,8,0)))","v":0},{"$f":"IF(COUNTA(A56)>0,VLOOKUP($A56,'[8]PLANILHA SINTÉTICA'!$A$9:$AC$1082,15,0),\"\")","v":21760.2968},0,4841.67,0]
["26.9",{"$f":"IF(COUNTA(#REF!)>0,VLOOKUP($A57,'PLANILHA SINTÉTICA'!$A$10:$T$1083,2,0),\"\")","v":"Fornecimento e fixação de brasão do Estado de Pernambuco em latão fundido, alto relevo, nas dimensões aproximadas 0,70m x 0,71m, conforme modelo."},{"$f":"IF(COUNTA(A57)>0,VLOOKUP($A57,'[8]PLANILHA SINTÉTICA'!$A$9:$U$1082,3,0),\"\")","v":"429837-3"},{"$f":"IF(COUNTA(A57)>0,VLOOKUP($A57,'PLANILHA SINTÉTICA'!$A$10:$T$1083,4,0),\"\")","v":1},{"$f":"IF(COUNTA(A57)>0,VLOOKUP($A57,'PLANILHA SINTÉTICA'!$A$10:$T$1083,5,0),\"\")","v":1},{"$f":"IF(ISERROR(VLOOKUP($A57,#REF!,8,0)),0,(VLOOKUP($A57,#REF!,8,0)))","v":0},{"$f":"IF(COUNTA(A57)>0,VLOOKUP($A57,'[8]PLANILHA SINTÉTICA'!$A$9:$AC$1082,15,0),\"\")","v":8878.7945799999998},0,1975.53,0]
["26.10",{"$f":"IF(COUNTA(#REF!)>0,VLOOKUP($A58,'PLANILHA SINTÉTICA'!$A$10:$T$1083,2,0),\"\")","v":"Barras em tubo de ferro com 5cm de diâmetro para BICICLETÁRIO do tipo \"U invertido\", inclusive argola com furo de 1\" em ferro fundido, barra de segurança e base de fixação, pintadas com pintura automotiva cor prata, conforme detalhe 42/45."},{"$f":"IF(COUNTA(A58)>0,VLOOKUP($A58,'[8]PLANILHA SINTÉTICA'!$A$9:$U$1082,3,0),\"\")","v":"430855-7"},{"$f":"IF(COUNTA(A58)>0,VLOOKUP($A58,'PLANILHA SINTÉTICA'!$A$10:$T$1083,4,0),\"\")","v":12},{"$f":"IF(COUNTA(A58)>0,VLOOKUP($A58,'PLANILHA SINTÉTICA'!$A$10:$T$1083,5,0),\"\")","v":12},{"$f":"IF(ISERROR(VLOOKUP($A58,#REF!,8,0)),0,(VLOOKUP($A58,#REF!,8,0)))","v":0},{"$f":"IF(COUNTA(A58)>0,VLOOKUP($A58,'[8]PLANILHA SINTÉTICA'!$A$9:$AC$1082,15,0),\"\")","v":410.65420599999993},0,91.37,0]
["27.15",{"$f":"IF(COUNTA(#REF!)>0,VLOOKUP($A59,'PLANILHA SINTÉTICA'!$A$10:$T$1083,2,0),\"\")","v":"Construção de caixa coletora tipo \"com grade\" em alvenaria de 1 vez - tijolos maciços prensados - nas dimensões internas de 0,25x0,85x1,00m, inclusive escavação, reaterro compactado e remoção do material excedente (sem a grade)"},{"$f":"IF(COUNTA(A59)>0,VLOOKUP($A59,'[8]PLANILHA SINTÉTICA'!$A$9:$U$1082,3,0),\"\")","v":"436347-7"},{"$f":"IF(COUNTA(A59)>0,VLOOKUP($A59,'PLANILHA SINTÉTICA'!$A$10:$T$1083,4,0),\"\")","v":6},{"$f":"IF(COUNTA(A59)>0,VLOOKUP($A59,'PLANILHA SINTÉTICA'!$A$10:$T$1083,5,0),\"\")","v":6},{"$f":"IF(ISERROR(VLOOKUP($A59,#REF!,8,0)),0,(VLOOKUP($A59,#REF!,8,0)))","v":0},{"$f":"IF(COUNTA(A59)>0,VLOOKUP($A59,'[8]PLANILHA SINTÉTICA'!$A$9:$AC$1082,15,0),\"\")","v":568.37645799999996},0,126.46,0]
["27.16",{"$f":"IF(COUNTA(#REF!)>0,VLOOKUP($A60,'PLANILHA SINTÉTICA'!$A$10:$T$1083,2,0),\"\")","v":"Construção de caixa coletora tipo \"com gaveta\", em alvenaria de 1 vez (tijolos maciços, prensados), nas dimensões internas de 0,80x0,80x0,90m, inclusive escavação, reaterro compactado  e remoção do material excedente (com sobretampa de concreto)."},{"$f":"IF(COUNTA(A60)>0,VLOOKUP($A60,'[8]PLANILHA SINTÉTICA'!$A$9:$U$1082,3,0),\"\")","v":"436349-3"},{"$f":"IF(COUNTA(A60)>0,VLOOKUP($A60,'PLANILHA SINTÉTICA'!$A$10:$T$1083,4,0),\"\")","v":2},{"$f":"IF(COUNTA(A60)>0,VLOOKUP($A60,'PLANILHA SINTÉTICA'!$A$10:$T$1083,5,0),\"\")","v":2},{"$f":"IF(ISERROR(VLOOKUP($A60,#REF!,8,0)),0,(VLOOKUP($A60,#REF!,8,0)))","v":0},{"$f":"IF(COUNTA(A60)>0,VLOOKUP($A60,'[8]PLANILHA SINTÉTICA'!$A$9:$AC$1082,15,0),\"\")","v":1214.7329500000001},0,270.27999999999997,0]
["27.17",{"$f":"IF(COUNTA(#REF!)>0,VLOOKUP($A61,'PLANILHA SINTÉTICA'!$A$10:$T$1083,2,0),\"\")","v":"Construção de poço de visita em alvenaria de 1 vez (tijolos maciços prensados), nas dimensões internas 1,00x1,00x1,50m, inclusive escavação, reaterro compactado e remoção do material excedente (sem o tampão)."},{"$f":"IF(COUNTA(A61)>0,VLOOKUP($A61,'[8]PLANILHA SINTÉTICA'!$A$9:$U$1082,3,0),\"\")","v":"436350-7"},{"$f":"IF(COUNTA(A61)>0,VLOOKUP($A61,'PLANILHA SINTÉTICA'!$A$10:$T$1083,4,0),\"\")","v":2},{"$f":"IF(COUNTA(A61)>0,VLOOKUP($A61,'PLANILHA SINTÉTICA'!$A$10:$T$1083,5,0),\"\")","v":2},{"$f":"IF(ISERROR(VLOOKUP($A61,#REF!,8,0)),0,(VLOOKUP($A61,#REF!,8,0)))","v":0},{"$f":"IF(COUNTA(A61)>0,VLOOKUP($A61,'[8]PLANILHA SINTÉTICA'!$A$9:$AC$1082,15,0),\"\")","v":2121.2969560000001},0,471.99,0]
["27.18",{"$f":"IF(COUNTA(#REF!)>0,VLOOKUP($A62,'PLANILHA SINTÉTICA'!$A$10:$T$1083,2,0),\"\")","v":"Construção de poço de visita tipo \"com gaveta\" em alvenaria de 1 vez de tijolos maciços, prensados, nas dimensões internas 1,00x1,00x1,50m, inclusive escavação, reaterro compactado e remoção do material excedente (com sobretampa de concreto)."},{"$f":"IF(COUNTA(A62)>0,VLOOKUP($A62,'[8]PLANILHA SINTÉTICA'!$A$9:$U$1082,3,0),\"\")","v":"436355-8"},{"$f":"IF(COUNTA(A62)>0,VLOOKUP($A62,'PLANILHA SINTÉTICA'!$A$10:$T$1083,4,0),\"\")","v":10},{"$f":"IF(COUNTA(A62)>0,VLOOKUP($A62,'PLANILHA SINTÉTICA'!$A$10:$T$1083,5,0),\"\")","v":10},{"$f":"IF(ISERROR(VLOOKUP($A62,#REF!,8,0)),0,(VLOOKUP($A62,#REF!,8,0)))","v":0},{"$f":"IF(COUNTA(A62)>0,VLOOKUP($A62,'[8]PLANILHA SINTÉTICA'!$A$9:$AC$1082,15,0),\"\")","v":2217.4012319999997},0,493.37,0]
["28.1",{"$f":"IF(COUNTA(#REF!)>0,VLOOKUP($A63,'PLANILHA SINTÉTICA'!$A$10:$T$1083,2,0),\"\")","v":"Fornecimento e plantio de Palmeira Fenix, com cerca de 1,00m de altura, incluindo preparação de cova com 40 x 40 x 40 cm, com barro jardim e estrume bovino."},{"$f":"IF(COUNTA(A63)>0,VLOOKUP($A63,'[8]PLANILHA SINTÉTICA'!$A$9:$U$1082,3,0),\"\")","v":"402167-3"},{"$f":"IF(COUNTA(A63)>0,VLOOKUP($A63,'PLANILHA SINTÉTICA'!$A$10:$T$1083,4,0),\"\")","v":1},{"$f":"IF(COUNTA(A63)>0,VLOOKUP($A63,'PLANILHA SINTÉTICA'!$A$10:$T$1083,5,0),\"\")","v":1},{"$f":"IF(ISERROR(VLOOKUP($A63,#REF!,8,0)),0,(VLOOKUP($A63,#REF!,8,0)))","v":0},{"$f":"IF(COUNTA(A63)>0,VLOOKUP($A63,'[8]PLANILHA SINTÉTICA'!$A$9:$AC$1082,15,0),\"\")","v":170.18854999999999},0,37.869999999999997,0]
["28.2",{"$f":"IF(COUNTA(#REF!)>0,VLOOKUP($A64,'PLANILHA SINTÉTICA'!$A$10:$T$1083,2,0),\"\")","v":"Fornecimento e plantio de Palmeira Cica, com cerca de 1,00m de altura, incluindo preparação de cova com 40 x 40 x 40 cm, com barro jardim e estrume bovino."},{"$f":"IF(COUNTA(A64)>0,VLOOKUP($A64,'[8]PLANILHA SINTÉTICA'!$A$9:$U$1082,3,0),\"\")","v":"481951-9"},{"$f":"IF(COUNTA(A64)>0,VLOOKUP($A64,'PLANILHA SINTÉTICA'!$A$10:$T$1083,4,0),\"\")","v":3},{"$f":"IF(COUNTA(A64)>0,VLOOKUP($A64,'PLANILHA SINTÉTICA'!$A$10:$T$1083,5,0),\"\")","v":3},{"$f":"IF(ISERROR(VLOOKUP($A64,#REF!,8,0)),0,(VLOOKUP($A64,#REF!,8,0)))","v":0},{"$f":"IF(COUNTA(A64)>0,VLOOKUP($A64,'[8]PLANILHA SINTÉTICA'!$A$9:$AC$1082,15,0),\"\")","v":155.06026199999999},0,34.5,0]
["28.3",{"$f":"IF(COUNTA(#REF!)>0,VLOOKUP($A65,'PLANILHA SINTÉTICA'!$A$10:$T$1083,2,0),\"\")","v":"Fornecimento e plantio de Pata de Vaca (Bauhinia blakeana), com cerca de 1,50m de altura, incluindo preparação de cova com 40 x 40 x 40 cm, com barro jardim e estrume bovino."},{"$f":"IF(COUNTA(A65)>0,VLOOKUP($A65,'[8]PLANILHA SINTÉTICA'!$A$9:$U$1082,3,0),\"\")","v":"461505-0"},{"$f":"IF(COUNTA(A65)>0,VLOOKUP($A65,'PLANILHA SINTÉTICA'!$A$10:$T$1083,4,0),\"\")","v":26},{"$f":"IF(COUNTA(A65)>0,VLOOKUP($A65,'PLANILHA SINTÉTICA'!$A$10:$T$1083,5,0),\"\")","v":16},{"$f":"IF(ISERROR(VLOOKUP($A65,#REF!,8,0)),0,(VLOOKUP($A65,#REF!,8,0)))","v":0},{"$f":"IF(COUNTA(A65)>0,VLOOKUP($A65,'[8]PLANILHA SINTÉTICA'!$A$9:$AC$1082,15,0),\"\")","v":115.208336},{"$f":"ROUND(G65*F65,2)","v":0},25.63,0]
["28.4",{"$f":"IF(COUNTA(#REF!)>0,VLOOKUP($A66,'PLANILHA SINTÉTICA'!$A$10:$T$1083,2,0),\"\")","v":"Fornecimento e plantio de Ipê Amarelo (Tabebuia chrysotricha), com cerca de 1,50m de altura, incluindo preparação de cova com 40 x 40 x 40 cm, com barro jardim e estrume bovino."},{"$f":"IF(COUNTA(A66)>0,VLOOKUP($A66,'[8]PLANILHA SINTÉTICA'!$A$9:$U$1082,3,0),\"\")","v":"472672-3"},{"$f":"IF(COUNTA(A66)>0,VLOOKUP($A66,'PLANILHA SINTÉTICA'!$A$10:$T$1083,4,0),\"\")","v":1},{"$f":"IF(COUNTA(A66)>0,VLOOKUP($A66,'PLANILHA SINTÉTICA'!$A$10:$T$1083,5,0),\"\")","v":1},{"$f":"IF(ISERROR(VLOOKUP($A66,#REF!,8,0)),0,(VLOOKUP($A66,#REF!,8,0)))","v":0},{"$f":"IF(COUNTA(A66)>0,VLOOKUP($A66,'[8]PLANILHA SINTÉTICA'!$A$9:$AC$1082,15,0),\"\")","v":209.04465200000001},0,46.51,0]
["28.5",{"$f":"IF(COUNTA(#REF!)>0,VLOOKUP($A67,'PLANILHA SINTÉTICA'!$A$10:$T$1083,2,0),\"\")","v":"Fornecimento e plantio de mudas de Dracena de Madagascar, com cerca de 1,00m de altura."},{"$f":"IF(COUNTA(A67)>0,VLOOKUP($A67,'[8]PLANILHA SINTÉTICA'!$A$9:$U$1082,3,0),\"\")","v":"435721-3"},{"$f":"IF(COUNTA(A67)>0,VLOOKUP($A67,'PLANILHA SINTÉTICA'!$A$10:$T$1083,4,0),\"\")","v":22},{"$f":"IF(COUNTA(A67)>0,VLOOKUP($A67,'PLANILHA SINTÉTICA'!$A$10:$T$1083,5,0),\"\")","v":17},{"$f":"IF(ISERROR(VLOOKUP($A67,#REF!,8,0)),0,(VLOOKUP($A67,#REF!,8,0)))","v":0},{"$f":"IF(COUNTA(A67)>0,VLOOKUP($A67,'[8]PLANILHA SINTÉTICA'!$A$9:$AC$1082,15,0),\"\")","v":49.359738},0,10.98,0]
["28.9",{"$f":"IF(COUNTA(#REF!)>0,VLOOKUP($A68,'PLANILHA SINTÉTICA'!$A$10:$T$1083,2,0),\"\")","v":"Fornecimento e plantio de grama esmeralda em rolos. (Jardim e cobograma)"},{"$f":"IF(COUNTA(A68)>0,VLOOKUP($A68,'[8]PLANILHA SINTÉTICA'!$A$9:$U$1082,3,0),\"\")","v":"438958-1"},{"$f":"IF(COUNTA(A68)>0,VLOOKUP($A68,'PLANILHA SINTÉTICA'!$A$10:$T$1083,4,0),\"\")","v":1040},{"$f":"IF(COUNTA(A68)>0,VLOOKUP($A68,'PLANILHA SINTÉTICA'!$A$10:$T$1083,5,0),\"\")","v":1040},{"$f":"IF(ISERROR(VLOOKUP($A68,#REF!,8,0)),0,(VLOOKUP($A68,#REF!,8,0)))","v":0},{"$f":"IF(COUNTA(A68)>0,VLOOKUP($A68,'[8]PLANILHA SINTÉTICA'!$A$9:$AC$1082,15,0),\"\")","v":12.88466},0,2.87,0]
["29.02.01",{"$f":"IF(COUNTA(#REF!)>0,VLOOKUP($A69,'PLANILHA SINTÉTICA'!$A$10:$T$1083,2,0),\"\")","v":"Luminária de embutir p/ 02 (duas) lâmpadas LED de 18W, sem alojamento; corpo em chapa de aço galvanizado c/ pintura eletrostática em pó de poliéster epóxi; refletor facetado em alumínio anodizado de alta pureza e refletância; aletas parabólicas em alumínio; soquetes em policarbonato; inclusive lâmpadas LED tubular Philips, Osram, ou equivalente, 2x18W, 220V, demais acessórios e instalação. Ref. Lumicenter, Luminárias Projeto, Itaim, Stillux, Indelpa ou equivalente."},{"$f":"IF(COUNTA(A69)>0,VLOOKUP($A69,'[8]PLANILHA SINTÉTICA'!$A$9:$U$1082,3,0),\"\")","v":"430980-4"},{"$f":"IF(COUNTA(A69)>0,VLOOKUP($A69,'PLANILHA SINTÉTICA'!$A$10:$T$1083,4,0),\"\")","v":429},{"$f":"IF(COUNTA(A69)>0,VLOOKUP($A69,'PLANILHA SINTÉTICA'!$A$10:$T$1083,5,0),\"\")","v":429},{"$f":"IF(ISERROR(VLOOKUP($A69,#REF!,8,0)),0,(VLOOKUP($A69,#REF!,8,0)))","v":0},{"$f":"IF(COUNTA(A69)>0,VLOOKUP($A69,'[8]PLANILHA SINTÉTICA'!$A$9:$AC$1082,15,0),\"\")","v":210.09111000000001},0,46.75,0]
["29.02.02",{"$f":"IF(COUNTA(#REF!)>0,VLOOKUP($A70,'PLANILHA SINTÉTICA'!$A$10:$T$1083,2,0),\"\")","v":"Luminária circular de embutir p/ 02 lâmpadas LED bulbo de 10W, c/ aro de acabamento em chapa de aço pintada, refletor em alumínio repuxado e anodizado de alta pureza e refletância; soquetes em policarbonato s/ vidro difusor temperado jateado central (diâmetro externo aprox. do vidro 21,0 cm), inclusive lâmpadas, , p/ lâmpada fluorescente, 2x10W, 220V, demais acessórios e instalação . Ref. Lumicenter, Luminárias Projeto, Itaim, Stillux, Indelpa ou equivalente."},{"$f":"IF(COUNTA(A70)>0,VLOOKUP($A70,'[8]PLANILHA SINTÉTICA'!$A$9:$U$1082,3,0),\"\")","v":"430981-2"},{"$f":"IF(COUNTA(A70)>0,VLOOKUP($A70,'PLANILHA SINTÉTICA'!$A$10:$T$1083,4,0),\"\")","v":284},{"$f":"IF(COUNTA(A70)>0,VLOOKUP($A70,'PLANILHA SINTÉTICA'!$A$10:$T$1083,5,0),\"\")","v":280},{"$f":"IF(ISERROR(VLOOKUP($A70,#REF!,8,0)),0,(VLOOKUP($A70,#REF!,8,0)))","v":0},{"$f":"IF(COUNTA(A70)>0,VLOOKUP($A70,'[8]PLANILHA SINTÉTICA'!$A$9:$AC$1082,15,0),\"\")","v":128.64174600000001},0,{"$f":"ROUND($G70*$J$5,2)","v":28.62},{"$f":"ROUND($H70*$J$5,2)","v":0}]
["29.02.07",{"$f":"IF(COUNTA(#REF!)>0,VLOOKUP($A71,'PLANILHA SINTÉTICA'!$A$10:$T$1083,2,0),\"\")","v":"Fornecimento de luminária externa, com corpo óptico e alojamento em liga de alumínio injetado de baixa pressão, padrão litoral (parafusos inox); refletor assimétrico polido, anodizado e selado, confeccionado em peça única, porta lâmpada em porcelana, rosca E27 para lâmpada 250W tubular, base para relé fotoelétrico e alojamento para equipamento auxiliar;  fechamento do corpo óptico com lente plana de vidro temperado preso ao corpo da luminária através de aro de alumínio fundido e presília de aço inoxidável (IP 65), ref. Lexa A-190 - Almec ou equivalente; inclusive lâmpada MVM 250W tubular (Osram ou equivalente), reator interno de alto fator de potência (250W) e REATOR, relé foto elétrico (fotocélula), encaixe em braço e demais acessórios, inclusive instalação em postes de até 17m. "},{"$f":"IF(COUNTA(A71)>0,VLOOKUP($A71,'[8]PLANILHA SINTÉTICA'!$A$9:$U$1082,3,0),\"\")","v":"445063-9"},{"$f":"IF(COUNTA(A71)>0,VLOOKUP($A71,'PLANILHA SINTÉTICA'!$A$10:$T$1083,4,0),\"\")","v":14},{"$f":"IF(COUNTA(A71)>0,VLOOKUP($A71,'PLANILHA SINTÉTICA'!$A$10:$T$1083,5,0),\"\")","v":14},{"$f":"IF(ISERROR(VLOOKUP($A71,#REF!,8,0)),0,(VLOOKUP($A71,#REF!,8,0)))","v":0},{"$f":"IF(COUNTA(A71)>0,VLOOKUP($A71,'[8]PLANILHA SINTÉTICA'!$A$9:$AC$1082,15,0),\"\")","v":572.44245000000001},0,127.37,0]
["29.02.09",{"$f":"IF(COUNTA(#REF!)>0,VLOOKUP($A72,'PLANILHA SINTÉTICA'!$A$10:$T$1083,2,0),\"\")","v":"Fornecimento de POSTE CURVO SIMPLES, telecônico, confeccionado em tubo de aço patente galvanizado a fogo medindo 8metros, flangeado com base e chumbador, produzido em três estágios, sendo: 3\", 2 1/2\" e 2\". Ref. MP-600, fab: EDESA, ou equivalente."},{"$f":"IF(COUNTA(A72)>0,VLOOKUP($A72,'[8]PLANILHA SINTÉTICA'!$A$9:$U$1082,3,0),\"\")","v":"373073-5"},{"$f":"IF(COUNTA(A72)>0,VLOOKUP($A72,'PLANILHA SINTÉTICA'!$A$10:$T$1083,4,0),\"\")","v":21},{"$f":"IF(COUNTA(A72)>0,VLOOKUP($A72,'PLANILHA SINTÉTICA'!$A$10:$T$1083,5,0),\"\")","v":21},{"$f":"IF(ISERROR(VLOOKUP($A72,#REF!,8,0)),0,(VLOOKUP($A72,#REF!,8,0)))","v":0},{"$f":"IF(COUNTA(A72)>0,VLOOKUP($A72,'[8]PLANILHA SINTÉTICA'!$A$9:$AC$1082,15,0),\"\")","v":1093.808274},0,243.37,0]
["29.04.01",{"$f":"IF(COUNTA(#REF!)>0,VLOOKUP($A73,'PLANILHA SINTÉTICA'!$A$10:$T$1083,2,0),\"\")","v":"Quadro de distribuição metálico de sobrepor, em chapa 16 BWG, para 6 circuitos monopolares padrão DIN, com barra de neutro e terra, com porta e trinco, Cemar ou equivalente,  inclusive instalação conforme projeto."},{"$f":"IF(COUNTA(A73)>0,VLOOKUP($A73,'[8]PLANILHA SINTÉTICA'!$A$9:$U$1082,3,0),\"\")","v":"431292-9"},{"$f":"IF(COUNTA(A73)>0,VLOOKUP($A73,'PLANILHA SINTÉTICA'!$A$10:$T$1083,4,0),\"\")","v":3},{"$f":"IF(COUNTA(A73)>0,VLOOKUP($A73,'PLANILHA SINTÉTICA'!$A$10:$T$1083,5,0),\"\")","v":3},{"$f":"IF(ISERROR(VLOOKUP($A73,#REF!,8,0)),0,(VLOOKUP($A73,#REF!,8,0)))","v":0},{"$f":"IF(COUNTA(A73)>0,VLOOKUP($A73,'[8]PLANILHA SINTÉTICA'!$A$9:$AC$1082,15,0),\"\")","v":52.812067999999996},0,11.75,0]
["29.04.02",{"$f":"IF(COUNTA(#REF!)>0,VLOOKUP($A74,'PLANILHA SINTÉTICA'!$A$10:$T$1083,2,0),\"\")","v":"Quadro de distribuição metálico de sobrepor, em chapa 16 BWG, para 8 circuitos monopolares padrão DIN, com barra de neutro e terra, com porta e trinco, Cemar ou equivalente,  inclusive instalação conforme projeto."},{"$f":"IF(COUNTA(A74)>0,VLOOKUP($A74,'[8]PLANILHA SINTÉTICA'!$A$9:$U$1082,3,0),\"\")","v":"471384-2"},{"$f":"IF(COUNTA(A74)>0,VLOOKUP($A74,'PLANILHA SINTÉTICA'!$A$10:$T$1083,4,0),\"\")","v":1},{"$f":"IF(COUNTA(A74)>0,VLOOKUP($A74,'PLANILHA SINTÉTICA'!$A$10:$T$1083,5,0),\"\")","v":1},{"$f":"IF(ISERROR(VLOOKUP($A74,#REF!,8,0)),0,(VLOOKUP($A74,#REF!,8,0)))","v":0},{"$f":"IF(COUNTA(A74)>0,VLOOKUP($A74,'[8]PLANILHA SINTÉTICA'!$A$9:$AC$1082,15,0),\"\")","v":264.27702399999998},0,58.8,0]
["29.04.03",{"$f":"IF(COUNTA(#REF!)>0,VLOOKUP($A75,'PLANILHA SINTÉTICA'!$A$10:$T$1083,2,0),\"\")","v":"Quadro de distribuição metálico de sobrepor, em chapa 16 BWG, para 12 circuitos monopolares padrão DIN, com barra de neutro e terra, com porta e trinco, Cemar ou equivalente,  inclusive instalação conforme projeto."},{"$f":"IF(COUNTA(A75)>0,VLOOKUP($A75,'[8]PLANILHA SINTÉTICA'!$A$9:$U$1082,3,0),\"\")","v":"445272-0"},{"$f":"IF(COUNTA(A75)>0,VLOOKUP($A75,'PLANILHA SINTÉTICA'!$A$10:$T$1083,4,0),\"\")","v":3},{"$f":"IF(COUNTA(A75)>0,VLOOKUP($A75,'PLANILHA SINTÉTICA'!$A$10:$T$1083,5,0),\"\")","v":3},{"$f":"IF(ISERROR(VLOOKUP($A75,#REF!,8,0)),0,(VLOOKUP($A75,#REF!,8,0)))","v":0},{"$f":"IF(COUNTA(A75)>0,VLOOKUP($A75,'[8]PLANILHA SINTÉTICA'!$A$9:$AC$1082,15,0),\"\")","v":279.443376},0,62.18,0]
["29.04.05",{"$f":"IF(COUNTA(#REF!)>0,VLOOKUP($A76,'PLANILHA SINTÉTICA'!$A$10:$T$1083,2,0),\"\")","v":"Quadro de distribuição de sobrepor com barramento com barramento trifásico 56 disjuntores unipolares em chapa de aço galvanizado em chave geral trifásica."},{"$f":"IF(COUNTA(A76)>0,VLOOKUP($A76,'[8]PLANILHA SINTÉTICA'!$A$9:$U$1082,3,0),\"\")","v":"431289-9"},{"$f":"IF(COUNTA(A76)>0,VLOOKUP($A76,'PLANILHA SINTÉTICA'!$A$10:$T$1083,4,0),\"\")","v":4},{"$f":"IF(COUNTA(A76)>0,VLOOKUP($A76,'PLANILHA SINTÉTICA'!$A$10:$T$1083,5,0),\"\")","v":4},{"$f":"IF(ISERROR(VLOOKUP($A76,#REF!,8,0)),0,(VLOOKUP($A76,#REF!,8,0)))","v":0},{"$f":"IF(COUNTA(A76)>0,VLOOKUP($A76,'[8]PLANILHA SINTÉTICA'!$A$9:$AC$1082,15,0),\"\")","v":1223.441806},0,272.22000000000003,0]
["29.04.07",{"$f":"IF(COUNTA(#REF!)>0,VLOOKUP($A77,'PLANILHA SINTÉTICA'!$A$10:$T$1083,2,0),\"\")","v":"Quadro de distribuição metálico de EMBUTIR, em chapa 16 BWG, para 12 circuitos monopolares padrão DIN, com barra de neutro e terra, com porta e trinco, Cemar ou equivalente,  inclusive instalação conforme projeto."},{"$f":"IF(COUNTA(A77)>0,VLOOKUP($A77,'[8]PLANILHA SINTÉTICA'!$A$9:$U$1082,3,0),\"\")","v":"431288-0"},{"$f":"IF(COUNTA(A77)>0,VLOOKUP($A77,'PLANILHA SINTÉTICA'!$A$10:$T$1083,4,0),\"\")","v":2},{"$f":"IF(COUNTA(A77)>0,VLOOKUP($A77,'PLANILHA SINTÉTICA'!$A$10:$T$1083,5,0),\"\")","v":2},{"$f":"IF(ISERROR(VLOOKUP($A77,#REF!,8,0)),0,(VLOOKUP($A77,#REF!,8,0)))","v":0},{"$f":"IF(COUNTA(A77)>0,VLOOKUP($A77,'[8]PLANILHA SINTÉTICA'!$A$9:$AC$1082,15,0),\"\")","v":235.85275200000001},0,52.48,0]
["29.04.09",{"$f":"IF(COUNTA(#REF!)>0,VLOOKUP($A78,'PLANILHA SINTÉTICA'!$A$10:$T$1083,2,0),\"\")","v":"Disjuntor monopolar termomagnético de 6 até 32A Eletromar padrão IEC ou equivalente, inclusive instalação em quadro de distribuição, conforme projeto."},{"$f":"IF(COUNTA(A78)>0,VLOOKUP($A78,'[8]PLANILHA SINTÉTICA'!$A$9:$U$1082,3,0),\"\")","v":"469808-8"},{"$f":"IF(COUNTA(A78)>0,VLOOKUP($A78,'PLANILHA SINTÉTICA'!$A$10:$T$1083,4,0),\"\")","v":99},{"$f":"IF(COUNTA(A78)>0,VLOOKUP($A78,'PLANILHA SINTÉTICA'!$A$10:$T$1083,5,0),\"\")","v":99},{"$f":"IF(ISERROR(VLOOKUP($A78,#REF!,8,0)),0,(VLOOKUP($A78,#REF!,8,0)))","v":0},{"$f":"IF(COUNTA(A78)>0,VLOOKUP($A78,'[8]PLANILHA SINTÉTICA'!$A$9:$AC$1082,15,0),\"\")","v":10.860300000000001},0,2.42,0]
["29.04.10",{"$f":"IF(COUNTA(#REF!)>0,VLOOKUP($A79,'PLANILHA SINTÉTICA'!$A$10:$T$1083,2,0),\"\")","v":"Disjuntor tripolar termomagnético de 32A Eletromar padrão IEC ou equivalente, inclusive instalação em quadro de distribuição, conforme projeto."},{"$f":"IF(COUNTA(A79)>0,VLOOKUP($A79,'[8]PLANILHA SINTÉTICA'!$A$9:$U$1082,3,0),\"\")","v":"468590-3"},{"$f":"IF(COUNTA(A79)>0,VLOOKUP($A79,'PLANILHA SINTÉTICA'!$A$10:$T$1083,4,0),\"\")","v":22},{"$f":"IF(COUNTA(A79)>0,VLOOKUP($A79,'PLANILHA SINTÉTICA'!$A$10:$T$1083,5,0),\"\")","v":22},{"$f":"IF(ISERROR(VLOOKUP($A79,#REF!,8,0)),0,(VLOOKUP($A79,#REF!,8,0)))","v":0},{"$f":"IF(COUNTA(A79)>0,VLOOKUP($A79,'[8]PLANILHA SINTÉTICA'!$A$9:$AC$1082,15,0),\"\")","v":73.806654000000009},0,16.420000000000002,0]
["29.04.13",{"$f":"IF(COUNTA(#REF!)>0,VLOOKUP($A80,'PLANILHA SINTÉTICA'!$A$10:$T$1083,2,0),\"\")","v":"Fornecimento e instalação de disjuntor tripolar termomagnético de 63A Eletromar padrão IEC ou equivalente."},{"$f":"IF(COUNTA(A80)>0,VLOOKUP($A80,'[8]PLANILHA SINTÉTICA'!$A$9:$U$1082,3,0),\"\")","v":"203845-5"},{"$f":"IF(COUNTA(A80)>0,VLOOKUP($A80,'PLANILHA SINTÉTICA'!$A$10:$T$1083,4,0),\"\")","v":6},{"$f":"IF(COUNTA(A80)>0,VLOOKUP($A80,'PLANILHA SINTÉTICA'!$A$10:$T$1083,5,0),\"\")","v":6},{"$f":"IF(ISERROR(VLOOKUP($A80,#REF!,8,0)),0,(VLOOKUP($A80,#REF!,8,0)))","v":0},{"$f":"IF(COUNTA(A80)>0,VLOOKUP($A80,'[8]PLANILHA SINTÉTICA'!$A$9:$AC$1082,15,0),\"\")","v":86.213942000000003},0,19.18,0]
["29.04.14",{"$f":"IF(COUNTA(#REF!)>0,VLOOKUP($A81,'PLANILHA SINTÉTICA'!$A$10:$T$1083,2,0),\"\")","v":"Disjuntor tripolar termomagnético de 80A Eletromar padrão IEC ou equivalente, inclusive instalação em quadro de distribuição, conforme o projeto."},{"$f":"IF(COUNTA(A81)>0,VLOOKUP($A81,'[8]PLANILHA SINTÉTICA'!$A$9:$U$1082,3,0),\"\")","v":"468592-0"},{"$f":"IF(COUNTA(A81)>0,VLOOKUP($A81,'PLANILHA SINTÉTICA'!$A$10:$T$1083,4,0),\"\")","v":1},{"$f":"IF(COUNTA(A81)>0,VLOOKUP($A81,'PLANILHA SINTÉTICA'!$A$10:$T$1083,5,0),\"\")","v":1},{"$f":"IF(ISERROR(VLOOKUP($A81,#REF!,8,0)),0,(VLOOKUP($A81,#REF!,8,0)))","v":0},{"$f":"IF(COUNTA(A81)>0,VLOOKUP($A81,'[8]PLANILHA SINTÉTICA'!$A$9:$AC$1082,15,0),\"\")","v":121.289298},0,26.99,0]
["29.04.21",{"$f":"IF(COUNTA(#REF!)>0,VLOOKUP($A82,'PLANILHA SINTÉTICA'!$A$10:$T$1083,2,0),\"\")","v":"Interruptor Diferencial Residual bipolar de 25A, com sensibilidade de 30mA, Eletromar padrão IEC  ou equivalente, inclusive instalação em quadro de distribuição, conforme projeto                        "},{"$f":"IF(COUNTA(A82)>0,VLOOKUP($A82,'[8]PLANILHA SINTÉTICA'!$A$9:$U$1082,3,0),\"\")","v":"465547-8"},{"$f":"IF(COUNTA(A82)>0,VLOOKUP($A82,'PLANILHA SINTÉTICA'!$A$10:$T$1083,4,0),\"\")","v":13},{"$f":"IF(COUNTA(A82)>0,VLOOKUP($A82,'PLANILHA SINTÉTICA'!$A$10:$T$1083,5,0),\"\")","v":13},{"$f":"IF(ISERROR(VLOOKUP($A82,#REF!,8,0)),0,(VLOOKUP($A82,#REF!,8,0)))","v":0},{"$f":"IF(COUNTA(A82)>0,VLOOKUP($A82,'[8]PLANILHA SINTÉTICA'!$A$9:$AC$1082,15,0),\"\")","v":101.40461400000001},0,22.56,0]
["29.05.01",{"$f":"IF(COUNTA(#REF!)>0,VLOOKUP($A83,'PLANILHA SINTÉTICA'!$A$10:$T$1083,2,0),\"\")","v":"Cabo de cobre AFUMEX, ATOX, AFITOX ou equivalente (Não-Halogenado), isolação 750V., de 2,5mm²,  inclusive instalação em eletroduto/eletrocalha/leito."},{"$f":"IF(COUNTA(A83)>0,VLOOKUP($A83,'[8]PLANILHA SINTÉTICA'!$A$9:$U$1082,3,0),\"\")","v":"465594-0"},{"$f":"IF(COUNTA(A83)>0,VLOOKUP($A83,'PLANILHA SINTÉTICA'!$A$10:$T$1083,4,0),\"\")","v":223.8},{"$f":"IF(COUNTA(A83)>0,VLOOKUP($A83,'PLANILHA SINTÉTICA'!$A$10:$T$1083,5,0),\"\")","v":223.8},{"$f":"IF(ISERROR(VLOOKUP($A83,#REF!,8,0)),0,(VLOOKUP($A83,#REF!,8,0)))","v":0},{"$f":"IF(COUNTA(A83)>0,VLOOKUP($A83,'[8]PLANILHA SINTÉTICA'!$A$9:$AC$1082,15,0),\"\")","v":2.2582839999999997},0,0.5,0]
["29.05.04",{"$f":"IF(COUNTA(#REF!)>0,VLOOKUP($A84,'PLANILHA SINTÉTICA'!$A$10:$T$1083,2,0),\"\")","v":"Cabo de cobre AFUMEX, ATOX, AFITOX ou equivalente (Não-Halogenado), isolação 0,6/1kV., de 2,5mm².,  inclusive instalação em eletroduto/eletrocalha/leito.      "},{"$f":"IF(COUNTA(A84)>0,VLOOKUP($A84,'[8]PLANILHA SINTÉTICA'!$A$9:$U$1082,3,0),\"\")","v":"440914-0"},{"$f":"IF(COUNTA(A84)>0,VLOOKUP($A84,'PLANILHA SINTÉTICA'!$A$10:$T$1083,4,0),\"\")","v":2107.1999999999998},{"$f":"IF(COUNTA(A84)>0,VLOOKUP($A84,'PLANILHA SINTÉTICA'!$A$10:$T$1083,5,0),\"\")","v":2107.1999999999998},{"$f":"IF(ISERROR(VLOOKUP($A84,#REF!,8,0)),0,(VLOOKUP($A84,#REF!,8,0)))","v":0},{"$f":"IF(COUNTA(A84)>0,VLOOKUP($A84,'[8]PLANILHA SINTÉTICA'!$A$9:$AC$1082,15,0),\"\")","v":3.0130999999999997},0,0.67,0]
["29.05.05",{"$f":"IF(COUNTA(#REF!)>0,VLOOKUP($A85,'PLANILHA SINTÉTICA'!$A$10:$T$1083,2,0),\"\")","v":"Cabo de cobre AFUMEX, ATOX, AFITOX ou equivalente (Não-Halogenado), isolação 0,6/1kV., de 4,0mm², inclusive instalação em eletroduto/ eletrocalha / leito."},{"$f":"IF(COUNTA(A85)>0,VLOOKUP($A85,'[8]PLANILHA SINTÉTICA'!$A$9:$U$1082,3,0),\"\")","v":"380039-3"},{"$f":"IF(COUNTA(A85)>0,VLOOKUP($A85,'PLANILHA SINTÉTICA'!$A$10:$T$1083,4,0),\"\")","v":1209.4000000000001},{"$f":"IF(COUNTA(A85)>0,VLOOKUP($A85,'PLANILHA SINTÉTICA'!$A$10:$T$1083,5,0),\"\")","v":1209.4000000000001},{"$f":"IF(ISERROR(VLOOKUP($A85,#REF!,8,0)),0,(VLOOKUP($A85,#REF!,8,0)))","v":0},{"$f":"IF(COUNTA(A85)>0,VLOOKUP($A85,'[8]PLANILHA SINTÉTICA'!$A$9:$AC$1082,15,0),\"\")","v":3.9944199999999999},0,0.89,0]
["29.05.06",{"$f":"IF(COUNTA(#REF!)>0,VLOOKUP($A86,'PLANILHA SINTÉTICA'!$A$10:$T$1083,2,0),\"\")","v":"Cabo de cobre AFUMEX, ATOX, AFITOX ou equivalente (Não-Halogenado), isolação 0,6/1kV.,  de 6,0mm².,  inclusive instalação em eletroduto/eletrocalha/leito.                     "},{"$f":"IF(COUNTA(A86)>0,VLOOKUP($A86,'[8]PLANILHA SINTÉTICA'!$A$9:$U$1082,3,0),\"\")","v":"468390-0"},{"$f":"IF(COUNTA(A86)>0,VLOOKUP($A86,'PLANILHA SINTÉTICA'!$A$10:$T$1083,4,0),\"\")","v":361},{"$f":"IF(COUNTA(A86)>0,VLOOKUP($A86,'PLANILHA SINTÉTICA'!$A$10:$T$1083,5,0),\"\")","v":361},{"$f":"IF(ISERROR(VLOOKUP($A86,#REF!,8,0)),0,(VLOOKUP($A86,#REF!,8,0)))","v":0},{"$f":"IF(COUNTA(A86)>0,VLOOKUP($A86,'[8]PLANILHA SINTÉTICA'!$A$9:$AC$1082,15,0),\"\")","v":5.1507119999999995},0,1.1499999999999999,0]
["29.05.07",{"$f":"IF(COUNTA(#REF!)>0,VLOOKUP($A87,'PLANILHA SINTÉTICA'!$A$10:$T$1083,2,0),\"\")","v":"Cabo de cobre AFUMEX, ATOX, AFITOX ou equivalente (Não-Halogenado), isolação 0,6/1kV.,  de 10mm².,  inclusive instalação em eletroduto/eletrocalha/leito.                         "},{"$f":"IF(COUNTA(A87)>0,VLOOKUP($A87,'[8]PLANILHA SINTÉTICA'!$A$9:$U$1082,3,0),\"\")","v":"429220-0"},{"$f":"IF(COUNTA(A87)>0,VLOOKUP($A87,'PLANILHA SINTÉTICA'!$A$10:$T$1083,4,0),\"\")","v":642.9},{"$f":"IF(COUNTA(A87)>0,VLOOKUP($A87,'PLANILHA SINTÉTICA'!$A$10:$T$1083,5,0),\"\")","v":642.9},{"$f":"IF(ISERROR(VLOOKUP($A87,#REF!,8,0)),0,(VLOOKUP($A87,#REF!,8,0)))","v":0},{"$f":"IF(COUNTA(A87)>0,VLOOKUP($A87,'[8]PLANILHA SINTÉTICA'!$A$9:$AC$1082,15,0),\"\")","v":7.4634619999999998},0,1.66,0]
["29.05.08",{"$f":"IF(COUNTA(#REF!)>0,VLOOKUP($A88,'PLANILHA SINTÉTICA'!$A$10:$T$1083,2,0),\"\")","v":"Cabo de cobre AFUMEX, ATOX, AFITOX ou equivalente (Não-Halogenado), isolação 0,6/1kV., de 16mm².,  inclusive instalação em eletroduto/eletrocalha/leito. "},{"$f":"IF(COUNTA(A88)>0,VLOOKUP($A88,'[8]PLANILHA SINTÉTICA'!$A$9:$U$1082,3,0),\"\")","v":"473421-1"},{"$f":"IF(COUNTA(A88)>0,VLOOKUP($A88,'PLANILHA SINTÉTICA'!$A$10:$T$1083,4,0),\"\")","v":695.8},{"$f":"IF(COUNTA(A88)>0,VLOOKUP($A88,'PLANILHA SINTÉTICA'!$A$10:$T$1083,5,0),\"\")","v":695.8},{"$f":"IF(ISERROR(VLOOKUP($A88,#REF!,8,0)),0,(VLOOKUP($A88,#REF!,8,0)))","v":0},{"$f":"IF(COUNTA(A88)>0,VLOOKUP($A88,'[8]PLANILHA SINTÉTICA'!$A$9:$AC$1082,15,0),\"\")","v":10.755114000000001},0,2.39,0]
["29.05.09",{"$f":"IF(COUNTA(#REF!)>0,VLOOKUP($A89,'PLANILHA SINTÉTICA'!$A$10:$T$1083,2,0),\"\")","v":"Cabo de cobre AFUMEX, ATOX, AFITOX ou equivalente (Não-Halogenado), isolação 0,6/1kV., de 25mm².,  inclusive instalação em eletroduto/eletrocalha/leito. "},{"$f":"IF(COUNTA(A89)>0,VLOOKUP($A89,'[8]PLANILHA SINTÉTICA'!$A$9:$U$1082,3,0),\"\")","v":"473423-8"},{"$f":"IF(COUNTA(A89)>0,VLOOKUP($A89,'PLANILHA SINTÉTICA'!$A$10:$T$1083,4,0),\"\")","v":196},{"$f":"IF(COUNTA(A89)>0,VLOOKUP($A89,'PLANILHA SINTÉTICA'!$A$10:$T$1083,5,0),\"\")","v":196},{"$f":"IF(ISERROR(VLOOKUP($A89,#REF!,8,0)),0,(VLOOKUP($A89,#REF!,8,0)))","v":0},{"$f":"IF(COUNTA(A89)>0,VLOOKUP($A89,'[8]PLANILHA SINTÉTICA'!$A$9:$AC$1082,15,0),\"\")","v":15.28449},0,3.4,0]
["29.05.10",{"$f":"IF(COUNTA(#REF!)>0,VLOOKUP($A90,'PLANILHA SINTÉTICA'!$A$10:$T$1083,2,0),\"\")","v":"Cabo de cobre AFUMEX, ATOX, AFITOX ou equivalente (Não-Halogenado), isolação 0,6/1kV., de 50mm².,  inclusive instalação em eletroduto/eletrocalha/leito. "},{"$f":"IF(COUNTA(A90)>0,VLOOKUP($A90,'[8]PLANILHA SINTÉTICA'!$A$9:$U$1082,3,0),\"\")","v":"398164-9"},{"$f":"IF(COUNTA(A90)>0,VLOOKUP($A90,'PLANILHA SINTÉTICA'!$A$10:$T$1083,4,0),\"\")","v":255.3},{"$f":"IF(COUNTA(A90)>0,VLOOKUP($A90,'PLANILHA SINTÉTICA'!$A$10:$T$1083,5,0),\"\")","v":201.5},{"$f":"IF(ISERROR(VLOOKUP($A90,#REF!,8,0)),0,(VLOOKUP($A90,#REF!,8,0)))","v":0},{"$f":"IF(COUNTA(A90)>0,VLOOKUP($A90,'[8]PLANILHA SINTÉTICA'!$A$9:$AC$1082,15,0),\"\")","v":31.796847999999997},0,7.07,0]
["29.05.11",{"$f":"IF(COUNTA(#REF!)>0,VLOOKUP($A91,'PLANILHA SINTÉTICA'!$A$10:$T$1083,2,0),\"\")","v":"Cabo de cobre AFUMEX, ATOX, AFITOX ou equivalente (Não-Halogenado), isolação 0,6/1kV., de 95mm².,  inclusive instalação em eletroduto/eletrocalha/leito. "},{"$f":"IF(COUNTA(A91)>0,VLOOKUP($A91,'[8]PLANILHA SINTÉTICA'!$A$9:$U$1082,3,0),\"\")","v":"380041-5"},{"$f":"IF(COUNTA(A91)>0,VLOOKUP($A91,'PLANILHA SINTÉTICA'!$A$10:$T$1083,4,0),\"\")","v":269.10000000000002},{"$f":"IF(COUNTA(A91)>0,VLOOKUP($A91,'PLANILHA SINTÉTICA'!$A$10:$T$1083,5,0),\"\")","v":130},{"$f":"IF(ISERROR(VLOOKUP($A91,#REF!,8,0)),0,(VLOOKUP($A91,#REF!,8,0)))","v":0},{"$f":"IF(COUNTA(A91)>0,VLOOKUP($A91,'[8]PLANILHA SINTÉTICA'!$A$9:$AC$1082,15,0),\"\")","v":50.808242},0,11.3,0]
["29.05.12",{"$f":"IF(COUNTA(#REF!)>0,VLOOKUP($A92,'PLANILHA SINTÉTICA'!$A$10:$T$1083,2,0),\"\")","v":"Cabo de cobre AFUMEX, ATOX, AFITOX ou equivalente (Não-Halogenado), isolação 0,6/1kV., de 150mm².,  inclusive instalação em eletroduto/eletrocalha/leito. "},{"$f":"IF(COUNTA(A92)>0,VLOOKUP($A92,'[8]PLANILHA SINTÉTICA'!$A$9:$U$1082,3,0),\"\")","v":"468594-6"},{"$f":"IF(COUNTA(A92)>0,VLOOKUP($A92,'PLANILHA SINTÉTICA'!$A$10:$T$1083,4,0),\"\")","v":63.1},{"$f":"IF(COUNTA(A92)>0,VLOOKUP($A92,'PLANILHA SINTÉTICA'!$A$10:$T$1083,5,0),\"\")","v":63.1},{"$f":"IF(ISERROR(VLOOKUP($A92,#REF!,8,0)),0,(VLOOKUP($A92,#REF!,8,0)))","v":0},{"$f":"IF(COUNTA(A92)>0,VLOOKUP($A92,'[8]PLANILHA SINTÉTICA'!$A$9:$AC$1082,15,0),\"\")","v":89.693172000000004},0,19.96,0]
["29.11.08",{"$f":"IF(COUNTA(#REF!)>0,VLOOKUP($A93,'PLANILHA SINTÉTICA'!$A$10:$T$1083,2,0),\"\")","v":"Cabo de cobre AFUMEX, ATOX, AFITOX ou equivalente (Não-Halogenado), isolação 0,6/1kV.,  de 6,0mm².,  inclusive instalação em eletroduto/eletrocalha/leito.                     "},{"$f":"IF(COUNTA(A93)>0,VLOOKUP($A93,'[8]PLANILHA SINTÉTICA'!$A$9:$U$1082,3,0),\"\")","v":"468390-0"},{"$f":"IF(COUNTA(A93)>0,VLOOKUP($A93,'PLANILHA SINTÉTICA'!$A$10:$T$1083,4,0),\"\")","v":375.4},{"$f":"IF(COUNTA(A93)>0,VLOOKUP($A93,'PLANILHA SINTÉTICA'!$A$10:$T$1083,5,0),\"\")","v":375.4},{"$f":"IF(ISERROR(VLOOKUP($A93,#REF!,8,0)),0,(VLOOKUP($A93,#REF!,8,0)))","v":0},{"$f":"IF(COUNTA(A93)>0,VLOOKUP($A93,'[8]PLANILHA SINTÉTICA'!$A$9:$AC$1082,15,0),\"\")","v":5.1507119999999995},0,1.1499999999999999,0]
["29.11.12",{"$f":"IF(COUNTA(#REF!)>0,VLOOKUP($A94,'PLANILHA SINTÉTICA'!$A$10:$T$1083,2,0),\"\")","v":"Cabo de cobre AFUMEX, ATOX, AFITOX ou equivalente (Não-Halogenado), isolação 0,6/1kV., de 35mm². , inclusive instalação em eletroduto/eletrocalha/leito."},{"$f":"IF(COUNTA(A94)>0,VLOOKUP($A94,'[8]PLANILHA SINTÉTICA'!$A$9:$U$1082,3,0),\"\")","v":"203422-0"},{"$f":"IF(COUNTA(A94)>0,VLOOKUP($A94,'PLANILHA SINTÉTICA'!$A$10:$T$1083,4,0),\"\")","v":25.5},{"$f":"IF(COUNTA(A94)>0,VLOOKUP($A94,'PLANILHA SINTÉTICA'!$A$10:$T$1083,5,0),\"\")","v":25.5},{"$f":"IF(ISERROR(VLOOKUP($A94,#REF!,8,0)),0,(VLOOKUP($A94,#REF!,8,0)))","v":0},{"$f":"IF(COUNTA(A94)>0,VLOOKUP($A94,'[8]PLANILHA SINTÉTICA'!$A$9:$AC$1082,15,0),\"\")","v":21.329294000000001},0,4.75,0]
["29.11.15",{"$f":"IF(COUNTA(#REF!)>0,VLOOKUP($A95,'PLANILHA SINTÉTICA'!$A$10:$T$1083,2,0),\"\")","v":"Quadro de distribuição metálico de sobrepor, em chapa 16 BWG, para 24 circuitos monopolares padrão DIN, com barra de neutro e terra 150A, com porta e trinco, Cemar ou equivalente,  inclusive instalação conforme projeto."},{"$f":"IF(COUNTA(A95)>0,VLOOKUP($A95,'[8]PLANILHA SINTÉTICA'!$A$9:$U$1082,3,0),\"\")","v":"400966-5"},{"$f":"IF(COUNTA(A95)>0,VLOOKUP($A95,'PLANILHA SINTÉTICA'!$A$10:$T$1083,4,0),\"\")","v":3},{"$f":"IF(COUNTA(A95)>0,VLOOKUP($A95,'PLANILHA SINTÉTICA'!$A$10:$T$1083,5,0),\"\")","v":3},{"$f":"IF(ISERROR(VLOOKUP($A95,#REF!,8,0)),0,(VLOOKUP($A95,#REF!,8,0)))","v":0},{"$f":"IF(COUNTA(A95)>0,VLOOKUP($A95,'[8]PLANILHA SINTÉTICA'!$A$9:$AC$1082,15,0),\"\")","v":590.26025600000003},0,131.33000000000001,0]
["29.11.16",{"$f":"IF(COUNTA(#REF!)>0,VLOOKUP($A96,'PLANILHA SINTÉTICA'!$A$10:$T$1083,2,0),\"\")","v":"Quadro de distribuição metálico de sobrepor, em chapa 16 BWG, para 8 circuitos monopolares padrão DIN, com barra de neutro e terra, com porta e trinco, Cemar ou equivalente,  inclusive instalação conforme projeto."},{"$f":"IF(COUNTA(A96)>0,VLOOKUP($A96,'[8]PLANILHA SINTÉTICA'!$A$9:$U$1082,3,0),\"\")","v":"471384-2"},{"$f":"IF(COUNTA(A96)>0,VLOOKUP($A96,'PLANILHA SINTÉTICA'!$A$10:$T$1083,4,0),\"\")","v":4},{"$f":"IF(COUNTA(A96)>0,VLOOKUP($A96,'PLANILHA SINTÉTICA'!$A$10:$T$1083,5,0),\"\")","v":3},{"$f":"IF(ISERROR(VLOOKUP($A96,#REF!,8,0)),0,(VLOOKUP($A96,#REF!,8,0)))","v":0},{"$f":"IF(COUNTA(A96)>0,VLOOKUP($A96,'[8]PLANILHA SINTÉTICA'!$A$9:$AC$1082,15,0),\"\")","v":264.27702399999998},0,58.8,0]
["29.11.21",{"$f":"IF(COUNTA(#REF!)>0,VLOOKUP($A97,'PLANILHA SINTÉTICA'!$A$10:$T$1083,2,0),\"\")","v":"Fornecimento e instalação de disjuntor tripolar termomagnético de 100A Eletromar padrão IEC ou equivalente."},{"$f":"IF(COUNTA(A97)>0,VLOOKUP($A97,'[8]PLANILHA SINTÉTICA'!$A$9:$U$1082,3,0),\"\")","v":"354786-8"},{"$f":"IF(COUNTA(A97)>0,VLOOKUP($A97,'PLANILHA SINTÉTICA'!$A$10:$T$1083,4,0),\"\")","v":1},{"$f":"IF(COUNTA(A97)>0,VLOOKUP($A97,'PLANILHA SINTÉTICA'!$A$10:$T$1083,5,0),\"\")","v":1},{"$f":"IF(ISERROR(VLOOKUP($A97,#REF!,8,0)),0,(VLOOKUP($A97,#REF!,8,0)))","v":0},{"$f":"IF(COUNTA(A97)>0,VLOOKUP($A97,'[8]PLANILHA SINTÉTICA'!$A$9:$AC$1082,15,0),\"\")","v":121.289298},0,26.99,0]
["29.13.06",{"$f":"IF(COUNTA(#REF!)>0,VLOOKUP($A98,'PLANILHA SINTÉTICA'!$A$10:$T$1083,2,0),\"\")","v":"Fornecimento e instalação de disjuntor tripolar termomagnético de 80A Eletromar padrão IEC ou equivalente."},{"$f":"IF(COUNTA(A98)>0,VLOOKUP($A98,'[8]PLANILHA SINTÉTICA'!$A$9:$U$1082,3,0),\"\")","v":"468592-0"},{"$f":"IF(COUNTA(A98)>0,VLOOKUP($A98,'PLANILHA SINTÉTICA'!$A$10:$T$1083,4,0),\"\")","v":3},{"$f":"IF(COUNTA(A98)>0,VLOOKUP($A98,'PLANILHA SINTÉTICA'!$A$10:$T$1083,5,0),\"\")","v":3},{"$f":"IF(ISERROR(VLOOKUP($A98,#REF!,8,0)),0,(VLOOKUP($A98,#REF!,8,0)))","v":0},{"$f":"IF(COUNTA(A98)>0,VLOOKUP($A98,'[8]PLANILHA SINTÉTICA'!$A$9:$AC$1082,15,0),\"\")","v":121.289298},0,26.99,0]
["29.13.09",{"$f":"IF(COUNTA(#REF!)>0,VLOOKUP($A99,'PLANILHA SINTÉTICA'!$A$10:$T$1083,2,0),\"\")","v":"Quadro de distribuição metálico de embutir, em chapa 16 BWG, para 16 circuitos monopolares padrão DIN, com barra de neutro e terra, com porta e trinco, Cemar ou equivalente,  inclusive instalação conforme projeto."},{"$f":"IF(COUNTA(A99)>0,VLOOKUP($A99,'[8]PLANILHA SINTÉTICA'!$A$9:$U$1082,3,0),\"\")","v":"463747-0"},{"$f":"IF(COUNTA(A99)>0,VLOOKUP($A99,'PLANILHA SINTÉTICA'!$A$10:$T$1083,4,0),\"\")","v":2},{"$f":"IF(COUNTA(A99)>0,VLOOKUP($A99,'PLANILHA SINTÉTICA'!$A$10:$T$1083,5,0),\"\")","v":2},{"$f":"IF(ISERROR(VLOOKUP($A99,#REF!,8,0)),0,(VLOOKUP($A99,#REF!,8,0)))","v":0},{"$f":"IF(COUNTA(A99)>0,VLOOKUP($A99,'[8]PLANILHA SINTÉTICA'!$A$9:$AC$1082,15,0),\"\")","v":279.13025800000003},0,62.11,0]
["31.08",{"$f":"IF(COUNTA(#REF!)>0,VLOOKUP($A100,'PLANILHA SINTÉTICA'!$A$10:$T$1083,2,0),\"\")","v":"Fornecimento e instalação de cabo para sinal e detecção de incêndio  em par trançado mais dreno shieldado acabamento em PVC Prysmian, Lipperfil ou equivalente CTR FLEX BL FT COBRE 2 x 1,5mm2 500V preto NBR 7289.."},{"$f":"IF(COUNTA(A100)>0,VLOOKUP($A100,'[8]PLANILHA SINTÉTICA'!$A$9:$U$1082,3,0),\"\")","v":"469812-6"},{"$f":"IF(COUNTA(A100)>0,VLOOKUP($A100,'PLANILHA SINTÉTICA'!$A$10:$T$1083,4,0),\"\")","v":2686},{"$f":"IF(COUNTA(A100)>0,VLOOKUP($A100,'PLANILHA SINTÉTICA'!$A$10:$T$1083,5,0),\"\")","v":2300},{"$f":"IF(ISERROR(VLOOKUP($A100,#REF!,8,0)),0,(VLOOKUP($A100,#REF!,8,0)))","v":0},{"$f":"IF(COUNTA(A100)>0,VLOOKUP($A100,'[8]PLANILHA SINTÉTICA'!$A$9:$AC$1082,15,0),\"\")","v":5.3078920000000007},0,1.18,0]
["31.36",{"$f":"IF(COUNTA(#REF!)>0,VLOOKUP($A101,'PLANILHA SINTÉTICA'!$A$10:$T$1083,2,0),\"\")","v":"Central eletrônica inteligente de detecção e alarme de incêndio, de 24Vcc, com capacidade para 6 laços do sistema de detecção e módulos de expansão das chaves de fluxo, compatível com os pontos de detecção e acionadores endereçáveis do projeto, inclusive as placas de laço, de fabricação Apolo ou equivalente, inclusive instalação e treinamento. "},{"$f":"IF(COUNTA(A101)>0,VLOOKUP($A101,'[8]PLANILHA SINTÉTICA'!$A$9:$U$1082,3,0),\"\")","v":"424724-8"},{"$f":"IF(COUNTA(A101)>0,VLOOKUP($A101,'PLANILHA SINTÉTICA'!$A$10:$T$1083,4,0),\"\")","v":1},{"$f":"IF(COUNTA(A101)>0,VLOOKUP($A101,'PLANILHA SINTÉTICA'!$A$10:$T$1083,5,0),\"\")","v":1},{"$f":"IF(ISERROR(VLOOKUP($A101,#REF!,8,0)),0,(VLOOKUP($A101,#REF!,8,0)))","v":0},{"$f":"IF(COUNTA(A101)>0,VLOOKUP($A101,'[8]PLANILHA SINTÉTICA'!$A$9:$AC$1082,15,0),\"\")","v":13058.44614},0,null,null,{"$f":"ROUND($G101*$J$5,2)","v":2905.5},{"$f":"ROUND($H101*$J$5,2)","v":0}]
["32.05",{"$f":"IF(COUNTA(#REF!)>0,VLOOKUP($A102,'PLANILHA SINTÉTICA'!$A$10:$T$1083,2,0),\"\")","v":"Fornecimento de unidade interna(evaporadora) multisplit - CASSETE INVERTER, que utiliza o gás ecológico R-410A, com capacidade térmica de resfriamento nominal:24.000 BTU/H"},{"$f":"IF(COUNTA(A102)>0,VLOOKUP($A102,'[8]PLANILHA SINTÉTICA'!$A$9:$U$1082,3,0),\"\")","v":"422139-7"},{"$f":"IF(COUNTA(A102)>0,VLOOKUP($A102,'PLANILHA SINTÉTICA'!$A$10:$T$1083,4,0),\"\")","v":18},{"$f":"IF(COUNTA(A102)>0,VLOOKUP($A102,'PLANILHA SINTÉTICA'!$A$10:$T$1083,5,0),\"\")","v":18},2,{"$f":"IF(COUNTA(A102)>0,VLOOKUP($A102,'[8]PLANILHA SINTÉTICA'!$A$9:$AC$1082,15,0),\"\")","v":2413.423362},4826.8500000000004,null,null,{"$f":"ROUND($G102*$J$5,2)","v":536.99},{"$f":"ROUND($H102*$J$5,2)","v":1073.97}]
["32.08",{"$f":"IF(COUNTA(#REF!)>0,VLOOKUP($A103,'PLANILHA SINTÉTICA'!$A$10:$T$1083,2,0),\"\")","v":"Instalação , conforme projeto, de Condicionador de ar do tipo Split/CASSETE, com capacidade de 24.000 BTU/h, INVERTER, realizando os serviços de confecção de linhas frigoríficas em tubo de cobre utilizando nitrogênio com fluxo constante para realização das soldas evitando impurezas e a dos drenos termicamente isolados. Fornecimento e instalação de carga de fluido refrigerante ecológico R-410A. A execução da instalação deve ser executada por Técnico de Refrigeração devidamente especializado em equipamentos INVERTER. Realizar a interligação entre as unidades Evaporadora e Condensadora com cabo PP 4x 1,5mm²; inclusive fixação de unidade evaporadora e interligação de drenos, calços de borracha, bem como todos os acessórios necessários para a completa instalação e funcionamento do sistema, e limpeza final da obra.  "},{"$f":"IF(COUNTA(A103)>0,VLOOKUP($A103,'[8]PLANILHA SINTÉTICA'!$A$9:$U$1082,3,0),\"\")","v":"276777-5"},{"$f":"IF(COUNTA(A103)>0,VLOOKUP($A103,'PLANILHA SINTÉTICA'!$A$10:$T$1083,4,0),\"\")","v":18},{"$f":"IF(COUNTA(A103)>0,VLOOKUP($A103,'PLANILHA SINTÉTICA'!$A$10:$T$1083,5,0),\"\")","v":18},6,{"$f":"IF(COUNTA(A103)>0,VLOOKUP($A103,'[8]PLANILHA SINTÉTICA'!$A$9:$AC$1082,15,0),\"\")","v":1090.0140899999999},6540.08,null,null,{"$f":"ROUND($G103*$J$5,2)","v":242.53},{"$f":"ROUND($H103*$J$5,2)","v":1455.17}]
["32.11",{"$f":"IF(COUNTA(#REF!)>0,VLOOKUP($A104,'PLANILHA SINTÉTICA'!$A$10:$T$1083,2,0),\"\")","v":"Instalação , conforme projeto, de Condicionador de ar do tipo Split/cassete, com capacidade de 18.000 BTU/h, INVERTER, realizando os serviços de confecção de linhas frigoríficas em tubo de cobre utilizando nitrogênio com fluxo constante para realização das soldas evitando impurezas e a dos drenos termicamente isolados. Fornecimento e instalação de carga de fluido refrigerante ecológico R-410A. A execução da instalação deve ser executada por Técnico de Refrigeração devidamente especializado em equipamentos INVERTER. Realizar a interligação entre as unidades Evaporadora e Condensadora com cabo PP4x1,5mm²; inclusive fixação de unidade evaporadora e interligação de drenos, calços de borracha, bem como todos os acessórios necessários para a completa instalação e funcionamento do sistema, e limpeza final da obra.  "},{"$f":"IF(COUNTA(A104)>0,VLOOKUP($A104,'[8]PLANILHA SINTÉTICA'!$A$9:$U$1082,3,0),\"\")","v":"475570-7"},{"$f":"IF(COUNTA(A104)>0,VLOOKUP($A104,'PLANILHA SINTÉTICA'!$A$10:$T$1083,4,0),\"\")","v":110},{"$f":"IF(COUNTA(A104)>0,VLOOKUP($A104,'PLANILHA SINTÉTICA'!$A$10:$T$1083,5,0),\"\")","v":91},16,{"$f":"IF(COUNTA(A104)>0,VLOOKUP($A104,'[8]PLANILHA SINTÉTICA'!$A$9:$AC$1082,15,0),\"\")","v":1061.8971940000001},16990.36,null,null,{"$f":"ROUND($G104*$J$5,2)","v":236.27},{"$f":"ROUND($H104*$J$5,2)","v":3780.36}]
["32.25",{"$f":"IF(COUNTA(#REF!)>0,VLOOKUP($A105,'PLANILHA SINTÉTICA'!$A$10:$T$1083,2,0),\"\")","v":"Fornecimento e instalação de dutos em chapa de aço galvanizada bitola nº 24, incluindo acessórios de sustentação. "},{"$f":"IF(COUNTA(A105)>0,VLOOKUP($A105,'[8]PLANILHA SINTÉTICA'!$A$9:$U$1082,3,0),\"\")","v":"484196-4"},{"$f":"IF(COUNTA(A105)>0,VLOOKUP($A105,'PLANILHA SINTÉTICA'!$A$10:$T$1083,4,0),\"\")","v":432.29},{"$f":"IF(COUNTA(A105)>0,VLOOKUP($A105,'PLANILHA SINTÉTICA'!$A$10:$T$1083,5,0),\"\")","v":432.29},{"$f":"IF(ISERROR(VLOOKUP($A105,#REF!,8,0)),0,(VLOOKUP($A105,#REF!,8,0)))","v":0},{"$f":"IF(COUNTA(A105)>0,VLOOKUP($A105,'[8]PLANILHA SINTÉTICA'!$A$9:$AC$1082,15,0),\"\")","v":49.695824000000002},0,{"$f":"ROUND($G105*$J$5,2)","v":11.06},{"$f":"ROUND($H105*$J$5,2)","v":0}]
["32.26",{"$f":"IF(COUNTA(#REF!)>0,VLOOKUP($A106,'PLANILHA SINTÉTICA'!$A$10:$T$1083,2,0),\"\")","v":"Fornecimento e instalação de dutos em chapa de aço galvanizada bitola nº 26, incluindo acessórios de sustentação. "},{"$f":"IF(COUNTA(A106)>0,VLOOKUP($A106,'[8]PLANILHA SINTÉTICA'!$A$9:$U$1082,3,0),\"\")","v":"484197-2"},{"$f":"IF(COUNTA(A106)>0,VLOOKUP($A106,'PLANILHA SINTÉTICA'!$A$10:$T$1083,4,0),\"\")","v":570.30999999999995},{"$f":"IF(COUNTA(A106)>0,VLOOKUP($A106,'PLANILHA SINTÉTICA'!$A$10:$T$1083,5,0),\"\")","v":570.30999999999995},{"$f":"IF(ISERROR(VLOOKUP($A106,#REF!,8,0)),0,(VLOOKUP($A106,#REF!,8,0)))","v":0},{"$f":"IF(COUNTA(A106)>0,VLOOKUP($A106,'[8]PLANILHA SINTÉTICA'!$A$9:$AC$1082,15,0),\"\")","v":39.021975999999995},0,{"$f":"ROUND($G106*$J$5,2)","v":8.68},{"$f":"ROUND($H106*$J$5,2)","v":0}]
["32.29",{"$f":"IF(COUNTA(#REF!)>0,VLOOKUP($A107,'PLANILHA SINTÉTICA'!$A$10:$T$1083,2,0),\"\")","v":"Fornecimento e instalação de Duto flexível Aludec 60 ou equivalente, 125mm"},{"$f":"IF(COUNTA(A107)>0,VLOOKUP($A107,'[8]PLANILHA SINTÉTICA'!$A$9:$U$1082,3,0),\"\")","v":"432544-3"},{"$f":"IF(COUNTA(A107)>0,VLOOKUP($A107,'PLANILHA SINTÉTICA'!$A$10:$T$1083,4,0),\"\")","v":102},{"$f":"IF(COUNTA(A107)>0,VLOOKUP($A107,'PLANILHA SINTÉTICA'!$A$10:$T$1083,5,0),\"\")","v":102},{"$f":"IF(ISERROR(VLOOKUP($A107,#REF!,8,0)),0,(VLOOKUP($A107,#REF!,8,0)))","v":0},{"$f":"IF(COUNTA(A107)>0,VLOOKUP($A107,'[8]PLANILHA SINTÉTICA'!$A$9:$AC$1082,15,0),\"\")","v":20.299509999999998},0,{"$f":"ROUND($G107*$J$5,2)","v":4.5199999999999996},{"$f":"ROUND($H107*$J$5,2)","v":0}]
[null,null,null,null,null,null,"TOTAL DA 49ª MEDIÇÃO",{"$f":"SUM(H8:H107)","v":29400.58},"Reajuste obra",{"$f":"SUM(J8:J107)","v":232.13},"Reajuste Bens Perm.",{"$f":"SUM(L8:L107)","v":6309.5}]
[null,null,null,null,null,null,null,null,"TOTAL DO REAJUSTE ",{"$f":"J108+L108","v":6541.63}]

{"sheet":"LIQUIDAÇÃO REAJ.","index":1,"n_rows":60,"n_cols":12,"rows_kept":60,"cut":false,"hidden":true,"merged":[[3,1,3,3],[3,6,3,7],[58,12,58,13],[59,12,59,13],[60,12,60,13],[0,8,3,11],[0,1,0,3],[0,6,0,7],[1,1,1,3],[1,6,1,7],[2,1,2,3],[2,6,2,7]]}
["  '","PODER JUDICIÁRIO",null,null,null,"Obra:",{"$f":"#REF!","v":{"$error":"#REF!"}},null,"REAJUSTE DA 49ª MEDIÇÃO CONFORME  5ºTA"]
[null,"TRIBUNAL DE JUSTIÇA DE PERNAMBUCO",null,null,null,"Local:",{"$f":"#REF!","v":{"$error":"#REF!"}}]
[null,"DIRETORIA DE ENGENHARIA E ARQUITETURA",null,null,null,"Contrato:",{"$f":"#REF!","v":{"$error":"#REF!"}}]
[null,"PLANILHA PARA LIQUIDAÇÃO - 49ª MEDIÇÃO ",null,null,null,"Contratada:",{"$f":"#REF!","v":{"$error":"#REF!"}}]
[null,null,null,null,null,null,"DATA:","2022-02-10","REAJUSTE:",0.2225,"REAJUSTE:",0.2225]
["Item","Código","Cód. Efisco","Discriminação/especificação dos serviços","UNID","QUANT","SERVIÇO",null,"OBRA",null,"EQUIPAMENTO"]
[null,null,null,null,null,null,"P. UNIT.","P. PARCIAL","P. UNIT.","P. PARCIAL","P. UNIT.","P. PARCIAL"]
["16.35",{"$f":"IF(COUNTA(#REF!)>0,VLOOKUP($A8,'PLANILHA SINTÉTICA'!$A$10:$T$1083,2,0),\"\")","v":"Fornecimento e assentamento de mictório de louça branca com sifão integrado e medindo 33x28x53cm, tubo de ligação 1/2\" cromado."},{"$f":"IF(COUNTA(A8)>0,VLOOKUP($A8,'[8]PLANILHA SINTÉTICA'!$A$9:$U$1082,3,0),\"\")","v":"235515-9"},{"$f":"IF(COUNTA(A8)>0,VLOOKUP($A8,'PLANILHA SINTÉTICA'!$A$10:$T$1083,4,0),\"\")","v":16},{"$f":"IF(COUNTA(A8)>0,VLOOKUP($A8,'PLANILHA SINTÉTICA'!$A$10:$T$1083,5,0),\"\")","v":10},{"$f":"IF(ISERROR(VLOOKUP($A8,#REF!,8,0)),0,(VLOOKUP($A8,#REF!,8,0)))","v":0},{"$f":"IF(COUNTA(A8)>0,VLOOKUP($A8,'[8]PLANILHA SINTÉTICA'!$A$9:$AC$1082,15,0),\"\")","v":355.119462},{"$f":"ROUND(G8*F8,2)","v":0},{"$f":"ROUND($G8*$J$5,2)","v":79.010000000000005},{"$f":"ROUND($H8*$J$5,2)","v":0}]
["19.40",{"$f":"IF(COUNTA(#REF!)>0,VLOOKUP($A9,'PLANILHA SINTÉTICA'!$A$10:$T$1083,2,0),\"\")","v":"Fornecimento e assentamento de lavatório pequeno Celite ou equivalente, sem coluna, medindo 40x30cm, inclusive válvula, sifão e engate. (IZY L101)"},{"$f":"IF(COUNTA(A9)>0,VLOOKUP($A9,'[8]PLANILHA SINTÉTICA'!$A$9:$U$1082,3,0),\"\")","v":"295153-3"},{"$f":"IF(COUNTA(A9)>0,VLOOKUP($A9,'PLANILHA SINTÉTICA'!$A$10:$T$1083,4,0),\"\")","v":1},{"$f":"IF(COUNTA(A9)>0,VLOOKUP($A9,'PLANILHA SINTÉTICA'!$A$10:$T$1083,5,0),\"\")","v":0.9},{"$f":"IF(ISERROR(VLOOKUP($A9,#REF!,8,0)),0,(VLOOKUP($A9,#REF!,8,0)))","v":0},{"$f":"IF(COUNTA(A9)>0,VLOOKUP($A9,'[8]PLANILHA SINTÉTICA'!$A$9:$AC$1082,15,0),\"\")","v":186.39059800000001},0,{"$f":"ROUND($G9*$J$5,2)","v":41.47},{"$f":"ROUND($H9*$J$5,2)","v":0}]
["29.01.08",{"$f":"IF(COUNTA(#REF!)>0,VLOOKUP($A10,'PLANILHA SINTÉTICA'!$A$10:$T$1083,2,0),\"\")","v":"Ponto para interruptor three-way de duas teclas,  composto por fiação em cabo de 2,5mm² Prysmian ou equivalente e eletroduto de PVC rígido de 3/4\" com luva de rosca interna, curva e acessórios até o ponto de luz."},{"$f":"IF(COUNTA(A10)>0,VLOOKUP($A10,'[8]PLANILHA SINTÉTICA'!$A$9:$U$1082,3,0),\"\")","v":"321161-4"},{"$f":"IF(COUNTA(A10)>0,VLOOKUP($A10,'PLANILHA SINTÉTICA'!$A$10:$T$1083,4,0),\"\")","v":4},{"$f":"IF(COUNTA(A10)>0,VLOOKUP($A10,'PLANILHA SINTÉTICA'!$A$10:$T$1083,5,0),\"\")","v":4},{"$f":"IF(ISERROR(VLOOKUP($A10,#REF!,8,0)),0,(VLOOKUP($A10,#REF!,8,0)))","v":0},{"$f":"IF(COUNTA(A10)>0,VLOOKUP($A10,'[8]PLANILHA SINTÉTICA'!$A$9:$AC$1082,15,0),\"\")","v":80.462087999999994},0,{"$f":"ROUND($G10*$J$5,2)","v":17.899999999999999},{"$f":"ROUND($H10*$J$5,2)","v":0}]
["32.01",{"$f":"IF(COUNTA(#REF!)>0,VLOOKUP($A11,'PLANILHA SINTÉTICA'!$A$10:$T$1083,2,0),\"\")","v":"Fornecimento de unidade interna(evaporadora) multisplit - CASSETE INVERTER, que utiliza o gás ecológico R-410A, com capacidade térmica de resfriamento nominal:12.000 BTU/H"},{"$f":"IF(COUNTA(A11)>0,VLOOKUP($A11,'[8]PLANILHA SINTÉTICA'!$A$9:$U$1082,3,0),\"\")","v":"390403-2"},{"$f":"IF(COUNTA(A11)>0,VLOOKUP($A11,'PLANILHA SINTÉTICA'!$A$10:$T$1083,4,0),\"\")","v":18},{"$f":"IF(COUNTA(A11)>0,VLOOKUP($A11,'PLANILHA SINTÉTICA'!$A$10:$T$1083,5,0),\"\")","v":16},{"$f":"IF(ISERROR(VLOOKUP($A11,#REF!,8,0)),0,(VLOOKUP($A11,#REF!,8,0)))","v":0},{"$f":"IF(COUNTA(A11)>0,VLOOKUP($A11,'[8]PLANILHA SINTÉTICA'!$A$9:$AC$1082,15,0),\"\")","v":2019.8901660000001},0,null,null,{"$f":"ROUND($G11*$J$5,2)","v":449.43},{"$f":"ROUND($H11*$J$5,2)","v":0}]
["29.04.04",{"$f":"IF(COUNTA(#REF!)>0,VLOOKUP($A12,'PLANILHA SINTÉTICA'!$A$10:$T$1083,2,0),\"\")","v":"Quadro de distribuição metálico de sobrepor, em chapa 16 BWG, para 24 circuitos monopolares padrão DIN, com barra de neutro e terra 150A, com porta e trinco, Cemar ou equivalente,  inclusive instalação conforme projeto."},{"$f":"IF(COUNTA(A12)>0,VLOOKUP($A12,'[8]PLANILHA SINTÉTICA'!$A$9:$U$1082,3,0),\"\")","v":"400966-5"},{"$f":"IF(COUNTA(A12)>0,VLOOKUP($A12,'PLANILHA SINTÉTICA'!$A$10:$T$1083,4,0),\"\")","v":1},{"$f":"IF(COUNTA(A12)>0,VLOOKUP($A12,'PLANILHA SINTÉTICA'!$A$10:$T$1083,5,0),\"\")","v":1},{"$f":"IF(ISERROR(VLOOKUP($A12,#REF!,8,0)),0,(VLOOKUP($A12,#REF!,8,0)))","v":0},{"$f":"IF(COUNTA(A12)>0,VLOOKUP($A12,'[8]PLANILHA SINTÉTICA'!$A$9:$AC$1082,15,0),\"\")","v":590.26025600000003},0,{"$f":"ROUND($G12*$J$5,2)","v":131.33000000000001},{"$f":"ROUND($H12*$J$5,2)","v":0}]
["29.11.15",{"$f":"IF(COUNTA(#REF!)>0,VLOOKUP($A13,'PLANILHA SINTÉTICA'!$A$10:$T$1083,2,0),\"\")","v":"Quadro de distribuição metálico de sobrepor, em chapa 16 BWG, para 24 circuitos monopolares padrão DIN, com barra de neutro e terra 150A, com porta e trinco, Cemar ou equivalente,  inclusive instalação conforme projeto."},{"$f":"IF(COUNTA(A13)>0,VLOOKUP($A13,'[8]PLANILHA SINTÉTICA'!$A$9:$U$1082,3,0),\"\")","v":"400966-5"},{"$f":"IF(COUNTA(A13)>0,VLOOKUP($A13,'PLANILHA SINTÉTICA'!$A$10:$T$1083,4,0),\"\")","v":3},{"$f":"IF(COUNTA(A13)>0,VLOOKUP($A13,'PLANILHA SINTÉTICA'!$A$10:$T$1083,5,0),\"\")","v":3},{"$f":"IF(ISERROR(VLOOKUP($A13,#REF!,8,0)),0,(VLOOKUP($A13,#REF!,8,0)))","v":0},{"$f":"IF(COUNTA(A13)>0,VLOOKUP($A13,'[8]PLANILHA SINTÉTICA'!$A$9:$AC$1082,15,0),\"\")","v":590.26025600000003},0,131.33000000000001,0]
["1.2",{"$f":"IF(COUNTA(#REF!)>0,VLOOKUP($A14,'PLANILHA SINTÉTICA'!$A$10:$T$1083,2,0),\"\")","v":"Administração local pelo período da obra."},{"$f":"IF(COUNTA(A14)>0,VLOOKUP($A14,'[8]PLANILHA SINTÉTICA'!$A$9:$U$1082,3,0),\"\")","v":"401010-8"},{"$f":"IF(COUNTA(A14)>0,VLOOKUP($A14,'PLANILHA SINTÉTICA'!$A$10:$T$1083,4,0),\"\")","v":18},{"$f":"IF(COUNTA(A14)>0,VLOOKUP($A14,'PLANILHA SINTÉTICA'!$A$10:$T$1083,5,0),\"\")","v":17.836600000000001},{"$f":"IF(ISERROR(VLOOKUP($A14,#REF!,8,0)),0,(VLOOKUP($A14,#REF!,8,0)))","v":0},{"$f":"IF(COUNTA(A14)>0,VLOOKUP($A14,'[8]PLANILHA SINTÉTICA'!$A$9:$AC$1082,15,0),\"\")","v":124499.82467999999},0,27701.21,0,{"$f":"IF($M14<>0,ROUND($G14*$J$5,2),0)","v":0},{"$f":"IF($M14>0,ROUND($H14*$J$5,2),0)","v":0}]
["16.30",{"$f":"IF(COUNTA(#REF!)>0,VLOOKUP($A15,'PLANILHA SINTÉTICA'!$A$10:$T$1083,2,0),\"\")","v":"Fornecimento  e instalação de válvula de descarga, linha Benefit, diâmetro 1 1/4\", referência 184906, fabricação Docol ou equivalente. (Wc PPNE)"},{"$f":"IF(COUNTA(A15)>0,VLOOKUP($A15,'[8]PLANILHA SINTÉTICA'!$A$9:$U$1082,3,0),\"\")","v":"408501-9"},{"$f":"IF(COUNTA(A15)>0,VLOOKUP($A15,'PLANILHA SINTÉTICA'!$A$10:$T$1083,4,0),\"\")","v":18},{"$f":"IF(COUNTA(A15)>0,VLOOKUP($A15,'PLANILHA SINTÉTICA'!$A$10:$T$1083,5,0),\"\")","v":18},{"$f":"IF(ISERROR(VLOOKUP($A15,#REF!,8,0)),0,(VLOOKUP($A15,#REF!,8,0)))","v":0},{"$f":"IF(COUNTA(A15)>0,VLOOKUP($A15,'[8]PLANILHA SINTÉTICA'!$A$9:$AC$1082,15,0),\"\")","v":624.65384199999994},0,138.99,0]
["29.07.01",{"$f":"IF(COUNTA(#REF!)>0,VLOOKUP($A16,'PLANILHA SINTÉTICA'!$A$10:$T$1083,2,0),\"\")","v":"Fornecimento e instalação de caixa 4x4 pol para instalação em parede."},{"$f":"IF(COUNTA(A16)>0,VLOOKUP($A16,'[8]PLANILHA SINTÉTICA'!$A$9:$U$1082,3,0),\"\")","v":"410151-0"},{"$f":"IF(COUNTA(A16)>0,VLOOKUP($A16,'PLANILHA SINTÉTICA'!$A$10:$T$1083,4,0),\"\")","v":40},{"$f":"IF(COUNTA(A16)>0,VLOOKUP($A16,'PLANILHA SINTÉTICA'!$A$10:$T$1083,5,0),\"\")","v":40},{"$f":"IF(ISERROR(VLOOKUP($A16,#REF!,8,0)),0,(VLOOKUP($A16,#REF!,8,0)))","v":0},{"$f":"IF(COUNTA(A16)>0,VLOOKUP($A16,'[8]PLANILHA SINTÉTICA'!$A$9:$AC$1082,15,0),\"\")","v":7.1646999999999998},0,1.59,0]
["1.25",{"$f":"IF(COUNTA(#REF!)>0,VLOOKUP($A17,'PLANILHA SINTÉTICA'!$A$10:$T$1083,2,0),\"\")","v":"Desmontagem de andaimes do tipo fachadeiro inclusive carregamento, descarregamento e transporte posto/obra"},{"$f":"IF(COUNTA(A17)>0,VLOOKUP($A17,'[8]PLANILHA SINTÉTICA'!$A$9:$U$1082,3,0),\"\")","v":"411687-9"},{"$f":"IF(COUNTA(A17)>0,VLOOKUP($A17,'PLANILHA SINTÉTICA'!$A$10:$T$1083,4,0),\"\")","v":3784},{"$f":"IF(COUNTA(A17)>0,VLOOKUP($A17,'PLANILHA SINTÉTICA'!$A$10:$T$1083,5,0),\"\")","v":3783.9999999999991},{"$f":"IF(ISERROR(VLOOKUP($A17,#REF!,8,0)),0,(VLOOKUP($A17,#REF!,8,0)))","v":0},{"$f":"IF(COUNTA(A17)>0,VLOOKUP($A17,'[8]PLANILHA SINTÉTICA'!$A$9:$AC$1082,15,0),\"\")","v":2.84876},0,0.63,0]
["32.03",{"$f":"IF(COUNTA(#REF!)>0,VLOOKUP($A18,'PLANILHA SINTÉTICA'!$A$10:$T$1083,2,0),\"\")","v":"Fornecimento de unidade interna(evaporadora) multisplit - CASSETE INVERTER, que utiliza o gás ecológico R-410A, com capacidade térmica de resfriamento nominal:18.000 BTU/H"},{"$f":"IF(COUNTA(A18)>0,VLOOKUP($A18,'[8]PLANILHA SINTÉTICA'!$A$9:$U$1082,3,0),\"\")","v":"422138-9"},{"$f":"IF(COUNTA(A18)>0,VLOOKUP($A18,'PLANILHA SINTÉTICA'!$A$10:$T$1083,4,0),\"\")","v":110},{"$f":"IF(COUNTA(A18)>0,VLOOKUP($A18,'PLANILHA SINTÉTICA'!$A$10:$T$1083,5,0),\"\")","v":91},{"$f":"IF(ISERROR(VLOOKUP($A18,#REF!,8,0)),0,(VLOOKUP($A18,#REF!,8,0)))","v":0},{"$f":"IF(COUNTA(A18)>0,VLOOKUP($A18,'[8]PLANILHA SINTÉTICA'!$A$9:$AC$1082,15,0),\"\")","v":2152.4609960000003},0,null,null,{"$f":"ROUND($G18*$J$5,2)","v":478.92},{"$f":"ROUND($H18*$J$5,2)","v":0}]
["29.01.01",{"$f":"IF(COUNTA(#REF!)>0,VLOOKUP($A19,'PLANILHA SINTÉTICA'!$A$10:$T$1083,2,0),\"\")","v":"Ponto de luz em teto ou parede, composto por fiação em cabo flexível de 2,5mm² AFUMEX, ATOX, AFITOX ou equivalente (Não-Halogenado), isolação 750V., eletroduto de PVC rígido de 3/4\" com luva de rosca interna, curvas, caixa octogonal e demais acessórios, desde o ponto de luz até o quadro de distribuição."},{"$f":"IF(COUNTA(A19)>0,VLOOKUP($A19,'[8]PLANILHA SINTÉTICA'!$A$9:$U$1082,3,0),\"\")","v":"429092-5"},{"$f":"IF(COUNTA(A19)>0,VLOOKUP($A19,'PLANILHA SINTÉTICA'!$A$10:$T$1083,4,0),\"\")","v":873},{"$f":"IF(COUNTA(A19)>0,VLOOKUP($A19,'PLANILHA SINTÉTICA'!$A$10:$T$1083,5,0),\"\")","v":873},{"$f":"IF(ISERROR(VLOOKUP($A19,#REF!,8,0)),0,(VLOOKUP($A19,#REF!,8,0)))","v":0},{"$f":"IF(COUNTA(A19)>0,VLOOKUP($A19,'[8]PLANILHA SINTÉTICA'!$A$9:$AC$1082,15,0),\"\")","v":63.094448},0,{"$f":"ROUND($G19*$J$5,2)","v":14.04},{"$f":"ROUND($H19*$J$5,2)","v":0}]
["29.01.02",{"$f":"IF(COUNTA(#REF!)>0,VLOOKUP($A20,'PLANILHA SINTÉTICA'!$A$10:$T$1083,2,0),\"\")","v":"Ponto para interruptor de uma seção, composto por fiação em cabo de 2,5mm² AFUMEX, ATOX, AFITOX ou equivalente (Não-Halogenado), isolação 750V., eletroduto de PVC rígido de 3/4\" com luva de rosca interna, curva e acessórios até o ponto de luz."},{"$f":"IF(COUNTA(A20)>0,VLOOKUP($A20,'[8]PLANILHA SINTÉTICA'!$A$9:$U$1082,3,0),\"\")","v":"429094-1"},{"$f":"IF(COUNTA(A20)>0,VLOOKUP($A20,'PLANILHA SINTÉTICA'!$A$10:$T$1083,4,0),\"\")","v":97},{"$f":"IF(COUNTA(A20)>0,VLOOKUP($A20,'PLANILHA SINTÉTICA'!$A$10:$T$1083,5,0),\"\")","v":97},{"$f":"IF(ISERROR(VLOOKUP($A20,#REF!,8,0)),0,(VLOOKUP($A20,#REF!,8,0)))","v":0},{"$f":"IF(COUNTA(A20)>0,VLOOKUP($A20,'[8]PLANILHA SINTÉTICA'!$A$9:$AC$1082,15,0),\"\")","v":39.750479999999996},0,8.84,0]
["10.5",{"$f":"IF(COUNTA(#REF!)>0,VLOOKUP($A21,'PLANILHA SINTÉTICA'!$A$10:$T$1083,2,0),\"\")","v":"Fornecimento e assentamento de porta PM3 (dim.=0,90x1,60m) Alcoplac da Neocom ou equivalente, com painéis em laminado estrutural TS-10mm, (fórmica maciça com 10mm de espessura), acabamento texturizado dupla face, cor a definir, batente em perfil especial de alumínio anodizado natural, incluindo ferragens, fechadura tipo tarjeta com indicação \"Livre/ocupado\" em nylon. Chapa em Inox conforme NBR 9050, conforme detalhe. (Wc PPNE)"},{"$f":"IF(COUNTA(A21)>0,VLOOKUP($A21,'[8]PLANILHA SINTÉTICA'!$A$9:$U$1082,3,0),\"\")","v":"430149-8"},{"$f":"IF(COUNTA(A21)>0,VLOOKUP($A21,'PLANILHA SINTÉTICA'!$A$10:$T$1083,4,0),\"\")","v":16},{"$f":"IF(COUNTA(A21)>0,VLOOKUP($A21,'PLANILHA SINTÉTICA'!$A$10:$T$1083,5,0),\"\")","v":16},{"$f":"IF(ISERROR(VLOOKUP($A21,#REF!,8,0)),0,(VLOOKUP($A21,#REF!,8,0)))","v":0},{"$f":"IF(COUNTA(A21)>0,VLOOKUP($A21,'[8]PLANILHA SINTÉTICA'!$A$9:$AC$1082,15,0),\"\")","v":659.50048399999991},0,146.74,0]
["10.6",{"$f":"IF(COUNTA(#REF!)>0,VLOOKUP($A22,'PLANILHA SINTÉTICA'!$A$10:$T$1083,2,0),\"\")","v":"Fornecimento e assentamento de porta PM4 (dim.=0,60x1,60m) Alcoplac da Neocom ou equivalente, em laminado estrutural TS-10mm, acabamento texturizado dupla face, cor a definir, batente em perfil especial de alumínio anodizado natural, incluindo ferragens, fechadura tipo tarjeta com indicação \"Livre/ocupado\" em nylon, conforme detalhe. (Wc)"},{"$f":"IF(COUNTA(A22)>0,VLOOKUP($A22,'[8]PLANILHA SINTÉTICA'!$A$9:$U$1082,3,0),\"\")","v":"430150-1"},{"$f":"IF(COUNTA(A22)>0,VLOOKUP($A22,'PLANILHA SINTÉTICA'!$A$10:$T$1083,4,0),\"\")","v":56},{"$f":"IF(COUNTA(A22)>0,VLOOKUP($A22,'PLANILHA SINTÉTICA'!$A$10:$T$1083,5,0),\"\")","v":56},{"$f":"IF(ISERROR(VLOOKUP($A22,#REF!,8,0)),0,(VLOOKUP($A22,#REF!,8,0)))","v":0},{"$f":"IF(COUNTA(A22)>0,VLOOKUP($A22,'[8]PLANILHA SINTÉTICA'!$A$9:$AC$1082,15,0),\"\")","v":569.47688199999993},0,126.71,0]
["16.20",{"$f":"IF(COUNTA(#REF!)>0,VLOOKUP($A23,'PLANILHA SINTÉTICA'!$A$10:$T$1083,2,0),\"\")","v":"Tubulação PVC esgoto predial Ø 40mm, para coletores ou sub-coletores de esgoto ou águas pluviais, inclusive abertura e fechamento de valas."},{"$f":"IF(COUNTA(A23)>0,VLOOKUP($A23,'[8]PLANILHA SINTÉTICA'!$A$9:$U$1082,3,0),\"\")","v":"430394-6"},{"$f":"IF(COUNTA(A23)>0,VLOOKUP($A23,'PLANILHA SINTÉTICA'!$A$10:$T$1083,4,0),\"\")","v":266},{"$f":"IF(COUNTA(A23)>0,VLOOKUP($A23,'PLANILHA SINTÉTICA'!$A$10:$T$1083,5,0),\"\")","v":126.8},{"$f":"IF(ISERROR(VLOOKUP($A23,#REF!,8,0)),0,(VLOOKUP($A23,#REF!,8,0)))","v":0},{"$f":"IF(COUNTA(A23)>0,VLOOKUP($A23,'[8]PLANILHA SINTÉTICA'!$A$9:$AC$1082,15,0),\"\")","v":9.4334679999999995},0,2.1,0]
["16.21",{"$f":"IF(COUNTA(#REF!)>0,VLOOKUP($A24,'PLANILHA SINTÉTICA'!$A$10:$T$1083,2,0),\"\")","v":"Tubulação PVC esgoto predial Ø 50mm, para coletores ou sub-coletores de esgoto ou águas pluviais, inclusive abertura e fechamento de valas."},{"$f":"IF(COUNTA(A24)>0,VLOOKUP($A24,'[8]PLANILHA SINTÉTICA'!$A$9:$U$1082,3,0),\"\")","v":"430395-4"},{"$f":"IF(COUNTA(A24)>0,VLOOKUP($A24,'PLANILHA SINTÉTICA'!$A$10:$T$1083,4,0),\"\")","v":148},{"$f":"IF(COUNTA(A24)>0,VLOOKUP($A24,'PLANILHA SINTÉTICA'!$A$10:$T$1083,5,0),\"\")","v":148},{"$f":"IF(ISERROR(VLOOKUP($A24,#REF!,8,0)),0,(VLOOKUP($A24,#REF!,8,0)))","v":0},{"$f":"IF(COUNTA(A24)>0,VLOOKUP($A24,'[8]PLANILHA SINTÉTICA'!$A$9:$AC$1082,15,0),\"\")","v":12.892007999999999},0,2.87,0]
["18.50",{"$f":"IF(COUNTA(#REF!)>0,VLOOKUP($A25,'PLANILHA SINTÉTICA'!$A$10:$T$1083,2,0),\"\")","v":"Contrapiso em argamassa traço 1:4 (cimento e areia), preparo mecânico com betoneira 400 L, aplicado em áreas secas sobre laje, aderido, espessura 2cm, acabamento não reforçado. "},{"$f":"IF(COUNTA(A25)>0,VLOOKUP($A25,'[8]PLANILHA SINTÉTICA'!$A$9:$U$1082,3,0),\"\")","v":"430928-6"},{"$f":"IF(COUNTA(A25)>0,VLOOKUP($A25,'PLANILHA SINTÉTICA'!$A$10:$T$1083,4,0),\"\")","v":178},{"$f":"IF(COUNTA(A25)>0,VLOOKUP($A25,'PLANILHA SINTÉTICA'!$A$10:$T$1083,5,0),\"\")","v":99.68},{"$f":"IF(ISERROR(VLOOKUP($A25,#REF!,8,0)),0,(VLOOKUP($A25,#REF!,8,0)))","v":0},{"$f":"IF(COUNTA(A25)>0,VLOOKUP($A25,'[8]PLANILHA SINTÉTICA'!$A$9:$AC$1082,15,0),\"\")","v":18.788824000000002},0,4.18,0]
["19.59",{"$f":"IF(COUNTA(#REF!)>0,VLOOKUP($A26,'PLANILHA SINTÉTICA'!$A$10:$T$1083,2,0),\"\")","v":"Impermeabilização com manta asfáltica espessura 3mm protegida com filme de alumínio gofrado espessura 0,8mm, incluso emulsão asfáltica."},{"$f":"IF(COUNTA(A26)>0,VLOOKUP($A26,'[8]PLANILHA SINTÉTICA'!$A$9:$U$1082,3,0),\"\")","v":"431420-4"},{"$f":"IF(COUNTA(A26)>0,VLOOKUP($A26,'PLANILHA SINTÉTICA'!$A$10:$T$1083,4,0),\"\")","v":5.4},{"$f":"IF(COUNTA(A26)>0,VLOOKUP($A26,'PLANILHA SINTÉTICA'!$A$10:$T$1083,5,0),\"\")","v":5.4},{"$f":"IF(ISERROR(VLOOKUP($A26,#REF!,8,0)),0,(VLOOKUP($A26,#REF!,8,0)))","v":0},{"$f":"IF(COUNTA(A26)>0,VLOOKUP($A26,'[8]PLANILHA SINTÉTICA'!$A$9:$AC$1082,15,0),\"\")","v":74.509743999999998},0,16.579999999999998,0]
["1.24",{"$f":"IF(COUNTA(#REF!)>0,VLOOKUP($A27,'PLANILHA SINTÉTICA'!$A$10:$T$1083,2,0),\"\")","v":"Locação de andaime metálico tipo fachadeiro, incluindo montagem.  "},{"$f":"IF(COUNTA(A27)>0,VLOOKUP($A27,'[8]PLANILHA SINTÉTICA'!$A$9:$U$1082,3,0),\"\")","v":"431656-8"},{"$f":"IF(COUNTA(A27)>0,VLOOKUP($A27,'PLANILHA SINTÉTICA'!$A$10:$T$1083,4,0),\"\")","v":3784},{"$f":"IF(COUNTA(A27)>0,VLOOKUP($A27,'PLANILHA SINTÉTICA'!$A$10:$T$1083,5,0),\"\")","v":3783.9999999999995},{"$f":"IF(ISERROR(VLOOKUP($A27,#REF!,8,0)),0,(VLOOKUP($A27,#REF!,8,0)))","v":0},{"$f":"IF(COUNTA(A27)>0,VLOOKUP($A27,'[8]PLANILHA SINTÉTICA'!$A$9:$AC$1082,15,0),\"\")","v":6.2448799999999993},0,1.39,0]
["19.38",{"$f":"IF(COUNTA(#REF!)>0,VLOOKUP($A28,'PLANILHA SINTÉTICA'!$A$10:$T$1083,2,0),\"\")","v":"Fornecimento e assentamento de bacia sanitária com caixa acoplada Confort Vogue Plus em louça branca, Linha Deca ou equivalente, inclusive engate e anel de vedação."},{"$f":"IF(COUNTA(A28)>0,VLOOKUP($A28,'[8]PLANILHA SINTÉTICA'!$A$9:$U$1082,3,0),\"\")","v":"432026-3"},{"$f":"IF(COUNTA(A28)>0,VLOOKUP($A28,'PLANILHA SINTÉTICA'!$A$10:$T$1083,4,0),\"\")","v":1},{"$f":"IF(COUNTA(A28)>0,VLOOKUP($A28,'PLANILHA SINTÉTICA'!$A$10:$T$1083,5,0),\"\")","v":1},{"$f":"IF(ISERROR(VLOOKUP($A28,#REF!,8,0)),0,(VLOOKUP($A28,#REF!,8,0)))","v":0},{"$f":"IF(COUNTA(A28)>0,VLOOKUP($A28,'[8]PLANILHA SINTÉTICA'!$A$9:$AC$1082,15,0),\"\")","v":788.53801199999998},0,175.45,0]
["29.01.04",{"$f":"IF(COUNTA(#REF!)>0,VLOOKUP($A29,'PLANILHA SINTÉTICA'!$A$10:$T$1083,2,0),\"\")","v":"Ponto para interruptor de duas seções, composto por fiação em cabo de 2,5mm² AFUMEX, ATOX, AFITOX ou equivalente (Não-Halogenado), isolação 750V., eletroduto de PVC rígido de 3/4\" com luva de rosca interna, curva e acessórios até o ponto de luz."},{"$f":"IF(COUNTA(A29)>0,VLOOKUP($A29,'[8]PLANILHA SINTÉTICA'!$A$9:$U$1082,3,0),\"\")","v":"432648-2"},{"$f":"IF(COUNTA(A29)>0,VLOOKUP($A29,'PLANILHA SINTÉTICA'!$A$10:$T$1083,4,0),\"\")","v":19},{"$f":"IF(COUNTA(A29)>0,VLOOKUP($A29,'PLANILHA SINTÉTICA'!$A$10:$T$1083,5,0),\"\")","v":19},{"$f":"IF(ISERROR(VLOOKUP($A29,#REF!,8,0)),0,(VLOOKUP($A29,#REF!,8,0)))","v":0},{"$f":"IF(COUNTA(A29)>0,VLOOKUP($A29,'[8]PLANILHA SINTÉTICA'!$A$9:$AC$1082,15,0),\"\")","v":46.407391999999994},0,10.33,0]
["29.01.10",{"$f":"IF(COUNTA(#REF!)>0,VLOOKUP($A30,'PLANILHA SINTÉTICA'!$A$10:$T$1083,2,0),\"\")","v":"Ponto para tomada universal (2p+t), inclusive fiação em cabo de 2,5mm² AFUMEX, ATOX, AFITOX ou equivalente (Não-Halogenado) e eletroduto de PVC rígido de 3/4\" com luva de rosca interna, curva e acessórios até outro ponto/eletrocalha."},{"$f":"IF(COUNTA(A30)>0,VLOOKUP($A30,'[8]PLANILHA SINTÉTICA'!$A$9:$U$1082,3,0),\"\")","v":"432649-0"},{"$f":"IF(COUNTA(A30)>0,VLOOKUP($A30,'PLANILHA SINTÉTICA'!$A$10:$T$1083,4,0),\"\")","v":189},{"$f":"IF(COUNTA(A30)>0,VLOOKUP($A30,'PLANILHA SINTÉTICA'!$A$10:$T$1083,5,0),\"\")","v":189},{"$f":"IF(ISERROR(VLOOKUP($A30,#REF!,8,0)),0,(VLOOKUP($A30,#REF!,8,0)))","v":0},{"$f":"IF(COUNTA(A30)>0,VLOOKUP($A30,'[8]PLANILHA SINTÉTICA'!$A$9:$AC$1082,15,0),\"\")","v":89.093765999999988},0,19.82,0]
["29.01.06",{"$f":"IF(COUNTA(#REF!)>0,VLOOKUP($A31,'PLANILHA SINTÉTICA'!$A$10:$T$1083,2,0),\"\")","v":"Ponto para interruptor de três seções, composto por fiação em cabo de 2,5mm² Prysmian ou equivalente, eletroduto de PVC rígido de 3/4\" com luva luna de rosca interna, curva e acessórios até o ponto de luz."},{"$f":"IF(COUNTA(A31)>0,VLOOKUP($A31,'[8]PLANILHA SINTÉTICA'!$A$9:$U$1082,3,0),\"\")","v":"432650-4"},{"$f":"IF(COUNTA(A31)>0,VLOOKUP($A31,'PLANILHA SINTÉTICA'!$A$10:$T$1083,4,0),\"\")","v":2},{"$f":"IF(COUNTA(A31)>0,VLOOKUP($A31,'PLANILHA SINTÉTICA'!$A$10:$T$1083,5,0),\"\")","v":2},{"$f":"IF(ISERROR(VLOOKUP($A31,#REF!,8,0)),0,(VLOOKUP($A31,#REF!,8,0)))","v":0},{"$f":"IF(COUNTA(A31)>0,VLOOKUP($A31,'[8]PLANILHA SINTÉTICA'!$A$9:$AC$1082,15,0),\"\")","v":53.100977999999998},0,11.81,0]
["1.13",{"$f":"IF(COUNTA(#REF!)>0,VLOOKUP($A32,'PLANILHA SINTÉTICA'!$A$10:$T$1083,2,0),\"\")","v":"Remoção de material de primeira categoria em caminhão basculante, D.M.T. 12KM, inclusive carga e descarga mecânica."},{"$f":"IF(COUNTA(A32)>0,VLOOKUP($A32,'[8]PLANILHA SINTÉTICA'!$A$9:$U$1082,3,0),\"\")","v":"435208-4"},{"$f":"IF(COUNTA(A32)>0,VLOOKUP($A32,'PLANILHA SINTÉTICA'!$A$10:$T$1083,4,0),\"\")","v":3692},{"$f":"IF(COUNTA(A32)>0,VLOOKUP($A32,'PLANILHA SINTÉTICA'!$A$10:$T$1083,5,0),\"\")","v":781.2},{"$f":"IF(ISERROR(VLOOKUP($A32,#REF!,8,0)),0,(VLOOKUP($A32,#REF!,8,0)))","v":0},{"$f":"IF(COUNTA(A32)>0,VLOOKUP($A32,'[8]PLANILHA SINTÉTICA'!$A$9:$AC$1082,15,0),\"\")","v":19.56812},0,4.3499999999999996,0]
["2.13",{"$f":"IF(COUNTA(#REF!)>0,VLOOKUP($A33,'PLANILHA SINTÉTICA'!$A$10:$T$1083,2,0),\"\")","v":"Alvenaria de tijolos de 8 furos, assentados e rejuntados com argamassa de cimento e areia no traço 1:6  -  1 vez."},{"$f":"IF(COUNTA(A33)>0,VLOOKUP($A33,'[8]PLANILHA SINTÉTICA'!$A$9:$U$1082,3,0),\"\")","v":"435446-0"},{"$f":"IF(COUNTA(A33)>0,VLOOKUP($A33,'PLANILHA SINTÉTICA'!$A$10:$T$1083,4,0),\"\")","v":455},{"$f":"IF(COUNTA(A33)>0,VLOOKUP($A33,'PLANILHA SINTÉTICA'!$A$10:$T$1083,5,0),\"\")","v":443.86999999999995},{"$f":"IF(ISERROR(VLOOKUP($A33,#REF!,8,0)),0,(VLOOKUP($A33,#REF!,8,0)))","v":0},{"$f":"IF(COUNTA(A33)>0,VLOOKUP($A33,'[8]PLANILHA SINTÉTICA'!$A$9:$AC$1082,15,0),\"\")","v":66.477944000000008},0,14.79,0]
["16.15",{"$f":"IF(COUNTA(#REF!)>0,VLOOKUP($A34,'PLANILHA SINTÉTICA'!$A$10:$T$1083,2,0),\"\")","v":"Fornecimento e assentamento de tubos soldáveis de PVC rígido diâmetro 75 mm, inclusive conexões e abertura de rasgos em alvenaria, para colunas de água e barriletes."},{"$f":"IF(COUNTA(A34)>0,VLOOKUP($A34,'[8]PLANILHA SINTÉTICA'!$A$9:$U$1082,3,0),\"\")","v":"436162-8"},{"$f":"IF(COUNTA(A34)>0,VLOOKUP($A34,'PLANILHA SINTÉTICA'!$A$10:$T$1083,4,0),\"\")","v":20},{"$f":"IF(COUNTA(A34)>0,VLOOKUP($A34,'PLANILHA SINTÉTICA'!$A$10:$T$1083,5,0),\"\")","v":20},{"$f":"IF(ISERROR(VLOOKUP($A34,#REF!,8,0)),0,(VLOOKUP($A34,#REF!,8,0)))","v":0},{"$f":"IF(COUNTA(A34)>0,VLOOKUP($A34,'[8]PLANILHA SINTÉTICA'!$A$9:$AC$1082,15,0),\"\")","v":42.007261999999997},0,9.35,0]
["16.6",{"$f":"IF(COUNTA(#REF!)>0,VLOOKUP($A35,'PLANILHA SINTÉTICA'!$A$10:$T$1083,2,0),\"\")","v":"Caixa coletora de inspeção ou de areia com paredes em alvenaria, laje de tampa e de fundo em concreto, revestida internamente com argamassa de cimento e areia 1:4, dimensões internas 0,60 x 0,60m, com profundidade até 1,0m com inscrição em baixo relevo."},{"$f":"IF(COUNTA(A35)>0,VLOOKUP($A35,'[8]PLANILHA SINTÉTICA'!$A$9:$U$1082,3,0),\"\")","v":"436177-6"},{"$f":"IF(COUNTA(A35)>0,VLOOKUP($A35,'PLANILHA SINTÉTICA'!$A$10:$T$1083,4,0),\"\")","v":32},{"$f":"IF(COUNTA(A35)>0,VLOOKUP($A35,'PLANILHA SINTÉTICA'!$A$10:$T$1083,5,0),\"\")","v":28},{"$f":"IF(ISERROR(VLOOKUP($A35,#REF!,8,0)),0,(VLOOKUP($A35,#REF!,8,0)))","v":0},{"$f":"IF(COUNTA(A35)>0,VLOOKUP($A35,'[8]PLANILHA SINTÉTICA'!$A$9:$AC$1082,15,0),\"\")","v":398.09851200000003},0,88.58,0]
["16.7",{"$f":"IF(COUNTA(#REF!)>0,VLOOKUP($A36,'PLANILHA SINTÉTICA'!$A$10:$T$1083,2,0),\"\")","v":"Caixa de gordura com paredes em alvenaria, laje de tampa e de fundo em concreto, revestida internamente com argamassa de cimento e areia 1:4, dimensões internas 0,50 x 0,50 x 0,50m com chicana de concreto."},{"$f":"IF(COUNTA(A36)>0,VLOOKUP($A36,'[8]PLANILHA SINTÉTICA'!$A$9:$U$1082,3,0),\"\")","v":"436178-4"},{"$f":"IF(COUNTA(A36)>0,VLOOKUP($A36,'PLANILHA SINTÉTICA'!$A$10:$T$1083,4,0),\"\")","v":3},{"$f":"IF(COUNTA(A36)>0,VLOOKUP($A36,'PLANILHA SINTÉTICA'!$A$10:$T$1083,5,0),\"\")","v":3},{"$f":"IF(ISERROR(VLOOKUP($A36,#REF!,8,0)),0,(VLOOKUP($A36,#REF!,8,0)))","v":0},{"$f":"IF(COUNTA(A36)>0,VLOOKUP($A36,'[8]PLANILHA SINTÉTICA'!$A$9:$AC$1082,15,0),\"\")","v":247.85713600000003},0,55.15,0]
["16.10",{"$f":"IF(COUNTA(#REF!)>0,VLOOKUP($A37,'PLANILHA SINTÉTICA'!$A$10:$T$1083,2,0),\"\")","v":"Fornecimento e assentamento de tubos soldáveis de PVC rígido diâmetro 32 mm, inclusive conexões  abertura e fechamento de valas para alimentador predial. (dreno ar condicionado)"},{"$f":"IF(COUNTA(A37)>0,VLOOKUP($A37,'[8]PLANILHA SINTÉTICA'!$A$9:$U$1082,3,0),\"\")","v":"460516-0"},{"$f":"IF(COUNTA(A37)>0,VLOOKUP($A37,'PLANILHA SINTÉTICA'!$A$10:$T$1083,4,0),\"\")","v":1490},{"$f":"IF(COUNTA(A37)>0,VLOOKUP($A37,'PLANILHA SINTÉTICA'!$A$10:$T$1083,5,0),\"\")","v":594.43000000000006},{"$f":"IF(ISERROR(VLOOKUP($A37,#REF!,8,0)),0,(VLOOKUP($A37,#REF!,8,0)))","v":0},{"$f":"IF(COUNTA(A37)>0,VLOOKUP($A37,'[8]PLANILHA SINTÉTICA'!$A$9:$AC$1082,15,0),\"\")","v":13.375561999999999},0,2.98,0]
["11.1",{"$f":"IF(COUNTA(#REF!)>0,VLOOKUP($A38,'PLANILHA SINTÉTICA'!$A$10:$T$1083,2,0),\"\")","v":"Fornecimento e instalação de Gradil externo Eletrogradi Sitela ou equivalente, cor verde, conforme detalhe. (Entrada PRINCIPAL)"},{"$f":"IF(COUNTA(A38)>0,VLOOKUP($A38,'[8]PLANILHA SINTÉTICA'!$A$9:$U$1082,3,0),\"\")","v":"460845-3"},{"$f":"IF(COUNTA(A38)>0,VLOOKUP($A38,'PLANILHA SINTÉTICA'!$A$10:$T$1083,4,0),\"\")","v":137},{"$f":"IF(COUNTA(A38)>0,VLOOKUP($A38,'PLANILHA SINTÉTICA'!$A$10:$T$1083,5,0),\"\")","v":136.18},{"$f":"IF(ISERROR(VLOOKUP($A38,#REF!,8,0)),0,(VLOOKUP($A38,#REF!,8,0)))","v":0},{"$f":"IF(COUNTA(A38)>0,VLOOKUP($A38,'[8]PLANILHA SINTÉTICA'!$A$9:$AC$1082,15,0),\"\")","v":232.94678199999998},0,51.83,0]
["18.23",{"$f":"IF(COUNTA(#REF!)>0,VLOOKUP($A39,'PLANILHA SINTÉTICA'!$A$10:$T$1083,2,0),\"\")","v":"Lastro de concreto, espessura 5cm, preparo mecânico, inclusos lançamento e adensamento. "},{"$f":"IF(COUNTA(A39)>0,VLOOKUP($A39,'[8]PLANILHA SINTÉTICA'!$A$9:$U$1082,3,0),\"\")","v":"460897-6"},{"$f":"IF(COUNTA(A39)>0,VLOOKUP($A39,'PLANILHA SINTÉTICA'!$A$10:$T$1083,4,0),\"\")","v":156},{"$f":"IF(COUNTA(A39)>0,VLOOKUP($A39,'PLANILHA SINTÉTICA'!$A$10:$T$1083,5,0),\"\")","v":99.68},{"$f":"IF(ISERROR(VLOOKUP($A39,#REF!,8,0)),0,(VLOOKUP($A39,#REF!,8,0)))","v":0},{"$f":"IF(COUNTA(A39)>0,VLOOKUP($A39,'[8]PLANILHA SINTÉTICA'!$A$9:$AC$1082,15,0),\"\")","v":14.924581999999999},0,3.32,0]
["20.16",{"$f":"IF(COUNTA(#REF!)>0,VLOOKUP($A40,'PLANILHA SINTÉTICA'!$A$10:$T$1083,2,0),\"\")","v":"Lastro de concreto, espessura 5cm, preparo mecânico, inclusos lançamento e adensamento. "},{"$f":"IF(COUNTA(A40)>0,VLOOKUP($A40,'[8]PLANILHA SINTÉTICA'!$A$9:$U$1082,3,0),\"\")","v":"460897-6"},{"$f":"IF(COUNTA(A40)>0,VLOOKUP($A40,'PLANILHA SINTÉTICA'!$A$10:$T$1083,4,0),\"\")","v":25.3},{"$f":"IF(COUNTA(A40)>0,VLOOKUP($A40,'PLANILHA SINTÉTICA'!$A$10:$T$1083,5,0),\"\")","v":23.4},{"$f":"IF(ISERROR(VLOOKUP($A40,#REF!,8,0)),0,(VLOOKUP($A40,#REF!,8,0)))","v":0},{"$f":"IF(COUNTA(A40)>0,VLOOKUP($A40,'[8]PLANILHA SINTÉTICA'!$A$9:$AC$1082,15,0),\"\")","v":14.924581999999999},{"$f":"ROUND(G40*F40,2)","v":0},3.32,0]
["8.18",{"$f":"IF(COUNTA(#REF!)>0,VLOOKUP($A41,'PLANILHA SINTÉTICA'!$A$10:$T$1083,2,0),\"\")","v":"Fornecimento e instalação de Bancada com 2,00m de comprimento para DEFENSORIA em granito polido Verde Ubatuba composta por tampo superior e inferior, inclusive montante bipolido com borda arredondada, testeira medindo 10cm; revestimento frontal e posterior, conforme detalhe 05/45."},{"$f":"IF(COUNTA(A41)>0,VLOOKUP($A41,'[8]PLANILHA SINTÉTICA'!$A$9:$U$1082,3,0),\"\")","v":"462174-3"},{"$f":"IF(COUNTA(A41)>0,VLOOKUP($A41,'PLANILHA SINTÉTICA'!$A$10:$T$1083,4,0),\"\")","v":1},{"$f":"IF(COUNTA(A41)>0,VLOOKUP($A41,'PLANILHA SINTÉTICA'!$A$10:$T$1083,5,0),\"\")","v":1},{"$f":"IF(ISERROR(VLOOKUP($A41,#REF!,8,0)),0,(VLOOKUP($A41,#REF!,8,0)))","v":0},{"$f":"IF(COUNTA(A41)>0,VLOOKUP($A41,'[8]PLANILHA SINTÉTICA'!$A$9:$AC$1082,15,0),\"\")","v":2773.7034640000002},0,617.15,0]
["29.13.09",{"$f":"IF(COUNTA(#REF!)>0,VLOOKUP($A42,'PLANILHA SINTÉTICA'!$A$10:$T$1083,2,0),\"\")","v":"Quadro de distribuição metálico de embutir, em chapa 16 BWG, para 16 circuitos monopolares padrão DIN, com barra de neutro e terra, com porta e trinco, Cemar ou equivalente,  inclusive instalação conforme projeto."},{"$f":"IF(COUNTA(A42)>0,VLOOKUP($A42,'[8]PLANILHA SINTÉTICA'!$A$9:$U$1082,3,0),\"\")","v":"463747-0"},{"$f":"IF(COUNTA(A42)>0,VLOOKUP($A42,'PLANILHA SINTÉTICA'!$A$10:$T$1083,4,0),\"\")","v":2},{"$f":"IF(COUNTA(A42)>0,VLOOKUP($A42,'PLANILHA SINTÉTICA'!$A$10:$T$1083,5,0),\"\")","v":2},{"$f":"IF(ISERROR(VLOOKUP($A42,#REF!,8,0)),0,(VLOOKUP($A42,#REF!,8,0)))","v":0},{"$f":"IF(COUNTA(A42)>0,VLOOKUP($A42,'[8]PLANILHA SINTÉTICA'!$A$9:$AC$1082,15,0),\"\")","v":279.13025800000003},0,62.11,0]
["29.01.03",{"$f":"IF(COUNTA(#REF!)>0,VLOOKUP($A43,'PLANILHA SINTÉTICA'!$A$10:$T$1083,2,0),\"\")","v":"Ponto para interruptor de uma seção em Dry-Wall, composto por fiação em cabo de 2,5mm² AFUMEX, ATOX, AFITOX ou equivalente (Não-Halogenado), isolação 750V., eletroduto de PVC rígido de 3/4\", eletroduto corrugado de 25mm, com luva de rosca intern, luva de pressão, curva e acessórios até o ponto de luz."},{"$f":"IF(COUNTA(A43)>0,VLOOKUP($A43,'[8]PLANILHA SINTÉTICA'!$A$9:$U$1082,3,0),\"\")","v":"464023-3"},{"$f":"IF(COUNTA(A43)>0,VLOOKUP($A43,'PLANILHA SINTÉTICA'!$A$10:$T$1083,4,0),\"\")","v":64},{"$f":"IF(COUNTA(A43)>0,VLOOKUP($A43,'PLANILHA SINTÉTICA'!$A$10:$T$1083,5,0),\"\")","v":64},{"$f":"IF(ISERROR(VLOOKUP($A43,#REF!,8,0)),0,(VLOOKUP($A43,#REF!,8,0)))","v":0},{"$f":"IF(COUNTA(A43)>0,VLOOKUP($A43,'[8]PLANILHA SINTÉTICA'!$A$9:$AC$1082,15,0),\"\")","v":43.803815999999998},0,9.75,0]
["29.01.05",{"$f":"IF(COUNTA(#REF!)>0,VLOOKUP($A44,'PLANILHA SINTÉTICA'!$A$10:$T$1083,2,0),\"\")","v":"Ponto para interruptor de duas seções em Dry-Wall, composto por fiação  em cabo AFUMEX, ATOX, AFITOX ou equivalente (Não-Halogenado), isolação 750V., de 2,5mm², eletroduto de PVC rígido de 3/4\", eletroduto corrugado de 25mm, com luva de rosca interna, luva de pressão, curva e acessórios até o ponto de luz."},{"$f":"IF(COUNTA(A44)>0,VLOOKUP($A44,'[8]PLANILHA SINTÉTICA'!$A$9:$U$1082,3,0),\"\")","v":"464026-8"},{"$f":"IF(COUNTA(A44)>0,VLOOKUP($A44,'PLANILHA SINTÉTICA'!$A$10:$T$1083,4,0),\"\")","v":4},{"$f":"IF(COUNTA(A44)>0,VLOOKUP($A44,'PLANILHA SINTÉTICA'!$A$10:$T$1083,5,0),\"\")","v":4},{"$f":"IF(ISERROR(VLOOKUP($A44,#REF!,8,0)),0,(VLOOKUP($A44,#REF!,8,0)))","v":0},{"$f":"IF(COUNTA(A44)>0,VLOOKUP($A44,'[8]PLANILHA SINTÉTICA'!$A$9:$AC$1082,15,0),\"\")","v":50.473168000000001},0,11.23,0]
["10.1",{"$f":"IF(COUNTA(#REF!)>0,VLOOKUP($A45,'PLANILHA SINTÉTICA'!$A$10:$T$1083,2,0),\"\")","v":"Fornecimento e instalação de esquadrias tipo \"PELE DE VIDRO\", em alumínio anodizado cor bronze, com vidro laminado refletivo 6mm na cor verde, composta por painéis fixos e painéis de abrir tipo maximar, inclusive fechos e braços articulados em alumínio anodizado bronze, conforme projetos. (EPV1)"},{"$f":"IF(COUNTA(A45)>0,VLOOKUP($A45,'[8]PLANILHA SINTÉTICA'!$A$9:$U$1082,3,0),\"\")","v":"464030-6"},{"$f":"IF(COUNTA(A45)>0,VLOOKUP($A45,'PLANILHA SINTÉTICA'!$A$10:$T$1083,4,0),\"\")","v":292},{"$f":"IF(COUNTA(A45)>0,VLOOKUP($A45,'PLANILHA SINTÉTICA'!$A$10:$T$1083,5,0),\"\")","v":292},{"$f":"IF(ISERROR(VLOOKUP($A45,#REF!,8,0)),0,(VLOOKUP($A45,#REF!,8,0)))","v":0},{"$f":"IF(COUNTA(A45)>0,VLOOKUP($A45,'[8]PLANILHA SINTÉTICA'!$A$9:$AC$1082,15,0),\"\")","v":1052.222988},0,234.12,0]
["29.01.11",{"$f":"IF(COUNTA(#REF!)>0,VLOOKUP($A46,'PLANILHA SINTÉTICA'!$A$10:$T$1083,2,0),\"\")","v":"Ponto para tomada universal (2p+t) em Dry-Wall, inclusive  fiação em cabo AFUMEX, ATOX, AFITOX ou equivalente (Não-Halogenado), isolação 750V., de 2,5mm²  e eletroduto de PVC rígido de 3/4\",  eletroduto corrugado de 25mm, com luva de rosca interna, curva e acessórios até outro ponto/eletrocalha."},{"$f":"IF(COUNTA(A46)>0,VLOOKUP($A46,'[8]PLANILHA SINTÉTICA'!$A$9:$U$1082,3,0),\"\")","v":"466619-4"},{"$f":"IF(COUNTA(A46)>0,VLOOKUP($A46,'PLANILHA SINTÉTICA'!$A$10:$T$1083,4,0),\"\")","v":156},{"$f":"IF(COUNTA(A46)>0,VLOOKUP($A46,'PLANILHA SINTÉTICA'!$A$10:$T$1083,5,0),\"\")","v":148},{"$f":"IF(ISERROR(VLOOKUP($A46,#REF!,8,0)),0,(VLOOKUP($A46,#REF!,8,0)))","v":0},{"$f":"IF(COUNTA(A46)>0,VLOOKUP($A46,'[8]PLANILHA SINTÉTICA'!$A$9:$AC$1082,15,0),\"\")","v":94.964190000000002},0,21.13,0]
["8.42",{"$f":"IF(COUNTA(#REF!)>0,VLOOKUP($A47,'PLANILHA SINTÉTICA'!$A$10:$T$1083,2,0),\"\")","v":"Fornecimento e instalação de piso (degrau) para ESCADA DE ACESSO PRINCIPAL em granito  flamejado Verde Ubatuba com faixa antiderrapante com largura de 30cm, conforme detalhe 36/45. (DEGRAUS)"},{"$f":"IF(COUNTA(A47)>0,VLOOKUP($A47,'[8]PLANILHA SINTÉTICA'!$A$9:$U$1082,3,0),\"\")","v":"468567-9"},{"$f":"IF(COUNTA(A47)>0,VLOOKUP($A47,'PLANILHA SINTÉTICA'!$A$10:$T$1083,4,0),\"\")","v":93},{"$f":"IF(COUNTA(A47)>0,VLOOKUP($A47,'PLANILHA SINTÉTICA'!$A$10:$T$1083,5,0),\"\")","v":93},{"$f":"IF(ISERROR(VLOOKUP($A47,#REF!,8,0)),0,(VLOOKUP($A47,#REF!,8,0)))","v":0},{"$f":"IF(COUNTA(A47)>0,VLOOKUP($A47,'[8]PLANILHA SINTÉTICA'!$A$9:$AC$1082,15,0),\"\")","v":96.443175999999994},0,21.46,0]
["8.32",{"$f":"IF(COUNTA(#REF!)>0,VLOOKUP($A48,'PLANILHA SINTÉTICA'!$A$10:$T$1083,2,0),\"\")","v":"Fornecimento e instalação de Placas em granito polido Verde Ubatuba com acabamento bizotado de 1cm para revestimento da parede dos ELEVADORES, conforme detalhe 25/45. "},{"$f":"IF(COUNTA(A48)>0,VLOOKUP($A48,'[8]PLANILHA SINTÉTICA'!$A$9:$U$1082,3,0),\"\")","v":"470085-6"},{"$f":"IF(COUNTA(A48)>0,VLOOKUP($A48,'PLANILHA SINTÉTICA'!$A$10:$T$1083,4,0),\"\")","v":19},{"$f":"IF(COUNTA(A48)>0,VLOOKUP($A48,'PLANILHA SINTÉTICA'!$A$10:$T$1083,5,0),\"\")","v":9.9619999999999997},{"$f":"IF(ISERROR(VLOOKUP($A48,#REF!,8,0)),0,(VLOOKUP($A48,#REF!,8,0)))","v":0},{"$f":"IF(COUNTA(A48)>0,VLOOKUP($A48,'[8]PLANILHA SINTÉTICA'!$A$9:$AC$1082,15,0),\"\")","v":370.29548599999998},0,82.39,0]
["8.43",{"$f":"IF(COUNTA(#REF!)>0,VLOOKUP($A49,'PLANILHA SINTÉTICA'!$A$10:$T$1083,2,0),\"\")","v":"Fornecimento e instalação de espelho para ESCADA DE ACESSO PRINCIPAL em granito polido Verde Ubatuba com altura de 18cm, conforme detalhe 36/45."},{"$f":"IF(COUNTA(A49)>0,VLOOKUP($A49,'[8]PLANILHA SINTÉTICA'!$A$9:$U$1082,3,0),\"\")","v":"470712-5"},{"$f":"IF(COUNTA(A49)>0,VLOOKUP($A49,'PLANILHA SINTÉTICA'!$A$10:$T$1083,4,0),\"\")","v":93},{"$f":"IF(COUNTA(A49)>0,VLOOKUP($A49,'PLANILHA SINTÉTICA'!$A$10:$T$1083,5,0),\"\")","v":93.000000000000014},{"$f":"IF(ISERROR(VLOOKUP($A49,#REF!,8,0)),0,(VLOOKUP($A49,#REF!,8,0)))","v":0},{"$f":"IF(COUNTA(A49)>0,VLOOKUP($A49,'[8]PLANILHA SINTÉTICA'!$A$9:$AC$1082,15,0),\"\")","v":53.360210000000002},0,11.87,0]
["8.48",{"$f":"IF(COUNTA(#REF!)>0,VLOOKUP($A50,'PLANILHA SINTÉTICA'!$A$10:$T$1083,2,0),\"\")","v":"Fornecimento e instalação de Piso em granito flamejado Verde Ubatuba em placas de 50x50cm com acabamento bizotado de 1cm para RAMPA E ESCADA, conforme detalhe 36/45."},{"$f":"IF(COUNTA(A50)>0,VLOOKUP($A50,'[8]PLANILHA SINTÉTICA'!$A$9:$U$1082,3,0),\"\")","v":"470715-0"},{"$f":"IF(COUNTA(A50)>0,VLOOKUP($A50,'PLANILHA SINTÉTICA'!$A$10:$T$1083,4,0),\"\")","v":98},{"$f":"IF(COUNTA(A50)>0,VLOOKUP($A50,'PLANILHA SINTÉTICA'!$A$10:$T$1083,5,0),\"\")","v":98},{"$f":"IF(ISERROR(VLOOKUP($A50,#REF!,8,0)),0,(VLOOKUP($A50,#REF!,8,0)))","v":0},{"$f":"IF(COUNTA(A50)>0,VLOOKUP($A50,'[8]PLANILHA SINTÉTICA'!$A$9:$AC$1082,15,0),\"\")","v":370.29548599999998},0,82.39,0]
["29.11.01",{"$f":"IF(COUNTA(#REF!)>0,VLOOKUP($A51,'PLANILHA SINTÉTICA'!$A$10:$T$1083,2,0),\"\")","v":"Ponto para tomada estabilizada (computador) em alvenaria/piso, composto por fiação em cabo  AFUMEX, ATOX, AFITOX ou equivalente (Não-Halogenado), isolação 750V., de 4,0mm² eletroduto de PVC rígido de 3/4\", com luva de rosca interna,  curvas e demais acessórios."},{"$f":"IF(COUNTA(A51)>0,VLOOKUP($A51,'[8]PLANILHA SINTÉTICA'!$A$9:$U$1082,3,0),\"\")","v":"470841-5"},{"$f":"IF(COUNTA(A51)>0,VLOOKUP($A51,'PLANILHA SINTÉTICA'!$A$10:$T$1083,4,0),\"\")","v":102},{"$f":"IF(COUNTA(A51)>0,VLOOKUP($A51,'PLANILHA SINTÉTICA'!$A$10:$T$1083,5,0),\"\")","v":102},{"$f":"IF(ISERROR(VLOOKUP($A51,#REF!,8,0)),0,(VLOOKUP($A51,#REF!,8,0)))","v":0},{"$f":"IF(COUNTA(A51)>0,VLOOKUP($A51,'[8]PLANILHA SINTÉTICA'!$A$9:$AC$1082,15,0),\"\")","v":141.32657799999998},0,31.45,0]
["29.11.02",{"$f":"IF(COUNTA(#REF!)>0,VLOOKUP($A52,'PLANILHA SINTÉTICA'!$A$10:$T$1083,2,0),\"\")","v":"Ponto para tomada estabilizada (computador) em Dry-Wall, composto por fiação em cabo de 4,0mm² e eletroduto de PVC rígido de 3/4\",  eletroduto corrugado de 25mm, com luva de rosca interna,  curvas e demais acessórios."},{"$f":"IF(COUNTA(A52)>0,VLOOKUP($A52,'[8]PLANILHA SINTÉTICA'!$A$9:$U$1082,3,0),\"\")","v":"470843-1"},{"$f":"IF(COUNTA(A52)>0,VLOOKUP($A52,'PLANILHA SINTÉTICA'!$A$10:$T$1083,4,0),\"\")","v":143},{"$f":"IF(COUNTA(A52)>0,VLOOKUP($A52,'PLANILHA SINTÉTICA'!$A$10:$T$1083,5,0),\"\")","v":143},{"$f":"IF(ISERROR(VLOOKUP($A52,#REF!,8,0)),0,(VLOOKUP($A52,#REF!,8,0)))","v":0},{"$f":"IF(COUNTA(A52)>0,VLOOKUP($A52,'[8]PLANILHA SINTÉTICA'!$A$9:$AC$1082,15,0),\"\")","v":147.20879600000001},0,32.75,0]
["29.11.16",{"$f":"IF(COUNTA(#REF!)>0,VLOOKUP($A53,'PLANILHA SINTÉTICA'!$A$10:$T$1083,2,0),\"\")","v":"Quadro de distribuição metálico de sobrepor, em chapa 16 BWG, para 8 circuitos monopolares padrão DIN, com barra de neutro e terra, com porta e trinco, Cemar ou equivalente,  inclusive instalação conforme projeto."},{"$f":"IF(COUNTA(A53)>0,VLOOKUP($A53,'[8]PLANILHA SINTÉTICA'!$A$9:$U$1082,3,0),\"\")","v":"471384-2"},{"$f":"IF(COUNTA(A53)>0,VLOOKUP($A53,'PLANILHA SINTÉTICA'!$A$10:$T$1083,4,0),\"\")","v":4},{"$f":"IF(COUNTA(A53)>0,VLOOKUP($A53,'PLANILHA SINTÉTICA'!$A$10:$T$1083,5,0),\"\")","v":3},{"$f":"IF(ISERROR(VLOOKUP($A53,#REF!,8,0)),0,(VLOOKUP($A53,#REF!,8,0)))","v":0},{"$f":"IF(COUNTA(A53)>0,VLOOKUP($A53,'[8]PLANILHA SINTÉTICA'!$A$9:$AC$1082,15,0),\"\")","v":264.27702399999998},0,58.8,0]
["29.07.09",{"$f":"IF(COUNTA(#REF!)>0,VLOOKUP($A54,'PLANILHA SINTÉTICA'!$A$10:$T$1083,2,0),\"\")","v":"Cabo paralelo em fio de cobre, isolamento em PVC - 70 C,de 2x1,5 mm² para instalação do sistema de som, inclusive instalação em eletroduto/eletrocalha."},{"$f":"IF(COUNTA(A54)>0,VLOOKUP($A54,'[8]PLANILHA SINTÉTICA'!$A$9:$U$1082,3,0),\"\")","v":"471409-1"},{"$f":"IF(COUNTA(A54)>0,VLOOKUP($A54,'PLANILHA SINTÉTICA'!$A$10:$T$1083,4,0),\"\")","v":317},{"$f":"IF(COUNTA(A54)>0,VLOOKUP($A54,'PLANILHA SINTÉTICA'!$A$10:$T$1083,5,0),\"\")","v":264},{"$f":"IF(ISERROR(VLOOKUP($A54,#REF!,8,0)),0,(VLOOKUP($A54,#REF!,8,0)))","v":0},{"$f":"IF(COUNTA(A54)>0,VLOOKUP($A54,'[8]PLANILHA SINTÉTICA'!$A$9:$AC$1082,15,0),\"\")","v":4.4115479999999998},0,0.98,0]
["29.12.08",{"$f":"IF(COUNTA(#REF!)>0,VLOOKUP($A55,'PLANILHA SINTÉTICA'!$A$10:$T$1083,2,0),\"\")","v":"Quadro de distribuição metálico de sobrepor, em chapa 16 BWG, para 16circuitos monopolares padrão DIN, com barra de neutro e terra, com porta e trinco, Cemar ou equivalente,  inclusive instalação conforme projeto."},{"$f":"IF(COUNTA(A55)>0,VLOOKUP($A55,'[8]PLANILHA SINTÉTICA'!$A$9:$U$1082,3,0),\"\")","v":"472784-3"},{"$f":"IF(COUNTA(A55)>0,VLOOKUP($A55,'PLANILHA SINTÉTICA'!$A$10:$T$1083,4,0),\"\")","v":1},{"$f":"IF(COUNTA(A55)>0,VLOOKUP($A55,'PLANILHA SINTÉTICA'!$A$10:$T$1083,5,0),\"\")","v":1},{"$f":"IF(ISERROR(VLOOKUP($A55,#REF!,8,0)),0,(VLOOKUP($A55,#REF!,8,0)))","v":0},{"$f":"IF(COUNTA(A55)>0,VLOOKUP($A55,'[8]PLANILHA SINTÉTICA'!$A$9:$AC$1082,15,0),\"\")","v":313.06159600000001},0,69.66,0]
["10.20",{"$f":"IF(COUNTA(#REF!)>0,VLOOKUP($A56,'PLANILHA SINTÉTICA'!$A$10:$T$1083,2,0),\"\")","v":"Fornecimento e instalação de janela em alumínio anodizado bronze tipo correr, com vidro liso verde, espessura de 6mm, dimensão (14,58x1,70)m - JAV1. (Fachada Frontal - DET 01/36)"},{"$f":"IF(COUNTA(A56)>0,VLOOKUP($A56,'[8]PLANILHA SINTÉTICA'!$A$9:$U$1082,3,0),\"\")","v":"481929-2"},{"$f":"IF(COUNTA(A56)>0,VLOOKUP($A56,'PLANILHA SINTÉTICA'!$A$10:$T$1083,4,0),\"\")","v":12},{"$f":"IF(COUNTA(A56)>0,VLOOKUP($A56,'PLANILHA SINTÉTICA'!$A$10:$T$1083,5,0),\"\")","v":12},{"$f":"IF(ISERROR(VLOOKUP($A56,#REF!,8,0)),0,(VLOOKUP($A56,#REF!,8,0)))","v":0},{"$f":"IF(COUNTA(A56)>0,VLOOKUP($A56,'[8]PLANILHA SINTÉTICA'!$A$9:$AC$1082,15,0),\"\")","v":10987.956266000001},0,2444.8200000000002,0]
["32.25",{"$f":"IF(COUNTA(#REF!)>0,VLOOKUP($A57,'PLANILHA SINTÉTICA'!$A$10:$T$1083,2,0),\"\")","v":"Fornecimento e instalação de dutos em chapa de aço galvanizada bitola nº 24, incluindo acessórios de sustentação. "},{"$f":"IF(COUNTA(A57)>0,VLOOKUP($A57,'[8]PLANILHA SINTÉTICA'!$A$9:$U$1082,3,0),\"\")","v":"484196-4"},{"$f":"IF(COUNTA(A57)>0,VLOOKUP($A57,'PLANILHA SINTÉTICA'!$A$10:$T$1083,4,0),\"\")","v":432.29},{"$f":"IF(COUNTA(A57)>0,VLOOKUP($A57,'PLANILHA SINTÉTICA'!$A$10:$T$1083,5,0),\"\")","v":432.29},{"$f":"IF(ISERROR(VLOOKUP($A57,#REF!,8,0)),0,(VLOOKUP($A57,#REF!,8,0)))","v":0},{"$f":"IF(COUNTA(A57)>0,VLOOKUP($A57,'[8]PLANILHA SINTÉTICA'!$A$9:$AC$1082,15,0),\"\")","v":49.695824000000002},0,11.06,0]
["32.26",{"$f":"IF(COUNTA(#REF!)>0,VLOOKUP($A58,'PLANILHA SINTÉTICA'!$A$10:$T$1083,2,0),\"\")","v":"Fornecimento e instalação de dutos em chapa de aço galvanizada bitola nº 26, incluindo acessórios de sustentação. "},{"$f":"IF(COUNTA(A58)>0,VLOOKUP($A58,'[8]PLANILHA SINTÉTICA'!$A$9:$U$1082,3,0),\"\")","v":"484197-2"},{"$f":"IF(COUNTA(A58)>0,VLOOKUP($A58,'PLANILHA SINTÉTICA'!$A$10:$T$1083,4,0),\"\")","v":570.30999999999995},{"$f":"IF(COUNTA(A58)>0,VLOOKUP($A58,'PLANILHA SINTÉTICA'!$A$10:$T$1083,5,0),\"\")","v":570.30999999999995},{"$f":"IF(ISERROR(VLOOKUP($A58,#REF!,8,0)),0,(VLOOKUP($A58,#REF!,8,0)))","v":0},{"$f":"IF(COUNTA(A58)>0,VLOOKUP($A58,'[8]PLANILHA SINTÉTICA'!$A$9:$AC$1082,15,0),\"\")","v":39.021975999999995},0,8.68,0]
[null,null,null,null,null,null,"TOTAL DA 49ª MEDIÇÃO",{"$f":"SUM(H8:H58)","v":0},"Reajuste obra",{"$f":"SUM(J8:J58)","v":0},"Reajuste Equip.",{"$f":"SUM(L8:L58)","v":0}]
[null,null,null,null,null,null,null,null,"TOTAL DO REAJUSTE ",{"$f":"J59+L59","v":0}]

{"sheet":"REEQUILÍBRIO 50ª","index":2,"n_rows":109,"n_cols":12,"rows_kept":109,"cut":false,"hidden":true,"merged":[[107,12,107,13],[108,9,108,10],[108,12,108,13],[109,12,109,13],[0,8,3,11],[5,8,5,9],[5,10,5,11],[3,1,3,3],[3,6,3,7],[5,0,6,0],[5,1,6,1],[5,2,6,2],[5,3,6,3],[5,4,6,4],[5,5,6,5],[5,6,5,7],[0,1,0,3],[0,6,0,7],[1,1,1,3],[1,6,1,7],[2,1,2,3],[2,6,2,7]]}
["  '","PODER JUDICIÁRIO",null,null,null,"Obra:",{"$f":"#REF!","v":{"$error":"#REF!"}},null,"REEQUILÍBRIO ECONÔMICO FINANCEIRO DA 49ª MEDIÇÃO CONFORME O 7º TA."]
[null,"TRIBUNAL DE JUSTIÇA DE PERNAMBUCO",null,null,null,"Local:",{"$f":"#REF!","v":{"$error":"#REF!"}}]
[null,"DIRETORIA DE ENGENHARIA E ARQUITETURA",null,null,null,"Contrato:",{"$f":"#REF!","v":{"$error":"#REF!"}}]
[null,"PLANILHA PARA LIQUIDAÇÃO - 49ª MEDIÇÃO ",null,null,null,"Contratada:",{"$f":"#REF!","v":{"$error":"#REF!"}}]
[null,null,null,null,null,null,"DATA:","2022-02-10","REEQUILIBRIO",null,"REEQUILIBRIO"]
["Item","Código","Cód. Efisco","Discriminação/especificação dos serviços","UNID","QUANT","SERVIÇO",null,"OBRA",null,"EQUIPAMENTO"]
[null,null,null,null,null,null,"P. UNIT.","P. PARCIAL","P. UNIT.","P. PARCIAL","P. UNIT.","P. PARCIAL"]
["1.2",{"$f":"IF(COUNTA(#REF!)>0,VLOOKUP($A8,'PLANILHA SINTÉTICA'!$A$10:$T$1083,2,0),\"\")","v":"Administração local pelo período da obra."},{"$f":"IF(COUNTA(A8)>0,VLOOKUP($A8,'[8]PLANILHA SINTÉTICA'!$A$9:$U$1082,3,0),\"\")","v":"401010-8"},{"$f":"IF(COUNTA(A8)>0,VLOOKUP($A8,'PLANILHA SINTÉTICA'!$A$10:$T$1083,4,0),\"\")","v":18},{"$f":"IF(COUNTA(A8)>0,VLOOKUP($A8,'PLANILHA SINTÉTICA'!$A$10:$T$1083,5,0),\"\")","v":17.836600000000001},{"$f":"IF(ISERROR(VLOOKUP($A8,#REF!,8,0)),0,(VLOOKUP($A8,#REF!,8,0)))","v":0},{"$f":"IF(COUNTA(A8)>0,VLOOKUP($A8,'[8]PLANILHA SINTÉTICA'!$A$9:$AC$1082,15,0),\"\")","v":124499.82467999999},{"$f":"ROUND(G8*F8,2)","v":0}]
["1.25",{"$f":"IF(COUNTA(#REF!)>0,VLOOKUP($A9,'PLANILHA SINTÉTICA'!$A$10:$T$1083,2,0),\"\")","v":"Desmontagem de andaimes do tipo fachadeiro inclusive carregamento, descarregamento e transporte posto/obra"},{"$f":"IF(COUNTA(A9)>0,VLOOKUP($A9,'[8]PLANILHA SINTÉTICA'!$A$9:$U$1082,3,0),\"\")","v":"411687-9"},{"$f":"IF(COUNTA(A9)>0,VLOOKUP($A9,'PLANILHA SINTÉTICA'!$A$10:$T$1083,4,0),\"\")","v":3784},{"$f":"IF(COUNTA(A9)>0,VLOOKUP($A9,'PLANILHA SINTÉTICA'!$A$10:$T$1083,5,0),\"\")","v":3783.9999999999991},{"$f":"IF(ISERROR(VLOOKUP($A9,#REF!,8,0)),0,(VLOOKUP($A9,#REF!,8,0)))","v":0},{"$f":"IF(COUNTA(A9)>0,VLOOKUP($A9,'[8]PLANILHA SINTÉTICA'!$A$9:$AC$1082,15,0),\"\")","v":2.84876},0]
["5.4",{"$f":"IF(COUNTA(#REF!)>0,VLOOKUP($A10,'PLANILHA SINTÉTICA'!$A$10:$T$1083,2,0),\"\")","v":"Porcelanato Bianco polido, 62,5x62,5cm Elizabeth ou equivalente, assentadas com argamassa colante AC III Quartzolit ou equivalente e rejuntadas com argamassa de rejuntamento flexível Quartzolit ou equivalente."},{"$f":"IF(COUNTA(A10)>0,VLOOKUP($A10,'[8]PLANILHA SINTÉTICA'!$A$9:$U$1082,3,0),\"\")","v":"428759-2"},{"$f":"IF(COUNTA(A10)>0,VLOOKUP($A10,'PLANILHA SINTÉTICA'!$A$10:$T$1083,4,0),\"\")","v":2463},{"$f":"IF(COUNTA(A10)>0,VLOOKUP($A10,'PLANILHA SINTÉTICA'!$A$10:$T$1083,5,0),\"\")","v":2189.4114000000004},{"$f":"IF(ISERROR(VLOOKUP($A10,#REF!,8,0)),0,(VLOOKUP($A10,#REF!,8,0)))","v":0},{"$f":"IF(COUNTA(A10)>0,VLOOKUP($A10,'[8]PLANILHA SINTÉTICA'!$A$9:$AC$1082,15,0),\"\")","v":70.864784},0]
["7.3",{"$f":"IF(COUNTA(#REF!)>0,VLOOKUP($A11,'PLANILHA SINTÉTICA'!$A$10:$T$1083,2,0),\"\")","v":"Fornecimento e assentamento de piso tátil DIRECIONAL em lajota de concreto, com dimensões (0,25x0,25)m, aplicado sobre lastro de concreto 1:4:8 com 5cm de espessura, inclusive execução de lastro."},{"$f":"IF(COUNTA(A11)>0,VLOOKUP($A11,'[8]PLANILHA SINTÉTICA'!$A$9:$U$1082,3,0),\"\")","v":"428691-0"},{"$f":"IF(COUNTA(A11)>0,VLOOKUP($A11,'PLANILHA SINTÉTICA'!$A$10:$T$1083,4,0),\"\")","v":1.3},{"$f":"IF(COUNTA(A11)>0,VLOOKUP($A11,'PLANILHA SINTÉTICA'!$A$10:$T$1083,5,0),\"\")","v":1.3},{"$f":"IF(ISERROR(VLOOKUP($A11,#REF!,8,0)),0,(VLOOKUP($A11,#REF!,8,0)))","v":0},{"$f":"IF(COUNTA(A11)>0,VLOOKUP($A11,'[8]PLANILHA SINTÉTICA'!$A$9:$AC$1082,15,0),\"\")","v":106.812894},0]
["7.4",{"$f":"IF(COUNTA(#REF!)>0,VLOOKUP($A12,'PLANILHA SINTÉTICA'!$A$10:$T$1083,2,0),\"\")","v":"Fornecimento e assentamento de piso tátil de ALERTA em lajota de concreto, com dimensões (0,25x0,25)m, aplicado sobre lastro de concreto 1:4:8 com 5cm de espessura, inclusive execução de lastro."},{"$f":"IF(COUNTA(A12)>0,VLOOKUP($A12,'[8]PLANILHA SINTÉTICA'!$A$9:$U$1082,3,0),\"\")","v":"428692-8"},{"$f":"IF(COUNTA(A12)>0,VLOOKUP($A12,'PLANILHA SINTÉTICA'!$A$10:$T$1083,4,0),\"\")","v":7.3},{"$f":"IF(COUNTA(A12)>0,VLOOKUP($A12,'PLANILHA SINTÉTICA'!$A$10:$T$1083,5,0),\"\")","v":7.3},{"$f":"IF(ISERROR(VLOOKUP($A12,#REF!,8,0)),0,(VLOOKUP($A12,#REF!,8,0)))","v":0},{"$f":"IF(COUNTA(A12)>0,VLOOKUP($A12,'[8]PLANILHA SINTÉTICA'!$A$9:$AC$1082,15,0),\"\")","v":106.812894},0]
["8.41",{"$f":"IF(COUNTA(#REF!)>0,VLOOKUP($A13,'PLANILHA SINTÉTICA'!$A$10:$T$1083,2,0),\"\")","v":"Fornecimento e assentamento de  DIVIBOX em granito Verde Ubatuba medindo 7cm de altura e 4cm de espessura. "},{"$f":"IF(COUNTA(A13)>0,VLOOKUP($A13,'[8]PLANILHA SINTÉTICA'!$A$9:$U$1082,3,0),\"\")","v":"470735-4"},{"$f":"IF(COUNTA(A13)>0,VLOOKUP($A13,'PLANILHA SINTÉTICA'!$A$10:$T$1083,4,0),\"\")","v":4.8},{"$f":"IF(COUNTA(A13)>0,VLOOKUP($A13,'PLANILHA SINTÉTICA'!$A$10:$T$1083,5,0),\"\")","v":4.8},{"$f":"IF(ISERROR(VLOOKUP($A13,#REF!,8,0)),0,(VLOOKUP($A13,#REF!,8,0)))","v":0},{"$f":"IF(COUNTA(A13)>0,VLOOKUP($A13,'[8]PLANILHA SINTÉTICA'!$A$9:$AC$1082,15,0),\"\")","v":48.792388000000003},0]
["8.43",{"$f":"IF(COUNTA(#REF!)>0,VLOOKUP($A14,'PLANILHA SINTÉTICA'!$A$10:$T$1083,2,0),\"\")","v":"Fornecimento e instalação de espelho para ESCADA DE ACESSO PRINCIPAL em granito polido Verde Ubatuba com altura de 18cm, conforme detalhe 36/45."},{"$f":"IF(COUNTA(A14)>0,VLOOKUP($A14,'[8]PLANILHA SINTÉTICA'!$A$9:$U$1082,3,0),\"\")","v":"470712-5"},{"$f":"IF(COUNTA(A14)>0,VLOOKUP($A14,'PLANILHA SINTÉTICA'!$A$10:$T$1083,4,0),\"\")","v":93},{"$f":"IF(COUNTA(A14)>0,VLOOKUP($A14,'PLANILHA SINTÉTICA'!$A$10:$T$1083,5,0),\"\")","v":93.000000000000014},{"$f":"IF(ISERROR(VLOOKUP($A14,#REF!,8,0)),0,(VLOOKUP($A14,#REF!,8,0)))","v":0},{"$f":"IF(COUNTA(A14)>0,VLOOKUP($A14,'[8]PLANILHA SINTÉTICA'!$A$9:$AC$1082,15,0),\"\")","v":53.360210000000002},0]
["9.3",{"$f":"IF(COUNTA(#REF!)>0,VLOOKUP($A15,'PLANILHA SINTÉTICA'!$A$10:$T$1083,2,0),\"\")","v":"Aplicação manual de pintura com tinta látex acrílica em paredes na cor branco neve, duas demãos. "},{"$f":"IF(COUNTA(A15)>0,VLOOKUP($A15,'[8]PLANILHA SINTÉTICA'!$A$9:$U$1082,3,0),\"\")","v":"432006-9"},{"$f":"IF(COUNTA(A15)>0,VLOOKUP($A15,'PLANILHA SINTÉTICA'!$A$10:$T$1083,4,0),\"\")","v":9217},{"$f":"IF(COUNTA(A15)>0,VLOOKUP($A15,'PLANILHA SINTÉTICA'!$A$10:$T$1083,5,0),\"\")","v":7833.9800000000005},{"$f":"IF(ISERROR(VLOOKUP($A15,#REF!,8,0)),0,(VLOOKUP($A15,#REF!,8,0)))","v":0},{"$f":"IF(COUNTA(A15)>0,VLOOKUP($A15,'[8]PLANILHA SINTÉTICA'!$A$9:$AC$1082,15,0),\"\")","v":8.2794819999999998},0]
["9.8",{"$f":"IF(COUNTA(#REF!)>0,VLOOKUP($A16,'PLANILHA SINTÉTICA'!$A$10:$T$1083,2,0),\"\")","v":"Pintura acrílica de faixas de demarcação, 10 cm de largura (estacionamento)."},{"$f":"IF(COUNTA(A16)>0,VLOOKUP($A16,'[8]PLANILHA SINTÉTICA'!$A$9:$U$1082,3,0),\"\")","v":"469734-0"},{"$f":"IF(COUNTA(A16)>0,VLOOKUP($A16,'PLANILHA SINTÉTICA'!$A$10:$T$1083,4,0),\"\")","v":402},{"$f":"IF(COUNTA(A16)>0,VLOOKUP($A16,'PLANILHA SINTÉTICA'!$A$10:$T$1083,5,0),\"\")","v":402},{"$f":"IF(ISERROR(VLOOKUP($A16,#REF!,8,0)),0,(VLOOKUP($A16,#REF!,8,0)))","v":0},{"$f":"IF(COUNTA(A16)>0,VLOOKUP($A16,'[8]PLANILHA SINTÉTICA'!$A$9:$AC$1082,15,0),\"\")","v":14.433002},0]
["10.1",{"$f":"IF(COUNTA(#REF!)>0,VLOOKUP($A17,'PLANILHA SINTÉTICA'!$A$10:$T$1083,2,0),\"\")","v":"Fornecimento e instalação de esquadrias tipo \"PELE DE VIDRO\", em alumínio anodizado cor bronze, com vidro laminado refletivo 6mm na cor verde, composta por painéis fixos e painéis de abrir tipo maximar, inclusive fechos e braços articulados em alumínio anodizado bronze, conforme projetos. (EPV1)"},{"$f":"IF(COUNTA(A17)>0,VLOOKUP($A17,'[8]PLANILHA SINTÉTICA'!$A$9:$U$1082,3,0),\"\")","v":"464030-6"},{"$f":"IF(COUNTA(A17)>0,VLOOKUP($A17,'PLANILHA SINTÉTICA'!$A$10:$T$1083,4,0),\"\")","v":292},{"$f":"IF(COUNTA(A17)>0,VLOOKUP($A17,'PLANILHA SINTÉTICA'!$A$10:$T$1083,5,0),\"\")","v":292},{"$f":"IF(ISERROR(VLOOKUP($A17,#REF!,8,0)),0,(VLOOKUP($A17,#REF!,8,0)))","v":0},{"$f":"IF(COUNTA(A17)>0,VLOOKUP($A17,'[8]PLANILHA SINTÉTICA'!$A$9:$AC$1082,15,0),\"\")","v":1052.222988},0,{"$f":"G17*91.67%","v":964.57281309960001},{"$f":"ROUND(F17*I17,2)","v":0}]
["10.10",{"$f":"IF(COUNTA(#REF!)>0,VLOOKUP($A18,'PLANILHA SINTÉTICA'!$A$10:$T$1083,2,0),\"\")","v":"Fornecimento e assentamento de Porta em esquadria de vidro temperado verde (PVT1), espessura 10mm, com duas folhas de abrir 1,15mx2,10m cada folha, inclusive ferragens, conforme detalhe. (Salão do Júri, auditório e espera -vara infância)"},{"$f":"IF(COUNTA(A18)>0,VLOOKUP($A18,'[8]PLANILHA SINTÉTICA'!$A$9:$U$1082,3,0),\"\")","v":"470832-6"},{"$f":"IF(COUNTA(A18)>0,VLOOKUP($A18,'PLANILHA SINTÉTICA'!$A$10:$T$1083,4,0),\"\")","v":3},{"$f":"IF(COUNTA(A18)>0,VLOOKUP($A18,'PLANILHA SINTÉTICA'!$A$10:$T$1083,5,0),\"\")","v":3},{"$f":"IF(ISERROR(VLOOKUP($A18,#REF!,8,0)),0,(VLOOKUP($A18,#REF!,8,0)))","v":0},{"$f":"IF(COUNTA(A18)>0,VLOOKUP($A18,'[8]PLANILHA SINTÉTICA'!$A$9:$AC$1082,15,0),\"\")","v":2842.9076719999998},0]
["10.16",{"$f":"IF(COUNTA(#REF!)>0,VLOOKUP($A19,'PLANILHA SINTÉTICA'!$A$10:$T$1083,2,0),\"\")","v":"Fornecimento e assentamento de Porta (PA5) em esquadria de alumínio anodizado bronze com venezianas industriais, de giro com uma folha dim (0,60x2,10m). (Laje condensadores)"},{"$f":"IF(COUNTA(A19)>0,VLOOKUP($A19,'[8]PLANILHA SINTÉTICA'!$A$9:$U$1082,3,0),\"\")","v":"470835-0"},{"$f":"IF(COUNTA(A19)>0,VLOOKUP($A19,'PLANILHA SINTÉTICA'!$A$10:$T$1083,4,0),\"\")","v":3},{"$f":"IF(COUNTA(A19)>0,VLOOKUP($A19,'PLANILHA SINTÉTICA'!$A$10:$T$1083,5,0),\"\")","v":3},{"$f":"IF(ISERROR(VLOOKUP($A19,#REF!,8,0)),0,(VLOOKUP($A19,#REF!,8,0)))","v":0},{"$f":"IF(COUNTA(A19)>0,VLOOKUP($A19,'[8]PLANILHA SINTÉTICA'!$A$9:$AC$1082,15,0),\"\")","v":809.82498999999996},0,{"$f":"G19*81.35%","v":658.79262936499993},{"$f":"ROUND(F19*I19,2)","v":0}]
["10.22",{"$f":"IF(COUNTA(#REF!)>0,VLOOKUP($A20,'PLANILHA SINTÉTICA'!$A$10:$T$1083,2,0),\"\")","v":"Fornecimento e instalação de janela em alumínio anodizado bronze tipo correr, com vidro liso verde, espessura de 6mm, dimensão (7,28x1,70)m - JAV3. (Laje para condensadores - DET 02/36)"},{"$f":"IF(COUNTA(A20)>0,VLOOKUP($A20,'[8]PLANILHA SINTÉTICA'!$A$9:$U$1082,3,0),\"\")","v":"481936-5"},{"$f":"IF(COUNTA(A20)>0,VLOOKUP($A20,'PLANILHA SINTÉTICA'!$A$10:$T$1083,4,0),\"\")","v":1},{"$f":"IF(COUNTA(A20)>0,VLOOKUP($A20,'PLANILHA SINTÉTICA'!$A$10:$T$1083,5,0),\"\")","v":1},{"$f":"IF(ISERROR(VLOOKUP($A20,#REF!,8,0)),0,(VLOOKUP($A20,#REF!,8,0)))","v":0},{"$f":"IF(COUNTA(A20)>0,VLOOKUP($A20,'[8]PLANILHA SINTÉTICA'!$A$9:$AC$1082,15,0),\"\")","v":5692.6858579999998},0,4630.9999454829995,0]
["10.23",{"$f":"IF(COUNTA(#REF!)>0,VLOOKUP($A21,'PLANILHA SINTÉTICA'!$A$10:$T$1083,2,0),\"\")","v":"Fornecimento e instalação de janela com porta de alumínio anodizado bronze tipo correr, com vidro liso verde, espessura de 6mm, dimensão (6,05x1,70)m e (1,23x2,80)m - JAV3. (Laje condensadores - DET 03/36)"},{"$f":"IF(COUNTA(A21)>0,VLOOKUP($A21,'[8]PLANILHA SINTÉTICA'!$A$9:$U$1082,3,0),\"\")","v":"482907-7"},{"$f":"IF(COUNTA(A21)>0,VLOOKUP($A21,'PLANILHA SINTÉTICA'!$A$10:$T$1083,4,0),\"\")","v":3},{"$f":"IF(COUNTA(A21)>0,VLOOKUP($A21,'PLANILHA SINTÉTICA'!$A$10:$T$1083,5,0),\"\")","v":3},{"$f":"IF(ISERROR(VLOOKUP($A21,#REF!,8,0)),0,(VLOOKUP($A21,#REF!,8,0)))","v":0},{"$f":"IF(COUNTA(A21)>0,VLOOKUP($A21,'[8]PLANILHA SINTÉTICA'!$A$9:$AC$1082,15,0),\"\")","v":5947.7388760000003},0,4838.4855756259994,0]
["10.24",{"$f":"IF(COUNTA(#REF!)>0,VLOOKUP($A22,'PLANILHA SINTÉTICA'!$A$10:$T$1083,2,0),\"\")","v":"Fornecimento e instalação de janela em alumínio anodizado bronze tipo correr, com vidro liso verde, espessura de 6mm, dimensão (6,96x1,70)m - JAV4. (Laje condensadores - DET 03/36)"},{"$f":"IF(COUNTA(A22)>0,VLOOKUP($A22,'[8]PLANILHA SINTÉTICA'!$A$9:$U$1082,3,0),\"\")","v":"481937-3"},{"$f":"IF(COUNTA(A22)>0,VLOOKUP($A22,'PLANILHA SINTÉTICA'!$A$10:$T$1083,4,0),\"\")","v":4},{"$f":"IF(COUNTA(A22)>0,VLOOKUP($A22,'PLANILHA SINTÉTICA'!$A$10:$T$1083,5,0),\"\")","v":4},{"$f":"IF(ISERROR(VLOOKUP($A22,#REF!,8,0)),0,(VLOOKUP($A22,#REF!,8,0)))","v":0},{"$f":"IF(COUNTA(A22)>0,VLOOKUP($A22,'[8]PLANILHA SINTÉTICA'!$A$9:$AC$1082,15,0),\"\")","v":5337.887436},0,4342.3714291859997,0]
["10.29",{"$f":"IF(COUNTA(#REF!)>0,VLOOKUP($A23,'PLANILHA SINTÉTICA'!$A$10:$T$1083,2,0),\"\")","v":"Fornecimento e instalação de janela em alumínio anodizado bronze tipo correr, com vidro liso verde, espessura de 6mm, dimensão (5,13x1,70 + 1,30x2,80)m - JAV9. (Laje condensadores - DET 08/36)"},{"$f":"IF(COUNTA(A23)>0,VLOOKUP($A23,'[8]PLANILHA SINTÉTICA'!$A$9:$U$1082,3,0),\"\")","v":"482906-9"},{"$f":"IF(COUNTA(A23)>0,VLOOKUP($A23,'PLANILHA SINTÉTICA'!$A$10:$T$1083,4,0),\"\")","v":3},{"$f":"IF(COUNTA(A23)>0,VLOOKUP($A23,'PLANILHA SINTÉTICA'!$A$10:$T$1083,5,0),\"\")","v":3},{"$f":"IF(ISERROR(VLOOKUP($A23,#REF!,8,0)),0,(VLOOKUP($A23,#REF!,8,0)))","v":0},{"$f":"IF(COUNTA(A23)>0,VLOOKUP($A23,'[8]PLANILHA SINTÉTICA'!$A$9:$AC$1082,15,0),\"\")","v":4024.8026900000004},0,3274.176988315,0]
["10.30",{"$f":"IF(COUNTA(#REF!)>0,VLOOKUP($A24,'PLANILHA SINTÉTICA'!$A$10:$T$1083,2,0),\"\")","v":"Fornecimento e instalação de janela em alumínio anodizado bronze tipo correr, com vidro liso verde, espessura de 6mm, dimensão (6,75x1,70)m - JAV10. (Laje condensadores - DET 09/36)"},{"$f":"IF(COUNTA(A24)>0,VLOOKUP($A24,'[8]PLANILHA SINTÉTICA'!$A$9:$U$1082,3,0),\"\")","v":"481941-1"},{"$f":"IF(COUNTA(A24)>0,VLOOKUP($A24,'PLANILHA SINTÉTICA'!$A$10:$T$1083,4,0),\"\")","v":3},{"$f":"IF(COUNTA(A24)>0,VLOOKUP($A24,'PLANILHA SINTÉTICA'!$A$10:$T$1083,5,0),\"\")","v":3},{"$f":"IF(ISERROR(VLOOKUP($A24,#REF!,8,0)),0,(VLOOKUP($A24,#REF!,8,0)))","v":0},{"$f":"IF(COUNTA(A24)>0,VLOOKUP($A24,'[8]PLANILHA SINTÉTICA'!$A$9:$AC$1082,15,0),\"\")","v":5098.7317920000005},0,4147.8183127920001,0]
["11.1",{"$f":"IF(COUNTA(#REF!)>0,VLOOKUP($A25,'PLANILHA SINTÉTICA'!$A$10:$T$1083,2,0),\"\")","v":"Fornecimento e instalação de Gradil externo Eletrogradi Sitela ou equivalente, cor verde, conforme detalhe. (Entrada PRINCIPAL)"},{"$f":"IF(COUNTA(A25)>0,VLOOKUP($A25,'[8]PLANILHA SINTÉTICA'!$A$9:$U$1082,3,0),\"\")","v":"460845-3"},{"$f":"IF(COUNTA(A25)>0,VLOOKUP($A25,'PLANILHA SINTÉTICA'!$A$10:$T$1083,4,0),\"\")","v":137},{"$f":"IF(COUNTA(A25)>0,VLOOKUP($A25,'PLANILHA SINTÉTICA'!$A$10:$T$1083,5,0),\"\")","v":136.18},{"$f":"IF(ISERROR(VLOOKUP($A25,#REF!,8,0)),0,(VLOOKUP($A25,#REF!,8,0)))","v":0},{"$f":"IF(COUNTA(A25)>0,VLOOKUP($A25,'[8]PLANILHA SINTÉTICA'!$A$9:$AC$1082,15,0),\"\")","v":232.94678199999998},0]
["11.4",{"$f":"IF(COUNTA(#REF!)>0,VLOOKUP($A26,'PLANILHA SINTÉTICA'!$A$10:$T$1083,2,0),\"\")","v":"Fornecimento e instalação de PORTÃO pivotante para acesso PEDESTRES, medindo (5,10x2,11)m, com arame em aço MTC, camada de zinco, revestimento em Poliéster aplicado eletrostaticamente com camadas de 100 a 200 micons, montantes em tubo industrial com pintura eletrostática cor verde, referência Eletrogradi - da SITELA ou equivalente da BELGO modelo Nylofor 3D, conforme detalhe 33/45."},{"$f":"IF(COUNTA(A26)>0,VLOOKUP($A26,'[8]PLANILHA SINTÉTICA'!$A$9:$U$1082,3,0),\"\")","v":"461085-7"},{"$f":"IF(COUNTA(A26)>0,VLOOKUP($A26,'PLANILHA SINTÉTICA'!$A$10:$T$1083,4,0),\"\")","v":1},{"$f":"IF(COUNTA(A26)>0,VLOOKUP($A26,'PLANILHA SINTÉTICA'!$A$10:$T$1083,5,0),\"\")","v":1},{"$f":"IF(ISERROR(VLOOKUP($A26,#REF!,8,0)),0,(VLOOKUP($A26,#REF!,8,0)))","v":0},{"$f":"IF(COUNTA(A26)>0,VLOOKUP($A26,'[8]PLANILHA SINTÉTICA'!$A$9:$AC$1082,15,0),\"\")","v":3737.9800380000001},0]
["11.5",{"$f":"IF(COUNTA(#REF!)>0,VLOOKUP($A27,'PLANILHA SINTÉTICA'!$A$10:$T$1083,2,0),\"\")","v":"Fornecimento e assentamento de grade de proteção em ferro (Janelas), com barra chata 1\" x 1/8\", formando quadros com espaçamento = 15cm e moldura de contorno em barra chata de 1\" x 1/4\", pintados com zarcão ou antiferrugem, conforme detalhe. (Chumbadas por dentro do fórum)."},{"$f":"IF(COUNTA(A27)>0,VLOOKUP($A27,'[8]PLANILHA SINTÉTICA'!$A$9:$U$1082,3,0),\"\")","v":"461601-4"},{"$f":"IF(COUNTA(A27)>0,VLOOKUP($A27,'PLANILHA SINTÉTICA'!$A$10:$T$1083,4,0),\"\")","v":105},{"$f":"IF(COUNTA(A27)>0,VLOOKUP($A27,'PLANILHA SINTÉTICA'!$A$10:$T$1083,5,0),\"\")","v":100.78},{"$f":"IF(ISERROR(VLOOKUP($A27,#REF!,8,0)),0,(VLOOKUP($A27,#REF!,8,0)))","v":0},{"$f":"IF(COUNTA(A27)>0,VLOOKUP($A27,'[8]PLANILHA SINTÉTICA'!$A$9:$AC$1082,15,0),\"\")","v":299.02074400000004},0]
["12.1",{"$f":"IF(COUNTA(#REF!)>0,VLOOKUP($A28,'PLANILHA SINTÉTICA'!$A$10:$T$1083,2,0),\"\")","v":"Fornecimento e instalação de corrimão em aço inox AISI 304, escovado, composto de guarda corpo com diâmetro de 1 1/2\" e altura em relação ao piso de 1,10m; corrimãos com diâmetro de 1 1/2\", com alturas em relação ao piso de 0,92m e 0,70m; longarinas intermediárias com diâmetro de 1/2\", com alturas em relação ao piso de 0,44m e 0,25m; balaústre de aço inox com diâmetro de 1 1/2\", fixado no piso com roseta em aço inox nas dimensões 5\" x 1/8\" e chumbador metálico tipo UR 6mm, conforme detalhes de arquitetura-Prancha 19/46. (Rampa e escada principal)- CORRIMÃO INOX PISO - TIPO 1."},{"$f":"IF(COUNTA(A28)>0,VLOOKUP($A28,'[8]PLANILHA SINTÉTICA'!$A$9:$U$1082,3,0),\"\")","v":"460716-3"},{"$f":"IF(COUNTA(A28)>0,VLOOKUP($A28,'PLANILHA SINTÉTICA'!$A$10:$T$1083,4,0),\"\")","v":78},{"$f":"IF(COUNTA(A28)>0,VLOOKUP($A28,'PLANILHA SINTÉTICA'!$A$10:$T$1083,5,0),\"\")","v":68.7},{"$f":"IF(ISERROR(VLOOKUP($A28,#REF!,8,0)),0,(VLOOKUP($A28,#REF!,8,0)))","v":0},{"$f":"IF(COUNTA(A28)>0,VLOOKUP($A28,'[8]PLANILHA SINTÉTICA'!$A$9:$AC$1082,15,0),\"\")","v":422.873988},0]
["12.3",{"$f":"IF(COUNTA(#REF!)>0,VLOOKUP($A29,'PLANILHA SINTÉTICA'!$A$10:$T$1083,2,0),\"\")","v":"Fornecimento e instalação de Corrimão em aço inox escovado, composto por guarda corpo com diâmetro de 1 e 1/2\", longarinas intermediárias com diâmetro de 1/2\", e corrimão duplo (NOS DOIS LADOS DO GUARDA CORPO) com diâmetro de 1 e 1/2\". Altura do guarda corpo de 1,10m e do corrimão duplo de 0,92m (parte superior) e 0,70m (parte inferior). Balaústres com diâmetro de 1 e 1/2\", fixados ao chão com roseta de fixação. Detalhe 18/46 Escada de acesso principal. CORRIMÃO INOX PISO - TIPO 3."},{"$f":"IF(COUNTA(A29)>0,VLOOKUP($A29,'[8]PLANILHA SINTÉTICA'!$A$9:$U$1082,3,0),\"\")","v":"476429-3"},{"$f":"IF(COUNTA(A29)>0,VLOOKUP($A29,'PLANILHA SINTÉTICA'!$A$10:$T$1083,4,0),\"\")","v":3},{"$f":"IF(COUNTA(A29)>0,VLOOKUP($A29,'PLANILHA SINTÉTICA'!$A$10:$T$1083,5,0),\"\")","v":3},{"$f":"IF(ISERROR(VLOOKUP($A29,#REF!,8,0)),0,(VLOOKUP($A29,#REF!,8,0)))","v":0},{"$f":"IF(COUNTA(A29)>0,VLOOKUP($A29,'[8]PLANILHA SINTÉTICA'!$A$9:$AC$1082,15,0),\"\")","v":528.604602},0]
["12.4",{"$f":"IF(COUNTA(#REF!)>0,VLOOKUP($A30,'PLANILHA SINTÉTICA'!$A$10:$T$1083,2,0),\"\")","v":"Fornecimento e assentamento de  Corrimão tubular em ferro com diâmetro 1  1/2\" com tubo em \"L\" com diâmetro de 3/4\", fixado na parede com roseta de acabamento, inclusive pintura automotiva, conforme detalhe. (Escada interna) - CORRIMÃO FERRO PAREDE - TIPO 5."},{"$f":"IF(COUNTA(A30)>0,VLOOKUP($A30,'[8]PLANILHA SINTÉTICA'!$A$9:$U$1082,3,0),\"\")","v":"476867-1"},{"$f":"IF(COUNTA(A30)>0,VLOOKUP($A30,'PLANILHA SINTÉTICA'!$A$10:$T$1083,4,0),\"\")","v":151},{"$f":"IF(COUNTA(A30)>0,VLOOKUP($A30,'PLANILHA SINTÉTICA'!$A$10:$T$1083,5,0),\"\")","v":151},{"$f":"IF(ISERROR(VLOOKUP($A30,#REF!,8,0)),0,(VLOOKUP($A30,#REF!,8,0)))","v":0},{"$f":"IF(COUNTA(A30)>0,VLOOKUP($A30,'[8]PLANILHA SINTÉTICA'!$A$9:$AC$1082,15,0),\"\")","v":114.99169000000001},0]
["16.10",{"$f":"IF(COUNTA(#REF!)>0,VLOOKUP($A31,'PLANILHA SINTÉTICA'!$A$10:$T$1083,2,0),\"\")","v":"Fornecimento e assentamento de tubos soldáveis de PVC rígido diâmetro 32 mm, inclusive conexões  abertura e fechamento de valas para alimentador predial. (dreno ar condicionado)"},{"$f":"IF(COUNTA(A31)>0,VLOOKUP($A31,'[8]PLANILHA SINTÉTICA'!$A$9:$U$1082,3,0),\"\")","v":"460516-0"},{"$f":"IF(COUNTA(A31)>0,VLOOKUP($A31,'PLANILHA SINTÉTICA'!$A$10:$T$1083,4,0),\"\")","v":1490},{"$f":"IF(COUNTA(A31)>0,VLOOKUP($A31,'PLANILHA SINTÉTICA'!$A$10:$T$1083,5,0),\"\")","v":594.43000000000006},78,{"$f":"IF(COUNTA(A31)>0,VLOOKUP($A31,'[8]PLANILHA SINTÉTICA'!$A$9:$AC$1082,15,0),\"\")","v":13.375561999999999},1043.29]
["16.32",{"$f":"IF(COUNTA(#REF!)>0,VLOOKUP($A32,'PLANILHA SINTÉTICA'!$A$10:$T$1083,2,0),\"\")","v":"Fornecimento de torneira de pressão para lavatório linha Benefit, fabricação Docol ou equivalente. (wc Especial)."},{"$f":"IF(COUNTA(A32)>0,VLOOKUP($A32,'[8]PLANILHA SINTÉTICA'!$A$9:$U$1082,3,0),\"\")","v":"203038-1"},{"$f":"IF(COUNTA(A32)>0,VLOOKUP($A32,'PLANILHA SINTÉTICA'!$A$10:$T$1083,4,0),\"\")","v":84},{"$f":"IF(COUNTA(A32)>0,VLOOKUP($A32,'PLANILHA SINTÉTICA'!$A$10:$T$1083,5,0),\"\")","v":16},{"$f":"IF(ISERROR(VLOOKUP($A32,#REF!,8,0)),0,(VLOOKUP($A32,#REF!,8,0)))","v":0},{"$f":"IF(COUNTA(A32)>0,VLOOKUP($A32,'[8]PLANILHA SINTÉTICA'!$A$9:$AC$1082,15,0),\"\")","v":440.88750199999998},0]
["16.38",{"$f":"IF(COUNTA(#REF!)>0,VLOOKUP($A33,'PLANILHA SINTÉTICA'!$A$10:$T$1083,2,0),\"\")","v":"Fornecimento com instalação de Torneira cromada de mesa para lavatório temporizada pressão bica baixa com acionamento manual e fechamento automático, Fabrimar ou equivalente (Wc's)"},{"$f":"IF(COUNTA(A33)>0,VLOOKUP($A33,'[8]PLANILHA SINTÉTICA'!$A$9:$U$1082,3,0),\"\")","v":"442617-7"},{"$f":"IF(COUNTA(A33)>0,VLOOKUP($A33,'PLANILHA SINTÉTICA'!$A$10:$T$1083,4,0),\"\")","v":98},{"$f":"IF(COUNTA(A33)>0,VLOOKUP($A33,'PLANILHA SINTÉTICA'!$A$10:$T$1083,5,0),\"\")","v":84},{"$f":"IF(ISERROR(VLOOKUP($A33,#REF!,8,0)),0,(VLOOKUP($A33,#REF!,8,0)))","v":0},{"$f":"IF(COUNTA(A33)>0,VLOOKUP($A33,'[8]PLANILHA SINTÉTICA'!$A$9:$AC$1082,15,0),\"\")","v":146.39084599999998},0]
["16.40",{"$f":"IF(COUNTA(#REF!)>0,VLOOKUP($A34,'PLANILHA SINTÉTICA'!$A$10:$T$1083,2,0),\"\")","v":"Fornecimento e instalação de TORNEIRA cromada tubo móvel parede para cozinha, ref. 1168, linha ASCOT, fabricação Fabrimar ou equivalente. (COPA)"},{"$f":"IF(COUNTA(A34)>0,VLOOKUP($A34,'[8]PLANILHA SINTÉTICA'!$A$9:$U$1082,3,0),\"\")","v":"295050-2"},{"$f":"IF(COUNTA(A34)>0,VLOOKUP($A34,'PLANILHA SINTÉTICA'!$A$10:$T$1083,4,0),\"\")","v":7},{"$f":"IF(COUNTA(A34)>0,VLOOKUP($A34,'PLANILHA SINTÉTICA'!$A$10:$T$1083,5,0),\"\")","v":7},{"$f":"IF(ISERROR(VLOOKUP($A34,#REF!,8,0)),0,(VLOOKUP($A34,#REF!,8,0)))","v":0},{"$f":"IF(COUNTA(A34)>0,VLOOKUP($A34,'[8]PLANILHA SINTÉTICA'!$A$9:$AC$1082,15,0),\"\")","v":86.107261999999992},0]
["16.53",{"$f":"IF(COUNTA(#REF!)>0,VLOOKUP($A35,'PLANILHA SINTÉTICA'!$A$10:$T$1083,2,0),\"\")","v":"Fornecimento e instalação de porta papel higiênico sem tampa - Eco Cromado, referência 337413 Expambox ou equivalente."},{"$f":"IF(COUNTA(A35)>0,VLOOKUP($A35,'[8]PLANILHA SINTÉTICA'!$A$9:$U$1082,3,0),\"\")","v":"216905-3"},{"$f":"IF(COUNTA(A35)>0,VLOOKUP($A35,'PLANILHA SINTÉTICA'!$A$10:$T$1083,4,0),\"\")","v":95},{"$f":"IF(COUNTA(A35)>0,VLOOKUP($A35,'PLANILHA SINTÉTICA'!$A$10:$T$1083,5,0),\"\")","v":94},{"$f":"IF(ISERROR(VLOOKUP($A35,#REF!,8,0)),0,(VLOOKUP($A35,#REF!,8,0)))","v":0},{"$f":"IF(COUNTA(A35)>0,VLOOKUP($A35,'[8]PLANILHA SINTÉTICA'!$A$9:$AC$1082,15,0),\"\")","v":45.675654000000002},0]
["16.55",{"$f":"IF(COUNTA(#REF!)>0,VLOOKUP($A36,'PLANILHA SINTÉTICA'!$A$10:$T$1083,2,0),\"\")","v":"Fornecimento e assentamento de saboneteira plástica de parede, tipo dispenser para sabonete líquido, com reservatório de 800 a 1.500ml."},{"$f":"IF(COUNTA(A36)>0,VLOOKUP($A36,'[8]PLANILHA SINTÉTICA'!$A$9:$U$1082,3,0),\"\")","v":"209858-0"},{"$f":"IF(COUNTA(A36)>0,VLOOKUP($A36,'PLANILHA SINTÉTICA'!$A$10:$T$1083,4,0),\"\")","v":34},{"$f":"IF(COUNTA(A36)>0,VLOOKUP($A36,'PLANILHA SINTÉTICA'!$A$10:$T$1083,5,0),\"\")","v":28},{"$f":"IF(ISERROR(VLOOKUP($A36,#REF!,8,0)),0,(VLOOKUP($A36,#REF!,8,0)))","v":0},{"$f":"IF(COUNTA(A36)>0,VLOOKUP($A36,'[8]PLANILHA SINTÉTICA'!$A$9:$AC$1082,15,0),\"\")","v":46.25356},0]
["16.56",{"$f":"IF(COUNTA(#REF!)>0,VLOOKUP($A37,'PLANILHA SINTÉTICA'!$A$10:$T$1083,2,0),\"\")","v":"Conjunto moto-bomba (centrífuga), P= 3 CV, Schneider, Dancor ou equivalente, inclusive acessórios, fixação e instalação."},{"$f":"IF(COUNTA(A37)>0,VLOOKUP($A37,'[8]PLANILHA SINTÉTICA'!$A$9:$U$1082,3,0),\"\")","v":"481950-0"},{"$f":"IF(COUNTA(A37)>0,VLOOKUP($A37,'PLANILHA SINTÉTICA'!$A$10:$T$1083,4,0),\"\")","v":2},{"$f":"IF(COUNTA(A37)>0,VLOOKUP($A37,'PLANILHA SINTÉTICA'!$A$10:$T$1083,5,0),\"\")","v":2},{"$f":"IF(ISERROR(VLOOKUP($A37,#REF!,8,0)),0,(VLOOKUP($A37,#REF!,8,0)))","v":0},{"$f":"IF(COUNTA(A37)>0,VLOOKUP($A37,'[8]PLANILHA SINTÉTICA'!$A$9:$AC$1082,15,0),\"\")","v":1550.881836},0]
["16.59",{"$f":"IF(COUNTA(#REF!)>0,VLOOKUP($A38,'PLANILHA SINTÉTICA'!$A$10:$T$1083,2,0),\"\")","v":"Chave de bóia superior 10A/ 250v, fornecimento e instalação."},{"$f":"IF(COUNTA(A38)>0,VLOOKUP($A38,'[8]PLANILHA SINTÉTICA'!$A$9:$U$1082,3,0),\"\")","v":"438964-6"},{"$f":"IF(COUNTA(A38)>0,VLOOKUP($A38,'PLANILHA SINTÉTICA'!$A$10:$T$1083,4,0),\"\")","v":2},{"$f":"IF(COUNTA(A38)>0,VLOOKUP($A38,'PLANILHA SINTÉTICA'!$A$10:$T$1083,5,0),\"\")","v":2},{"$f":"IF(ISERROR(VLOOKUP($A38,#REF!,8,0)),0,(VLOOKUP($A38,#REF!,8,0)))","v":0},{"$f":"IF(COUNTA(A38)>0,VLOOKUP($A38,'[8]PLANILHA SINTÉTICA'!$A$9:$AC$1082,15,0),\"\")","v":61.433481999999998},0]
["18.27",{"$f":"IF(COUNTA(#REF!)>0,VLOOKUP($A39,'PLANILHA SINTÉTICA'!$A$10:$T$1083,2,0),\"\")","v":"Verga pré-moldada para janelas com mais de 1,5 m de vão. "},{"$f":"IF(COUNTA(A39)>0,VLOOKUP($A39,'[8]PLANILHA SINTÉTICA'!$A$9:$U$1082,3,0),\"\")","v":"456457-0"},{"$f":"IF(COUNTA(A39)>0,VLOOKUP($A39,'PLANILHA SINTÉTICA'!$A$10:$T$1083,4,0),\"\")","v":22},{"$f":"IF(COUNTA(A39)>0,VLOOKUP($A39,'PLANILHA SINTÉTICA'!$A$10:$T$1083,5,0),\"\")","v":16},{"$f":"IF(ISERROR(VLOOKUP($A39,#REF!,8,0)),0,(VLOOKUP($A39,#REF!,8,0)))","v":0},{"$f":"IF(COUNTA(A39)>0,VLOOKUP($A39,'[8]PLANILHA SINTÉTICA'!$A$9:$AC$1082,15,0),\"\")","v":22.36307},0]
["18.29",{"$f":"IF(COUNTA(#REF!)>0,VLOOKUP($A40,'PLANILHA SINTÉTICA'!$A$10:$T$1083,2,0),\"\")","v":"Verga pré-moldada para portas com mais de 1,5 m de vão."},{"$f":"IF(COUNTA(A40)>0,VLOOKUP($A40,'[8]PLANILHA SINTÉTICA'!$A$9:$U$1082,3,0),\"\")","v":"444316-0"},{"$f":"IF(COUNTA(A40)>0,VLOOKUP($A40,'PLANILHA SINTÉTICA'!$A$10:$T$1083,4,0),\"\")","v":2.6},{"$f":"IF(COUNTA(A40)>0,VLOOKUP($A40,'PLANILHA SINTÉTICA'!$A$10:$T$1083,5,0),\"\")","v":2.6},{"$f":"IF(ISERROR(VLOOKUP($A40,#REF!,8,0)),0,(VLOOKUP($A40,#REF!,8,0)))","v":0},{"$f":"IF(COUNTA(A40)>0,VLOOKUP($A40,'[8]PLANILHA SINTÉTICA'!$A$9:$AC$1082,15,0),\"\")","v":22.019917999999997},0]
["18.30",{"$f":"IF(COUNTA(#REF!)>0,VLOOKUP($A41,'PLANILHA SINTÉTICA'!$A$10:$T$1083,2,0),\"\")","v":"Contraverga pré-moldada para vãos de mais de 1,5 m de comprimento."},{"$f":"IF(COUNTA(A41)>0,VLOOKUP($A41,'[8]PLANILHA SINTÉTICA'!$A$9:$U$1082,3,0),\"\")","v":"457789-2"},{"$f":"IF(COUNTA(A41)>0,VLOOKUP($A41,'PLANILHA SINTÉTICA'!$A$10:$T$1083,4,0),\"\")","v":22},{"$f":"IF(COUNTA(A41)>0,VLOOKUP($A41,'PLANILHA SINTÉTICA'!$A$10:$T$1083,5,0),\"\")","v":16},{"$f":"IF(ISERROR(VLOOKUP($A41,#REF!,8,0)),0,(VLOOKUP($A41,#REF!,8,0)))","v":0},{"$f":"IF(COUNTA(A41)>0,VLOOKUP($A41,'[8]PLANILHA SINTÉTICA'!$A$9:$AC$1082,15,0),\"\")","v":20.097016},0]
["18.38",{"$f":"IF(COUNTA(#REF!)>0,VLOOKUP($A42,'PLANILHA SINTÉTICA'!$A$10:$T$1083,2,0),\"\")","v":"Fornecimento e assentamento de cobogó cavernoso 20 x 20 cm."},{"$f":"IF(COUNTA(A42)>0,VLOOKUP($A42,'[8]PLANILHA SINTÉTICA'!$A$9:$U$1082,3,0),\"\")","v":"438776-7"},{"$f":"IF(COUNTA(A42)>0,VLOOKUP($A42,'PLANILHA SINTÉTICA'!$A$10:$T$1083,4,0),\"\")","v":7},{"$f":"IF(COUNTA(A42)>0,VLOOKUP($A42,'PLANILHA SINTÉTICA'!$A$10:$T$1083,5,0),\"\")","v":7},{"$f":"IF(ISERROR(VLOOKUP($A42,#REF!,8,0)),0,(VLOOKUP($A42,#REF!,8,0)))","v":0},{"$f":"IF(COUNTA(A42)>0,VLOOKUP($A42,'[8]PLANILHA SINTÉTICA'!$A$9:$AC$1082,15,0),\"\")","v":141.25273799999999},0]
["18.39",{"$f":"IF(COUNTA(#REF!)>0,VLOOKUP($A43,'PLANILHA SINTÉTICA'!$A$10:$T$1083,2,0),\"\")","v":"Fundo selador PVA para ambientes internos, uma demão. (TETO)"},{"$f":"IF(COUNTA(A43)>0,VLOOKUP($A43,'[8]PLANILHA SINTÉTICA'!$A$9:$U$1082,3,0),\"\")","v":"432002-6"},{"$f":"IF(COUNTA(A43)>0,VLOOKUP($A43,'PLANILHA SINTÉTICA'!$A$10:$T$1083,4,0),\"\")","v":156},{"$f":"IF(COUNTA(A43)>0,VLOOKUP($A43,'PLANILHA SINTÉTICA'!$A$10:$T$1083,5,0),\"\")","v":153.69999999999999},{"$f":"IF(ISERROR(VLOOKUP($A43,#REF!,8,0)),0,(VLOOKUP($A43,#REF!,8,0)))","v":0},{"$f":"IF(COUNTA(A43)>0,VLOOKUP($A43,'[8]PLANILHA SINTÉTICA'!$A$9:$AC$1082,15,0),\"\")","v":2.380598},0]
["18.73",{"$f":"IF(COUNTA(#REF!)>0,VLOOKUP($A44,'PLANILHA SINTÉTICA'!$A$10:$T$1083,2,0),\"\")","v":"Registro de gaveta bruto, latão, roscável, 3/4\u0094, fornecido e instalado em ramal de água."},{"$f":"IF(COUNTA(A44)>0,VLOOKUP($A44,'[8]PLANILHA SINTÉTICA'!$A$9:$U$1082,3,0),\"\")","v":"431750-5"},{"$f":"IF(COUNTA(A44)>0,VLOOKUP($A44,'PLANILHA SINTÉTICA'!$A$10:$T$1083,4,0),\"\")","v":1},{"$f":"IF(COUNTA(A44)>0,VLOOKUP($A44,'PLANILHA SINTÉTICA'!$A$10:$T$1083,5,0),\"\")","v":1},{"$f":"IF(ISERROR(VLOOKUP($A44,#REF!,8,0)),0,(VLOOKUP($A44,#REF!,8,0)))","v":0},{"$f":"IF(COUNTA(A44)>0,VLOOKUP($A44,'[8]PLANILHA SINTÉTICA'!$A$9:$AC$1082,15,0),\"\")","v":28.729762000000001},0]
["18.74",{"$f":"IF(COUNTA(#REF!)>0,VLOOKUP($A45,'PLANILHA SINTÉTICA'!$A$10:$T$1083,2,0),\"\")","v":"Fornecimento de registro de gaveta com canopla, acabamento cromado, ref. 1509-C39, Deca ou similar, linha prata, diâmetro de 3/4 pol., inclusive fixação."},{"$f":"IF(COUNTA(A45)>0,VLOOKUP($A45,'[8]PLANILHA SINTÉTICA'!$A$9:$U$1082,3,0),\"\")","v":"436218-7"},{"$f":"IF(COUNTA(A45)>0,VLOOKUP($A45,'PLANILHA SINTÉTICA'!$A$10:$T$1083,4,0),\"\")","v":3},{"$f":"IF(COUNTA(A45)>0,VLOOKUP($A45,'PLANILHA SINTÉTICA'!$A$10:$T$1083,5,0),\"\")","v":3},{"$f":"IF(ISERROR(VLOOKUP($A45,#REF!,8,0)),0,(VLOOKUP($A45,#REF!,8,0)))","v":0},{"$f":"IF(COUNTA(A45)>0,VLOOKUP($A45,'[8]PLANILHA SINTÉTICA'!$A$9:$AC$1082,15,0),\"\")","v":75.234432000000012},0]
["18.75",{"$f":"IF(COUNTA(#REF!)>0,VLOOKUP($A46,'PLANILHA SINTÉTICA'!$A$10:$T$1083,2,0),\"\")","v":"Registro de gaveta com canopla 1\" - fornecimento e instalação"},{"$f":"IF(COUNTA(A46)>0,VLOOKUP($A46,'[8]PLANILHA SINTÉTICA'!$A$9:$U$1082,3,0),\"\")","v":"430172-2"},{"$f":"IF(COUNTA(A46)>0,VLOOKUP($A46,'PLANILHA SINTÉTICA'!$A$10:$T$1083,4,0),\"\")","v":1},{"$f":"IF(COUNTA(A46)>0,VLOOKUP($A46,'PLANILHA SINTÉTICA'!$A$10:$T$1083,5,0),\"\")","v":1},{"$f":"IF(ISERROR(VLOOKUP($A46,#REF!,8,0)),0,(VLOOKUP($A46,#REF!,8,0)))","v":0},{"$f":"IF(COUNTA(A46)>0,VLOOKUP($A46,'[8]PLANILHA SINTÉTICA'!$A$9:$AC$1082,15,0),\"\")","v":90.384464000000008},0]
["19.66",{"$f":"IF(COUNTA(#REF!)>0,VLOOKUP($A47,'PLANILHA SINTÉTICA'!$A$10:$T$1083,2,0),\"\")","v":"Fornecimento e instalação de janela em alumínio anodizado bronze tipo correr, com vidro liso verde, espessura de 6mm, dimensão (1,00x0,50)m - JAV15."},{"$f":"IF(COUNTA(A47)>0,VLOOKUP($A47,'[8]PLANILHA SINTÉTICA'!$A$9:$U$1082,3,0),\"\")","v":"472698-7"},{"$f":"IF(COUNTA(A47)>0,VLOOKUP($A47,'PLANILHA SINTÉTICA'!$A$10:$T$1083,4,0),\"\")","v":1},{"$f":"IF(COUNTA(A47)>0,VLOOKUP($A47,'PLANILHA SINTÉTICA'!$A$10:$T$1083,5,0),\"\")","v":1},{"$f":"IF(ISERROR(VLOOKUP($A47,#REF!,8,0)),0,(VLOOKUP($A47,#REF!,8,0)))","v":0},{"$f":"IF(COUNTA(A47)>0,VLOOKUP($A47,'[8]PLANILHA SINTÉTICA'!$A$9:$AC$1082,15,0),\"\")","v":229.984026},0]
["19.67",{"$f":"IF(COUNTA(#REF!)>0,VLOOKUP($A48,'PLANILHA SINTÉTICA'!$A$10:$T$1083,2,0),\"\")","v":"Fornecimento e assentamento de Kit Porta Pronta PM2 (dim.=0,70x2,10m), porta semi-oca (folha espessura 35mm), contraplacada em compensado com lâmina de Corrupixá ou Liptus, revestida em laminado melamínico madeirado cor branca, inclusive fitamento da porta em PVC, grade e alizares em madeira Liptus em tábuas secas em estufa com acabamento em primer branco, chumbada com espuma de poliuretano, dobradiças em inox com rolamento,  de 3 1/2 x 3\", fechadura em inox, escovado, marca La Fonte, Imab ou equivalente, código HI MARS, conforme detalhe. (Wc guarita)"},{"$f":"IF(COUNTA(A48)>0,VLOOKUP($A48,'[8]PLANILHA SINTÉTICA'!$A$9:$U$1082,3,0),\"\")","v":"430086-6"},{"$f":"IF(COUNTA(A48)>0,VLOOKUP($A48,'PLANILHA SINTÉTICA'!$A$10:$T$1083,4,0),\"\")","v":1},{"$f":"IF(COUNTA(A48)>0,VLOOKUP($A48,'PLANILHA SINTÉTICA'!$A$10:$T$1083,5,0),\"\")","v":1},{"$f":"IF(ISERROR(VLOOKUP($A48,#REF!,8,0)),0,(VLOOKUP($A48,#REF!,8,0)))","v":0},{"$f":"IF(COUNTA(A48)>0,VLOOKUP($A48,'[8]PLANILHA SINTÉTICA'!$A$9:$AC$1082,15,0),\"\")","v":628.98510599999997},0]
["19.68",{"$f":"IF(COUNTA(#REF!)>0,VLOOKUP($A49,'PLANILHA SINTÉTICA'!$A$10:$T$1083,2,0),\"\")","v":"Porta em esquadria de alumínio anodizado bronze com venezianas industriais, de giro com uma folha. 0,90x2,10m (PA3)"},{"$f":"IF(COUNTA(A49)>0,VLOOKUP($A49,'[8]PLANILHA SINTÉTICA'!$A$9:$U$1082,3,0),\"\")","v":"470867-9"},{"$f":"IF(COUNTA(A49)>0,VLOOKUP($A49,'PLANILHA SINTÉTICA'!$A$10:$T$1083,4,0),\"\")","v":1},{"$f":"IF(COUNTA(A49)>0,VLOOKUP($A49,'PLANILHA SINTÉTICA'!$A$10:$T$1083,5,0),\"\")","v":1},{"$f":"IF(ISERROR(VLOOKUP($A49,#REF!,8,0)),0,(VLOOKUP($A49,#REF!,8,0)))","v":0},{"$f":"IF(COUNTA(A49)>0,VLOOKUP($A49,'[8]PLANILHA SINTÉTICA'!$A$9:$AC$1082,15,0),\"\")","v":1231.5987279999999},0]
["20.17",{"$f":"IF(COUNTA(#REF!)>0,VLOOKUP($A50,'PLANILHA SINTÉTICA'!$A$10:$T$1083,2,0),\"\")","v":"Contrapiso em argamassa traço 1:4 (cimento e areia), preparo mecânico com betoneira 400 L, aplicado em áreas secas sobre laje, aderido, espessura 2cm, acabamento não reforçado."},{"$f":"IF(COUNTA(A50)>0,VLOOKUP($A50,'[8]PLANILHA SINTÉTICA'!$A$9:$U$1082,3,0),\"\")","v":"430928-6"},{"$f":"IF(COUNTA(A50)>0,VLOOKUP($A50,'PLANILHA SINTÉTICA'!$A$10:$T$1083,4,0),\"\")","v":25.3},{"$f":"IF(COUNTA(A50)>0,VLOOKUP($A50,'PLANILHA SINTÉTICA'!$A$10:$T$1083,5,0),\"\")","v":23.4},{"$f":"IF(ISERROR(VLOOKUP($A50,#REF!,8,0)),0,(VLOOKUP($A50,#REF!,8,0)))","v":0},{"$f":"IF(COUNTA(A50)>0,VLOOKUP($A50,'[8]PLANILHA SINTÉTICA'!$A$9:$AC$1082,15,0),\"\")","v":18.788824000000002},0]
["20.26",{"$f":"IF(COUNTA(#REF!)>0,VLOOKUP($A51,'PLANILHA SINTÉTICA'!$A$10:$T$1083,2,0),\"\")","v":"Impermeabilização de superfície com manta asfáltica protegida com filme de alumínio gofrado (de espessura 0,8mm), inclusa aplicação de emulsão asfáltica, E=3mm. (Laje)"},{"$f":"IF(COUNTA(A51)>0,VLOOKUP($A51,'[8]PLANILHA SINTÉTICA'!$A$9:$U$1082,3,0),\"\")","v":"431420-4"},{"$f":"IF(COUNTA(A51)>0,VLOOKUP($A51,'PLANILHA SINTÉTICA'!$A$10:$T$1083,4,0),\"\")","v":5.4},{"$f":"IF(COUNTA(A51)>0,VLOOKUP($A51,'PLANILHA SINTÉTICA'!$A$10:$T$1083,5,0),\"\")","v":5.38},{"$f":"IF(ISERROR(VLOOKUP($A51,#REF!,8,0)),0,(VLOOKUP($A51,#REF!,8,0)))","v":0},{"$f":"IF(COUNTA(A51)>0,VLOOKUP($A51,'[8]PLANILHA SINTÉTICA'!$A$9:$AC$1082,15,0),\"\")","v":74.509743999999998},0]
["20.27",{"$f":"IF(COUNTA(#REF!)>0,VLOOKUP($A52,'PLANILHA SINTÉTICA'!$A$10:$T$1083,2,0),\"\")","v":"Fornecimento e instalação de  PORTÃO pivotante para LIXEIRA, com gradil Eletrogradi, na cor bronze, (1,50x2,11)m conforme detalhes."},{"$f":"IF(COUNTA(A52)>0,VLOOKUP($A52,'[8]PLANILHA SINTÉTICA'!$A$9:$U$1082,3,0),\"\")","v":"475555-3"},{"$f":"IF(COUNTA(A52)>0,VLOOKUP($A52,'PLANILHA SINTÉTICA'!$A$10:$T$1083,4,0),\"\")","v":6.33},{"$f":"IF(COUNTA(A52)>0,VLOOKUP($A52,'PLANILHA SINTÉTICA'!$A$10:$T$1083,5,0),\"\")","v":6.33},{"$f":"IF(ISERROR(VLOOKUP($A52,#REF!,8,0)),0,(VLOOKUP($A52,#REF!,8,0)))","v":0},{"$f":"IF(COUNTA(A52)>0,VLOOKUP($A52,'[8]PLANILHA SINTÉTICA'!$A$9:$AC$1082,15,0),\"\")","v":801.96902799999998},0]
["26.1",{"$f":"IF(COUNTA(#REF!)>0,VLOOKUP($A53,'PLANILHA SINTÉTICA'!$A$10:$T$1083,2,0),\"\")","v":"Fornecimento e assentamento de mastro para bandeira em tubo de ferro galvanizado de 2.1/2\", 2\" e 1.1/2'' conforme detalhe, inclusive pintura anticorrosiva e em esmalte sintético, cor a definir, com fixação no piso. (Conforme detalhe 40/45)"},{"$f":"IF(COUNTA(A53)>0,VLOOKUP($A53,'[8]PLANILHA SINTÉTICA'!$A$9:$U$1082,3,0),\"\")","v":"429836-5"},{"$f":"IF(COUNTA(A53)>0,VLOOKUP($A53,'PLANILHA SINTÉTICA'!$A$10:$T$1083,4,0),\"\")","v":16},{"$f":"IF(COUNTA(A53)>0,VLOOKUP($A53,'PLANILHA SINTÉTICA'!$A$10:$T$1083,5,0),\"\")","v":16},{"$f":"IF(ISERROR(VLOOKUP($A53,#REF!,8,0)),0,(VLOOKUP($A53,#REF!,8,0)))","v":0},{"$f":"IF(COUNTA(A53)>0,VLOOKUP($A53,'[8]PLANILHA SINTÉTICA'!$A$9:$AC$1082,15,0),\"\")","v":155.34910400000001},0]
["26.2",{"$f":"IF(COUNTA(#REF!)>0,VLOOKUP($A54,'PLANILHA SINTÉTICA'!$A$10:$T$1083,2,0),\"\")","v":"Fornecimento e instalação de letreiro \" FÓRUM DE LIMOEIRO\" com letras tipo caixa, fonte Arial Black, com 10,00 cm de profundidade, altura com 80,00 cm, em chapa de aço INOX 304 escovado, com sistema de fixação, pregos e buchas ou perfil tipo \"L\". (Detalhe 41/45) "},{"$f":"IF(COUNTA(A54)>0,VLOOKUP($A54,'[8]PLANILHA SINTÉTICA'!$A$9:$U$1082,3,0),\"\")","v":"470289-1"},{"$f":"IF(COUNTA(A54)>0,VLOOKUP($A54,'PLANILHA SINTÉTICA'!$A$10:$T$1083,4,0),\"\")","v":16},{"$f":"IF(COUNTA(A54)>0,VLOOKUP($A54,'PLANILHA SINTÉTICA'!$A$10:$T$1083,5,0),\"\")","v":16},{"$f":"IF(ISERROR(VLOOKUP($A54,#REF!,8,0)),0,(VLOOKUP($A54,#REF!,8,0)))","v":0},{"$f":"IF(COUNTA(A54)>0,VLOOKUP($A54,'[8]PLANILHA SINTÉTICA'!$A$9:$AC$1082,15,0),\"\")","v":187.012666},0]
["26.7",{"$f":"IF(COUNTA(#REF!)>0,VLOOKUP($A55,'PLANILHA SINTÉTICA'!$A$10:$T$1083,2,0),\"\")","v":"Fornecimento de espelho cristal 4mm, colocado sobre chapas de isopor, fixado com parafuso de latão, inclusive assentamento."},{"$f":"IF(COUNTA(A55)>0,VLOOKUP($A55,'[8]PLANILHA SINTÉTICA'!$A$9:$U$1082,3,0),\"\")","v":"429778-4"},{"$f":"IF(COUNTA(A55)>0,VLOOKUP($A55,'PLANILHA SINTÉTICA'!$A$10:$T$1083,4,0),\"\")","v":60.1},{"$f":"IF(COUNTA(A55)>0,VLOOKUP($A55,'PLANILHA SINTÉTICA'!$A$10:$T$1083,5,0),\"\")","v":59.1},{"$f":"IF(ISERROR(VLOOKUP($A55,#REF!,8,0)),0,(VLOOKUP($A55,#REF!,8,0)))","v":0},{"$f":"IF(COUNTA(A55)>0,VLOOKUP($A55,'[8]PLANILHA SINTÉTICA'!$A$9:$AC$1082,15,0),\"\")","v":240.169442},0]
["26.8",{"$f":"IF(COUNTA(#REF!)>0,VLOOKUP($A56,'PLANILHA SINTÉTICA'!$A$10:$T$1083,2,0),\"\")","v":"Fornecimento e colocação de escultura em concreto medindo 2m de altura (justiça cega), conforme detalhe."},{"$f":"IF(COUNTA(A56)>0,VLOOKUP($A56,'[8]PLANILHA SINTÉTICA'!$A$9:$U$1082,3,0),\"\")","v":"484189-1"},{"$f":"IF(COUNTA(A56)>0,VLOOKUP($A56,'PLANILHA SINTÉTICA'!$A$10:$T$1083,4,0),\"\")","v":1},{"$f":"IF(COUNTA(A56)>0,VLOOKUP($A56,'PLANILHA SINTÉTICA'!$A$10:$T$1083,5,0),\"\")","v":1},{"$f":"IF(ISERROR(VLOOKUP($A56,#REF!,8,0)),0,(VLOOKUP($A56,#REF!,8,0)))","v":0},{"$f":"IF(COUNTA(A56)>0,VLOOKUP($A56,'[8]PLANILHA SINTÉTICA'!$A$9:$AC$1082,15,0),\"\")","v":21760.2968},0]
["26.9",{"$f":"IF(COUNTA(#REF!)>0,VLOOKUP($A57,'PLANILHA SINTÉTICA'!$A$10:$T$1083,2,0),\"\")","v":"Fornecimento e fixação de brasão do Estado de Pernambuco em latão fundido, alto relevo, nas dimensões aproximadas 0,70m x 0,71m, conforme modelo."},{"$f":"IF(COUNTA(A57)>0,VLOOKUP($A57,'[8]PLANILHA SINTÉTICA'!$A$9:$U$1082,3,0),\"\")","v":"429837-3"},{"$f":"IF(COUNTA(A57)>0,VLOOKUP($A57,'PLANILHA SINTÉTICA'!$A$10:$T$1083,4,0),\"\")","v":1},{"$f":"IF(COUNTA(A57)>0,VLOOKUP($A57,'PLANILHA SINTÉTICA'!$A$10:$T$1083,5,0),\"\")","v":1},{"$f":"IF(ISERROR(VLOOKUP($A57,#REF!,8,0)),0,(VLOOKUP($A57,#REF!,8,0)))","v":0},{"$f":"IF(COUNTA(A57)>0,VLOOKUP($A57,'[8]PLANILHA SINTÉTICA'!$A$9:$AC$1082,15,0),\"\")","v":8878.7945799999998},0]
["26.10",{"$f":"IF(COUNTA(#REF!)>0,VLOOKUP($A58,'PLANILHA SINTÉTICA'!$A$10:$T$1083,2,0),\"\")","v":"Barras em tubo de ferro com 5cm de diâmetro para BICICLETÁRIO do tipo \"U invertido\", inclusive argola com furo de 1\" em ferro fundido, barra de segurança e base de fixação, pintadas com pintura automotiva cor prata, conforme detalhe 42/45."},{"$f":"IF(COUNTA(A58)>0,VLOOKUP($A58,'[8]PLANILHA SINTÉTICA'!$A$9:$U$1082,3,0),\"\")","v":"430855-7"},{"$f":"IF(COUNTA(A58)>0,VLOOKUP($A58,'PLANILHA SINTÉTICA'!$A$10:$T$1083,4,0),\"\")","v":12},{"$f":"IF(COUNTA(A58)>0,VLOOKUP($A58,'PLANILHA SINTÉTICA'!$A$10:$T$1083,5,0),\"\")","v":12},{"$f":"IF(ISERROR(VLOOKUP($A58,#REF!,8,0)),0,(VLOOKUP($A58,#REF!,8,0)))","v":0},{"$f":"IF(COUNTA(A58)>0,VLOOKUP($A58,'[8]PLANILHA SINTÉTICA'!$A$9:$AC$1082,15,0),\"\")","v":410.65420599999993},0]
["27.15",{"$f":"IF(COUNTA(#REF!)>0,VLOOKUP($A59,'PLANILHA SINTÉTICA'!$A$10:$T$1083,2,0),\"\")","v":"Construção de caixa coletora tipo \"com grade\" em alvenaria de 1 vez - tijolos maciços prensados - nas dimensões internas de 0,25x0,85x1,00m, inclusive escavação, reaterro compactado e remoção do material excedente (sem a grade)"},{"$f":"IF(COUNTA(A59)>0,VLOOKUP($A59,'[8]PLANILHA SINTÉTICA'!$A$9:$U$1082,3,0),\"\")","v":"436347-7"},{"$f":"IF(COUNTA(A59)>0,VLOOKUP($A59,'PLANILHA SINTÉTICA'!$A$10:$T$1083,4,0),\"\")","v":6},{"$f":"IF(COUNTA(A59)>0,VLOOKUP($A59,'PLANILHA SINTÉTICA'!$A$10:$T$1083,5,0),\"\")","v":6},{"$f":"IF(ISERROR(VLOOKUP($A59,#REF!,8,0)),0,(VLOOKUP($A59,#REF!,8,0)))","v":0},{"$f":"IF(COUNTA(A59)>0,VLOOKUP($A59,'[8]PLANILHA SINTÉTICA'!$A$9:$AC$1082,15,0),\"\")","v":568.37645799999996},0]
["27.16",{"$f":"IF(COUNTA(#REF!)>0,VLOOKUP($A60,'PLANILHA SINTÉTICA'!$A$10:$T$1083,2,0),\"\")","v":"Construção de caixa coletora tipo \"com gaveta\", em alvenaria de 1 vez (tijolos maciços, prensados), nas dimensões internas de 0,80x0,80x0,90m, inclusive escavação, reaterro compactado  e remoção do material excedente (com sobretampa de concreto)."},{"$f":"IF(COUNTA(A60)>0,VLOOKUP($A60,'[8]PLANILHA SINTÉTICA'!$A$9:$U$1082,3,0),\"\")","v":"436349-3"},{"$f":"IF(COUNTA(A60)>0,VLOOKUP($A60,'PLANILHA SINTÉTICA'!$A$10:$T$1083,4,0),\"\")","v":2},{"$f":"IF(COUNTA(A60)>0,VLOOKUP($A60,'PLANILHA SINTÉTICA'!$A$10:$T$1083,5,0),\"\")","v":2},{"$f":"IF(ISERROR(VLOOKUP($A60,#REF!,8,0)),0,(VLOOKUP($A60,#REF!,8,0)))","v":0},{"$f":"IF(COUNTA(A60)>0,VLOOKUP($A60,'[8]PLANILHA SINTÉTICA'!$A$9:$AC$1082,15,0),\"\")","v":1214.7329500000001},0]
["27.17",{"$f":"IF(COUNTA(#REF!)>0,VLOOKUP($A61,'PLANILHA SINTÉTICA'!$A$10:$T$1083,2,0),\"\")","v":"Construção de poço de visita em alvenaria de 1 vez (tijolos maciços prensados), nas dimensões internas 1,00x1,00x1,50m, inclusive escavação, reaterro compactado e remoção do material excedente (sem o tampão)."},{"$f":"IF(COUNTA(A61)>0,VLOOKUP($A61,'[8]PLANILHA SINTÉTICA'!$A$9:$U$1082,3,0),\"\")","v":"436350-7"},{"$f":"IF(COUNTA(A61)>0,VLOOKUP($A61,'PLANILHA SINTÉTICA'!$A$10:$T$1083,4,0),\"\")","v":2},{"$f":"IF(COUNTA(A61)>0,VLOOKUP($A61,'PLANILHA SINTÉTICA'!$A$10:$T$1083,5,0),\"\")","v":2},{"$f":"IF(ISERROR(VLOOKUP($A61,#REF!,8,0)),0,(VLOOKUP($A61,#REF!,8,0)))","v":0},{"$f":"IF(COUNTA(A61)>0,VLOOKUP($A61,'[8]PLANILHA SINTÉTICA'!$A$9:$AC$1082,15,0),\"\")","v":2121.2969560000001},0]
["27.18",{"$f":"IF(COUNTA(#REF!)>0,VLOOKUP($A62,'PLANILHA SINTÉTICA'!$A$10:$T$1083,2,0),\"\")","v":"Construção de poço de visita tipo \"com gaveta\" em alvenaria de 1 vez de tijolos maciços, prensados, nas dimensões internas 1,00x1,00x1,50m, inclusive escavação, reaterro compactado e remoção do material excedente (com sobretampa de concreto)."},{"$f":"IF(COUNTA(A62)>0,VLOOKUP($A62,'[8]PLANILHA SINTÉTICA'!$A$9:$U$1082,3,0),\"\")","v":"436355-8"},{"$f":"IF(COUNTA(A62)>0,VLOOKUP($A62,'PLANILHA SINTÉTICA'!$A$10:$T$1083,4,0),\"\")","v":10},{"$f":"IF(COUNTA(A62)>0,VLOOKUP($A62,'PLANILHA SINTÉTICA'!$A$10:$T$1083,5,0),\"\")","v":10},{"$f":"IF(ISERROR(VLOOKUP($A62,#REF!,8,0)),0,(VLOOKUP($A62,#REF!,8,0)))","v":0},{"$f":"IF(COUNTA(A62)>0,VLOOKUP($A62,'[8]PLANILHA SINTÉTICA'!$A$9:$AC$1082,15,0),\"\")","v":2217.4012319999997},0]
["28.1",{"$f":"IF(COUNTA(#REF!)>0,VLOOKUP($A63,'PLANILHA SINTÉTICA'!$A$10:$T$1083,2,0),\"\")","v":"Fornecimento e plantio de Palmeira Fenix, com cerca de 1,00m de altura, incluindo preparação de cova com 40 x 40 x 40 cm, com barro jardim e estrume bovino."},{"$f":"IF(COUNTA(A63)>0,VLOOKUP($A63,'[8]PLANILHA SINTÉTICA'!$A$9:$U$1082,3,0),\"\")","v":"402167-3"},{"$f":"IF(COUNTA(A63)>0,VLOOKUP($A63,'PLANILHA SINTÉTICA'!$A$10:$T$1083,4,0),\"\")","v":1},{"$f":"IF(COUNTA(A63)>0,VLOOKUP($A63,'PLANILHA SINTÉTICA'!$A$10:$T$1083,5,0),\"\")","v":1},{"$f":"IF(ISERROR(VLOOKUP($A63,#REF!,8,0)),0,(VLOOKUP($A63,#REF!,8,0)))","v":0},{"$f":"IF(COUNTA(A63)>0,VLOOKUP($A63,'[8]PLANILHA SINTÉTICA'!$A$9:$AC$1082,15,0),\"\")","v":170.18854999999999},0]
["28.2",{"$f":"IF(COUNTA(#REF!)>0,VLOOKUP($A64,'PLANILHA SINTÉTICA'!$A$10:$T$1083,2,0),\"\")","v":"Fornecimento e plantio de Palmeira Cica, com cerca de 1,00m de altura, incluindo preparação de cova com 40 x 40 x 40 cm, com barro jardim e estrume bovino."},{"$f":"IF(COUNTA(A64)>0,VLOOKUP($A64,'[8]PLANILHA SINTÉTICA'!$A$9:$U$1082,3,0),\"\")","v":"481951-9"},{"$f":"IF(COUNTA(A64)>0,VLOOKUP($A64,'PLANILHA SINTÉTICA'!$A$10:$T$1083,4,0),\"\")","v":3},{"$f":"IF(COUNTA(A64)>0,VLOOKUP($A64,'PLANILHA SINTÉTICA'!$A$10:$T$1083,5,0),\"\")","v":3},{"$f":"IF(ISERROR(VLOOKUP($A64,#REF!,8,0)),0,(VLOOKUP($A64,#REF!,8,0)))","v":0},{"$f":"IF(COUNTA(A64)>0,VLOOKUP($A64,'[8]PLANILHA SINTÉTICA'!$A$9:$AC$1082,15,0),\"\")","v":155.06026199999999},0]
["28.3",{"$f":"IF(COUNTA(#REF!)>0,VLOOKUP($A65,'PLANILHA SINTÉTICA'!$A$10:$T$1083,2,0),\"\")","v":"Fornecimento e plantio de Pata de Vaca (Bauhinia blakeana), com cerca de 1,50m de altura, incluindo preparação de cova com 40 x 40 x 40 cm, com barro jardim e estrume bovino."},{"$f":"IF(COUNTA(A65)>0,VLOOKUP($A65,'[8]PLANILHA SINTÉTICA'!$A$9:$U$1082,3,0),\"\")","v":"461505-0"},{"$f":"IF(COUNTA(A65)>0,VLOOKUP($A65,'PLANILHA SINTÉTICA'!$A$10:$T$1083,4,0),\"\")","v":26},{"$f":"IF(COUNTA(A65)>0,VLOOKUP($A65,'PLANILHA SINTÉTICA'!$A$10:$T$1083,5,0),\"\")","v":16},{"$f":"IF(ISERROR(VLOOKUP($A65,#REF!,8,0)),0,(VLOOKUP($A65,#REF!,8,0)))","v":0},{"$f":"IF(COUNTA(A65)>0,VLOOKUP($A65,'[8]PLANILHA SINTÉTICA'!$A$9:$AC$1082,15,0),\"\")","v":115.208336},{"$f":"ROUND(G65*F65,2)","v":0}]
["28.4",{"$f":"IF(COUNTA(#REF!)>0,VLOOKUP($A66,'PLANILHA SINTÉTICA'!$A$10:$T$1083,2,0),\"\")","v":"Fornecimento e plantio de Ipê Amarelo (Tabebuia chrysotricha), com cerca de 1,50m de altura, incluindo preparação de cova com 40 x 40 x 40 cm, com barro jardim e estrume bovino."},{"$f":"IF(COUNTA(A66)>0,VLOOKUP($A66,'[8]PLANILHA SINTÉTICA'!$A$9:$U$1082,3,0),\"\")","v":"472672-3"},{"$f":"IF(COUNTA(A66)>0,VLOOKUP($A66,'PLANILHA SINTÉTICA'!$A$10:$T$1083,4,0),\"\")","v":1},{"$f":"IF(COUNTA(A66)>0,VLOOKUP($A66,'PLANILHA SINTÉTICA'!$A$10:$T$1083,5,0),\"\")","v":1},{"$f":"IF(ISERROR(VLOOKUP($A66,#REF!,8,0)),0,(VLOOKUP($A66,#REF!,8,0)))","v":0},{"$f":"IF(COUNTA(A66)>0,VLOOKUP($A66,'[8]PLANILHA SINTÉTICA'!$A$9:$AC$1082,15,0),\"\")","v":209.04465200000001},0]
["28.5",{"$f":"IF(COUNTA(#REF!)>0,VLOOKUP($A67,'PLANILHA SINTÉTICA'!$A$10:$T$1083,2,0),\"\")","v":"Fornecimento e plantio de mudas de Dracena de Madagascar, com cerca de 1,00m de altura."},{"$f":"IF(COUNTA(A67)>0,VLOOKUP($A67,'[8]PLANILHA SINTÉTICA'!$A$9:$U$1082,3,0),\"\")","v":"435721-3"},{"$f":"IF(COUNTA(A67)>0,VLOOKUP($A67,'PLANILHA SINTÉTICA'!$A$10:$T$1083,4,0),\"\")","v":22},{"$f":"IF(COUNTA(A67)>0,VLOOKUP($A67,'PLANILHA SINTÉTICA'!$A$10:$T$1083,5,0),\"\")","v":17},{"$f":"IF(ISERROR(VLOOKUP($A67,#REF!,8,0)),0,(VLOOKUP($A67,#REF!,8,0)))","v":0},{"$f":"IF(COUNTA(A67)>0,VLOOKUP($A67,'[8]PLANILHA SINTÉTICA'!$A$9:$AC$1082,15,0),\"\")","v":49.359738},0]
["28.9",{"$f":"IF(COUNTA(#REF!)>0,VLOOKUP($A68,'PLANILHA SINTÉTICA'!$A$10:$T$1083,2,0),\"\")","v":"Fornecimento e plantio de grama esmeralda em rolos. (Jardim e cobograma)"},{"$f":"IF(COUNTA(A68)>0,VLOOKUP($A68,'[8]PLANILHA SINTÉTICA'!$A$9:$U$1082,3,0),\"\")","v":"438958-1"},{"$f":"IF(COUNTA(A68)>0,VLOOKUP($A68,'PLANILHA SINTÉTICA'!$A$10:$T$1083,4,0),\"\")","v":1040},{"$f":"IF(COUNTA(A68)>0,VLOOKUP($A68,'PLANILHA SINTÉTICA'!$A$10:$T$1083,5,0),\"\")","v":1040},{"$f":"IF(ISERROR(VLOOKUP($A68,#REF!,8,0)),0,(VLOOKUP($A68,#REF!,8,0)))","v":0},{"$f":"IF(COUNTA(A68)>0,VLOOKUP($A68,'[8]PLANILHA SINTÉTICA'!$A$9:$AC$1082,15,0),\"\")","v":12.88466},0]
["29.02.01",{"$f":"IF(COUNTA(#REF!)>0,VLOOKUP($A69,'PLANILHA SINTÉTICA'!$A$10:$T$1083,2,0),\"\")","v":"Luminária de embutir p/ 02 (duas) lâmpadas LED de 18W, sem alojamento; corpo em chapa de aço galvanizado c/ pintura eletrostática em pó de poliéster epóxi; refletor facetado em alumínio anodizado de alta pureza e refletância; aletas parabólicas em alumínio; soquetes em policarbonato; inclusive lâmpadas LED tubular Philips, Osram, ou equivalente, 2x18W, 220V, demais acessórios e instalação. Ref. Lumicenter, Luminárias Projeto, Itaim, Stillux, Indelpa ou equivalente."},{"$f":"IF(COUNTA(A69)>0,VLOOKUP($A69,'[8]PLANILHA SINTÉTICA'!$A$9:$U$1082,3,0),\"\")","v":"430980-4"},{"$f":"IF(COUNTA(A69)>0,VLOOKUP($A69,'PLANILHA SINTÉTICA'!$A$10:$T$1083,4,0),\"\")","v":429},{"$f":"IF(COUNTA(A69)>0,VLOOKUP($A69,'PLANILHA SINTÉTICA'!$A$10:$T$1083,5,0),\"\")","v":429},{"$f":"IF(ISERROR(VLOOKUP($A69,#REF!,8,0)),0,(VLOOKUP($A69,#REF!,8,0)))","v":0},{"$f":"IF(COUNTA(A69)>0,VLOOKUP($A69,'[8]PLANILHA SINTÉTICA'!$A$9:$AC$1082,15,0),\"\")","v":210.09111000000001},0]
["29.02.02",{"$f":"IF(COUNTA(#REF!)>0,VLOOKUP($A70,'PLANILHA SINTÉTICA'!$A$10:$T$1083,2,0),\"\")","v":"Luminária circular de embutir p/ 02 lâmpadas LED bulbo de 10W, c/ aro de acabamento em chapa de aço pintada, refletor em alumínio repuxado e anodizado de alta pureza e refletância; soquetes em policarbonato s/ vidro difusor temperado jateado central (diâmetro externo aprox. do vidro 21,0 cm), inclusive lâmpadas, , p/ lâmpada fluorescente, 2x10W, 220V, demais acessórios e instalação . Ref. Lumicenter, Luminárias Projeto, Itaim, Stillux, Indelpa ou equivalente."},{"$f":"IF(COUNTA(A70)>0,VLOOKUP($A70,'[8]PLANILHA SINTÉTICA'!$A$9:$U$1082,3,0),\"\")","v":"430981-2"},{"$f":"IF(COUNTA(A70)>0,VLOOKUP($A70,'PLANILHA SINTÉTICA'!$A$10:$T$1083,4,0),\"\")","v":284},{"$f":"IF(COUNTA(A70)>0,VLOOKUP($A70,'PLANILHA SINTÉTICA'!$A$10:$T$1083,5,0),\"\")","v":280},{"$f":"IF(ISERROR(VLOOKUP($A70,#REF!,8,0)),0,(VLOOKUP($A70,#REF!,8,0)))","v":0},{"$f":"IF(COUNTA(A70)>0,VLOOKUP($A70,'[8]PLANILHA SINTÉTICA'!$A$9:$AC$1082,15,0),\"\")","v":128.64174600000001},0]
["29.02.07",{"$f":"IF(COUNTA(#REF!)>0,VLOOKUP($A71,'PLANILHA SINTÉTICA'!$A$10:$T$1083,2,0),\"\")","v":"Fornecimento de luminária externa, com corpo óptico e alojamento em liga de alumínio injetado de baixa pressão, padrão litoral (parafusos inox); refletor assimétrico polido, anodizado e selado, confeccionado em peça única, porta lâmpada em porcelana, rosca E27 para lâmpada 250W tubular, base para relé fotoelétrico e alojamento para equipamento auxiliar;  fechamento do corpo óptico com lente plana de vidro temperado preso ao corpo da luminária através de aro de alumínio fundido e presília de aço inoxidável (IP 65), ref. Lexa A-190 - Almec ou equivalente; inclusive lâmpada MVM 250W tubular (Osram ou equivalente), reator interno de alto fator de potência (250W) e REATOR, relé foto elétrico (fotocélula), encaixe em braço e demais acessórios, inclusive instalação em postes de até 17m. "},{"$f":"IF(COUNTA(A71)>0,VLOOKUP($A71,'[8]PLANILHA SINTÉTICA'!$A$9:$U$1082,3,0),\"\")","v":"445063-9"},{"$f":"IF(COUNTA(A71)>0,VLOOKUP($A71,'PLANILHA SINTÉTICA'!$A$10:$T$1083,4,0),\"\")","v":14},{"$f":"IF(COUNTA(A71)>0,VLOOKUP($A71,'PLANILHA SINTÉTICA'!$A$10:$T$1083,5,0),\"\")","v":14},{"$f":"IF(ISERROR(VLOOKUP($A71,#REF!,8,0)),0,(VLOOKUP($A71,#REF!,8,0)))","v":0},{"$f":"IF(COUNTA(A71)>0,VLOOKUP($A71,'[8]PLANILHA SINTÉTICA'!$A$9:$AC$1082,15,0),\"\")","v":572.44245000000001},0]
["29.02.09",{"$f":"IF(COUNTA(#REF!)>0,VLOOKUP($A72,'PLANILHA SINTÉTICA'!$A$10:$T$1083,2,0),\"\")","v":"Fornecimento de POSTE CURVO SIMPLES, telecônico, confeccionado em tubo de aço patente galvanizado a fogo medindo 8metros, flangeado com base e chumbador, produzido em três estágios, sendo: 3\", 2 1/2\" e 2\". Ref. MP-600, fab: EDESA, ou equivalente."},{"$f":"IF(COUNTA(A72)>0,VLOOKUP($A72,'[8]PLANILHA SINTÉTICA'!$A$9:$U$1082,3,0),\"\")","v":"373073-5"},{"$f":"IF(COUNTA(A72)>0,VLOOKUP($A72,'PLANILHA SINTÉTICA'!$A$10:$T$1083,4,0),\"\")","v":21},{"$f":"IF(COUNTA(A72)>0,VLOOKUP($A72,'PLANILHA SINTÉTICA'!$A$10:$T$1083,5,0),\"\")","v":21},{"$f":"IF(ISERROR(VLOOKUP($A72,#REF!,8,0)),0,(VLOOKUP($A72,#REF!,8,0)))","v":0},{"$f":"IF(COUNTA(A72)>0,VLOOKUP($A72,'[8]PLANILHA SINTÉTICA'!$A$9:$AC$1082,15,0),\"\")","v":1093.808274},0]
["29.04.01",{"$f":"IF(COUNTA(#REF!)>0,VLOOKUP($A73,'PLANILHA SINTÉTICA'!$A$10:$T$1083,2,0),\"\")","v":"Quadro de distribuição metálico de sobrepor, em chapa 16 BWG, para 6 circuitos monopolares padrão DIN, com barra de neutro e terra, com porta e trinco, Cemar ou equivalente,  inclusive instalação conforme projeto."},{"$f":"IF(COUNTA(A73)>0,VLOOKUP($A73,'[8]PLANILHA SINTÉTICA'!$A$9:$U$1082,3,0),\"\")","v":"431292-9"},{"$f":"IF(COUNTA(A73)>0,VLOOKUP($A73,'PLANILHA SINTÉTICA'!$A$10:$T$1083,4,0),\"\")","v":3},{"$f":"IF(COUNTA(A73)>0,VLOOKUP($A73,'PLANILHA SINTÉTICA'!$A$10:$T$1083,5,0),\"\")","v":3},{"$f":"IF(ISERROR(VLOOKUP($A73,#REF!,8,0)),0,(VLOOKUP($A73,#REF!,8,0)))","v":0},{"$f":"IF(COUNTA(A73)>0,VLOOKUP($A73,'[8]PLANILHA SINTÉTICA'!$A$9:$AC$1082,15,0),\"\")","v":52.812067999999996},0]
["29.04.02",{"$f":"IF(COUNTA(#REF!)>0,VLOOKUP($A74,'PLANILHA SINTÉTICA'!$A$10:$T$1083,2,0),\"\")","v":"Quadro de distribuição metálico de sobrepor, em chapa 16 BWG, para 8 circuitos monopolares padrão DIN, com barra de neutro e terra, com porta e trinco, Cemar ou equivalente,  inclusive instalação conforme projeto."},{"$f":"IF(COUNTA(A74)>0,VLOOKUP($A74,'[8]PLANILHA SINTÉTICA'!$A$9:$U$1082,3,0),\"\")","v":"471384-2"},{"$f":"IF(COUNTA(A74)>0,VLOOKUP($A74,'PLANILHA SINTÉTICA'!$A$10:$T$1083,4,0),\"\")","v":1},{"$f":"IF(COUNTA(A74)>0,VLOOKUP($A74,'PLANILHA SINTÉTICA'!$A$10:$T$1083,5,0),\"\")","v":1},{"$f":"IF(ISERROR(VLOOKUP($A74,#REF!,8,0)),0,(VLOOKUP($A74,#REF!,8,0)))","v":0},{"$f":"IF(COUNTA(A74)>0,VLOOKUP($A74,'[8]PLANILHA SINTÉTICA'!$A$9:$AC$1082,15,0),\"\")","v":264.27702399999998},0]
["29.04.03",{"$f":"IF(COUNTA(#REF!)>0,VLOOKUP($A75,'PLANILHA SINTÉTICA'!$A$10:$T$1083,2,0),\"\")","v":"Quadro de distribuição metálico de sobrepor, em chapa 16 BWG, para 12 circuitos monopolares padrão DIN, com barra de neutro e terra, com porta e trinco, Cemar ou equivalente,  inclusive instalação conforme projeto."},{"$f":"IF(COUNTA(A75)>0,VLOOKUP($A75,'[8]PLANILHA SINTÉTICA'!$A$9:$U$1082,3,0),\"\")","v":"445272-0"},{"$f":"IF(COUNTA(A75)>0,VLOOKUP($A75,'PLANILHA SINTÉTICA'!$A$10:$T$1083,4,0),\"\")","v":3},{"$f":"IF(COUNTA(A75)>0,VLOOKUP($A75,'PLANILHA SINTÉTICA'!$A$10:$T$1083,5,0),\"\")","v":3},{"$f":"IF(ISERROR(VLOOKUP($A75,#REF!,8,0)),0,(VLOOKUP($A75,#REF!,8,0)))","v":0},{"$f":"IF(COUNTA(A75)>0,VLOOKUP($A75,'[8]PLANILHA SINTÉTICA'!$A$9:$AC$1082,15,0),\"\")","v":279.443376},0]
["29.04.05",{"$f":"IF(COUNTA(#REF!)>0,VLOOKUP($A76,'PLANILHA SINTÉTICA'!$A$10:$T$1083,2,0),\"\")","v":"Quadro de distribuição de sobrepor com barramento com barramento trifásico 56 disjuntores unipolares em chapa de aço galvanizado em chave geral trifásica."},{"$f":"IF(COUNTA(A76)>0,VLOOKUP($A76,'[8]PLANILHA SINTÉTICA'!$A$9:$U$1082,3,0),\"\")","v":"431289-9"},{"$f":"IF(COUNTA(A76)>0,VLOOKUP($A76,'PLANILHA SINTÉTICA'!$A$10:$T$1083,4,0),\"\")","v":4},{"$f":"IF(COUNTA(A76)>0,VLOOKUP($A76,'PLANILHA SINTÉTICA'!$A$10:$T$1083,5,0),\"\")","v":4},{"$f":"IF(ISERROR(VLOOKUP($A76,#REF!,8,0)),0,(VLOOKUP($A76,#REF!,8,0)))","v":0},{"$f":"IF(COUNTA(A76)>0,VLOOKUP($A76,'[8]PLANILHA SINTÉTICA'!$A$9:$AC$1082,15,0),\"\")","v":1223.441806},0]
["29.04.07",{"$f":"IF(COUNTA(#REF!)>0,VLOOKUP($A77,'PLANILHA SINTÉTICA'!$A$10:$T$1083,2,0),\"\")","v":"Quadro de distribuição metálico de EMBUTIR, em chapa 16 BWG, para 12 circuitos monopolares padrão DIN, com barra de neutro e terra, com porta e trinco, Cemar ou equivalente,  inclusive instalação conforme projeto."},{"$f":"IF(COUNTA(A77)>0,VLOOKUP($A77,'[8]PLANILHA SINTÉTICA'!$A$9:$U$1082,3,0),\"\")","v":"431288-0"},{"$f":"IF(COUNTA(A77)>0,VLOOKUP($A77,'PLANILHA SINTÉTICA'!$A$10:$T$1083,4,0),\"\")","v":2},{"$f":"IF(COUNTA(A77)>0,VLOOKUP($A77,'PLANILHA SINTÉTICA'!$A$10:$T$1083,5,0),\"\")","v":2},{"$f":"IF(ISERROR(VLOOKUP($A77,#REF!,8,0)),0,(VLOOKUP($A77,#REF!,8,0)))","v":0},{"$f":"IF(COUNTA(A77)>0,VLOOKUP($A77,'[8]PLANILHA SINTÉTICA'!$A$9:$AC$1082,15,0),\"\")","v":235.85275200000001},0]
["29.04.09",{"$f":"IF(COUNTA(#REF!)>0,VLOOKUP($A78,'PLANILHA SINTÉTICA'!$A$10:$T$1083,2,0),\"\")","v":"Disjuntor monopolar termomagnético de 6 até 32A Eletromar padrão IEC ou equivalente, inclusive instalação em quadro de distribuição, conforme projeto."},{"$f":"IF(COUNTA(A78)>0,VLOOKUP($A78,'[8]PLANILHA SINTÉTICA'!$A$9:$U$1082,3,0),\"\")","v":"469808-8"},{"$f":"IF(COUNTA(A78)>0,VLOOKUP($A78,'PLANILHA SINTÉTICA'!$A$10:$T$1083,4,0),\"\")","v":99},{"$f":"IF(COUNTA(A78)>0,VLOOKUP($A78,'PLANILHA SINTÉTICA'!$A$10:$T$1083,5,0),\"\")","v":99},{"$f":"IF(ISERROR(VLOOKUP($A78,#REF!,8,0)),0,(VLOOKUP($A78,#REF!,8,0)))","v":0},{"$f":"IF(COUNTA(A78)>0,VLOOKUP($A78,'[8]PLANILHA SINTÉTICA'!$A$9:$AC$1082,15,0),\"\")","v":10.860300000000001},0]
["29.04.10",{"$f":"IF(COUNTA(#REF!)>0,VLOOKUP($A79,'PLANILHA SINTÉTICA'!$A$10:$T$1083,2,0),\"\")","v":"Disjuntor tripolar termomagnético de 32A Eletromar padrão IEC ou equivalente, inclusive instalação em quadro de distribuição, conforme projeto."},{"$f":"IF(COUNTA(A79)>0,VLOOKUP($A79,'[8]PLANILHA SINTÉTICA'!$A$9:$U$1082,3,0),\"\")","v":"468590-3"},{"$f":"IF(COUNTA(A79)>0,VLOOKUP($A79,'PLANILHA SINTÉTICA'!$A$10:$T$1083,4,0),\"\")","v":22},{"$f":"IF(COUNTA(A79)>0,VLOOKUP($A79,'PLANILHA SINTÉTICA'!$A$10:$T$1083,5,0),\"\")","v":22},{"$f":"IF(ISERROR(VLOOKUP($A79,#REF!,8,0)),0,(VLOOKUP($A79,#REF!,8,0)))","v":0},{"$f":"IF(COUNTA(A79)>0,VLOOKUP($A79,'[8]PLANILHA SINTÉTICA'!$A$9:$AC$1082,15,0),\"\")","v":73.806654000000009},0]
["29.04.13",{"$f":"IF(COUNTA(#REF!)>0,VLOOKUP($A80,'PLANILHA SINTÉTICA'!$A$10:$T$1083,2,0),\"\")","v":"Fornecimento e instalação de disjuntor tripolar termomagnético de 63A Eletromar padrão IEC ou equivalente."},{"$f":"IF(COUNTA(A80)>0,VLOOKUP($A80,'[8]PLANILHA SINTÉTICA'!$A$9:$U$1082,3,0),\"\")","v":"203845-5"},{"$f":"IF(COUNTA(A80)>0,VLOOKUP($A80,'PLANILHA SINTÉTICA'!$A$10:$T$1083,4,0),\"\")","v":6},{"$f":"IF(COUNTA(A80)>0,VLOOKUP($A80,'PLANILHA SINTÉTICA'!$A$10:$T$1083,5,0),\"\")","v":6},{"$f":"IF(ISERROR(VLOOKUP($A80,#REF!,8,0)),0,(VLOOKUP($A80,#REF!,8,0)))","v":0},{"$f":"IF(COUNTA(A80)>0,VLOOKUP($A80,'[8]PLANILHA SINTÉTICA'!$A$9:$AC$1082,15,0),\"\")","v":86.213942000000003},0]
["29.04.14",{"$f":"IF(COUNTA(#REF!)>0,VLOOKUP($A81,'PLANILHA SINTÉTICA'!$A$10:$T$1083,2,0),\"\")","v":"Disjuntor tripolar termomagnético de 80A Eletromar padrão IEC ou equivalente, inclusive instalação em quadro de distribuição, conforme o projeto."},{"$f":"IF(COUNTA(A81)>0,VLOOKUP($A81,'[8]PLANILHA SINTÉTICA'!$A$9:$U$1082,3,0),\"\")","v":"468592-0"},{"$f":"IF(COUNTA(A81)>0,VLOOKUP($A81,'PLANILHA SINTÉTICA'!$A$10:$T$1083,4,0),\"\")","v":1},{"$f":"IF(COUNTA(A81)>0,VLOOKUP($A81,'PLANILHA SINTÉTICA'!$A$10:$T$1083,5,0),\"\")","v":1},{"$f":"IF(ISERROR(VLOOKUP($A81,#REF!,8,0)),0,(VLOOKUP($A81,#REF!,8,0)))","v":0},{"$f":"IF(COUNTA(A81)>0,VLOOKUP($A81,'[8]PLANILHA SINTÉTICA'!$A$9:$AC$1082,15,0),\"\")","v":121.289298},0]
["29.04.21",{"$f":"IF(COUNTA(#REF!)>0,VLOOKUP($A82,'PLANILHA SINTÉTICA'!$A$10:$T$1083,2,0),\"\")","v":"Interruptor Diferencial Residual bipolar de 25A, com sensibilidade de 30mA, Eletromar padrão IEC  ou equivalente, inclusive instalação em quadro de distribuição, conforme projeto                        "},{"$f":"IF(COUNTA(A82)>0,VLOOKUP($A82,'[8]PLANILHA SINTÉTICA'!$A$9:$U$1082,3,0),\"\")","v":"465547-8"},{"$f":"IF(COUNTA(A82)>0,VLOOKUP($A82,'PLANILHA SINTÉTICA'!$A$10:$T$1083,4,0),\"\")","v":13},{"$f":"IF(COUNTA(A82)>0,VLOOKUP($A82,'PLANILHA SINTÉTICA'!$A$10:$T$1083,5,0),\"\")","v":13},{"$f":"IF(ISERROR(VLOOKUP($A82,#REF!,8,0)),0,(VLOOKUP($A82,#REF!,8,0)))","v":0},{"$f":"IF(COUNTA(A82)>0,VLOOKUP($A82,'[8]PLANILHA SINTÉTICA'!$A$9:$AC$1082,15,0),\"\")","v":101.40461400000001},0]
["29.05.01",{"$f":"IF(COUNTA(#REF!)>0,VLOOKUP($A83,'PLANILHA SINTÉTICA'!$A$10:$T$1083,2,0),\"\")","v":"Cabo de cobre AFUMEX, ATOX, AFITOX ou equivalente (Não-Halogenado), isolação 750V., de 2,5mm²,  inclusive instalação em eletroduto/eletrocalha/leito."},{"$f":"IF(COUNTA(A83)>0,VLOOKUP($A83,'[8]PLANILHA SINTÉTICA'!$A$9:$U$1082,3,0),\"\")","v":"465594-0"},{"$f":"IF(COUNTA(A83)>0,VLOOKUP($A83,'PLANILHA SINTÉTICA'!$A$10:$T$1083,4,0),\"\")","v":223.8},{"$f":"IF(COUNTA(A83)>0,VLOOKUP($A83,'PLANILHA SINTÉTICA'!$A$10:$T$1083,5,0),\"\")","v":223.8},{"$f":"IF(ISERROR(VLOOKUP($A83,#REF!,8,0)),0,(VLOOKUP($A83,#REF!,8,0)))","v":0},{"$f":"IF(COUNTA(A83)>0,VLOOKUP($A83,'[8]PLANILHA SINTÉTICA'!$A$9:$AC$1082,15,0),\"\")","v":2.2582839999999997},0]
["29.05.04",{"$f":"IF(COUNTA(#REF!)>0,VLOOKUP($A84,'PLANILHA SINTÉTICA'!$A$10:$T$1083,2,0),\"\")","v":"Cabo de cobre AFUMEX, ATOX, AFITOX ou equivalente (Não-Halogenado), isolação 0,6/1kV., de 2,5mm².,  inclusive instalação em eletroduto/eletrocalha/leito.      "},{"$f":"IF(COUNTA(A84)>0,VLOOKUP($A84,'[8]PLANILHA SINTÉTICA'!$A$9:$U$1082,3,0),\"\")","v":"440914-0"},{"$f":"IF(COUNTA(A84)>0,VLOOKUP($A84,'PLANILHA SINTÉTICA'!$A$10:$T$1083,4,0),\"\")","v":2107.1999999999998},{"$f":"IF(COUNTA(A84)>0,VLOOKUP($A84,'PLANILHA SINTÉTICA'!$A$10:$T$1083,5,0),\"\")","v":2107.1999999999998},{"$f":"IF(ISERROR(VLOOKUP($A84,#REF!,8,0)),0,(VLOOKUP($A84,#REF!,8,0)))","v":0},{"$f":"IF(COUNTA(A84)>0,VLOOKUP($A84,'[8]PLANILHA SINTÉTICA'!$A$9:$AC$1082,15,0),\"\")","v":3.0130999999999997},0]
["29.05.05",{"$f":"IF(COUNTA(#REF!)>0,VLOOKUP($A85,'PLANILHA SINTÉTICA'!$A$10:$T$1083,2,0),\"\")","v":"Cabo de cobre AFUMEX, ATOX, AFITOX ou equivalente (Não-Halogenado), isolação 0,6/1kV., de 4,0mm², inclusive instalação em eletroduto/ eletrocalha / leito."},{"$f":"IF(COUNTA(A85)>0,VLOOKUP($A85,'[8]PLANILHA SINTÉTICA'!$A$9:$U$1082,3,0),\"\")","v":"380039-3"},{"$f":"IF(COUNTA(A85)>0,VLOOKUP($A85,'PLANILHA SINTÉTICA'!$A$10:$T$1083,4,0),\"\")","v":1209.4000000000001},{"$f":"IF(COUNTA(A85)>0,VLOOKUP($A85,'PLANILHA SINTÉTICA'!$A$10:$T$1083,5,0),\"\")","v":1209.4000000000001},{"$f":"IF(ISERROR(VLOOKUP($A85,#REF!,8,0)),0,(VLOOKUP($A85,#REF!,8,0)))","v":0},{"$f":"IF(COUNTA(A85)>0,VLOOKUP($A85,'[8]PLANILHA SINTÉTICA'!$A$9:$AC$1082,15,0),\"\")","v":3.9944199999999999},0]
["29.05.06",{"$f":"IF(COUNTA(#REF!)>0,VLOOKUP($A86,'PLANILHA SINTÉTICA'!$A$10:$T$1083,2,0),\"\")","v":"Cabo de cobre AFUMEX, ATOX, AFITOX ou equivalente (Não-Halogenado), isolação 0,6/1kV.,  de 6,0mm².,  inclusive instalação em eletroduto/eletrocalha/leito.                     "},{"$f":"IF(COUNTA(A86)>0,VLOOKUP($A86,'[8]PLANILHA SINTÉTICA'!$A$9:$U$1082,3,0),\"\")","v":"468390-0"},{"$f":"IF(COUNTA(A86)>0,VLOOKUP($A86,'PLANILHA SINTÉTICA'!$A$10:$T$1083,4,0),\"\")","v":361},{"$f":"IF(COUNTA(A86)>0,VLOOKUP($A86,'PLANILHA SINTÉTICA'!$A$10:$T$1083,5,0),\"\")","v":361},{"$f":"IF(ISERROR(VLOOKUP($A86,#REF!,8,0)),0,(VLOOKUP($A86,#REF!,8,0)))","v":0},{"$f":"IF(COUNTA(A86)>0,VLOOKUP($A86,'[8]PLANILHA SINTÉTICA'!$A$9:$AC$1082,15,0),\"\")","v":5.1507119999999995},0]
["29.05.07",{"$f":"IF(COUNTA(#REF!)>0,VLOOKUP($A87,'PLANILHA SINTÉTICA'!$A$10:$T$1083,2,0),\"\")","v":"Cabo de cobre AFUMEX, ATOX, AFITOX ou equivalente (Não-Halogenado), isolação 0,6/1kV.,  de 10mm².,  inclusive instalação em eletroduto/eletrocalha/leito.                         "},{"$f":"IF(COUNTA(A87)>0,VLOOKUP($A87,'[8]PLANILHA SINTÉTICA'!$A$9:$U$1082,3,0),\"\")","v":"429220-0"},{"$f":"IF(COUNTA(A87)>0,VLOOKUP($A87,'PLANILHA SINTÉTICA'!$A$10:$T$1083,4,0),\"\")","v":642.9},{"$f":"IF(COUNTA(A87)>0,VLOOKUP($A87,'PLANILHA SINTÉTICA'!$A$10:$T$1083,5,0),\"\")","v":642.9},{"$f":"IF(ISERROR(VLOOKUP($A87,#REF!,8,0)),0,(VLOOKUP($A87,#REF!,8,0)))","v":0},{"$f":"IF(COUNTA(A87)>0,VLOOKUP($A87,'[8]PLANILHA SINTÉTICA'!$A$9:$AC$1082,15,0),\"\")","v":7.4634619999999998},0]
["29.05.08",{"$f":"IF(COUNTA(#REF!)>0,VLOOKUP($A88,'PLANILHA SINTÉTICA'!$A$10:$T$1083,2,0),\"\")","v":"Cabo de cobre AFUMEX, ATOX, AFITOX ou equivalente (Não-Halogenado), isolação 0,6/1kV., de 16mm².,  inclusive instalação em eletroduto/eletrocalha/leito. "},{"$f":"IF(COUNTA(A88)>0,VLOOKUP($A88,'[8]PLANILHA SINTÉTICA'!$A$9:$U$1082,3,0),\"\")","v":"473421-1"},{"$f":"IF(COUNTA(A88)>0,VLOOKUP($A88,'PLANILHA SINTÉTICA'!$A$10:$T$1083,4,0),\"\")","v":695.8},{"$f":"IF(COUNTA(A88)>0,VLOOKUP($A88,'PLANILHA SINTÉTICA'!$A$10:$T$1083,5,0),\"\")","v":695.8},{"$f":"IF(ISERROR(VLOOKUP($A88,#REF!,8,0)),0,(VLOOKUP($A88,#REF!,8,0)))","v":0},{"$f":"IF(COUNTA(A88)>0,VLOOKUP($A88,'[8]PLANILHA SINTÉTICA'!$A$9:$AC$1082,15,0),\"\")","v":10.755114000000001},0]
["29.05.09",{"$f":"IF(COUNTA(#REF!)>0,VLOOKUP($A89,'PLANILHA SINTÉTICA'!$A$10:$T$1083,2,0),\"\")","v":"Cabo de cobre AFUMEX, ATOX, AFITOX ou equivalente (Não-Halogenado), isolação 0,6/1kV., de 25mm².,  inclusive instalação em eletroduto/eletrocalha/leito. "},{"$f":"IF(COUNTA(A89)>0,VLOOKUP($A89,'[8]PLANILHA SINTÉTICA'!$A$9:$U$1082,3,0),\"\")","v":"473423-8"},{"$f":"IF(COUNTA(A89)>0,VLOOKUP($A89,'PLANILHA SINTÉTICA'!$A$10:$T$1083,4,0),\"\")","v":196},{"$f":"IF(COUNTA(A89)>0,VLOOKUP($A89,'PLANILHA SINTÉTICA'!$A$10:$T$1083,5,0),\"\")","v":196},{"$f":"IF(ISERROR(VLOOKUP($A89,#REF!,8,0)),0,(VLOOKUP($A89,#REF!,8,0)))","v":0},{"$f":"IF(COUNTA(A89)>0,VLOOKUP($A89,'[8]PLANILHA SINTÉTICA'!$A$9:$AC$1082,15,0),\"\")","v":15.28449},0]
["29.05.10",{"$f":"IF(COUNTA(#REF!)>0,VLOOKUP($A90,'PLANILHA SINTÉTICA'!$A$10:$T$1083,2,0),\"\")","v":"Cabo de cobre AFUMEX, ATOX, AFITOX ou equivalente (Não-Halogenado), isolação 0,6/1kV., de 50mm².,  inclusive instalação em eletroduto/eletrocalha/leito. "},{"$f":"IF(COUNTA(A90)>0,VLOOKUP($A90,'[8]PLANILHA SINTÉTICA'!$A$9:$U$1082,3,0),\"\")","v":"398164-9"},{"$f":"IF(COUNTA(A90)>0,VLOOKUP($A90,'PLANILHA SINTÉTICA'!$A$10:$T$1083,4,0),\"\")","v":255.3},{"$f":"IF(COUNTA(A90)>0,VLOOKUP($A90,'PLANILHA SINTÉTICA'!$A$10:$T$1083,5,0),\"\")","v":201.5},{"$f":"IF(ISERROR(VLOOKUP($A90,#REF!,8,0)),0,(VLOOKUP($A90,#REF!,8,0)))","v":0},{"$f":"IF(COUNTA(A90)>0,VLOOKUP($A90,'[8]PLANILHA SINTÉTICA'!$A$9:$AC$1082,15,0),\"\")","v":31.796847999999997},0]
["29.05.11",{"$f":"IF(COUNTA(#REF!)>0,VLOOKUP($A91,'PLANILHA SINTÉTICA'!$A$10:$T$1083,2,0),\"\")","v":"Cabo de cobre AFUMEX, ATOX, AFITOX ou equivalente (Não-Halogenado), isolação 0,6/1kV., de 95mm².,  inclusive instalação em eletroduto/eletrocalha/leito. "},{"$f":"IF(COUNTA(A91)>0,VLOOKUP($A91,'[8]PLANILHA SINTÉTICA'!$A$9:$U$1082,3,0),\"\")","v":"380041-5"},{"$f":"IF(COUNTA(A91)>0,VLOOKUP($A91,'PLANILHA SINTÉTICA'!$A$10:$T$1083,4,0),\"\")","v":269.10000000000002},{"$f":"IF(COUNTA(A91)>0,VLOOKUP($A91,'PLANILHA SINTÉTICA'!$A$10:$T$1083,5,0),\"\")","v":130},{"$f":"IF(ISERROR(VLOOKUP($A91,#REF!,8,0)),0,(VLOOKUP($A91,#REF!,8,0)))","v":0},{"$f":"IF(COUNTA(A91)>0,VLOOKUP($A91,'[8]PLANILHA SINTÉTICA'!$A$9:$AC$1082,15,0),\"\")","v":50.808242},0]
["29.05.12",{"$f":"IF(COUNTA(#REF!)>0,VLOOKUP($A92,'PLANILHA SINTÉTICA'!$A$10:$T$1083,2,0),\"\")","v":"Cabo de cobre AFUMEX, ATOX, AFITOX ou equivalente (Não-Halogenado), isolação 0,6/1kV., de 150mm².,  inclusive instalação em eletroduto/eletrocalha/leito. "},{"$f":"IF(COUNTA(A92)>0,VLOOKUP($A92,'[8]PLANILHA SINTÉTICA'!$A$9:$U$1082,3,0),\"\")","v":"468594-6"},{"$f":"IF(COUNTA(A92)>0,VLOOKUP($A92,'PLANILHA SINTÉTICA'!$A$10:$T$1083,4,0),\"\")","v":63.1},{"$f":"IF(COUNTA(A92)>0,VLOOKUP($A92,'PLANILHA SINTÉTICA'!$A$10:$T$1083,5,0),\"\")","v":63.1},{"$f":"IF(ISERROR(VLOOKUP($A92,#REF!,8,0)),0,(VLOOKUP($A92,#REF!,8,0)))","v":0},{"$f":"IF(COUNTA(A92)>0,VLOOKUP($A92,'[8]PLANILHA SINTÉTICA'!$A$9:$AC$1082,15,0),\"\")","v":89.693172000000004},0]
["29.11.08",{"$f":"IF(COUNTA(#REF!)>0,VLOOKUP($A93,'PLANILHA SINTÉTICA'!$A$10:$T$1083,2,0),\"\")","v":"Cabo de cobre AFUMEX, ATOX, AFITOX ou equivalente (Não-Halogenado), isolação 0,6/1kV.,  de 6,0mm².,  inclusive instalação em eletroduto/eletrocalha/leito.                     "},{"$f":"IF(COUNTA(A93)>0,VLOOKUP($A93,'[8]PLANILHA SINTÉTICA'!$A$9:$U$1082,3,0),\"\")","v":"468390-0"},{"$f":"IF(COUNTA(A93)>0,VLOOKUP($A93,'PLANILHA SINTÉTICA'!$A$10:$T$1083,4,0),\"\")","v":375.4},{"$f":"IF(COUNTA(A93)>0,VLOOKUP($A93,'PLANILHA SINTÉTICA'!$A$10:$T$1083,5,0),\"\")","v":375.4},{"$f":"IF(ISERROR(VLOOKUP($A93,#REF!,8,0)),0,(VLOOKUP($A93,#REF!,8,0)))","v":0},{"$f":"IF(COUNTA(A93)>0,VLOOKUP($A93,'[8]PLANILHA SINTÉTICA'!$A$9:$AC$1082,15,0),\"\")","v":5.1507119999999995},0]
["29.11.12",{"$f":"IF(COUNTA(#REF!)>0,VLOOKUP($A94,'PLANILHA SINTÉTICA'!$A$10:$T$1083,2,0),\"\")","v":"Cabo de cobre AFUMEX, ATOX, AFITOX ou equivalente (Não-Halogenado), isolação 0,6/1kV., de 35mm². , inclusive instalação em eletroduto/eletrocalha/leito."},{"$f":"IF(COUNTA(A94)>0,VLOOKUP($A94,'[8]PLANILHA SINTÉTICA'!$A$9:$U$1082,3,0),\"\")","v":"203422-0"},{"$f":"IF(COUNTA(A94)>0,VLOOKUP($A94,'PLANILHA SINTÉTICA'!$A$10:$T$1083,4,0),\"\")","v":25.5},{"$f":"IF(COUNTA(A94)>0,VLOOKUP($A94,'PLANILHA SINTÉTICA'!$A$10:$T$1083,5,0),\"\")","v":25.5},{"$f":"IF(ISERROR(VLOOKUP($A94,#REF!,8,0)),0,(VLOOKUP($A94,#REF!,8,0)))","v":0},{"$f":"IF(COUNTA(A94)>0,VLOOKUP($A94,'[8]PLANILHA SINTÉTICA'!$A$9:$AC$1082,15,0),\"\")","v":21.329294000000001},0]
["29.11.15",{"$f":"IF(COUNTA(#REF!)>0,VLOOKUP($A95,'PLANILHA SINTÉTICA'!$A$10:$T$1083,2,0),\"\")","v":"Quadro de distribuição metálico de sobrepor, em chapa 16 BWG, para 24 circuitos monopolares padrão DIN, com barra de neutro e terra 150A, com porta e trinco, Cemar ou equivalente,  inclusive instalação conforme projeto."},{"$f":"IF(COUNTA(A95)>0,VLOOKUP($A95,'[8]PLANILHA SINTÉTICA'!$A$9:$U$1082,3,0),\"\")","v":"400966-5"},{"$f":"IF(COUNTA(A95)>0,VLOOKUP($A95,'PLANILHA SINTÉTICA'!$A$10:$T$1083,4,0),\"\")","v":3},{"$f":"IF(COUNTA(A95)>0,VLOOKUP($A95,'PLANILHA SINTÉTICA'!$A$10:$T$1083,5,0),\"\")","v":3},{"$f":"IF(ISERROR(VLOOKUP($A95,#REF!,8,0)),0,(VLOOKUP($A95,#REF!,8,0)))","v":0},{"$f":"IF(COUNTA(A95)>0,VLOOKUP($A95,'[8]PLANILHA SINTÉTICA'!$A$9:$AC$1082,15,0),\"\")","v":590.26025600000003},0]
["29.11.16",{"$f":"IF(COUNTA(#REF!)>0,VLOOKUP($A96,'PLANILHA SINTÉTICA'!$A$10:$T$1083,2,0),\"\")","v":"Quadro de distribuição metálico de sobrepor, em chapa 16 BWG, para 8 circuitos monopolares padrão DIN, com barra de neutro e terra, com porta e trinco, Cemar ou equivalente,  inclusive instalação conforme projeto."},{"$f":"IF(COUNTA(A96)>0,VLOOKUP($A96,'[8]PLANILHA SINTÉTICA'!$A$9:$U$1082,3,0),\"\")","v":"471384-2"},{"$f":"IF(COUNTA(A96)>0,VLOOKUP($A96,'PLANILHA SINTÉTICA'!$A$10:$T$1083,4,0),\"\")","v":4},{"$f":"IF(COUNTA(A96)>0,VLOOKUP($A96,'PLANILHA SINTÉTICA'!$A$10:$T$1083,5,0),\"\")","v":3},{"$f":"IF(ISERROR(VLOOKUP($A96,#REF!,8,0)),0,(VLOOKUP($A96,#REF!,8,0)))","v":0},{"$f":"IF(COUNTA(A96)>0,VLOOKUP($A96,'[8]PLANILHA SINTÉTICA'!$A$9:$AC$1082,15,0),\"\")","v":264.27702399999998},0]
["29.11.21",{"$f":"IF(COUNTA(#REF!)>0,VLOOKUP($A97,'PLANILHA SINTÉTICA'!$A$10:$T$1083,2,0),\"\")","v":"Fornecimento e instalação de disjuntor tripolar termomagnético de 100A Eletromar padrão IEC ou equivalente."},{"$f":"IF(COUNTA(A97)>0,VLOOKUP($A97,'[8]PLANILHA SINTÉTICA'!$A$9:$U$1082,3,0),\"\")","v":"354786-8"},{"$f":"IF(COUNTA(A97)>0,VLOOKUP($A97,'PLANILHA SINTÉTICA'!$A$10:$T$1083,4,0),\"\")","v":1},{"$f":"IF(COUNTA(A97)>0,VLOOKUP($A97,'PLANILHA SINTÉTICA'!$A$10:$T$1083,5,0),\"\")","v":1},{"$f":"IF(ISERROR(VLOOKUP($A97,#REF!,8,0)),0,(VLOOKUP($A97,#REF!,8,0)))","v":0},{"$f":"IF(COUNTA(A97)>0,VLOOKUP($A97,'[8]PLANILHA SINTÉTICA'!$A$9:$AC$1082,15,0),\"\")","v":121.289298},0]
["29.13.06",{"$f":"IF(COUNTA(#REF!)>0,VLOOKUP($A98,'PLANILHA SINTÉTICA'!$A$10:$T$1083,2,0),\"\")","v":"Fornecimento e instalação de disjuntor tripolar termomagnético de 80A Eletromar padrão IEC ou equivalente."},{"$f":"IF(COUNTA(A98)>0,VLOOKUP($A98,'[8]PLANILHA SINTÉTICA'!$A$9:$U$1082,3,0),\"\")","v":"468592-0"},{"$f":"IF(COUNTA(A98)>0,VLOOKUP($A98,'PLANILHA SINTÉTICA'!$A$10:$T$1083,4,0),\"\")","v":3},{"$f":"IF(COUNTA(A98)>0,VLOOKUP($A98,'PLANILHA SINTÉTICA'!$A$10:$T$1083,5,0),\"\")","v":3},{"$f":"IF(ISERROR(VLOOKUP($A98,#REF!,8,0)),0,(VLOOKUP($A98,#REF!,8,0)))","v":0},{"$f":"IF(COUNTA(A98)>0,VLOOKUP($A98,'[8]PLANILHA SINTÉTICA'!$A$9:$AC$1082,15,0),\"\")","v":121.289298},0]
["29.13.09",{"$f":"IF(COUNTA(#REF!)>0,VLOOKUP($A99,'PLANILHA SINTÉTICA'!$A$10:$T$1083,2,0),\"\")","v":"Quadro de distribuição metálico de embutir, em chapa 16 BWG, para 16 circuitos monopolares padrão DIN, com barra de neutro e terra, com porta e trinco, Cemar ou equivalente,  inclusive instalação conforme projeto."},{"$f":"IF(COUNTA(A99)>0,VLOOKUP($A99,'[8]PLANILHA SINTÉTICA'!$A$9:$U$1082,3,0),\"\")","v":"463747-0"},{"$f":"IF(COUNTA(A99)>0,VLOOKUP($A99,'PLANILHA SINTÉTICA'!$A$10:$T$1083,4,0),\"\")","v":2},{"$f":"IF(COUNTA(A99)>0,VLOOKUP($A99,'PLANILHA SINTÉTICA'!$A$10:$T$1083,5,0),\"\")","v":2},{"$f":"IF(ISERROR(VLOOKUP($A99,#REF!,8,0)),0,(VLOOKUP($A99,#REF!,8,0)))","v":0},{"$f":"IF(COUNTA(A99)>0,VLOOKUP($A99,'[8]PLANILHA SINTÉTICA'!$A$9:$AC$1082,15,0),\"\")","v":279.13025800000003},0]
["31.08",{"$f":"IF(COUNTA(#REF!)>0,VLOOKUP($A100,'PLANILHA SINTÉTICA'!$A$10:$T$1083,2,0),\"\")","v":"Fornecimento e instalação de cabo para sinal e detecção de incêndio  em par trançado mais dreno shieldado acabamento em PVC Prysmian, Lipperfil ou equivalente CTR FLEX BL FT COBRE 2 x 1,5mm2 500V preto NBR 7289.."},{"$f":"IF(COUNTA(A100)>0,VLOOKUP($A100,'[8]PLANILHA SINTÉTICA'!$A$9:$U$1082,3,0),\"\")","v":"469812-6"},{"$f":"IF(COUNTA(A100)>0,VLOOKUP($A100,'PLANILHA SINTÉTICA'!$A$10:$T$1083,4,0),\"\")","v":2686},{"$f":"IF(COUNTA(A100)>0,VLOOKUP($A100,'PLANILHA SINTÉTICA'!$A$10:$T$1083,5,0),\"\")","v":2300},{"$f":"IF(ISERROR(VLOOKUP($A100,#REF!,8,0)),0,(VLOOKUP($A100,#REF!,8,0)))","v":0},{"$f":"IF(COUNTA(A100)>0,VLOOKUP($A100,'[8]PLANILHA SINTÉTICA'!$A$9:$AC$1082,15,0),\"\")","v":5.3078920000000007},0]
["31.36",{"$f":"IF(COUNTA(#REF!)>0,VLOOKUP($A101,'PLANILHA SINTÉTICA'!$A$10:$T$1083,2,0),\"\")","v":"Central eletrônica inteligente de detecção e alarme de incêndio, de 24Vcc, com capacidade para 6 laços do sistema de detecção e módulos de expansão das chaves de fluxo, compatível com os pontos de detecção e acionadores endereçáveis do projeto, inclusive as placas de laço, de fabricação Apolo ou equivalente, inclusive instalação e treinamento. "},{"$f":"IF(COUNTA(A101)>0,VLOOKUP($A101,'[8]PLANILHA SINTÉTICA'!$A$9:$U$1082,3,0),\"\")","v":"424724-8"},{"$f":"IF(COUNTA(A101)>0,VLOOKUP($A101,'PLANILHA SINTÉTICA'!$A$10:$T$1083,4,0),\"\")","v":1},{"$f":"IF(COUNTA(A101)>0,VLOOKUP($A101,'PLANILHA SINTÉTICA'!$A$10:$T$1083,5,0),\"\")","v":1},{"$f":"IF(ISERROR(VLOOKUP($A101,#REF!,8,0)),0,(VLOOKUP($A101,#REF!,8,0)))","v":0},{"$f":"IF(COUNTA(A101)>0,VLOOKUP($A101,'[8]PLANILHA SINTÉTICA'!$A$9:$AC$1082,15,0),\"\")","v":13058.44614},0]
["32.05",{"$f":"IF(COUNTA(#REF!)>0,VLOOKUP($A102,'PLANILHA SINTÉTICA'!$A$10:$T$1083,2,0),\"\")","v":"Fornecimento de unidade interna(evaporadora) multisplit - CASSETE INVERTER, que utiliza o gás ecológico R-410A, com capacidade térmica de resfriamento nominal:24.000 BTU/H"},{"$f":"IF(COUNTA(A102)>0,VLOOKUP($A102,'[8]PLANILHA SINTÉTICA'!$A$9:$U$1082,3,0),\"\")","v":"422139-7"},{"$f":"IF(COUNTA(A102)>0,VLOOKUP($A102,'PLANILHA SINTÉTICA'!$A$10:$T$1083,4,0),\"\")","v":18},{"$f":"IF(COUNTA(A102)>0,VLOOKUP($A102,'PLANILHA SINTÉTICA'!$A$10:$T$1083,5,0),\"\")","v":18},2,{"$f":"IF(COUNTA(A102)>0,VLOOKUP($A102,'[8]PLANILHA SINTÉTICA'!$A$9:$AC$1082,15,0),\"\")","v":2413.423362},4826.8500000000004,null,null,{"$f":"G102*74.65%","v":1801.6205397330002},{"$f":"ROUND(F102*K102,2)","v":3603.24}]
["32.08",{"$f":"IF(COUNTA(#REF!)>0,VLOOKUP($A103,'PLANILHA SINTÉTICA'!$A$10:$T$1083,2,0),\"\")","v":"Instalação , conforme projeto, de Condicionador de ar do tipo Split/CASSETE, com capacidade de 24.000 BTU/h, INVERTER, realizando os serviços de confecção de linhas frigoríficas em tubo de cobre utilizando nitrogênio com fluxo constante para realização das soldas evitando impurezas e a dos drenos termicamente isolados. Fornecimento e instalação de carga de fluido refrigerante ecológico R-410A. A execução da instalação deve ser executada por Técnico de Refrigeração devidamente especializado em equipamentos INVERTER. Realizar a interligação entre as unidades Evaporadora e Condensadora com cabo PP 4x 1,5mm²; inclusive fixação de unidade evaporadora e interligação de drenos, calços de borracha, bem como todos os acessórios necessários para a completa instalação e funcionamento do sistema, e limpeza final da obra.  "},{"$f":"IF(COUNTA(A103)>0,VLOOKUP($A103,'[8]PLANILHA SINTÉTICA'!$A$9:$U$1082,3,0),\"\")","v":"276777-5"},{"$f":"IF(COUNTA(A103)>0,VLOOKUP($A103,'PLANILHA SINTÉTICA'!$A$10:$T$1083,4,0),\"\")","v":18},{"$f":"IF(COUNTA(A103)>0,VLOOKUP($A103,'PLANILHA SINTÉTICA'!$A$10:$T$1083,5,0),\"\")","v":18},6,{"$f":"IF(COUNTA(A103)>0,VLOOKUP($A103,'[8]PLANILHA SINTÉTICA'!$A$9:$AC$1082,15,0),\"\")","v":1090.0140899999999},6540.08]
["32.11",{"$f":"IF(COUNTA(#REF!)>0,VLOOKUP($A104,'PLANILHA SINTÉTICA'!$A$10:$T$1083,2,0),\"\")","v":"Instalação , conforme projeto, de Condicionador de ar do tipo Split/cassete, com capacidade de 18.000 BTU/h, INVERTER, realizando os serviços de confecção de linhas frigoríficas em tubo de cobre utilizando nitrogênio com fluxo constante para realização das soldas evitando impurezas e a dos drenos termicamente isolados. Fornecimento e instalação de carga de fluido refrigerante ecológico R-410A. A execução da instalação deve ser executada por Técnico de Refrigeração devidamente especializado em equipamentos INVERTER. Realizar a interligação entre as unidades Evaporadora e Condensadora com cabo PP4x1,5mm²; inclusive fixação de unidade evaporadora e interligação de drenos, calços de borracha, bem como todos os acessórios necessários para a completa instalação e funcionamento do sistema, e limpeza final da obra.  "},{"$f":"IF(COUNTA(A104)>0,VLOOKUP($A104,'[8]PLANILHA SINTÉTICA'!$A$9:$U$1082,3,0),\"\")","v":"475570-7"},{"$f":"IF(COUNTA(A104)>0,VLOOKUP($A104,'PLANILHA SINTÉTICA'!$A$10:$T$1083,4,0),\"\")","v":110},{"$f":"IF(COUNTA(A104)>0,VLOOKUP($A104,'PLANILHA SINTÉTICA'!$A$10:$T$1083,5,0),\"\")","v":91},16,{"$f":"IF(COUNTA(A104)>0,VLOOKUP($A104,'[8]PLANILHA SINTÉTICA'!$A$9:$AC$1082,15,0),\"\")","v":1061.8971940000001},16990.36]
["32.25",{"$f":"IF(COUNTA(#REF!)>0,VLOOKUP($A105,'PLANILHA SINTÉTICA'!$A$10:$T$1083,2,0),\"\")","v":"Fornecimento e instalação de dutos em chapa de aço galvanizada bitola nº 24, incluindo acessórios de sustentação. "},{"$f":"IF(COUNTA(A105)>0,VLOOKUP($A105,'[8]PLANILHA SINTÉTICA'!$A$9:$U$1082,3,0),\"\")","v":"484196-4"},{"$f":"IF(COUNTA(A105)>0,VLOOKUP($A105,'PLANILHA SINTÉTICA'!$A$10:$T$1083,4,0),\"\")","v":432.29},{"$f":"IF(COUNTA(A105)>0,VLOOKUP($A105,'PLANILHA SINTÉTICA'!$A$10:$T$1083,5,0),\"\")","v":432.29},{"$f":"IF(ISERROR(VLOOKUP($A105,#REF!,8,0)),0,(VLOOKUP($A105,#REF!,8,0)))","v":0},{"$f":"IF(COUNTA(A105)>0,VLOOKUP($A105,'[8]PLANILHA SINTÉTICA'!$A$9:$AC$1082,15,0),\"\")","v":49.695824000000002},0]
["32.26",{"$f":"IF(COUNTA(#REF!)>0,VLOOKUP($A106,'PLANILHA SINTÉTICA'!$A$10:$T$1083,2,0),\"\")","v":"Fornecimento e instalação de dutos em chapa de aço galvanizada bitola nº 26, incluindo acessórios de sustentação. "},{"$f":"IF(COUNTA(A106)>0,VLOOKUP($A106,'[8]PLANILHA SINTÉTICA'!$A$9:$U$1082,3,0),\"\")","v":"484197-2"},{"$f":"IF(COUNTA(A106)>0,VLOOKUP($A106,'PLANILHA SINTÉTICA'!$A$10:$T$1083,4,0),\"\")","v":570.30999999999995},{"$f":"IF(COUNTA(A106)>0,VLOOKUP($A106,'PLANILHA SINTÉTICA'!$A$10:$T$1083,5,0),\"\")","v":570.30999999999995},{"$f":"IF(ISERROR(VLOOKUP($A106,#REF!,8,0)),0,(VLOOKUP($A106,#REF!,8,0)))","v":0},{"$f":"IF(COUNTA(A106)>0,VLOOKUP($A106,'[8]PLANILHA SINTÉTICA'!$A$9:$AC$1082,15,0),\"\")","v":39.021975999999995},0]
["32.29",{"$f":"IF(COUNTA(#REF!)>0,VLOOKUP($A107,'PLANILHA SINTÉTICA'!$A$10:$T$1083,2,0),\"\")","v":"Fornecimento e instalação de Duto flexível Aludec 60 ou equivalente, 125mm"},{"$f":"IF(COUNTA(A107)>0,VLOOKUP($A107,'[8]PLANILHA SINTÉTICA'!$A$9:$U$1082,3,0),\"\")","v":"432544-3"},{"$f":"IF(COUNTA(A107)>0,VLOOKUP($A107,'PLANILHA SINTÉTICA'!$A$10:$T$1083,4,0),\"\")","v":102},{"$f":"IF(COUNTA(A107)>0,VLOOKUP($A107,'PLANILHA SINTÉTICA'!$A$10:$T$1083,5,0),\"\")","v":102},{"$f":"IF(ISERROR(VLOOKUP($A107,#REF!,8,0)),0,(VLOOKUP($A107,#REF!,8,0)))","v":0},{"$f":"IF(COUNTA(A107)>0,VLOOKUP($A107,'[8]PLANILHA SINTÉTICA'!$A$9:$AC$1082,15,0),\"\")","v":20.299509999999998},0]
[null,null,null,null,null,null,"TOTAL DA 49ª MEDIÇÃO",{"$f":"SUM(H8:H107)","v":29400.58},null,{"$f":"SUM(J8:J107)","v":0},null,{"$f":"SUM(L8:L107)","v":3603.24}]
[null,null,null,null,null,null,null,null,null,"Total Reequilíbrio Med. 49ª",null,{"$f":"J108+L108","v":3603.24}]

{"sheet":"REEQUILÍBRIO","index":3,"n_rows":13,"n_cols":12,"rows_kept":13,"cut":false,"hidden":true,"merged":[[13,12,13,13],[0,8,3,11],[5,8,5,9],[5,10,5,11],[0,1,0,3],[0,6,0,7],[1,1,1,3],[1,6,1,7],[2,1,2,3],[2,6,2,7],[3,1,3,3],[3,6,3,7],[11,12,11,13],[12,9,12,10],[12,12,12,13]]}
["  '","PODER JUDICIÁRIO",null,null,null,"Obra:",{"$f":"#REF!","v":{"$error":"#REF!"}},null,"REEQUILÍBRIO ECONÕMICO FINANCEIRO DA 48ª MEDIÇÃO CONFORME O 7º TA."]
[null,"TRIBUNAL DE JUSTIÇA DE PERNAMBUCO",null,null,null,"Local:",{"$f":"#REF!","v":{"$error":"#REF!"}}]
[null,"DIRETORIA DE ENGENHARIA E ARQUITETURA",null,null,null,"Contrato:",{"$f":"#REF!","v":{"$error":"#REF!"}}]
[null,"PLANILHA PARA LIQUIDAÇÃO - 49ª MEDIÇÃO ",null,null,null,"Contratada:",{"$f":"#REF!","v":{"$error":"#REF!"}}]
[null,null,null,null,null,null,"DATA:","2022-02-10","REEQUILIBRIO",null,"REEQUILIBRIO"]
["Item","Código","Cód. Efisco","Discriminação/especificação dos serviços","UNID","QUANT","SERVIÇO",null,"OBRA",null,"EQUIPAMENTO"]
[null,null,null,null,null,null,"P. UNIT.","P. PARCIAL","P. UNIT.","P. PARCIAL","P. UNIT.","P. PARCIAL"]
["32.01",{"$f":"IF(COUNTA(#REF!)>0,VLOOKUP($A8,'PLANILHA SINTÉTICA'!$A$10:$T$1083,2,0),\"\")","v":"Fornecimento de unidade interna(evaporadora) multisplit - CASSETE INVERTER, que utiliza o gás ecológico R-410A, com capacidade térmica de resfriamento nominal:12.000 BTU/H"},{"$f":"IF(COUNTA(A8)>0,VLOOKUP($A8,'[8]PLANILHA SINTÉTICA'!$A$9:$U$1082,3,0),\"\")","v":"390403-2"},{"$f":"IF(COUNTA(A8)>0,VLOOKUP($A8,'PLANILHA SINTÉTICA'!$A$10:$T$1083,4,0),\"\")","v":18},{"$f":"IF(COUNTA(A8)>0,VLOOKUP($A8,'PLANILHA SINTÉTICA'!$A$10:$T$1083,5,0),\"\")","v":16},{"$f":"IF(ISERROR(VLOOKUP($A8,#REF!,8,0)),0,(VLOOKUP($A8,#REF!,8,0)))","v":0},{"$f":"IF(COUNTA(A8)>0,VLOOKUP($A8,'[8]PLANILHA SINTÉTICA'!$A$9:$AC$1082,15,0),\"\")","v":2019.8901660000001},{"$f":"ROUND(G8*F8,2)","v":0},null,null,{"$f":"G8*74.65%","v":1507.8480089190002},{"$f":"ROUND(F8*K8,2)","v":0}]
["32.03",{"$f":"IF(COUNTA(#REF!)>0,VLOOKUP($A9,'PLANILHA SINTÉTICA'!$A$10:$T$1083,2,0),\"\")","v":"Fornecimento de unidade interna(evaporadora) multisplit - CASSETE INVERTER, que utiliza o gás ecológico R-410A, com capacidade térmica de resfriamento nominal:18.000 BTU/H"},{"$f":"IF(COUNTA(A9)>0,VLOOKUP($A9,'[8]PLANILHA SINTÉTICA'!$A$9:$U$1082,3,0),\"\")","v":"422138-9"},{"$f":"IF(COUNTA(A9)>0,VLOOKUP($A9,'PLANILHA SINTÉTICA'!$A$10:$T$1083,4,0),\"\")","v":110},{"$f":"IF(COUNTA(A9)>0,VLOOKUP($A9,'PLANILHA SINTÉTICA'!$A$10:$T$1083,5,0),\"\")","v":91},{"$f":"IF(ISERROR(VLOOKUP($A9,#REF!,8,0)),0,(VLOOKUP($A9,#REF!,8,0)))","v":0},{"$f":"IF(COUNTA(A9)>0,VLOOKUP($A9,'[8]PLANILHA SINTÉTICA'!$A$9:$AC$1082,15,0),\"\")","v":2152.4609960000003},{"$f":"ROUND(G9*F9,2)","v":0},null,null,{"$f":"G9*74.65%","v":1606.8121335140004},{"$f":"ROUND(F9*K9,2)","v":0}]
["10.1",{"$f":"IF(COUNTA(#REF!)>0,VLOOKUP($A10,'PLANILHA SINTÉTICA'!$A$10:$T$1083,2,0),\"\")","v":"Fornecimento e instalação de esquadrias tipo \"PELE DE VIDRO\", em alumínio anodizado cor bronze, com vidro laminado refletivo 6mm na cor verde, composta por painéis fixos e painéis de abrir tipo maximar, inclusive fechos e braços articulados em alumínio anodizado bronze, conforme projetos. (EPV1)"},{"$f":"IF(COUNTA(A10)>0,VLOOKUP($A10,'[8]PLANILHA SINTÉTICA'!$A$9:$U$1082,3,0),\"\")","v":"464030-6"},{"$f":"IF(COUNTA(A10)>0,VLOOKUP($A10,'PLANILHA SINTÉTICA'!$A$10:$T$1083,4,0),\"\")","v":292},{"$f":"IF(COUNTA(A10)>0,VLOOKUP($A10,'PLANILHA SINTÉTICA'!$A$10:$T$1083,5,0),\"\")","v":292},{"$f":"IF(ISERROR(VLOOKUP($A10,#REF!,8,0)),0,(VLOOKUP($A10,#REF!,8,0)))","v":0},{"$f":"IF(COUNTA(A10)>0,VLOOKUP($A10,'[8]PLANILHA SINTÉTICA'!$A$9:$AC$1082,15,0),\"\")","v":1052.222988},{"$f":"ROUND(G10*F10,2)","v":0},{"$f":"G10*91.67%","v":964.57281309960001},{"$f":"ROUND(F10*I10,2)","v":0}]
["10.20",{"$f":"IF(COUNTA(#REF!)>0,VLOOKUP($A11,'PLANILHA SINTÉTICA'!$A$10:$T$1083,2,0),\"\")","v":"Fornecimento e instalação de janela em alumínio anodizado bronze tipo correr, com vidro liso verde, espessura de 6mm, dimensão (14,58x1,70)m - JAV1. (Fachada Frontal - DET 01/36)"},{"$f":"IF(COUNTA(A11)>0,VLOOKUP($A11,'[8]PLANILHA SINTÉTICA'!$A$9:$U$1082,3,0),\"\")","v":"481929-2"},{"$f":"IF(COUNTA(A11)>0,VLOOKUP($A11,'PLANILHA SINTÉTICA'!$A$10:$T$1083,4,0),\"\")","v":12},{"$f":"IF(COUNTA(A11)>0,VLOOKUP($A11,'PLANILHA SINTÉTICA'!$A$10:$T$1083,5,0),\"\")","v":12},{"$f":"IF(ISERROR(VLOOKUP($A11,#REF!,8,0)),0,(VLOOKUP($A11,#REF!,8,0)))","v":0},{"$f":"IF(COUNTA(A11)>0,VLOOKUP($A11,'[8]PLANILHA SINTÉTICA'!$A$9:$AC$1082,15,0),\"\")","v":10987.956266000001},{"$f":"ROUND(G11*F11,2)","v":0},{"$f":"G11*81.35%","v":8938.7024223909993},{"$f":"ROUND(F11*I11,2)","v":0}]
[null,null,null,null,null,null,"TOTAL DA 49ª MEDIÇÃO",{"$f":"SUM(H8:H11)","v":0},null,{"$f":"SUM(J8:J11)","v":0},null,{"$f":"SUM(L8:L11)","v":0}]
[null,null,null,null,null,null,null,null,null,"TOTAL REEQUILÍBRIO 49ª MED",null,{"$f":"J12+L12","v":0}]

{"sheet":"CRON. FINANC.","index":4,"n_rows":41,"n_cols":32,"rows_kept":41,"cut":false,"hidden":true,"merged":[[11,15,11,16],[9,15,9,16],[10,15,10,16],[10,0,11,0],[9,8,9,9],[9,4,9,5],[11,13,11,14],[9,13,9,14],[11,4,11,5],[10,8,10,9],[10,4,10,5],[11,8,11,9],[0,0,2,31],[3,13,3,14],[6,13,6,14],[7,13,7,14],[3,15,3,16],[4,15,4,16],[6,15,6,16],[7,15,7,16],[4,13,4,14],[7,4,7,5],[8,15,8,16],[10,13,10,14],[8,13,8,14],[5,0,5,1],[3,4,3,5],[3,8,3,9],[4,4,4,5],[4,8,4,9],[3,0,4,1],[8,0,9,0],[6,0,7,0],[6,4,6,5],[6,8,6,9],[7,8,7,9],[8,4,8,5],[8,8,8,9]]}
["CONSTRUÇÃO DO FÓRUM DE LIMOEIRO - CRONOGRAMA FÍSICO-FINANCEIRO  -  ETAPAS DE EXECUÇÃO (MESES)"]
[]
[]
["MÊS",null,1,2,3,null,4,5,6,null,7,8,9,10,null,11,null,12,13,14,15,16,17,18,19,20,21,22,23,24,24,"SUP"]
[null,null,"2017-06-01","2017-07-01","2017-08-01",null,"2017-09-01","2017-10-01","2017-11-01",null,"2017-12-01","2018-01-01","2018-02-01","2018-03-01",null,"2018-04-01",null,"2018-05-01","2018-06-01","2018-07-01","2018-08-01","2018-09-01","2018-10-01","2018-11-01","2018-12-01","2019-01-01","2019-02-01","2019-03-01","2019-04-01","2019-05-01","2019-06-01"]
["MEDIÇÃO",null,"1ª","2ª","3ª","4ª","5ª","6ª","7ª","8ª","9ª",null,"10ª","11ª","12ª","13ª","14ª","15ª","16ª","17ª","18ª","19ª","20ª","21ª","22ª","23ª","24ª","25ª","26ª","27ª","27ª"]
["INICIAL","PERCENTUAL POR MÊS",7.8324816010358535E-3,2.8752007535789856E-2,2.669328774771074E-2,null,3.49E-2,4.2172054490205585E-2,5.2400000000000002E-2,null,6.9400000000000003E-2,9.4600000000000004E-2,7.7299999999999994E-2,6.3500000000000001E-2,null,6.5000000000000002E-2,null,5.2588175181482469E-2,5.8648963415933092E-2,9.5577539511238749E-2,7.4556475163237365E-2,7.859770261439801E-2,6.739661531913263E-2,1.0046371745443882E-2,0,0,0,0,0,0,0,0]
[null,"PERCENTUAL ACUMULADO",{"$f":"SUM($C$7:C7)","v":7.8324816010358535E-3},{"$f":"SUM($C$7:D7)","v":3.6584489136825708E-2},{"$f":"SUM($C$7:E7)","v":6.3277776884536452E-2},null,9.8100000000000007E-2,0.14030000000000001,0.19270000000000001,null,{"$f":"SUM($C$7:K7)","v":0.26214983137474207},{"$f":"SUM($C$7:L7)","v":0.35674983137474209},{"$f":"SUM($C$7:M7)","v":0.43404983137474207},{"$f":"SUM($C$7:N7)","v":0.49754983137474207},null,{"$f":"SUM($C$7:P7)","v":0.56254983137474213},null,{"$f":"SUM($C$7:R7)","v":0.61513800655622464},{"$f":"SUM($C$7:S7)","v":0.6737869699721577},{"$f":"SUM($C$7:T7)","v":0.76936450948339641},{"$f":"SUM($C$7:U7)","v":0.84392098464663379},{"$f":"SUM($C$7:V7)","v":0.92251868726103181},{"$f":"SUM($C$7:W7)","v":0.98991530258016447},{"$f":"SUM($C$7:X7)","v":0.99996167432560834},{"$f":"SUM($C$7:Y7)","v":0.99996167432560834},{"$f":"SUM($C$7:Z7)","v":0.99996167432560834},{"$f":"SUM($C$7:AA7)","v":0.99996167432560834},{"$f":"SUM($C$7:AB7)","v":0.99996167432560834},{"$f":"SUM($C$7:AC7)","v":0.99996167432560834},{"$f":"SUM($C$7:AD7)","v":0.99996167432560834},{"$f":"SUM($C$7:AE7)","v":0.99996167432560834},{"$f":"SUM($C$7:AF7)","v":0.99996167432560834}]
["REVISADO","PERCENTUAL POR MÊS",1.0006253559518103E-2,2.2763832898159909E-2,2.1511286501047458E-2,null,2.2599999999999999E-2,1.44E-2,9.9000000000000008E-3,null,1.7399999999999999E-2,2.35E-2,3.09E-2,3.9E-2,null,3.8699999999999998E-2,null,4.3891783797103207E-2,4.7467381911281241E-2,4.4162312126109347E-2,5.7523313953216255E-2,5.6082462178045057E-2,5.4906536958403487E-2,5.6742131786936337E-2,7.567624389695296E-2,8.5099999999999995E-2,8.4400000000000003E-2,7.1999999999999995E-2,0,0,0,7.1400000000000005E-2]
[null,"PERCENTUAL ACUMULADO",{"$f":"SUM($C$9:C9)","v":1.0006253559518103E-2},{"$f":"SUM($C$9:D9)","v":3.277008645767801E-2},{"$f":"SUM($C$9:E9)","v":5.4281372958725468E-2},null,{"$f":"SUM($C$9:G9)","v":7.6881372958725464E-2},{"$f":"SUM($C$9:H9)","v":9.128137295872546E-2},{"$f":"SUM($C$9:I9)","v":0.10118137295872547},null,{"$f":"SUM($C$9:K9)","v":0.11858137295872546},{"$f":"SUM($C$9:L9)","v":0.14208137295872547},{"$f":"SUM($C$9:M9)","v":0.17298137295872548},{"$f":"SUM($C$9:N9)","v":0.21198137295872549},null,{"$f":"SUM($C$9:P9)","v":0.2506813729587255},null,{"$f":"SUM($C$9:R9)","v":0.29457315675582874},{"$f":"SUM($C$9:S9)","v":0.34204053866710998},{"$f":"SUM($C$9:T9)","v":0.38620285079321931},{"$f":"SUM($C$9:U9)","v":0.44372616474643556},{"$f":"SUM($C$9:V9)","v":0.49980862692448064},{"$f":"SUM($C$9:W9)","v":0.55471516388288411},{"$f":"SUM($C$9:X9)","v":0.61145729566982043},{"$f":"SUM($C$9:Y9)","v":0.68713353956677337},{"$f":"SUM($C$9:Z9)","v":0.77223353956677332},{"$f":"SUM($C$9:AA9)","v":0.85663353956677335},{"$f":"SUM($C$9:AB9)","v":0.9286335395667733},{"$f":"SUM($C$9:AC9)","v":0.9286335395667733},{"$f":"SUM($C$9:AD9)","v":0.9286335395667733},{"$f":"SUM($C$9:AE9)","v":0.9286335395667733},{"$f":"SUM($C$9:AF9)","v":1.0000335395667732}]
["MEDIDO","PERCENTUAL POR MÊS",{"$f":"C13","v":{"$error":"#REF!"}},{"$f":"D13","v":{"$error":"#REF!"}},{"$f":"E13+F13","v":{"$error":"#REF!"}},null,{"$f":"G13","v":{"$error":"#REF!"}},{"$f":"H13","v":{"$error":"#REF!"}},{"$f":"I13+J13","v":{"$error":"#REF!"}},null,{"$f":"#REF!","v":{"$error":"#REF!"}},null,{"$f":"#REF!","v":{"$error":"#REF!"}},{"$f":"#REF!+#REF!","v":{"$error":"#REF!"}},null,{"$f":"#REF!+#REF!","v":{"$error":"#REF!"}},null,{"$f":"#REF!","v":{"$error":"#REF!"}},{"$f":"#REF!","v":{"$error":"#REF!"}},{"$f":"#REF!","v":{"$error":"#REF!"}},{"$f":"#REF!","v":{"$error":"#REF!"}},2.2800000000000001E-2,1.5299999999999999E-2,{"$f":"#REF!","v":{"$error":"#REF!"}},{"$f":"#REF!","v":{"$error":"#REF!"}},{"$f":"#REF!","v":{"$error":"#REF!"}},{"$f":"#REF!","v":{"$error":"#REF!"}},{"$f":"#REF!","v":{"$error":"#REF!"}},{"$f":"#REF!","v":{"$error":"#REF!"}},{"$f":"#REF!","v":{"$error":"#REF!"}},{"$f":"#REF!","v":{"$error":"#REF!"}}]
[null,"PERCENTUAL ACUMULADO",{"$f":"IF(C11>0,SUM($C$11:C11),\"\")","v":{"$error":"#REF!"}},{"$f":"IF(D11>0,SUM($C$11:D11),\"\")","v":{"$error":"#REF!"}},{"$f":"IF(E11>0,SUM($C$11:F11),\"\")","v":{"$error":"#REF!"}},null,{"$f":"IF(G11>0,SUM($C$11:G11),\"\")","v":{"$error":"#REF!"}},{"$f":"IF(H11>0,SUM($C$11:H11),\"\")","v":{"$error":"#REF!"}},{"$f":"IF(I11>0,SUM($C$11:J11),\"\")","v":{"$error":"#REF!"}},null,{"$f":"IF(K11>0,SUM($C$11:K11),\"\")","v":{"$error":"#REF!"}},{"$f":"K12","v":{"$error":"#REF!"}},{"$f":"IF(M11>0,SUM($C$11:M11),\"\")","v":{"$error":"#REF!"}},{"$f":"IF(N11>0,SUM($C$11:N11),\"\")","v":{"$error":"#REF!"}},null,{"$f":"N12+P11","v":{"$error":"#REF!"}},null,{"$f":"IF(R11>0,SUM($C$11:R11),\"\")","v":{"$error":"#REF!"}},{"$f":"IF(S11>0,SUM($C$11:S11),\"\")","v":{"$error":"#REF!"}},{"$f":"IF(T11>0,SUM($C$11:T11),\"\")","v":{"$error":"#REF!"}},{"$f":"IF(U11>0,SUM($C$11:U11),\"\")","v":{"$error":"#REF!"}},{"$f":"IF(V11>0,SUM($C$11:V11),\"\")","v":{"$error":"#REF!"}},{"$f":"IF(W11>0,SUM($C$11:W11),\"\")","v":{"$error":"#REF!"}},{"$f":"IF(X11>0,SUM($C$11:X11),\"\")","v":{"$error":"#REF!"}},{"$f":"IF(Y11>0,SUM($C$11:Y11),\"\")","v":{"$error":"#REF!"}},{"$f":"IF(Z11>0,SUM($C$11:Z11),\"\")","v":{"$error":"#REF!"}},{"$f":"IF(AA11>0,SUM($C$11:AA11),\"\")","v":{"$error":"#REF!"}},{"$f":"IF(AB11>0,SUM($C$11:AB11),\"\")","v":{"$error":"#REF!"}},{"$f":"IF(AC11>0,SUM($C$11:AC11),\"\")","v":{"$error":"#REF!"}},{"$f":"IF(AD11>0,SUM($C$11:AD11),\"\")","v":{"$error":"#REF!"}},{"$f":"IF(AE11>0,SUM($C$11:AE11),\"\")","v":{"$error":"#REF!"}},{"$f":"IF(AF11>0,SUM($C$11:AF11),\"\")","v":""}]
[null,null,{"$f":"#REF!","v":{"$error":"#REF!"}},{"$f":"#REF!","v":{"$error":"#REF!"}},{"$f":"#REF!","v":{"$error":"#REF!"}},{"$f":"#REF!","v":{"$error":"#REF!"}},{"$f":"#REF!","v":{"$error":"#REF!"}},{"$f":"#REF!","v":{"$error":"#REF!"}},{"$f":"#REF!","v":{"$error":"#REF!"}},{"$f":"#REF!","v":{"$error":"#REF!"}},{"$f":"#REF!","v":{"$error":"#REF!"}},null,{"$f":"#REF!","v":{"$error":"#REF!"}},{"$f":"#REF!","v":{"$error":"#REF!"}},{"$f":"#REF!","v":{"$error":"#REF!"}},{"$f":"#REF!","v":{"$error":"#REF!"}},{"$f":"#REF!","v":{"$error":"#REF!"}},{"$f":"#REF!","v":{"$error":"#REF!"}},{"$f":"#REF!","v":{"$error":"#REF!"}},{"$f":"#REF!","v":{"$error":"#REF!"}},2.18E-2,2.2800000000000001E-2,1.5299999999999999E-2]
[]
[]
[]
[]
[]
[]
[]
[]
[]
[]
[]
[]
[]
[]
[]
[]
[]
[]
[]
[]
[]
[]
[]
[null,null,null,null,null,null,null,null,null,null,null,null,null,null,null,null,{"$f":"56.25-25.07","v":31.18},null,{"$f":"+R10-S12","v":{"$error":"#REF!"}}]
[]
[null,null,null,null,null,null,null,null,null,null,null,null,null,null,null,null,{"$f":"25.07-22.15","v":2.9200000000000017}]
[]
[null,null,null,null,null,null,null,null,null,null,null,null,null,null,null,null,{"$f":"P11/P9","v":{"$error":"#REF!"}}]

{"sheet":"1ª MEDIÇÃO","index":5,"n_rows":4,"n_cols":10,"rows_kept":4,"cut":false,"hidden":true,"merged":[[0,0,0,8],[1,0,1,8],[2,0,2,8]]}
["TRIBUNAL DE JUSTIÇA DE PERNAMBUCO"]
[{"$f":"#REF!","v":{"$error":"#REF!"}}]
["MEMÓRIA DE CALCULO - 1ª MEDIÇÃO"]
["ITEM","DESCRIÇÃO","QUANT.","LARG.","COMP.","ALT.","TAXA","TOTAL","UNID","MEMORIAL FOTOGRÁFICO"]

{"sheet":"2ª MEDIÇÃO","index":6,"n_rows":4,"n_cols":10,"rows_kept":4,"cut":false,"hidden":true,"merged":[[0,0,0,8],[1,0,1,8],[2,0,2,8]]}
["TRIBUNAL DE JUSTIÇA DE PERNAMBUCO"]
[{"$f":"#REF!","v":{"$error":"#REF!"}}]
["MEMÓRIA DE CALCULO - 2ª MEDIÇÃO"]
["ITEM","DESCRIÇÃO","QUANT.","LARG.","COMP.","ALT.","TAXA","TOTAL","UNID","MEMORIAL FOTOGRÁFICO"]

{"sheet":"3ª MEDIÇÃO","index":7,"n_rows":4,"n_cols":10,"rows_kept":4,"cut":false,"hidden":true,"merged":[[0,0,0,8],[1,0,1,8],[2,0,2,8]]}
["TRIBUNAL DE JUSTIÇA DE PERNAMBUCO"]
[{"$f":"#REF!","v":{"$error":"#REF!"}}]
["MEMÓRIA DE CALCULO - 3ª MEDIÇÃO"]
["ITEM","DESCRIÇÃO","QUANT.","LARG.","COMP.","ALT.","TAXA","TOTAL","UNID","MEMORIAL FOTOGRÁFICO"]

{"sheet":"4ª MEDIÇÃO","index":8,"n_rows":4,"n_cols":10,"rows_kept":4,"cut":false,"hidden":true,"merged":[[0,0,0,8],[1,0,1,8],[2,0,2,8]]}
["TRIBUNAL DE JUSTIÇA DE PERNAMBUCO"]
[{"$f":"#REF!","v":{"$error":"#REF!"}}]
["MEMÓRIA DE CALCULO - 4ª MEDIÇÃO"]
["ITEM","DESCRIÇÃO","QUANT.","LARG.","COMP.","ALT.","TAXA","TOTAL","UNID","MEMORIAL FOTOGRÁFICO"]

{"sheet":"5ª MEDIÇÃO","index":9,"n_rows":4,"n_cols":10,"rows_kept":4,"cut":false,"hidden":true,"merged":[[0,0,0,8],[1,0,1,8],[2,0,2,8]]}
["TRIBUNAL DE JUSTIÇA DE PERNAMBUCO"]
[{"$f":"#REF!","v":{"$error":"#REF!"}}]
["MEMÓRIA DE CALCULO - 5ª MEDIÇÃO"]
["ITEM","DESCRIÇÃO","QUANT.","LARG.","COMP.","ALT.","TAXA","TOTAL","UNID","MEMORIAL FOTOGRÁFICO"]

{"sheet":"6ª MEDIÇÃO","index":10,"n_rows":4,"n_cols":10,"rows_kept":4,"cut":false,"hidden":true,"merged":[[0,0,0,8],[1,0,1,8],[2,0,2,8]]}
["TRIBUNAL DE JUSTIÇA DE PERNAMBUCO"]
[{"$f":"#REF!","v":{"$error":"#REF!"}}]
["MEMÓRIA DE CALCULO - 6ª MEDIÇÃO"]
["ITEM","DESCRIÇÃO","QUANT.","LARG.","COMP.","ALT.","TAXA","TOTAL","UNID","MEMORIAL FOTOGRÁFICO"]

{"sheet":"7ª MEDIÇÃO","index":11,"n_rows":4,"n_cols":10,"rows_kept":4,"cut":false,"hidden":true,"merged":[[0,0,0,8],[1,0,1,8],[2,0,2,8]]}
["TRIBUNAL DE JUSTIÇA DE PERNAMBUCO"]
[{"$f":"#REF!","v":{"$error":"#REF!"}}]
["MEMÓRIA DE CALCULO - 7ª MEDIÇÃO"]
["ITEM","DESCRIÇÃO","QUANT.","LARG.","COMP.","ALT.","TAXA","TOTAL","UNID","MEMORIAL FOTOGRÁFICO"]

{"sheet":"8ª MEDIÇÃO","index":12,"n_rows":4,"n_cols":10,"rows_kept":4,"cut":false,"hidden":true,"merged":[[0,0,0,8],[1,0,1,8],[2,0,2,8]]}
["TRIBUNAL DE JUSTIÇA DE PERNAMBUCO"]
[{"$f":"#REF!","v":{"$error":"#REF!"}}]
["MEMÓRIA DE CALCULO - 8ª MEDIÇÃO"]
["ITEM","DESCRIÇÃO","QUANT.","LARG.","COMP.","ALT.","TAXA","TOTAL","UNID","MEMORIAL FOTOGRÁFICO"]

{"sheet":"9ª MEDIÇÃO","index":13,"n_rows":4,"n_cols":10,"rows_kept":4,"cut":false,"hidden":true,"merged":[[0,0,0,8],[1,0,1,8],[2,0,2,8]]}
["TRIBUNAL DE JUSTIÇA DE PERNAMBUCO"]
[{"$f":"#REF!","v":{"$error":"#REF!"}}]
["MEMÓRIA DE CALCULO - 9ª MEDIÇÃO"]
["ITEM","DESCRIÇÃO","QUANT.","LARG.","COMP.","ALT.","TAXA","TOTAL","UNID","MEMORIAL FOTOGRÁFICO"]

{"sheet":"PLANILHA SINTÉTICA","index":14,"n_rows":1179,"n_cols":405,"rows_kept":281,"cut":true,"hidden":false,"merged":[[2,0,3,11],[4,0,5,11],[6,0,6,5],[1147,0,1147,14],[1153,0,1153,14],[1157,0,1157,14],[1125,0,1125,5],[1126,0,1126,5],[1127,0,1127,5],[1128,0,1128,5],[1129,0,1129,5],[1108,0,1108,5],[1109,0,1109,5],[1110,0,1110,5],[1111,0,1111,5],[1112,0,1112,5],[1113,0,1113,5],[1114,0,1114,5],[1115,0,1115,5],[1116,0,1116,5],[1117,0,1117,5],[1118,0,1118,5],[1119,0,1119,5],[1120,0,1120,5],[1121,0,1121,5],[1122,0,1122,5],[1123,0,1123,5],[1124,0,1124,5],[1101,0,1101,5],[1102,0,1102,5],[1103,0,1103,5],[1104,0,1104,5],[1105,0,1105,5],[1106,0,1106,5],[1107,0,1107,5],[1091,0,1091,5],[1092,0,1092,5],[1093,0,1093,5],[1094,0,1094,5],[1100,0,1100,5],[1095,0,1095,5],[1096,0,1096,5],[1097,0,1097,5],[1098,0,1098,5],[1099,0,1099,5],[1083,12,1083,14],[1085,0,1085,5],[1086,0,1086,5],[1087,0,1087,5],[1088,0,1088,5],[1089,0,1089,5],[1090,0,1090,5],[6,8,6,9],[6,10,6,11],[1099,14,1099,16],[4,392,6,398],[7,392,8,392],[7,393,8,393],[7,394,8,394],[7,398,8,398],[4,378,6,384],[7,378,8,378],[7,379,8,379],[7,380,8,380],[7,384,8,384],[4,385,6,391],[7,385,8,385],[7,386,8,386],[7,387,8,387],[7,391,8,391],[4,364,6,370],[7,364,8,364],[7,365,8,365],[7,366,8,366],[7,370,8,370],[4,371,6,377],[7,371,8,371],[7,372,8,372],[7,373,8,373],[7,377,8,377],[4,315,6,321],[7,315,8,315],[7,316,8,316],[7,317,8,317],[7,321,8,321],[4,308,6,314],[7,308,8,308],[7,309,8,309],[7,310,8,310],[7,314,8,314],[7,330,8,330],[7,331,8,331],[7,335,8,335],[4,322,6,328],[7,322,8,322],[7,323,8,323],[7,324,8,324],[7,328,8,328],[4,343,6,349],[7,343,8,343],[7,344,8,344],[7,345,8,345],[3,297,3,299],[4,301,6,307],[7,301,8,301],[7,302,8,302],[7,303,8,303],[7,307,8,307],[4,294,6,300],[7,294,8,294],[7,295,8,295],[7,296,8,296],[7,300,8,300],[7,349,8,349],[4,336,6,342],[7,336,8,336],[7,337,8,337],[7,338,8,338],[7,342,8,342],[4,329,6,335],[7,329,8,329],[4,357,6,363],[7,357,8,357],[7,358,8,358],[7,359,8,359],[7,363,8,363],[4,350,6,356],[7,350,8,350],[7,351,8,351],[7,352,8,352],[7,356,8,356],[3,238,3,239],[3,241,3,242],[4,273,6,279],[4,280,6,286],[4,287,6,293],[7,273,8,273],[7,274,8,274],[7,275,8,275],[7,279,8,279],[7,280,8,280],[7,281,8,281],[7,282,8,282],[7,286,8,286],[7,287,8,287],[7,288,8,288],[7,289,8,289],[7,293,8,293],[4,245,6,251],[4,252,6,258],[7,245,8,245],[7,246,8,246],[7,247,8,247],[7,251,8,251],[7,252,8,252],[4,189,6,195],[4,196,6,202],[7,189,8,189],[7,190,8,190],[7,191,8,191],[7,195,8,195],[7,196,8,196],[7,197,8,197],[7,198,8,198],[7,202,8,202],[7,224,8,224],[7,225,8,225],[7,226,8,226],[7,230,8,230],[4,203,6,209],[4,210,6,216],[7,203,8,203],[7,204,8,204],[7,205,8,205],[7,209,8,209],[7,210,8,210],[7,211,8,211],[7,212,8,212],[7,216,8,216],[4,266,6,272],[7,259,8,259],[7,260,8,260],[7,261,8,261],[7,265,8,265],[7,266,8,266],[7,267,8,267],[7,268,8,268],[7,272,8,272],[7,50,8,50],[7,51,8,51],[7,48,8,48],[4,42,6,48],[7,253,8,253],[7,254,8,254],[7,258,8,258],[4,259,6,265],[4,231,6,237],[4,238,6,244],[7,231,8,231],[7,232,8,232],[7,233,8,233],[7,237,8,237],[7,238,8,238],[7,239,8,239],[7,240,8,240],[7,244,8,244],[4,217,6,223],[4,224,6,230],[7,217,8,217],[7,218,8,218],[7,219,8,219],[7,223,8,223],[7,29,8,29],[7,30,8,30],[7,36,8,36],[7,6,7,7],[7,8,7,9],[7,10,7,11],[7,12,7,14],[7,3,8,3],[7,4,8,4],[7,5,8,5],[7,1,8,1],[7,2,8,2],[6,6,6,7],[7,23,8,23],[0,0,1,5],[7,98,8,98],[7,99,8,99],[7,76,8,76],[7,71,8,71],[7,70,8,70],[7,69,8,69],[4,56,6,62],[4,63,6,69],[7,63,8,63],[7,64,8,64],[7,65,8,65],[7,57,8,57],[7,58,8,58],[4,77,6,83],[7,43,8,43],[4,70,6,76],[4,35,6,41],[7,56,8,56],[7,62,8,62],[4,49,6,55],[7,49,8,49],[7,55,8,55],[7,42,8,42],[7,15,8,15],[4,15,6,20],[7,20,8,20],[7,37,8,37],[4,28,6,34],[7,28,8,28],[7,34,8,34],[4,21,6,27],[7,21,8,21],[7,27,8,27],[7,22,8,22],[7,35,8,35],[7,41,8,41],[7,44,8,44],[7,113,8,113],[7,114,8,114],[7,118,8,118],[7,100,8,100],[7,104,8,104],[1083,15,1083,16],[1083,0,1083,5],[4,91,6,97],[7,91,8,91],[7,92,8,92],[7,93,8,93],[7,97,8,97],[4,84,6,90],[7,84,8,84],[7,85,8,85],[7,86,8,86],[7,90,8,90],[7,77,8,77],[7,78,8,78],[7,79,8,79],[7,83,8,83],[7,0,8,0],[7,16,8,16],[4,105,6,111],[7,105,8,105],[7,106,8,106],[7,107,8,107],[7,111,8,111],[7,72,8,72],[4,98,6,104],[4,133,6,139],[7,133,8,133],[7,134,8,134],[7,135,8,135],[7,139,8,139],[4,126,6,132],[7,126,8,126],[7,127,8,127],[7,128,8,128],[7,132,8,132],[4,119,6,125],[7,119,8,119],[7,120,8,120],[7,121,8,121],[7,125,8,125],[4,112,6,118],[7,112,8,112],[7,146,8,146],[4,154,6,160],[4,182,6,188],[7,182,8,182],[7,183,8,183],[7,184,8,184],[7,188,8,188],[4,175,6,181],[7,175,8,175],[7,176,8,176],[7,177,8,177],[7,181,8,181],[7,154,8,154],[7,155,8,155],[1130,0,1130,5],[1132,0,1132,5],[4,168,6,174],[7,168,8,168],[7,169,8,169],[7,170,8,170],[7,174,8,174],[4,161,6,167],[7,161,8,161],[7,162,8,162],[7,163,8,163],[7,167,8,167],[7,156,8,156],[7,160,8,160],[4,147,6,153],[7,147,8,147],[7,148,8,148],[7,149,8,149],[7,153,8,153],[4,140,6,146],[7,140,8,140],[7,141,8,141],[7,142,8,142],[1180,0,1180,5],[1181,0,1181,5],[1182,0,1182,5],[1183,0,1183,5],[1175,0,1175,5],[1176,0,1176,5],[1177,0,1177,5],[1178,0,1178,5],[1179,0,1179,5],[1152,0,1152,5],[1154,0,1154,5],[1166,0,1166,5],[1167,0,1167,5],[1168,0,1168,5],[1169,0,1169,5],[1170,0,1170,5],[1171,0,1171,5],[1172,0,1172,5],[1155,0,1155,5],[1156,0,1156,5],[1173,0,1173,5],[1174,0,1174,5],[1158,0,1158,5],[1159,0,1159,5],[1160,0,1160,5],[1161,0,1161,5],[1162,0,1162,5],[1163,0,1163,5],[1164,0,1164,5],[1165,0,1165,5],[1184,0,1184,5],[1185,0,1185,5],[1186,0,1186,5],[1187,0,1187,5],[1084,0,1084,14],[1131,0,1131,14],[1136,0,1136,14],[1141,0,1141,14],[1133,0,1133,5],[1134,0,1134,5],[1135,0,1135,5],[1137,0,1137,5],[1138,0,1138,5],[1139,0,1139,5],[1140,0,1140,5],[1142,0,1142,5],[1143,0,1143,5],[1144,0,1144,5],[1145,0,1145,5],[1146,0,1146,5],[1148,0,1148,5],[1149,0,1149,5],[1150,0,1150,5],[1151,0,1151,5]],"bounds":{"rows_first":125,"rows_last":31,"rows_between":125,"halvings":4}}
["PODER JUDICIÁRIO",null,null,null,null,null,null,null,null,null,null,null,"OBRA:",null,"CONSTRUÇÃO DO FÓRUM DE LIMOEIRO"]
[null,null,null,null,null,null,null,null,null,null,null,null,"LOCAL:",null,"RODOVIA PE 90, KM 22, LT. VALE DE SANTANA"]
["TRIBUNAL DE JUSTIÇA DE PERNAMBUCO",null,null,null,null,null,null,null,null,null,null,null,"Nº CONTRATO:",null,"61/2017"]
[null,null,null,null,null,null,null,null,null,null,null,null,"SITUAÇÃO:",null,"ENCERRADA",null,null,null,null,null,null,null,null,null,null,null,null,null,null,null,null,null,null,null,null,null,null,null,null,null,null,null,null,null,null,null,null,null,null,null,null,null,null,null,null,null,null,null,null,null,null,null,null,null,null,null,null,null,null,null,null,null,null,null,null,null,null,null,null,null,null,null,null,null,null,null,null,null,null,null,null,null,null,null,null,null,null,null,null,null,null,null,null,null,null,null,null,null,null,null,null,null,null,null,null,null,null,null,null,null,null,null,null,null,null,null,null,null,null,null,null,null,null,null,null,null,null,null,null,null,null,null,null,null,null,null,null,null,null,null,null,null,null,null,null,null,null,null,null,null,null,null,null,null,null,null,null,null,null,null,null,null,null,null,null,null,null,null,null,null,null,null,null,null,null,null,null,null,null,null,null,null,null,null,null,null,null,null,null,null,null,null,null,null,null,null,null,null,null,null,null,null,null,null,null,null,null,null,null,null,null,null,null,null,null,null,null,"Período da medição15/11 a 15/12/2019","15/12/2019 a  15/01/2020",null,null,null,null,null,"período da medição de 16/01 a 27/02/2020",null,null,null,"Período da Medição de 28/2 a 24/3 e 08/6 a 17/06 ",null,null,null,null,null,null,null,null,null,"Período da Medição 18/06 a 27/07/2020",null,null,null,null,null,null,"Período da medição 27/7 a 26/08/2020",null,null,null,null,null,null,"Período da Medição 27/08 a 28/09/2020",null,null,null,null,null,null,null,null,null,null,null,null,null,"PERÍODO DA MEDIÇÃO 29/10/2020 A 07/12/2020",null,null,null,null,null,null,null,null,null,null,null,null,null,"periodo da medição 28-01-2021 a 27-02-2021",null,null,null,null,null,null,"Período da Medição de 27/02 a 26/03/2021",null,null,null,null,null,null,"Período da medição 27/03 a 28/04/2021",null,null,null,null,null,null,null,null,null,null,null,null,null,"PERÍODO DE 28/05 a 28/06/2021"]
["DIRETORIA DE ENGENHARIA E ARQUITETURA",null,null,null,null,null,null,null,null,null,null,null,"CONTRATADA:",null,"CONSTRUTORA E INCORPORADORA RR LTDA","1ª MEDIÇÃO",null,null,null,null,null,"2ª MEDIÇÃO",null,null,null,null,null,null,"3ª MEDIÇÃO",null,null,null,null,null,null,"4ª MEDIÇÃO",null,null,null,null,null,null,"5ª MEDIÇÃO",null,null,null,null,null,null,"6ª MEDIÇÃO",null,null,null,null,null,null,"7ª MEDIÇÃO",null,null,null,null,null,null,"8ª MEDIÇÃO",null,null,null,null,null,null,"9ª MEDIÇÃO",null,null,null,null,null,null,"10ª MEDIÇÃO",null,null,null,null,null,null,"11ª MEDIÇÃO",null,null,null,null,null,null,"12ª MEDIÇÃO",null,null,null,null,null,null,"13ª MEDIÇÃO",null,null,null,null,null,null,"14ª MEDIÇÃO",null,null,null,null,null,null,"15ª MEDIÇÃO",null,null,null,null,null,null,"16ª MEDIÇÃO",null,null,null,null,null,null,"17ª MEDIÇÃO",null,null,null,null,null,null,"18ª MEDIÇÃO",null,null,null,null,null,null,"19ª MEDIÇÃO",null,null,null,null,null,null,"20ª MEDIÇÃO",null,null,null,null,null,null,"21ª MEDIÇÃO",null,null,null,null,null,null,"22ª MEDIÇÃO",null,null,null,null,null,null,"23ª MEDIÇÃO",null,null,null,null,null,null,"24ª MEDIÇÃO  (16/01/2019 - 15/02/2019)",null,null,null,null,null,null,"25ª MEDIÇÃO (16/02/2019 - 15/03/2019)",null,null,null,null,null,null,"26ª MEDIÇÃO (16/03/2019 - 15/04/2019)",null,null,null,null,null,null,"27ª MEDIÇÃO (16/04/2019 - 15/05/2019)",null,null,null,null,null,null,"28ª MEDIÇÃO (16/05/2019 - 15/06/2019)",null,null,null,null,null,null,"29ª MEDIÇÃO",null,null,null,null,null,null,"30ª MEDIÇÃO",null,null,null,null,null,null,"31ª MEDIÇÃO",null,null,null,null,null,null,"32ª MEDIÇÃO",null,null,null,null,null,null,"33ª MEDIÇÃO",null,null,null,null,null,null,"34ª MEDIÇÃO",null,null,null,null,null,null,"35ª MEDIÇÃO",null,null,null,null,null,null,"36ª MEDIÇÃO",null,null,null,null,null,null,"37ª MEDIÇÃO",null,null,null,null,null,null,"38ª MEDIÇÃO",null,null,null,null,null,null,"39ª MEDIÇÃO",null,null,null,null,null,null,"40ª MEDIÇÃO",null,null,null,null,null,null,"41ª MEDIÇÃO",null,null,null,null,null,null,"42ª MEDIÇÃO",null,null,null,null,null,null,"43ª MEDIÇÃO (periodo de 28/04 a 27/05/2021)",null,null,null,null,null,null,"44ª MEDIÇÃO",null,null,null,null,null,null,"45ª MEDIÇÃO - Período de 28/06 a 26/08/2021",null,null,null,null,null,null,"46ª MEDIÇÃO",null,null,null,null,null,null,"47ª MEDIÇÃO - Período 16/10 a 08/11/2021",null,null,null,null,null,null,"48ª MEDIÇÃO (Período de 09/11 a 13/12/2021)",null,null,null,null,null,null,"49ª MEDIÇÃO (Período de 13/12/2021 a 10/02/2022)",null,null,null,null,null,null,"50ª MEDIÇÃO - Período 11/02 a 14/03/2022",null,null,null,null,null,null,"51ª MEDIÇÃO - Período 15/03 a 28/04/2022",null,null,null,null,null,null,"52ª MEDIÇÃO - PERÍODO 29/04 A 08/06/2022",null,null,null,null,null,null,"53ª MEDIÇÃO - Período 09/06 a 04/07/2022",null,null,null,null,null,null,"54ª MEDIÇÃO",null,null,null,null,null,null,"SUPRESSÃO"]
[null,null,null,null,null,null,null,null,null,null,null,null,"VALOR DO CONTRATO:",null,15984588.189999999]
["PLANILHA QUANTITATIVOS EXECUTADOS E PREÇOS PRATICADOS",null,null,null,null,null,"BDI: 17,94%",null,"BDI: 24,40%",null,"BDI: 13,26%",null,"DATA DE ENCERRAMENTO:",null,"2022-11-22"]
["ITEM","DESCRIÇÃO","UN","QUANT. TOTAL","QUANT. ACUM.","QUANT. RESIDUAL","MATERIAL",null,"MÃO DE OBRA",null,"EQUIPAMENTO",null,"TOTAL",null,null,"QUANT. MEDIDA","% MEDIDO","MATERIAL","MÃO DE OBRA","EQUIPAMENTO","TOTAL DA MEDIÇÃO","QUANT. MEDIDA","% MEDIDO","% ACUM.","MATERIAL","MÃO DE OBRA","EQUIPAMENTO","TOTAL DA MEDIÇÃO","QUANT. MEDIDA","% MEDIDO","% ACUM.","MATERIAL","MÃO DE OBRA","EQUIPAMENTO","TOTAL DA MEDIÇÃO","QUANT. MEDIDA","% MEDIDO","% ACUM.","MATERIAL","MÃO DE OBRA","EQUIPAMENTO","TOTAL DA MEDIÇÃO","QUANT. MEDIDA","% MEDIDO","% ACUM.","MATERIAL","MÃO DE OBRA","EQUIPAMENTO","TOTAL DA MEDIÇÃO","QUANT. MEDIDA","% MEDIDO","% ACUM.","MATERIAL","MÃO DE OBRA","EQUIPAMENTO","TOTAL DA MEDIÇÃO","QUANT. MEDIDA","% MEDIDO","% ACUM.","MATERIAL","MÃO DE OBRA","EQUIPAMENTO","TOTAL DA MEDIÇÃO","QUANT. MEDIDA","% MEDIDO","% ACUM.","MATERIAL","MÃO DE OBRA","EQUIPAMENTO","TOTAL DA MEDIÇÃO","QUANT. MEDIDA","% MEDIDO","% ACUM.","MATERIAL","MÃO DE OBRA","EQUIPAMENTO","TOTAL DA MEDIÇÃO","QUANT. MEDIDA","% MEDIDO","% ACUM.","MAT.","MO","EQUIP.","TOTAL DA MEDIÇÃO","QUANT. MEDIDA","% MEDIDO","% ACUM.","MATERIAL","MÃO DE OBRA","EQUIPAMENTO","TOTAL DA MEDIÇÃO","QUANT. MEDIDA","% MEDIDO","% ACUM.","MATERIAL","MÃO DE OBRA","EQUIPAMENTO","TOTAL DA MEDIÇÃO","QUANT. MEDIDA","% MEDIDO","% ACUM.","MATERIAL","MÃO DE OBRA","EQUIPAMENTO","TOTAL DA MEDIÇÃO","QUANT. MEDIDA","% MEDIDO","% ACUM.","MATERIAL","MÃO DE OBRA","EQUIPAMENTO","TOTAL DA MEDIÇÃO","QUANT. MEDIDA","% MEDIDO","% ACUM.","MATERIAL","MÃO DE OBRA","EQUIPAMENTO","TOTAL DA MEDIÇÃO","QUANT. MEDIDA","% MEDIDO","% ACUM.","MATERIAL","MÃO DE OBRA","EQUIPAMENTO","TOTAL DA MEDIÇÃO","QUANT. MEDIDA","% MEDIDO","% ACUM.","MATERIAL","MÃO DE OBRA","EQUIPAMENTO","TOTAL DA MEDIÇÃO","QUANT. MEDIDA","% MEDIDO","% ACUM.","MATERIAL","MÃO DE OBRA","EQUIPAMENTO","TOTAL DA MEDIÇÃO","QUANT. MEDIDA","% MEDIDO","% ACUM.","MATERIAL","MÃO DE OBRA","EQUIPAMENTO","TOTAL DA MEDIÇÃO","QUANT. MEDIDA","% MEDIDO","% ACUM.","MATERIAL","MÃO DE OBRA","EQUIPAMENTO","TOTAL DA MEDIÇÃO","QUANT. MEDIDA","% MEDIDO","% ACUM.","MATERIAL","MÃO DE OBRA","EQUIPAMENTO","TOTAL DA MEDIÇÃO","QUANT. MEDIDA","% MEDIDO","% ACUM.","MATERIAL","MÃO DE OBRA","EQUIPAMENTO","TOTAL DA MEDIÇÃO","QUANT. MEDIDA","% MEDIDO","% ACUM.","MATERIAL","MÃO DE OBRA","EQUIPAMENTO","TOTAL DA MEDIÇÃO","QUANT. MEDIDA","% MEDIDO","% ACUM.","MATERIAL","MÃO DE OBRA","EQUIPAMENTO","TOTAL DA MEDIÇÃO","QUANT. MEDIDA","% MEDIDO","% ACUM.","MATERIAL","MÃO DE OBRA","EQUIPAMENTO","TOTAL DA MEDIÇÃO","QUANT. MEDIDA","% MEDIDO","% ACUM.","MATERIAL","MÃO DE OBRA","EQUIPAMENTO","TOTAL DA MEDIÇÃO","QUANT. MEDIDA","% MEDIDO","% ACUM.","MATERIAL","MÃO DE OBRA","EQUIPAMENTO","TOTAL DA MEDIÇÃO","QUANT. MEDIDA","% MEDIDO","% ACUM.","MATERIAL","MÃO DE OBRA","EQUIPAMENTO","TOTAL DA MEDIÇÃO","QUANT. MEDIDA","% MEDIDO","% ACUM.","MATERIAL","MÃO DE OBRA","EQUIPAMENTO","TOTAL DA MEDIÇÃO","QUANT. MEDIDA","% MEDIDO","% ACUM.","MATERIAL","MÃO DE OBRA","EQUIPAMENTO","TOTAL DA MEDIÇÃO","QUANT. MEDIDA","% MEDIDO","% ACUM.","MATERIAL","MÃO DE OBRA","EQUIPAMENTO","TOTAL DA MEDIÇÃO","QUANT. MEDIDA","% MEDIDO","% ACUM.","MATERIAL","MÃO DE OBRA","EQUIPAMENTO","TOTAL DA MEDIÇÃO","QUANT. MEDIDA","% MEDIDO","% ACUM.","MATERIAL","MÃO DE OBRA","EQUIPAMENTO","TOTAL DA MEDIÇÃO","QUANT. MEDIDA","% MEDIDO","% ACUM.","MATERIAL","MÃO DE OBRA","EQUIPAMENTO","TOTAL DA MEDIÇÃO","QUANT. MEDIDA","% MEDIDO","% ACUM.","MATERIAL","MÃO DE OBRA","EQUIPAMENTO","TOTAL DA MEDIÇÃO","QUANT. MEDIDA","% MEDIDO","% ACUM.","MATERIAL","MÃO DE OBRA","EQUIPAMENTO","TOTAL DA MEDIÇÃO","QUANT. MEDIDA","% MEDIDO","% ACUM.","MATERIAL","MÃO DE OBRA","EQUIPAMENTO","TOTAL DA MEDIÇÃO","QUANT. MEDIDA","% MEDIDO","% ACUM.","MATERIAL","MÃO DE OBRA","EQUIPAMENTO","TOTAL DA MEDIÇÃO","QUANT. MEDIDA","% MEDIDO","% ACUM.","MATERIAL","MÃO DE OBRA","EQUIPAMENTO","TOTAL DA MEDIÇÃO","QUANT. MEDIDA","% MEDIDO","% ACUM.","MATERIAL","MÃO DE OBRA","EQUIPAMENTO","TOTAL DA MEDIÇÃO","QUANT. MEDIDA","% MEDIDO","% ACUM.","MATERIAL","MÃO DE OBRA","EQUIPAMENTO","TOTAL DA MEDIÇÃO","QUANT. MEDIDA","% MEDIDO","% ACUM.","MATERIAL","MÃO DE OBRA","EQUIPAMENTO","TOTAL DA MEDIÇÃO","QUANT. MEDIDA","% MEDIDO","% ACUM.","MATERIAL","MÃO DE OBRA","EQUIPAMENTO","TOTAL DA MEDIÇÃO","QUANT. MEDIDA","% MEDIDO","% ACUM.","MATERIAL","MÃO DE OBRA","EQUIPAMENTO","TOTAL DA MEDIÇÃO","QUANT. MEDIDA","% MEDIDO","% ACUM.","MATERIAL","MÃO DE OBRA","EQUIPAMENTO","TOTAL DA MEDIÇÃO","QUANT. MEDIDA","% MEDIDO","% ACUM.","MATERIAL","MÃO DE OBRA","EQUIPAMENTO","TOTAL DA MEDIÇÃO","QUANT. MEDIDA","% MEDIDO","% ACUM.","MATERIAL","MÃO DE OBRA","EQUIPAMENTO","TOTAL DA MEDIÇÃO","QUANT. MEDIDA","% MEDIDO","% ACUM.","MATERIAL","MÃO DE OBRA","EQUIPAMENTO","TOTAL DA MEDIÇÃO","QUANT. MEDIDA","% MEDIDO","% ACUM.","MATERIAL","MÃO DE OBRA","EQUIPAMENTO","TOTAL DA MEDIÇÃO","QUANT. MEDIDA","% MEDIDO","% ACUM.","MATERIAL","MÃO DE OBRA","EQUIPAMENTO","TOTAL DA MEDIÇÃO","QUANT. MEDIDA","% MEDIDO","% ACUM.","MATERIAL","MÃO DE OBRA","EQUIPAMENTO","TOTAL DA MEDIÇÃO","QUANT. MEDIDA","% MEDIDO","% ACUM.","MATERIAL","MÃO DE OBRA","EQUIPAMENTO","TOTAL DA MEDIÇÃO","QUANT. MEDIDA","% MEDIDO","% ACUM.","MATERIAL","MÃO DE OBRA","EQUIPAMENTO","TOTAL DA MEDIÇÃO","QUANT. MEDIDA","% MEDIDO","% ACUM.","MATERIAL","MÃO DE OBRA","EQUIPAMENTO","TOTAL DA MEDIÇÃO","QUANT. MEDIDA","% MEDIDO","% ACUM.","MATERIAL","MÃO DE OBRA","EQUIPAMENTO","TOTAL DA MEDIÇÃO"]
[null,null,null,null,null,null,"P. UNIT","P. TOTAL","P. UNIT","P. TOTAL","P. UNIT","P. TOTAL","P. UNIT (R$)",null,"P. TOTAL (R$)",null,null,"P. TOTAL DA MED.","P. TOTAL DA MED.","P. TOTAL DA MED.",null,null,null,null,"P. TOTAL DA MED.","P. TOTAL DA MED.","P. TOTAL DA MED.",null,null,null,null,"P. TOTAL DA MED.","P. TOTAL DA MED.","P. TOTAL DA MED.",null,null,null,null,"P. TOTAL DA MED.","P. TOTAL DA MED.","P. TOTAL DA MED.",null,null,null,null,"P. TOTAL DA MED.","P. TOTAL DA MED.","P. TOTAL DA MED.",null,null,null,null,"P. TOTAL DA MED.","P. TOTAL DA MED.","P. TOTAL DA MED.",null,null,null,null,"P. TOTAL DA MED.","P. TOTAL DA MED.","P. TOTAL DA MED.",null,null,null,null,"P. TOTAL DA MED.","P. TOTAL DA MED.","P. TOTAL DA MED.",null,null,null,null,"P. TOTAL DA MED.","P. TOTAL DA MED.","P. TOTAL DA MED.",null,null,null,null,"P. TOTAL DA MED.","P. TOTAL DA MED.","P. TOTAL DA MED.",null,null,null,null,"P. TOTAL DA MED.","P. TOTAL DA MED.","P. TOTAL DA MED.",null,null,null,null,"P. TOTAL DA MED.","P. TOTAL DA MED.","P. TOTAL DA MED.",null,null,null,null,"P. TOTAL DA MED.","P. TOTAL DA MED.","P. TOTAL DA MED.",null,null,null,null,"P. TOTAL DA MED.","P. TOTAL DA MED.","P. TOTAL DA MED.",null,null,null,null,"P. TOTAL DA MED.","P. TOTAL DA MED.","P. TOTAL DA MED.",null,null,null,null,"P. TOTAL DA MED.","P. TOTAL DA MED.","P. TOTAL DA MED.",null,null,null,null,"P. TOTAL DA MED.","P. TOTAL DA MED.","P. TOTAL DA MED.",null,null,null,null,"P. TOTAL DA MED.","P. TOTAL DA MED.","P. TOTAL DA MED.",null,null,null,null,"P. TOTAL DA MED.","P. TOTAL DA MED.","P. TOTAL DA MED.",null,null,null,null,"P. TOTAL DA MED.","P. TOTAL DA MED.","P. TOTAL DA MED.",null,null,null,null,"P. TOTAL DA MED.","P. TOTAL DA MED.","P. TOTAL DA MED.",null,null,null,null,"P. TOTAL DA MED.","P. TOTAL DA MED.","P. TOTAL DA MED.",null,null,null,null,"P. TOTAL DA MED.","P. TOTAL DA MED.","P. TOTAL DA MED.",null,null,null,null,"P. TOTAL DA MED.","P. TOTAL DA MED.","P. TOTAL DA MED.",null,null,null,null,"P. TOTAL DA MED.","P. TOTAL DA MED.","P. TOTAL DA MED.",null,null,null,null,"P. TOTAL DA MED.","P. TOTAL DA MED.","P. TOTAL DA MED.",null,null,null,null,"P. TOTAL DA MED.","P. TOTAL DA MED.","P. TOTAL DA MED.",null,null,null,null,"P. TOTAL DA MED.","P. TOTAL DA MED.","P. TOTAL DA MED.",null,null,null,null,"P. TOTAL DA MED.","P. TOTAL DA MED.","P. TOTAL DA MED.",null,null,null,null,"P. TOTAL DA MED.","P. TOTAL DA MED.","P. TOTAL DA MED.",null,null,null,null,"P. TOTAL DA MED.","P. TOTAL DA MED.","P. TOTAL DA MED.",null,null,null,null,"P. TOTAL DA MED.","P. TOTAL DA MED.","P. TOTAL DA MED.",null,null,null,null,"P. TOTAL DA MED.","P. TOTAL DA MED.","P. TOTAL DA MED.",null,null,null,null,"P. TOTAL DA MED.","P. TOTAL DA MED.","P. TOTAL DA MED.",null,null,null,null,"P. TOTAL DA MED.","P. TOTAL DA MED.","P. TOTAL DA MED.",null,null,null,null,"P. TOTAL DA MED.","P. TOTAL DA MED.","P. TOTAL DA MED.",null,null,null,null,"P. TOTAL DA MED.","P. TOTAL DA MED.","P. TOTAL DA MED.",null,null,null,null,"P. TOTAL DA MED.","P. TOTAL DA MED.","P. TOTAL DA MED.",null,null,null,null,"P. TOTAL DA MED.","P. TOTAL DA MED.","P. TOTAL DA MED.",null,null,null,null,"P. TOTAL DA MED.","P. TOTAL DA MED.","P. TOTAL DA MED.",null,null,null,null,"P. TOTAL DA MED.","P. TOTAL DA MED.","P. TOTAL DA MED.",null,null,null,null,"P. TOTAL DA MED.","P. TOTAL DA MED.","P. TOTAL DA MED.",null,null,null,null,"P. TOTAL DA MED.","P. TOTAL DA MED.","P. TOTAL DA MED.",null,null,null,null,"P. TOTAL DA MED.","P. TOTAL DA MED.","P. TOTAL DA MED.",null,null,null,null,"P. TOTAL DA MED.","P. TOTAL DA MED.","P. TOTAL DA MED.",null,null,null,null,"P. TOTAL DA MED.","P. TOTAL DA MED.","P. TOTAL DA MED.",null,null,null,null,"P. TOTAL DA MED.","P. TOTAL DA MED.","P. TOTAL DA MED.",null,null,null,null,"P. TOTAL DA MED.","P. TOTAL DA MED.","P. TOTAL DA MED.",null,null,null,null,"P. TOTAL DA MED.","P. TOTAL DA MED.","P. TOTAL DA MED.",null,null,null,null,"P. TOTAL DA MED.","P. TOTAL DA MED.","P. TOTAL DA MED.",null,null,null,null,"P. TOTAL DA MED.","P. TOTAL DA MED.","P. TOTAL DA MED.",null,null,null,null,"P. TOTAL DA MED.","P. TOTAL DA MED.","P. TOTAL DA MED.",null,null,null,null,"P. TOTAL DA MED.","P. TOTAL DA MED.","P. TOTAL DA MED.",null,null,null,null,"P. TOTAL DA MED.","P. TOTAL DA MED.","P. TOTAL DA MED.",null,null,null,null,"P. TOTAL DA MED.","P. TOTAL DA MED.","P. TOTAL DA MED."]
["1.0","PRÉDIO PRINCIPAL - SERVIÇOS PRELIMINARES",null,null,{"$f":"IF(D10>0,P10+V10+AC10+AJ10+AQ10+AX10+BE10+BL10+BS10+BZ10+CG10+CN10+CU10+DB10+DI10+DP10+DW10+ED10+EK10+ER10+EY10+FF10+FM10+FT10+GA10+GH10+GO10+GV10+HC10+HJ10+HQ10+HX10+IE10+IL10+IS10+IZ10+JG10+JN10+JU10+KB10+KI10+KP10+KW10+LD10+LK10+LR10+LY10+MF10+MM10+MT10+NA10+NH10+NO10+NV10+OC10,0)","v":0},{"$f":"D10-E10","v":0},null,null,null,null,null,null,null,null,null,null,{"$f":"IF($D10>0,P10/$D10,0)","v":0},{"$f":"P10*$G10","v":0},{"$f":"$I10*P10","v":0},{"$f":"$K10*P10","v":0},{"$f":"ROUND($M10*P10,2)","v":0},null,{"$f":"IF($D10>0,V10/$D10,0)","v":0},{"$f":"IF($E10>0,$E10/$D10,0)","v":0},{"$f":"V10*$G10","v":0},{"$f":"$I10*V10","v":0},{"$f":"$K10*V10","v":0},{"$f":"ROUND($M10*V10,2)","v":0},null,{"$f":"IF($D10>0,AC10/$D10,0)","v":0},{"$f":"IF($E10>0,$E10/$D10,0)","v":0},{"$f":"AC10*$G10","v":0},{"$f":"$I10*AC10","v":0},{"$f":"$K10*AC10","v":0},{"$f":"ROUND($M10*AC10,2)","v":0},null,{"$f":"IF($D10>0,AJ10/$D10,0)","v":0},{"$f":"IF($E10>0,$E10/$D10,0)","v":0},{"$f":"AJ10*$G10","v":0},{"$f":"$I10*AJ10","v":0},{"$f":"$K10*AJ10","v":0},{"$f":"ROUND($M10*AJ10,2)","v":0},null,{"$f":"IF($D10>0,AQ10/$D10,0)","v":0},{"$f":"IF($E10>0,$E10/$D10,0)","v":0},{"$f":"AQ10*$G10","v":0},{"$f":"$I10*AQ10","v":0},{"$f":"$K10*AQ10","v":0},{"$f":"ROUND($M10*AQ10,2)","v":0},null,{"$f":"IF($D10>0,AX10/$D10,0)","v":0},{"$f":"IF($E10>0,$E10/$D10,0)","v":0},{"$f":"AX10*$G10","v":0},{"$f":"$I10*AX10","v":0},{"$f":"$K10*AX10","v":0},{"$f":"ROUND($M10*AX10,2)","v":0},{"$f":"IF(ISERROR(VLOOKUP(A10,'7ª MEDIÇÃO'!$A$5:$J$1048576,8,0)),0,(VLOOKUP(A10,'7ª MEDIÇÃO'!$A$5:$J$1048576,8,0)))","v":0},{"$f":"IF($D10>0,BE10/$D10,0)","v":0},{"$f":"IF($E10>0,$E10/$D10,0)","v":0},{"$f":"BE10*$G10","v":0},{"$f":"$I10*BE10","v":0},{"$f":"$K10*BE10","v":0},{"$f":"ROUND($M10*BE10,2)","v":0},{"$f":"IF(ISERROR(VLOOKUP(A10,'8ª MEDIÇÃO'!$A$5:$J$1048576,8,0)),0,(VLOOKUP(A10,'8ª MEDIÇÃO'!$A$5:$J$1048576,8,0)))","v":0},{"$f":"IF($D10>0,BL10/$D10,0)","v":0},{"$f":"IF($E10>0,$E10/$D10,0)","v":0},{"$f":"BL10*$G10","v":0},{"$f":"$I10*BL10","v":0},{"$f":"$K10*BL10","v":0},{"$f":"ROUND($M10*BL10,2)","v":0},{"$f":"IF(ISERROR(VLOOKUP(A10,'9ª MEDIÇÃO'!$A$5:$J$1048576,8,0)),0,(VLOOKUP(A10,'9ª MEDIÇÃO'!$A$5:$J$1048576,8,0)))","v":0},{"$f":"IF($D10>0,BS10/$D10,0)","v":0},{"$f":"IF($E10>0,$E10/$D10,0)","v":0},{"$f":"BS10*$G10","v":0},{"$f":"$I10*BS10","v":0},{"$f":"$K10*BS10","v":0},{"$f":"ROUND($M10*BS10,2)","v":0},{"$f":"IF(ISERROR(VLOOKUP(A10,#REF!,8,0)),0,(VLOOKUP(A10,#REF!,8,0)))","v":0},{"$f":"IF($D10>0,BZ10/$D10,0)","v":0},{"$f":"IF($E10>0,$E10/$D10,0)","v":0},{"$f":"BZ10*$G10","v":0},{"$f":"$I10*BZ10","v":0},{"$f":"$K10*BZ10","v":0},{"$f":"ROUND($M10*BZ10,2)","v":0},{"$f":"IF(ISERROR(VLOOKUP($A10,#REF!,8,0)),0,(VLOOKUP($A10,#REF!,8,0)))","v":0},{"$f":"IF($D10>0,CG10/$D10,0)","v":0},{"$f":"IF($E10>0,$E10/$D10,0)","v":0},{"$f":"CG10*$G10","v":0},{"$f":"$I10*CG10","v":0},{"$f":"$K10*CG10","v":0},{"$f":"ROUND($M10*CG10,2)","v":0},{"$f":"IF(ISERROR(VLOOKUP($A10,#REF!,8,0)),0,(VLOOKUP($A10,#REF!,8,0)))","v":0},{"$f":"IF($D10>0,CN10/$D10,0)","v":0},{"$f":"IF($E10>0,$E10/$D10,0)","v":0},{"$f":"CN10*$G10","v":0},{"$f":"$I10*CN10","v":0},{"$f":"$K10*CN10","v":0},{"$f":"ROUND($M10*CN10,2)","v":0},{"$f":"IF(ISERROR(VLOOKUP($A10,#REF!,8,0)),0,(VLOOKUP($A10,#REF!,8,0)))","v":0},{"$f":"IF($D10>0,CU10/$D10,0)","v":0},{"$f":"IF($E10>0,$E10/$D10,0)","v":0},{"$f":"CU10*$G10","v":0},{"$f":"$I10*CU10","v":0},{"$f":"$K10*CU10","v":0},{"$f":"ROUND($M10*CU10,2)","v":0},{"$f":"IF(ISERROR(VLOOKUP($A10,#REF!,8,0)),0,(VLOOKUP($A10,#REF!,8,0)))","v":0},{"$f":"IF($D10>0,DB10/$D10,0)","v":0},{"$f":"IF($E10>0,$E10/$D10,0)","v":0},{"$f":"DB10*$G10","v":0},{"$f":"$I10*DB10","v":0},{"$f":"$K10*DB10","v":0},{"$f":"ROUND($M10*DB10,2)","v":0},{"$f":"IF(ISERROR(VLOOKUP($A10,#REF!,8,0)),0,(VLOOKUP($A10,#REF!,8,0)))","v":0},{"$f":"IF($D10>0,DI10/$D10,0)","v":0},{"$f":"IF($E10>0,$E10/$D10,0)","v":0},{"$f":"DI10*$G10","v":0},{"$f":"$I10*DI10","v":0},{"$f":"$K10*DI10","v":0},{"$f":"ROUND($M10*DI10,2)","v":0},{"$f":"IF(ISERROR(VLOOKUP($A10,#REF!,8,0)),0,(VLOOKUP($A10,#REF!,8,0)))","v":0},{"$f":"IF($D10>0,DP10/$D10,0)","v":0},{"$f":"IF($E10>0,$E10/$D10,0)","v":0},{"$f":"DP10*$G10","v":0},{"$f":"$I10*DP10","v":0},{"$f":"$K10*DP10","v":0},{"$f":"ROUND($M10*DP10,2)","v":0},{"$f":"IF(ISERROR(VLOOKUP($A10,#REF!,8,0)),0,(VLOOKUP($A10,#REF!,8,0)))","v":0},{"$f":"IF($D10>0,DW10/$D10,0)","v":0},{"$f":"IF($E10>0,$E10/$D10,0)","v":0},{"$f":"DW10*$G10","v":0},{"$f":"$I10*DW10","v":0},{"$f":"$K10*DW10","v":0},{"$f":"ROUND($M10*DW10,2)","v":0},{"$f":"IF(ISERROR(VLOOKUP($A10,#REF!,8,0)),0,(VLOOKUP($A10,#REF!,8,0)))","v":0},{"$f":"IF($D10>0,ED10/$D10,0)","v":0},{"$f":"IF($E10>0,$E10/$D10,0)","v":0},{"$f":"ED10*$G10","v":0},{"$f":"$I10*ED10","v":0},{"$f":"$K10*ED10","v":0},{"$f":"ROUND($M10*ED10,2)","v":0},{"$f":"IF(ISERROR(VLOOKUP($A10,#REF!,8,0)),0,(VLOOKUP($A10,#REF!,8,0)))","v":0},{"$f":"IF($D10>0,EK10/$D10,0)","v":0},{"$f":"IF($E10>0,$E10/$D10,0)","v":0},{"$f":"EK10*$G10","v":0},{"$f":"$I10*EK10","v":0},{"$f":"$K10*EK10","v":0},{"$f":"ROUND($M10*EK10,2)","v":0},{"$f":"IF(ISERROR(VLOOKUP($A10,#REF!,8,0)),0,(VLOOKUP($A10,#REF!,8,0)))","v":0},{"$f":"IF($D10>0,ER10/$D10,0)","v":0},{"$f":"IF($E10>0,$E10/$D10,0)","v":0},{"$f":"ER10*$G10","v":0},{"$f":"$I10*ER10","v":0},{"$f":"$K10*ER10","v":0},{"$f":"ROUND($M10*ER10,2)","v":0},{"$f":"IF(ISERROR(VLOOKUP($A10,#REF!,8,0)),0,(VLOOKUP($A10,#REF!,8,0)))","v":0},{"$f":"IF($D10>0,EY10/$D10,0)","v":0},{"$f":"IF($E10>0,$E10/$D10,0)","v":0},{"$f":"EY10*$G10","v":0},{"$f":"$I10*EY10","v":0},{"$f":"$K10*EY10","v":0},{"$f":"ROUND($M10*EY10,2)","v":0},{"$f":"IF(ISERROR(VLOOKUP($A10,#REF!,8,0)),0,(VLOOKUP($A10,#REF!,8,0)))","v":0},{"$f":"IF($D10>0,FF10/$D10,0)","v":0},{"$f":"IF($E10>0,$E10/$D10,0)","v":0},{"$f":"FF10*$G10","v":0},{"$f":"$I10*FF10","v":0},{"$f":"$K10*FF10","v":0},{"$f":"ROUND($M10*FF10,2)","v":0},{"$f":"IF(ISERROR(VLOOKUP($A10,#REF!,8,0)),0,(VLOOKUP($A10,#REF!,8,0)))","v":0},{"$f":"IF($D10>0,FM10/$D10,0)","v":0},{"$f":"IF($E10>0,$E10/$D10,0)","v":0},{"$f":"FM10*$G10","v":0},{"$f":"$I10*FM10","v":0},{"$f":"$K10*FM10","v":0},{"$f":"ROUND($M10*FM10,2)","v":0},{"$f":"IF(ISERROR(VLOOKUP($A10,#REF!,8,0)),0,(VLOOKUP($A10,#REF!,8,0)))","v":0},{"$f":"IF($D10>0,FT10/$D10,0)","v":0},{"$f":"IF($E10>0,$E10/$D10,0)","v":0},{"$f":"FT10*$G10","v":0},{"$f":"$I10*FT10","v":0},{"$f":"$K10*FT10","v":0},{"$f":"ROUND($M10*FT10,2)","v":0},{"$f":"IF(ISERROR(VLOOKUP($A10,#REF!,8,0)),0,(VLOOKUP($A10,#REF!,8,0)))","v":0},{"$f":"IF($D10>0,GA10/$D10,0)","v":0},{"$f":"IF($E10>0,$E10/$D10,0)","v":0},{"$f":"GA10*$G10","v":0},{"$f":"$I10*GA10","v":0},{"$f":"$K10*GA10","v":0},{"$f":"ROUND($M10*GA10,2)","v":0},{"$f":"IF(ISERROR(VLOOKUP($A10,#REF!,8,0)),0,(VLOOKUP($A10,#REF!,8,0)))","v":0},{"$f":"IF($D10>0,GH10/$D10,0)","v":0},{"$f":"IF($E10>0,$E10/$D10,0)","v":0},{"$f":"GH10*$G10","v":0},{"$f":"$I10*GH10","v":0},{"$f":"$K10*GH10","v":0},{"$f":"ROUND($M10*GH10,2)","v":0},{"$f":"IF(ISERROR(VLOOKUP($A10,#REF!,8,0)),0,(VLOOKUP($A10,#REF!,8,0)))","v":0},{"$f":"IF($D10>0,GO10/$D10,0)","v":0},{"$f":"IF($E10>0,$E10/$D10,0)","v":0},{"$f":"GO10*$G10","v":0},{"$f":"$I10*GO10","v":0},{"$f":"$K10*GO10","v":0},{"$f":"ROUND($M10*GO10,2)","v":0},{"$f":"IF(ISERROR(VLOOKUP($A10,#REF!,8,0)),0,(VLOOKUP($A10,#REF!,8,0)))","v":0},{"$f":"IF($D10>0,GV10/$D10,0)","v":0},{"$f":"IF($E10>0,$E10/$D10,0)","v":0},{"$f":"GV10*$G10","v":0},{"$f":"$I10*GV10","v":0},{"$f":"$K10*GV10","v":0},{"$f":"ROUND($M10*GV10,2)","v":0},{"$f":"IF(ISERROR(VLOOKUP($A10,#REF!,8,0)),0,(VLOOKUP($A10,#REF!,8,0)))","v":0},{"$f":"IF($D10>0,HC10/$D10,0)","v":0},{"$f":"IF($E10>0,$E10/$D10,0)","v":0},{"$f":"HC10*$G10","v":0},{"$f":"$I10*HC10","v":0},{"$f":"$K10*HC10","v":0},{"$f":"ROUND($M10*HC10,2)","v":0},{"$f":"IF(ISERROR(VLOOKUP($A10,#REF!,8,0)),0,(VLOOKUP($A10,#REF!,8,0)))","v":0},{"$f":"IF($D10>0,HJ10/$D10,0)","v":0},{"$f":"IF($E10>0,$E10/$D10,0)","v":0},{"$f":"HJ10*$G10","v":0},{"$f":"$I10*HJ10","v":0},{"$f":"$K10*HJ10","v":0},{"$f":"ROUND($M10*HJ10,2)","v":0},{"$f":"IF(ISERROR(VLOOKUP($A10,#REF!,8,0)),0,(VLOOKUP($A10,#REF!,8,0)))","v":0},{"$f":"IF($D10>0,HQ10/$D10,0)","v":0},{"$f":"IF($E10>0,$E10/$D10,0)","v":0},{"$f":"HQ10*$G10","v":0},{"$f":"$I10*HQ10","v":0},{"$f":"$K10*HQ10","v":0},{"$f":"ROUND($M10*HQ10,2)","v":0},{"$f":"IF(ISERROR(VLOOKUP($A10,#REF!,8,0)),0,(VLOOKUP($A10,#REF!,8,0)))","v":0},{"$f":"IF($D10>0,HX10/$D10,0)","v":0},{"$f":"IF($E10>0,$E10/$D10,0)","v":0},{"$f":"HX10*$G10","v":0},{"$f":"$I10*HX10","v":0},{"$f":"$K10*HX10","v":0},{"$f":"ROUND($M10*HX10,2)","v":0},{"$f":"IF(ISERROR(VLOOKUP($A10,#REF!,8,0)),0,(VLOOKUP($A10,#REF!,8,0)))","v":0},{"$f":"IF($D10>0,IE10/$D10,0)","v":0},{"$f":"IF($E10>0,$E10/$D10,0)","v":0},{"$f":"IE10*$G10","v":0},{"$f":"$I10*IE10","v":0},{"$f":"$K10*IE10","v":0},{"$f":"ROUND($M10*IE10,2)","v":0},{"$f":"IF(ISERROR(VLOOKUP($A10,#REF!,8,0)),0,(VLOOKUP($A10,#REF!,8,0)))","v":0},{"$f":"IF($D10>0,IL10/$D10,0)","v":0},{"$f":"IF($E10>0,$E10/$D10,0)","v":0},{"$f":"IL10*$G10","v":0},{"$f":"$I10*IL10","v":0},{"$f":"$K10*IL10","v":0},{"$f":"ROUND($M10*IL10,2)","v":0},{"$f":"IF(ISERROR(VLOOKUP($A10,#REF!,8,0)),0,(VLOOKUP($A10,#REF!,8,0)))","v":0},{"$f":"IF($D10>0,IS10/$D10,0)","v":0},{"$f":"IF($E10>0,$E10/$D10,0)","v":0},{"$f":"IS10*$G10","v":0},{"$f":"$I10*IS10","v":0},{"$f":"$K10*IS10","v":0},{"$f":"ROUND($M10*IS10,2)","v":0},{"$f":"IF(ISERROR(VLOOKUP($A10,#REF!,8,0)),0,(VLOOKUP($A10,#REF!,8,0)))","v":0},{"$f":"IF($D10>0,IZ10/$D10,0)","v":0},{"$f":"IF($E10>0,$E10/$D10,0)","v":0},{"$f":"IZ10*$G10","v":0},{"$f":"$I10*IZ10","v":0},{"$f":"$K10*IZ10","v":0},{"$f":"ROUND($M10*IZ10,2)","v":0},{"$f":"IF(ISERROR(VLOOKUP($A10,#REF!,8,0)),0,(VLOOKUP($A10,#REF!,8,0)))","v":0},{"$f":"IF($D10>0,JG10/$D10,0)","v":0},{"$f":"IF($E10>0,$E10/$D10,0)","v":0},{"$f":"JG10*$G10","v":0},{"$f":"$I10*JG10","v":0},{"$f":"$K10*JG10","v":0},{"$f":"ROUND($M10*JG10,2)","v":0},{"$f":"IF(ISERROR(VLOOKUP($A10,#REF!,8,0)),0,(VLOOKUP($A10,#REF!,8,0)))","v":0},{"$f":"IF($D10>0,JN10/$D10,0)","v":0},{"$f":"IF($E10>0,$E10/$D10,0)","v":0},{"$f":"JN10*$G10","v":0},{"$f":"$I10*JN10","v":0},{"$f":"$K10*JN10","v":0},{"$f":"ROUND($M10*JN10,2)","v":0},{"$f":"IF(ISERROR(VLOOKUP($A10,#REF!,8,0)),0,(VLOOKUP($A10,#REF!,8,0)))","v":0},{"$f":"IF($D10>0,JU10/$D10,0)","v":0},{"$f":"IF($E10>0,$E10/$D10,0)","v":0},{"$f":"JU10*$G10","v":0},{"$f":"$I10*JU10","v":0},{"$f":"$K10*JU10","v":0},{"$f":"ROUND($M10*JU10,2)","v":0},{"$f":"IF(ISERROR(VLOOKUP($A10,#REF!,8,0)),0,(VLOOKUP($A10,#REF!,8,0)))","v":0},{"$f":"IF($D10>0,KB10/$D10,0)","v":0},{"$f":"IF($E10>0,$E10/$D10,0)","v":0},{"$f":"KB10*$G10","v":0},{"$f":"$I10*KB10","v":0},{"$f":"$K10*KB10","v":0},{"$f":"ROUND($M10*KB10,2)","v":0},{"$f":"IF(ISERROR(VLOOKUP($A10,#REF!,8,0)),0,(VLOOKUP($A10,#REF!,8,0)))","v":0},{"$f":"IF($D10>0,KI10/$D10,0)","v":0},{"$f":"IF($E10>0,$E10/$D10,0)","v":0},{"$f":"KI10*$G10","v":0},{"$f":"$I10*KI10","v":0},{"$f":"$K10*KI10","v":0},{"$f":"ROUND($M10*KI10,2)","v":0},{"$f":"IF(ISERROR(VLOOKUP($A10,#REF!,8,0)),0,(VLOOKUP($A10,#REF!,8,0)))","v":0},{"$f":"IF($D10>0,KP10/$D10,0)","v":0},{"$f":"IF($E10>0,$E10/$D10,0)","v":0},{"$f":"KP10*$G10","v":0},{"$f":"$I10*KP10","v":0},{"$f":"$K10*KP10","v":0},{"$f":"ROUND($M10*KP10,2)","v":0},{"$f":"IF(ISERROR(VLOOKUP($A10,#REF!,8,0)),0,(VLOOKUP($A10,#REF!,8,0)))","v":0},{"$f":"IF($D10>0,KW10/$D10,0)","v":0},{"$f":"IF($E10>0,$E10/$D10,0)","v":0},{"$f":"KW10*$G10","v":0},{"$f":"$I10*KW10","v":0},{"$f":"$K10*KW10","v":0},{"$f":"ROUND($M10*KW10,2)","v":0},{"$f":"IF(ISERROR(VLOOKUP($A10,#REF!,8,0)),0,(VLOOKUP($A10,#REF!,8,0)))","v":0},{"$f":"IF($D10>0,LD10/$D10,0)","v":0},{"$f":"IF($E10>0,$E10/$D10,0)","v":0},{"$f":"LD10*$G10","v":0},{"$f":"$I10*LD10","v":0},{"$f":"$K10*LD10","v":0},{"$f":"ROUND($M10*LD10,2)","v":0},{"$f":"IF(ISERROR(VLOOKUP($A10,#REF!,8,0)),0,(VLOOKUP($A10,#REF!,8,0)))","v":0},{"$f":"IF($D10>0,LK10/$D10,0)","v":0},{"$f":"IF($E10>0,$E10/$D10,0)","v":0},{"$f":"LK10*$G10","v":0},{"$f":"$I10*LK10","v":0},{"$f":"$K10*LK10","v":0},{"$f":"ROUND($M10*LK10,2)","v":0},{"$f":"IF(ISERROR(VLOOKUP($A10,#REF!,8,0)),0,(VLOOKUP($A10,#REF!,8,0)))","v":0},{"$f":"IF($D10>0,LR10/$D10,0)","v":0},{"$f":"IF($E10>0,$E10/$D10,0)","v":0},{"$f":"LR10*$G10","v":0},{"$f":"$I10*LR10","v":0},{"$f":"$K10*LR10","v":0},{"$f":"ROUND($M10*LR10,2)","v":0},{"$f":"IF(ISERROR(VLOOKUP($A10,#REF!,8,0)),0,(VLOOKUP($A10,#REF!,8,0)))","v":0},{"$f":"IF($D10>0,LY10/$D10,0)","v":0},{"$f":"IF($E10>0,$E10/$D10,0)","v":0},{"$f":"LY10*$G10","v":0},{"$f":"$I10*LY10","v":0},{"$f":"$K10*LY10","v":0},{"$f":"ROUND($M10*LY10,2)","v":0},{"$f":"IF(ISERROR(VLOOKUP($A10,#REF!,8,0)),0,(VLOOKUP($A10,#REF!,8,0)))","v":0},{"$f":"IF($D10>0,MF10/$D10,0)","v":0},{"$f":"IF($E10>0,$E10/$D10,0)","v":0},{"$f":"MF10*$G10","v":0},{"$f":"$I10*MF10","v":0},{"$f":"$K10*MF10","v":0},{"$f":"ROUND($M10*MF10,2)","v":0},{"$f":"IF(ISERROR(VLOOKUP($A10,#REF!,8,0)),0,(VLOOKUP($A10,#REF!,8,0)))","v":0},{"$f":"IF($D10>0,MM10/$D10,0)","v":0},{"$f":"IF($E10>0,$E10/$D10,0)","v":0},{"$f":"MM10*$G10","v":0},{"$f":"$I10*MM10","v":0},{"$f":"$K10*MM10","v":0},{"$f":"ROUND($M10*MM10,2)","v":0},{"$f":"IF(ISERROR(VLOOKUP($A10,#REF!,8,0)),0,(VLOOKUP($A10,#REF!,8,0)))","v":0},{"$f":"IF($D10>0,MT10/$D10,0)","v":0},{"$f":"IF($E10>0,$E10/$D10,0)","v":0},{"$f":"MT10*$G10","v":0},{"$f":"$I10*MT10","v":0},{"$f":"$K10*MT10","v":0},{"$f":"ROUND($M10*MT10,2)","v":0},{"$f":"IF(ISERROR(VLOOKUP($A10,#REF!,8,0)),0,(VLOOKUP($A10,#REF!,8,0)))","v":0},{"$f":"IF($D10>0,NA10/$D10,0)","v":0},{"$f":"IF($E10>0,$E10/$D10,0)","v":0},{"$f":"NA10*$G10","v":0},{"$f":"$I10*NA10","v":0},{"$f":"$K10*NA10","v":0},{"$f":"ROUND($M10*NA10,2)","v":0},{"$f":"IF(ISERROR(VLOOKUP($A10,#REF!,8,0)),0,(VLOOKUP($A10,#REF!,8,0)))","v":0},{"$f":"IF($D10>0,NH10/$D10,0)","v":0},{"$f":"IF($E10>0,$E10/$D10,0)","v":0},{"$f":"NH10*$G10","v":0},{"$f":"$I10*NH10","v":0},{"$f":"$K10*NH10","v":0},{"$f":"ROUND($M10*NH10,2)","v":0},{"$f":"IF(ISERROR(VLOOKUP($A10,#REF!,8,0)),0,(VLOOKUP($A10,#REF!,8,0)))","v":0},{"$f":"IF($D10>0,NO10/$D10,0)","v":0},{"$f":"IF($E10>0,$E10/$D10,0)","v":0},{"$f":"NO10*$G10","v":0},{"$f":"$I10*NO10","v":0},{"$f":"$K10*NO10","v":0},{"$f":"ROUND($M10*NO10,2)","v":0},{"$f":"IF(ISERROR(VLOOKUP($A10,#REF!,8,0)),0,(VLOOKUP($A10,#REF!,8,0)))","v":0},{"$f":"IF($D10>0,NV10/$D10,0)","v":0},{"$f":"IF($E10>0,$E10/$D10,0)","v":0},{"$f":"NV10*$G10","v":0},{"$f":"$I10*NV10","v":0},{"$f":"$K10*NV10","v":0},{"$f":"ROUND($M10*NV10,2)","v":0},{"$f":"IF(ISERROR(VLOOKUP($A10,#REF!,8,0)),0,(VLOOKUP($A10,#REF!,8,0)))","v":0},{"$f":"IF($D10>0,OC10/$D10,0)","v":0},{"$f":"IF($E10>0,$E10/$D10,0)","v":0},{"$f":"OC10*$G10","v":0},{"$f":"$I10*OC10","v":0},{"$f":"$K10*OC10","v":0},{"$f":"ROUND($M10*OC10,2)","v":0},{"$f":"SUM(OJ11:OJ82)","v":2859553.7890603282},{"$f":"SUM(OK11:OK82)","v":2859553.7890603282},{"$f":"OJ10/OK10","v":1}]
["1.1","Mobilização e Desmobilização da Obra","un",2,1,1,0,0,1088.78612,2177.57224,0,0,1088.78612,1088.78612,1088.78612,1,{"$f":"IF($D11>0,P11/$D11,0)","v":0.5},{"$f":"P11*$G11","v":0},{"$f":"$I11*P11","v":1088.78612},{"$f":"$K11*P11","v":0},{"$f":"ROUND($M11*P11,2)","v":1088.79},null,{"$f":"IF($D11>0,V11/$D11,0)","v":0},{"$f":"IF($E11>0,$E11/$D11,0)","v":0.5},{"$f":"V11*$G11","v":0},{"$f":"$I11*V11","v":0},{"$f":"$K11*V11","v":0},{"$f":"ROUND($M11*V11,2)","v":0},null,{"$f":"IF($D11>0,AC11/$D11,0)","v":0},{"$f":"IF($E11>0,$E11/$D11,0)","v":0.5},{"$f":"AC11*$G11","v":0},{"$f":"$I11*AC11","v":0},{"$f":"$K11*AC11","v":0},{"$f":"ROUND($M11*AC11,2)","v":0},null,{"$f":"IF($D11>0,AJ11/$D11,0)","v":0},{"$f":"IF($E11>0,$E11/$D11,0)","v":0.5},{"$f":"AJ11*$G11","v":0},{"$f":"$I11*AJ11","v":0},{"$f":"$K11*AJ11","v":0},{"$f":"ROUND($M11*AJ11,2)","v":0},null,{"$f":"IF($D11>0,AQ11/$D11,0)","v":0},{"$f":"IF($E11>0,$E11/$D11,0)","v":0.5},0,0,0,{"$f":"ROUND($M11*AQ11,2)","v":0},null,{"$f":"IF($D11>0,AX11/$D11,0)","v":0},{"$f":"IF($E11>0,$E11/$D11,0)","v":0.5},{"$f":"AX11*$G11","v":0},{"$f":"$I11*AX11","v":0},{"$f":"$K11*AX11","v":0},{"$f":"ROUND($M11*AX11,2)","v":0},{"$f":"IF(ISERROR(VLOOKUP(A11,'7ª MEDIÇÃO'!$A$5:$J$1048576,8,0)),0,(VLOOKUP(A11,'7ª MEDIÇÃO'!$A$5:$J$1048576,8,0)))","v":0},{"$f":"IF($D11>0,BE11/$D11,0)","v":0},{"$f":"IF($E11>0,$E11/$D11,0)","v":0.5},{"$f":"BE11*$G11","v":0},{"$f":"$I11*BE11","v":0},{"$f":"$K11*BE11","v":0},{"$f":"ROUND($M11*BE11,2)","v":0},{"$f":"IF(ISERROR(VLOOKUP(A11,'8ª MEDIÇÃO'!$A$5:$J$1048576,8,0)),0,(VLOOKUP(A11,'8ª MEDIÇÃO'!$A$5:$J$1048576,8,0)))","v":0},{"$f":"IF($D11>0,BL11/$D11,0)","v":0},{"$f":"IF($E11>0,$E11/$D11,0)","v":0.5},{"$f":"BL11*$G11","v":0},{"$f":"$I11*BL11","v":0},{"$f":"$K11*BL11","v":0},{"$f":"ROUND($M11*BL11,2)","v":0},{"$f":"IF(ISERROR(VLOOKUP(A11,'9ª MEDIÇÃO'!$A$5:$J$1048576,8,0)),0,(VLOOKUP(A11,'9ª MEDIÇÃO'!$A$5:$J$1048576,8,0)))","v":0},{"$f":"IF($D11>0,BS11/$D11,0)","v":0},{"$f":"IF($E11>0,$E11/$D11,0)","v":0.5},0,0,0,{"$f":"ROUND($M11*BS11,2)","v":0},{"$f":"IF(ISERROR(VLOOKUP(A11,#REF!,8,0)),0,(VLOOKUP(A11,#REF!,8,0)))","v":0},{"$f":"IF($D11>0,BZ11/$D11,0)","v":0},{"$f":"IF($E11>0,$E11/$D11,0)","v":0.5},0,0,0,{"$f":"ROUND($M11*BZ11,2)","v":0},{"$f":"IF(ISERROR(VLOOKUP($A11,#REF!,8,0)),0,(VLOOKUP($A11,#REF!,8,0)))","v":0},{"$f":"IF($D11>0,CG11/$D11,0)","v":0},{"$f":"IF($E11>0,$E11/$D11,0)","v":0.5},0,0,0,{"$f":"ROUND($M11*CG11,2)","v":0},{"$f":"IF(ISERROR(VLOOKUP($A11,#REF!,8,0)),0,(VLOOKUP($A11,#REF!,8,0)))","v":0},{"$f":"IF($D11>0,CN11/$D11,0)","v":0},{"$f":"IF($E11>0,$E11/$D11,0)","v":0.5},0,0,0,{"$f":"ROUND($M11*CN11,2)","v":0},{"$f":"IF(ISERROR(VLOOKUP($A11,#REF!,8,0)),0,(VLOOKUP($A11,#REF!,8,0)))","v":0},{"$f":"IF($D11>0,CU11/$D11,0)","v":0},{"$f":"IF($E11>0,$E11/$D11,0)","v":0.5},0,0,0,{"$f":"ROUND($M11*CU11,2)","v":0},{"$f":"IF(ISERROR(VLOOKUP($A11,#REF!,8,0)),0,(VLOOKUP($A11,#REF!,8,0)))","v":0},{"$f":"IF($D11>0,DB11/$D11,0)","v":0},{"$f":"IF($E11>0,$E11/$D11,0)","v":0.5},0,0,0,{"$f":"ROUND($M11*DB11,2)","v":0},{"$f":"IF(ISERROR(VLOOKUP($A11,#REF!,8,0)),0,(VLOOKUP($A11,#REF!,8,0)))","v":0},{"$f":"IF($D11>0,DI11/$D11,0)","v":0},{"$f":"IF($E11>0,$E11/$D11,0)","v":0.5},0,0,0,{"$f":"ROUND($M11*DI11,2)","v":0},{"$f":"IF(ISERROR(VLOOKUP($A11,#REF!,8,0)),0,(VLOOKUP($A11,#REF!,8,0)))","v":0},{"$f":"IF($D11>0,DP11/$D11,0)","v":0},{"$f":"IF($E11>0,$E11/$D11,0)","v":0.5},0,0,0,{"$f":"ROUND($M11*DP11,2)","v":0},{"$f":"IF(ISERROR(VLOOKUP($A11,#REF!,8,0)),0,(VLOOKUP($A11,#REF!,8,0)))","v":0},{"$f":"IF($D11>0,DW11/$D11,0)","v":0},{"$f":"IF($E11>0,$E11/$D11,0)","v":0.5},0,0,0,{"$f":"ROUND($M11*DW11,2)","v":0},{"$f":"IF(ISERROR(VLOOKUP($A11,#REF!,8,0)),0,(VLOOKUP($A11,#REF!,8,0)))","v":0},{"$f":"IF($D11>0,ED11/$D11,0)","v":0},{"$f":"IF($E11>0,$E11/$D11,0)","v":0.5},0,0,0,{"$f":"ROUND($M11*ED11,2)","v":0},{"$f":"IF(ISERROR(VLOOKUP($A11,#REF!,8,0)),0,(VLOOKUP($A11,#REF!,8,0)))","v":0},{"$f":"IF($D11>0,EK11/$D11,0)","v":0},{"$f":"IF($E11>0,$E11/$D11,0)","v":0.5},0,0,0,{"$f":"ROUND($M11*EK11,2)","v":0},{"$f":"IF(ISERROR(VLOOKUP($A11,#REF!,8,0)),0,(VLOOKUP($A11,#REF!,8,0)))","v":0},{"$f":"IF($D11>0,ER11/$D11,0)","v":0},{"$f":"IF($E11>0,$E11/$D11,0)","v":0.5},0,0,0,{"$f":"ROUND($M11*ER11,2)","v":0},{"$f":"IF(ISERROR(VLOOKUP($A11,#REF!,8,0)),0,(VLOOKUP($A11,#REF!,8,0)))","v":0},{"$f":"IF($D11>0,EY11/$D11,0)","v":0},{"$f":"IF($E11>0,$E11/$D11,0)","v":0.5},0,0,0,{"$f":"ROUND($M11*EY11,2)","v":0},{"$f":"IF(ISERROR(VLOOKUP($A11,#REF!,8,0)),0,(VLOOKUP($A11,#REF!,8,0)))","v":0},{"$f":"IF($D11>0,FF11/$D11,0)","v":0},{"$f":"IF($E11>0,$E11/$D11,0)","v":0.5},0,0,0,{"$f":"ROUND($M11*FF11,2)","v":0},{"$f":"IF(ISERROR(VLOOKUP($A11,#REF!,8,0)),0,(VLOOKUP($A11,#REF!,8,0)))","v":0},{"$f":"IF($D11>0,FM11/$D11,0)","v":0},{"$f":"IF($E11>0,$E11/$D11,0)","v":0.5},0,0,0,{"$f":"ROUND($M11*FM11,2)","v":0},{"$f":"IF(ISERROR(VLOOKUP($A11,#REF!,8,0)),0,(VLOOKUP($A11,#REF!,8,0)))","v":0},{"$f":"IF($D11>0,FT11/$D11,0)","v":0},{"$f":"IF($E11>0,$E11/$D11,0)","v":0.5},0,0,0,{"$f":"ROUND($M11*FT11,2)","v":0},{"$f":"IF(ISERROR(VLOOKUP($A11,#REF!,8,0)),0,(VLOOKUP($A11,#REF!,8,0)))","v":0},{"$f":"IF($D11>0,GA11/$D11,0)","v":0},{"$f":"IF($E11>0,$E11/$D11,0)","v":0.5},0,0,0,{"$f":"ROUND($M11*GA11,2)","v":0},{"$f":"IF(ISERROR(VLOOKUP($A11,#REF!,8,0)),0,(VLOOKUP($A11,#REF!,8,0)))","v":0},{"$f":"IF($D11>0,GH11/$D11,0)","v":0},{"$f":"IF($E11>0,$E11/$D11,0)","v":0.5},0,0,0,{"$f":"ROUND($M11*GH11,2)","v":0},{"$f":"IF(ISERROR(VLOOKUP($A11,#REF!,8,0)),0,(VLOOKUP($A11,#REF!,8,0)))","v":0},{"$f":"IF($D11>0,GO11/$D11,0)","v":0},{"$f":"IF($E11>0,$E11/$D11,0)","v":0.5},0,0,0,{"$f":"ROUND($M11*GO11,2)","v":0},{"$f":"IF(ISERROR(VLOOKUP($A11,#REF!,8,0)),0,(VLOOKUP($A11,#REF!,8,0)))","v":0},{"$f":"IF($D11>0,GV11/$D11,0)","v":0},{"$f":"IF($E11>0,$E11/$D11,0)","v":0.5},0,0,0,{"$f":"ROUND($M11*GV11,2)","v":0},{"$f":"IF(ISERROR(VLOOKUP($A11,#REF!,8,0)),0,(VLOOKUP($A11,#REF!,8,0)))","v":0},{"$f":"IF($D11>0,HC11/$D11,0)","v":0},{"$f":"IF($E11>0,$E11/$D11,0)","v":0.5},0,0,0,{"$f":"ROUND($M11*HC11,2)","v":0},{"$f":"IF(ISERROR(VLOOKUP($A11,#REF!,8,0)),0,(VLOOKUP($A11,#REF!,8,0)))","v":0},{"$f":"IF($D11>0,HJ11/$D11,0)","v":0},{"$f":"IF($E11>0,$E11/$D11,0)","v":0.5},0,0,0,{"$f":"ROUND($M11*HJ11,2)","v":0},{"$f":"IF(ISERROR(VLOOKUP($A11,#REF!,8,0)),0,(VLOOKUP($A11,#REF!,8,0)))","v":0},{"$f":"IF($D11>0,HQ11/$D11,0)","v":0},{"$f":"IF($E11>0,$E11/$D11,0)","v":0.5},0,0,0,{"$f":"ROUND($M11*HQ11,2)","v":0},{"$f":"IF(ISERROR(VLOOKUP($A11,#REF!,8,0)),0,(VLOOKUP($A11,#REF!,8,0)))","v":0},{"$f":"IF($D11>0,HX11/$D11,0)","v":0},{"$f":"IF($E11>0,$E11/$D11,0)","v":0.5},0,0,0,{"$f":"ROUND($M11*HX11,2)","v":0},{"$f":"IF(ISERROR(VLOOKUP($A11,#REF!,8,0)),0,(VLOOKUP($A11,#REF!,8,0)))","v":0},{"$f":"IF($D11>0,IE11/$D11,0)","v":0},{"$f":"IF($E11>0,$E11/$D11,0)","v":0.5},0,0,0,{"$f":"ROUND($M11*IE11,2)","v":0},{"$f":"IF(ISERROR(VLOOKUP($A11,#REF!,8,0)),0,(VLOOKUP($A11,#REF!,8,0)))","v":0},{"$f":"IF($D11>0,IL11/$D11,0)","v":0},{"$f":"IF($E11>0,$E11/$D11,0)","v":0.5},0,0,0,{"$f":"ROUND($M11*IL11,2)","v":0},{"$f":"IF(ISERROR(VLOOKUP($A11,#REF!,8,0)),0,(VLOOKUP($A11,#REF!,8,0)))","v":0},{"$f":"IF($D11>0,IS11/$D11,0)","v":0},{"$f":"IF($E11>0,$E11/$D11,0)","v":0.5},0,0,0,{"$f":"ROUND($M11*IS11,2)","v":0},{"$f":"IF(ISERROR(VLOOKUP($A11,#REF!,8,0)),0,(VLOOKUP($A11,#REF!,8,0)))","v":0},{"$f":"IF($D11>0,IZ11/$D11,0)","v":0},{"$f":"IF($E11>0,$E11/$D11,0)","v":0.5},0,0,0,{"$f":"ROUND($M11*IZ11,2)","v":0},{"$f":"IF(ISERROR(VLOOKUP($A11,#REF!,8,0)),0,(VLOOKUP($A11,#REF!,8,0)))","v":0},{"$f":"IF($D11>0,JG11/$D11,0)","v":0},{"$f":"IF($E11>0,$E11/$D11,0)","v":0.5},0,0,0,{"$f":"ROUND($M11*JG11,2)","v":0},{"$f":"IF(ISERROR(VLOOKUP($A11,#REF!,8,0)),0,(VLOOKUP($A11,#REF!,8,0)))","v":0},{"$f":"IF($D11>0,JN11/$D11,0)","v":0},{"$f":"IF($E11>0,$E11/$D11,0)","v":0.5},0,0,0,{"$f":"ROUND($M11*JN11,2)","v":0},{"$f":"IF(ISERROR(VLOOKUP($A11,#REF!,8,0)),0,(VLOOKUP($A11,#REF!,8,0)))","v":0},{"$f":"IF($D11>0,JU11/$D11,0)","v":0},{"$f":"IF($E11>0,$E11/$D11,0)","v":0.5},0,0,0,{"$f":"ROUND($M11*JU11,2)","v":0},{"$f":"IF(ISERROR(VLOOKUP($A11,#REF!,8,0)),0,(VLOOKUP($A11,#REF!,8,0)))","v":0},{"$f":"IF($D11>0,KB11/$D11,0)","v":0},{"$f":"IF($E11>0,$E11/$D11,0)","v":0.5},0,0,0,{"$f":"ROUND($M11*KB11,2)","v":0},{"$f":"IF(ISERROR(VLOOKUP($A11,#REF!,8,0)),0,(VLOOKUP($A11,#REF!,8,0)))","v":0},{"$f":"IF($D11>0,KI11/$D11,0)","v":0},{"$f":"IF($E11>0,$E11/$D11,0)","v":0.5},0,0,0,{"$f":"ROUND($M11*KI11,2)","v":0},{"$f":"IF(ISERROR(VLOOKUP($A11,#REF!,8,0)),0,(VLOOKUP($A11,#REF!,8,0)))","v":0},{"$f":"IF($D11>0,KP11/$D11,0)","v":0},{"$f":"IF($E11>0,$E11/$D11,0)","v":0.5},0,0,0,{"$f":"ROUND($M11*KP11,2)","v":0},{"$f":"IF(ISERROR(VLOOKUP($A11,#REF!,8,0)),0,(VLOOKUP($A11,#REF!,8,0)))","v":0},{"$f":"IF($D11>0,KW11/$D11,0)","v":0},{"$f":"IF($E11>0,$E11/$D11,0)","v":0.5},0,0,0,null,{"$f":"IF(ISERROR(VLOOKUP($A11,#REF!,8,0)),0,(VLOOKUP($A11,#REF!,8,0)))","v":0},{"$f":"IF($D11>0,LD11/$D11,0)","v":0},{"$f":"IF($E11>0,$E11/$D11,0)","v":0.5},0,0,0,{"$f":"ROUND($M11*LD11,2)","v":0},{"$f":"IF(ISERROR(VLOOKUP($A11,#REF!,8,0)),0,(VLOOKUP($A11,#REF!,8,0)))","v":0},{"$f":"IF($D11>0,LK11/$D11,0)","v":0},{"$f":"IF($E11>0,$E11/$D11,0)","v":0.5},0,0,0,{"$f":"ROUND($M11*LK11,2)","v":0},{"$f":"IF(ISERROR(VLOOKUP($A11,#REF!,8,0)),0,(VLOOKUP($A11,#REF!,8,0)))","v":0},{"$f":"IF($D11>0,LR11/$D11,0)","v":0},{"$f":"IF($E11>0,$E11/$D11,0)","v":0.5},0,0,0,{"$f":"ROUND($M11*LR11,2)","v":0},{"$f":"IF(ISERROR(VLOOKUP($A11,#REF!,8,0)),0,(VLOOKUP($A11,#REF!,8,0)))","v":0},{"$f":"IF($D11>0,LY11/$D11,0)","v":0},{"$f":"IF($E11>0,$E11/$D11,0)","v":0.5},0,0,0,{"$f":"ROUND($M11*LY11,2)","v":0},{"$f":"IF(ISERROR(VLOOKUP($A11,#REF!,8,0)),0,(VLOOKUP($A11,#REF!,8,0)))","v":0},{"$f":"IF($D11>0,MF11/$D11,0)","v":0},{"$f":"IF($E11>0,$E11/$D11,0)","v":0.5},0,0,0,{"$f":"ROUND($M11*MF11,2)","v":0},{"$f":"IF(ISERROR(VLOOKUP($A11,#REF!,8,0)),0,(VLOOKUP($A11,#REF!,8,0)))","v":0},{"$f":"IF($D11>0,MM11/$D11,0)","v":0},{"$f":"IF($E11>0,$E11/$D11,0)","v":0.5},0,0,0,{"$f":"ROUND($M11*MM11,2)","v":0},{"$f":"IF(ISERROR(VLOOKUP($A11,#REF!,8,0)),0,(VLOOKUP($A11,#REF!,8,0)))","v":0},{"$f":"IF($D11>0,MT11/$D11,0)","v":0},{"$f":"IF($E11>0,$E11/$D11,0)","v":0.5},0,0,0,{"$f":"ROUND($M11*MT11,2)","v":0},{"$f":"IF(ISERROR(VLOOKUP($A11,#REF!,8,0)),0,(VLOOKUP($A11,#REF!,8,0)))","v":0},{"$f":"IF($D11>0,NA11/$D11,0)","v":0},{"$f":"IF($E11>0,$E11/$D11,0)","v":0.5},0,0,0,{"$f":"ROUND($M11*NA11,2)","v":0},{"$f":"IF(ISERROR(VLOOKUP($A11,#REF!,8,0)),0,(VLOOKUP($A11,#REF!,8,0)))","v":0},{"$f":"IF($D11>0,NH11/$D11,0)","v":0},{"$f":"IF($E11>0,$E11/$D11,0)","v":0.5},0,0,0,{"$f":"ROUND($M11*NH11,2)","v":0},{"$f":"IF(ISERROR(VLOOKUP($A11,#REF!,8,0)),0,(VLOOKUP($A11,#REF!,8,0)))","v":0},{"$f":"IF($D11>0,NO11/$D11,0)","v":0},{"$f":"IF($E11>0,$E11/$D11,0)","v":0.5},0,0,0,{"$f":"ROUND($M11*NO11,2)","v":0},{"$f":"IF(ISERROR(VLOOKUP($A11,#REF!,8,0)),0,(VLOOKUP($A11,#REF!,8,0)))","v":0},{"$f":"IF($D11>0,NV11/$D11,0)","v":0},{"$f":"IF($E11>0,$E11/$D11,0)","v":0.5},0,0,0,{"$f":"ROUND($M11*NV11,2)","v":0},{"$f":"IF(ISERROR(VLOOKUP($A11,#REF!,8,0)),0,(VLOOKUP($A11,#REF!,8,0)))","v":0},{"$f":"IF($D11>0,OC11/$D11,0)","v":0},{"$f":"IF($E11>0,$E11/$D11,0)","v":0.5},0,0,0,{"$f":"ROUND($M11*OC11,2)","v":0},{"$f":"E11*M11","v":1088.78612},{"$f":"O11","v":1088.78612},{"$f":"OJ11/OK11","v":1},{"$f":"OK11-OJ11","v":0}]
["1.2","Administração local pelo período da obra.","un/mês",18,17.836600000000001,0.16339999999999932,58702.2762,1056640.9716,65797.548479999998,1184355.87264,0,0,124499.82467999999,20343.271352711916,2220653.5728872879,0.95660000000000001,5.3144444444444446E-2,56154.597412920004,62941.934875968,0,119096.53,1.04,5.7777777777777782E-2,0.99092222222222226,61050.367248000002,68429.450419200002,0,129479.82,0.5,2.7777777777777776E-2,0.99092222222222226,29351.1381,32898.774239999999,0,62249.91,0.5,2.7777777777777776E-2,0.99092222222222226,29351.1381,32898.774239999999,0,62249.91,0.5,2.7777777777777776E-2,0.99092222222222226,29351.1381,32898.774239999999,0,62249.91,0.5,2.7777777777777776E-2,0.99092222222222226,29351.1381,32898.774239999999,0,62249.91,1,5.5555555555555552E-2,0.99092222222222226,58702.2762,65797.548479999998,0,124499.82,0.5,2.7777777777777776E-2,0.99092222222222226,29351.1381,32898.774239999999,0,62249.91,0.5,2.7777777777777776E-2,0.99092222222222226,29351.1381,32898.774239999999,0,62249.91,{"$f":"IF(ISERROR(VLOOKUP(A12,#REF!,8,0)),0,(VLOOKUP(A12,#REF!,8,0)))","v":0},0,{"$f":"IF($E12>0,$E12/$D12,0)","v":0.99092222222222226},0,0,0,0,{"$f":"IF(ISERROR(VLOOKUP($A12,#REF!,8,0)),0,(VLOOKUP($A12,#REF!,8,0)))","v":0},0,0.99092222222222226,0,0,0,0,{"$f":"IF(ISERROR(VLOOKUP($A12,#REF!,8,0)),0,(VLOOKUP($A12,#REF!,8,0)))","v":0},0,0.99092222222222226,0,0,0,0,{"$f":"IF(ISERROR(VLOOKUP($A12,#REF!,8,0)),0,(VLOOKUP($A12,#REF!,8,0)))","v":0},0,0.99092222222222226,0,0,0,0,{"$f":"IF(ISERROR(VLOOKUP($A12,#REF!,8,0)),0,(VLOOKUP($A12,#REF!,8,0)))","v":0},0,0.99092222222222226,0,0,0,0,{"$f":"IF(ISERROR(VLOOKUP($A12,#REF!,8,0)),0,(VLOOKUP($A12,#REF!,8,0)))","v":0},0,0.99092222222222226,0,0,0,0,{"$f":"IF(ISERROR(VLOOKUP($A12,#REF!,8,0)),0,(VLOOKUP($A12,#REF!,8,0)))","v":0},0,0.99092222222222226,0,0,0,0,{"$f":"IF(ISERROR(VLOOKUP($A12,#REF!,8,0)),0,(VLOOKUP($A12,#REF!,8,0)))","v":0},0,0.99092222222222226,0,0,0,0,{"$f":"IF(ISERROR(VLOOKUP($A12,#REF!,8,0)),0,(VLOOKUP($A12,#REF!,8,0)))","v":0},0,0.99092222222222226,0,0,0,0,{"$f":"IF(ISERROR(VLOOKUP($A12,#REF!,8,0)),0,(VLOOKUP($A12,#REF!,8,0)))","v":0},0,0.99092222222222226,0,0,0,0,{"$f":"IF(ISERROR(VLOOKUP($A12,#REF!,8,0)),0,(VLOOKUP($A12,#REF!,8,0)))","v":0},0,0.99092222222222226,0,0,0,0,{"$f":"IF(ISERROR(VLOOKUP($A12,#REF!,8,0)),0,(VLOOKUP($A12,#REF!,8,0)))","v":0},0,0.99092222222222226,0,0,0,0,{"$f":"IF(ISERROR(VLOOKUP($A12,#REF!,8,0)),0,(VLOOKUP($A12,#REF!,8,0)))","v":0},0,0.99092222222222226,0,0,0,0,{"$f":"IF(ISERROR(VLOOKUP($A12,#REF!,8,0)),0,(VLOOKUP($A12,#REF!,8,0)))","v":0},0,0.99092222222222226,0,0,0,0,{"$f":"IF(ISERROR(VLOOKUP($A12,#REF!,8,0)),0,(VLOOKUP($A12,#REF!,8,0)))","v":0},0,0.99092222222222226,0,0,0,0,{"$f":"IF(ISERROR(VLOOKUP($A12,#REF!,8,0)),0,(VLOOKUP($A12,#REF!,8,0)))","v":0},0,0.99092222222222226,0,0,0,0,{"$f":"IF(ISERROR(VLOOKUP($A12,#REF!,8,0)),0,(VLOOKUP($A12,#REF!,8,0)))","v":0},0,0.99092222222222226,0,0,0,0,{"$f":"IF(ISERROR(VLOOKUP($A12,#REF!,8,0)),0,(VLOOKUP($A12,#REF!,8,0)))","v":0},0,0.99092222222222226,0,0,0,0,{"$f":"IF(ISERROR(VLOOKUP($A12,#REF!,8,0)),0,(VLOOKUP($A12,#REF!,8,0)))","v":0},0,0.99092222222222226,0,0,0,0,{"$f":"IF(ISERROR(VLOOKUP($A12,#REF!,8,0)),0,(VLOOKUP($A12,#REF!,8,0)))","v":0},0,0.99092222222222226,0,0,0,0,{"$f":"IF(ISERROR(VLOOKUP($A12,#REF!,8,0)),0,(VLOOKUP($A12,#REF!,8,0)))","v":0},0,0.99092222222222226,0,0,0,0,{"$f":"IF(ISERROR(VLOOKUP($A12,#REF!,8,0)),0,(VLOOKUP($A12,#REF!,8,0)))","v":0},0,0.99092222222222226,0,0,0,0,{"$f":"IF(ISERROR(VLOOKUP($A12,#REF!,8,0)),0,(VLOOKUP($A12,#REF!,8,0)))","v":0},0,0.99092222222222226,0,0,0,0,{"$f":"IF(ISERROR(VLOOKUP($A12,#REF!,8,0)),0,(VLOOKUP($A12,#REF!,8,0)))","v":0},0,0.99092222222222226,0,0,0,0,{"$f":"IF(ISERROR(VLOOKUP($A12,#REF!,8,0)),0,(VLOOKUP($A12,#REF!,8,0)))","v":0},0,0.99092222222222226,0,0,0,0,{"$f":"IF(ISERROR(VLOOKUP($A12,#REF!,8,0)),0,(VLOOKUP($A12,#REF!,8,0)))","v":0},0,0.99092222222222226,0,0,0,0,{"$f":"IF(ISERROR(VLOOKUP($A12,#REF!,8,0)),0,(VLOOKUP($A12,#REF!,8,0)))","v":0},0,0.99092222222222226,0,0,0,0,{"$f":"IF(ISERROR(VLOOKUP($A12,#REF!,8,0)),0,(VLOOKUP($A12,#REF!,8,0)))","v":0},0,0.99092222222222226,0,0,0,0,{"$f":"IF(ISERROR(VLOOKUP($A12,#REF!,8,0)),0,(VLOOKUP($A12,#REF!,8,0)))","v":0},0,0.99092222222222226,0,0,0,0,{"$f":"IF(ISERROR(VLOOKUP($A12,#REF!,8,0)),0,(VLOOKUP($A12,#REF!,8,0)))","v":0},0,0.99092222222222226,0,0,0,0,{"$f":"IF(ISERROR(VLOOKUP($A12,#REF!,8,0)),0,(VLOOKUP($A12,#REF!,8,0)))","v":0},0,0.99092222222222226,0,0,0,0,{"$f":"IF(ISERROR(VLOOKUP($A12,#REF!,8,0)),0,(VLOOKUP($A12,#REF!,8,0)))","v":0},0,0.99092222222222226,0,0,0,0,{"$f":"IF(ISERROR(VLOOKUP($A12,#REF!,8,0)),0,(VLOOKUP($A12,#REF!,8,0)))","v":0},0,0.99092222222222226,0,0,0,0,{"$f":"IF(ISERROR(VLOOKUP($A12,#REF!,8,0)),0,(VLOOKUP($A12,#REF!,8,0)))","v":0},{"$f":"IF($D12>0,KW12/$D12,0)","v":0},0.99092222222222226,{"$f":"KW12*$G12","v":0},0,0,{"$f":"ROUND($M12*KW12,2)","v":0},{"$f":"IF(ISERROR(VLOOKUP($A12,#REF!,8,0)),0,(VLOOKUP($A12,#REF!,8,0)))","v":0},0,0.99092222222222226,0,0,0,0,{"$f":"IF(ISERROR(VLOOKUP($A12,#REF!,8,0)),0,(VLOOKUP($A12,#REF!,8,0)))","v":0},0,0.99092222222222226,0,0,0,0,{"$f":"IF(ISERROR(VLOOKUP($A12,#REF!,8,0)),0,(VLOOKUP($A12,#REF!,8,0)))","v":0},0,0.99092222222222226,0,0,0,0,{"$f":"IF(ISERROR(VLOOKUP($A12,#REF!,8,0)),0,(VLOOKUP($A12,#REF!,8,0)))","v":0},0,0.99092222222222226,0,0,0,0,{"$f":"IF(ISERROR(VLOOKUP($A12,#REF!,8,0)),0,(VLOOKUP($A12,#REF!,8,0)))","v":0},0,0.99092222222222226,0,0,0,0,{"$f":"IF(ISERROR(VLOOKUP($A12,#REF!,8,0)),0,(VLOOKUP($A12,#REF!,8,0)))","v":0},0,0.99092222222222226,0,0,0,0,{"$f":"IF(ISERROR(VLOOKUP($A12,#REF!,8,0)),0,(VLOOKUP($A12,#REF!,8,0)))","v":0},0,0.99092222222222226,0,0,0,0,{"$f":"IF(ISERROR(VLOOKUP($A12,#REF!,8,0)),0,(VLOOKUP($A12,#REF!,8,0)))","v":0},0,0.99092222222222226,0,0,0,0,{"$f":"IF(ISERROR(VLOOKUP($A12,#REF!,8,0)),0,(VLOOKUP($A12,#REF!,8,0)))","v":0},0,0.99092222222222226,0,0,0,0,{"$f":"IF(ISERROR(VLOOKUP($A12,#REF!,8,0)),0,(VLOOKUP($A12,#REF!,8,0)))","v":0},0,0.99092222222222226,0,0,0,0,{"$f":"IF(ISERROR(VLOOKUP($A12,#REF!,8,0)),0,(VLOOKUP($A12,#REF!,8,0)))","v":0},0,0.99092222222222226,0,0,0,0,{"$f":"IF(ISERROR(VLOOKUP($A12,#REF!,8,0)),0,(VLOOKUP($A12,#REF!,8,0)))","v":0},0,0.99092222222222226,0,0,0,0,2220653.5728872879,2220653.5728872879,1,{"$f":"OK12-OJ12","v":0}]
["1.3","Placa de obra em chapa de aço galvanizado.","m²",6,6,0,194.84867400000002,1169.092044,36.138199999999998,216.82919999999999,0,0,230.986874,0,1385.9212440000001,6,1,1169.092044,216.82919999999999,0,1385.92,null,0,1,0,0,0,0,null,0,1,0,0,0,0,null,0,1,0,0,0,0,null,0,1,0,0,0,0,null,0,1,0,0,0,0,{"$f":"IF(ISERROR(VLOOKUP(A13,'7ª MEDIÇÃO'!$A$5:$J$1048576,8,0)),0,(VLOOKUP(A13,'7ª MEDIÇÃO'!$A$5:$J$1048576,8,0)))","v":0},0,1,0,0,0,0,{"$f":"IF(ISERROR(VLOOKUP(A13,'8ª MEDIÇÃO'!$A$5:$J$1048576,8,0)),0,(VLOOKUP(A13,'8ª MEDIÇÃO'!$A$5:$J$1048576,8,0)))","v":0},0,1,0,0,0,0,{"$f":"IF(ISERROR(VLOOKUP(A13,'9ª MEDIÇÃO'!$A$5:$J$1048576,8,0)),0,(VLOOKUP(A13,'9ª MEDIÇÃO'!$A$5:$J$1048576,8,0)))","v":0},0,1,0,0,0,0,{"$f":"IF(ISERROR(VLOOKUP(A13,#REF!,8,0)),0,(VLOOKUP(A13,#REF!,8,0)))","v":0},0,1,0,0,0,0,{"$f":"IF(ISERROR(VLOOKUP($A13,#REF!,8,0)),0,(VLOOKUP($A13,#REF!,8,0)))","v":0},0,1,0,0,0,0,{"$f":"IF(ISERROR(VLOOKUP($A13,#REF!,8,0)),0,(VLOOKUP($A13,#REF!,8,0)))","v":0},0,1,0,0,0,0,{"$f":"IF(ISERROR(VLOOKUP($A13,#REF!,8,0)),0,(VLOOKUP($A13,#REF!,8,0)))","v":0},0,1,0,0,0,0,{"$f":"IF(ISERROR(VLOOKUP($A13,#REF!,8,0)),0,(VLOOKUP($A13,#REF!,8,0)))","v":0},0,1,0,0,0,0,{"$f":"IF(ISERROR(VLOOKUP($A13,#REF!,8,0)),0,(VLOOKUP($A13,#REF!,8,0)))","v":0},0,1,0,0,0,0,{"$f":"IF(ISERROR(VLOOKUP($A13,#REF!,8,0)),0,(VLOOKUP($A13,#REF!,8,0)))","v":0},0,1,0,0,0,0,{"$f":"IF(ISERROR(VLOOKUP($A13,#REF!,8,0)),0,(VLOOKUP($A13,#REF!,8,0)))","v":0},0,1,0,0,0,0,{"$f":"IF(ISERROR(VLOOKUP($A13,#REF!,8,0)),0,(VLOOKUP($A13,#REF!,8,0)))","v":0},0,1,0,0,0,0,{"$f":"IF(ISERROR(VLOOKUP($A13,#REF!,8,0)),0,(VLOOKUP($A13,#REF!,8,0)))","v":0},0,1,0,0,0,0,{"$f":"IF(ISERROR(VLOOKUP($A13,#REF!,8,0)),0,(VLOOKUP($A13,#REF!,8,0)))","v":0},0,1,0,0,0,0,{"$f":"IF(ISERROR(VLOOKUP($A13,#REF!,8,0)),0,(VLOOKUP($A13,#REF!,8,0)))","v":0},0,1,0,0,0,0,{"$f":"IF(ISERROR(VLOOKUP($A13,#REF!,8,0)),0,(VLOOKUP($A13,#REF!,8,0)))","v":0},0,1,0,0,0,0,{"$f":"IF(ISERROR(VLOOKUP($A13,#REF!,8,0)),0,(VLOOKUP($A13,#REF!,8,0)))","v":0},0,1,0,0,0,0,{"$f":"IF(ISERROR(VLOOKUP($A13,#REF!,8,0)),0,(VLOOKUP($A13,#REF!,8,0)))","v":0},0,1,0,0,0,0,{"$f":"IF(ISERROR(VLOOKUP($A13,#REF!,8,0)),0,(VLOOKUP($A13,#REF!,8,0)))","v":0},0,1,0,0,0,0,{"$f":"IF(ISERROR(VLOOKUP($A13,#REF!,8,0)),0,(VLOOKUP($A13,#REF!,8,0)))","v":0},0,1,0,0,0,0,{"$f":"IF(ISERROR(VLOOKUP($A13,#REF!,8,0)),0,(VLOOKUP($A13,#REF!,8,0)))","v":0},0,1,0,0,0,0,{"$f":"IF(ISERROR(VLOOKUP($A13,#REF!,8,0)),0,(VLOOKUP($A13,#REF!,8,0)))","v":0},0,1,0,0,0,0,{"$f":"IF(ISERROR(VLOOKUP($A13,#REF!,8,0)),0,(VLOOKUP($A13,#REF!,8,0)))","v":0},0,1,0,0,0,0,{"$f":"IF(ISERROR(VLOOKUP($A13,#REF!,8,0)),0,(VLOOKUP($A13,#REF!,8,0)))","v":0},0,1,0,0,0,0,{"$f":"IF(ISERROR(VLOOKUP($A13,#REF!,8,0)),0,(VLOOKUP($A13,#REF!,8,0)))","v":0},0,1,0,0,0,0,{"$f":"IF(ISERROR(VLOOKUP($A13,#REF!,8,0)),0,(VLOOKUP($A13,#REF!,8,0)))","v":0},0,1,0,0,0,0,{"$f":"IF(ISERROR(VLOOKUP($A13,#REF!,8,0)),0,(VLOOKUP($A13,#REF!,8,0)))","v":0},0,1,0,0,0,0,{"$f":"IF(ISERROR(VLOOKUP($A13,#REF!,8,0)),0,(VLOOKUP($A13,#REF!,8,0)))","v":0},0,1,0,0,0,0,{"$f":"IF(ISERROR(VLOOKUP($A13,#REF!,8,0)),0,(VLOOKUP($A13,#REF!,8,0)))","v":0},0,1,0,0,0,0,{"$f":"IF(ISERROR(VLOOKUP($A13,#REF!,8,0)),0,(VLOOKUP($A13,#REF!,8,0)))","v":0},0,1,0,0,0,0,{"$f":"IF(ISERROR(VLOOKUP($A13,#REF!,8,0)),0,(VLOOKUP($A13,#REF!,8,0)))","v":0},0,1,0,0,0,0,{"$f":"IF(ISERROR(VLOOKUP($A13,#REF!,8,0)),0,(VLOOKUP($A13,#REF!,8,0)))","v":0},0,1,0,0,0,0,{"$f":"IF(ISERROR(VLOOKUP($A13,#REF!,8,0)),0,(VLOOKUP($A13,#REF!,8,0)))","v":0},0,1,0,0,0,0,{"$f":"IF(ISERROR(VLOOKUP($A13,#REF!,8,0)),0,(VLOOKUP($A13,#REF!,8,0)))","v":0},0,1,0,0,0,0,{"$f":"IF(ISERROR(VLOOKUP($A13,#REF!,8,0)),0,(VLOOKUP($A13,#REF!,8,0)))","v":0},0,1,0,0,0,0,{"$f":"IF(ISERROR(VLOOKUP($A13,#REF!,8,0)),0,(VLOOKUP($A13,#REF!,8,0)))","v":0},0,1,0,0,0,0,{"$f":"IF(ISERROR(VLOOKUP($A13,#REF!,8,0)),0,(VLOOKUP($A13,#REF!,8,0)))","v":0},0,1,0,0,0,0,{"$f":"IF(ISERROR(VLOOKUP($A13,#REF!,8,0)),0,(VLOOKUP($A13,#REF!,8,0)))","v":0},0,1,0,0,0,0,{"$f":"IF(ISERROR(VLOOKUP($A13,#REF!,8,0)),0,(VLOOKUP($A13,#REF!,8,0)))","v":0},0,1,0,0,0,0,{"$f":"IF(ISERROR(VLOOKUP($A13,#REF!,8,0)),0,(VLOOKUP($A13,#REF!,8,0)))","v":0},0,1,0,0,0,0,{"$f":"IF(ISERROR(VLOOKUP($A13,#REF!,8,0)),0,(VLOOKUP($A13,#REF!,8,0)))","v":0},0,1,0,0,0,0,{"$f":"IF(ISERROR(VLOOKUP($A13,#REF!,8,0)),0,(VLOOKUP($A13,#REF!,8,0)))","v":0},0,1,0,0,0,0,{"$f":"IF(ISERROR(VLOOKUP($A13,#REF!,8,0)),0,(VLOOKUP($A13,#REF!,8,0)))","v":0},0,1,0,0,0,0,{"$f":"IF(ISERROR(VLOOKUP($A13,#REF!,8,0)),0,(VLOOKUP($A13,#REF!,8,0)))","v":0},0,1,0,0,0,0,{"$f":"IF(ISERROR(VLOOKUP($A13,#REF!,8,0)),0,(VLOOKUP($A13,#REF!,8,0)))","v":0},0,1,0,0,0,0,{"$f":"IF(ISERROR(VLOOKUP($A13,#REF!,8,0)),0,(VLOOKUP($A13,#REF!,8,0)))","v":0},0,1,0,0,0,0,{"$f":"IF(ISERROR(VLOOKUP($A13,#REF!,8,0)),0,(VLOOKUP($A13,#REF!,8,0)))","v":0},0,1,0,0,0,0,{"$f":"IF(ISERROR(VLOOKUP($A13,#REF!,8,0)),0,(VLOOKUP($A13,#REF!,8,0)))","v":0},0,1,0,0,0,0,{"$f":"IF(ISERROR(VLOOKUP($A13,#REF!,8,0)),0,(VLOOKUP($A13,#REF!,8,0)))","v":0},0,1,0,0,0,0,1385.9212440000001,1385.9212440000001,1,0]
["1.4","Execução de sondagem geotécnica à percussão com a realização de 5 furos, com no mínimo 8,0m de profundidade ou até o impenetrável, inclusive mobilização e desmobilização.","un",1,1,0,0,0,4278.1284400000004,4278.1284400000004,0,0,4278.1284400000004,0,4278.1284400000004,1,1,0,4278.1284400000004,0,4278.13,null,0,1,0,0,0,0,null,0,1,0,0,0,0,null,0,1,0,0,0,0,null,0,1,0,0,0,0,null,0,1,0,0,0,0,{"$f":"IF(ISERROR(VLOOKUP(A14,'7ª MEDIÇÃO'!$A$5:$J$1048576,8,0)),0,(VLOOKUP(A14,'7ª MEDIÇÃO'!$A$5:$J$1048576,8,0)))","v":0},0,1,0,0,0,0,{"$f":"IF(ISERROR(VLOOKUP(A14,'8ª MEDIÇÃO'!$A$5:$J$1048576,8,0)),0,(VLOOKUP(A14,'8ª MEDIÇÃO'!$A$5:$J$1048576,8,0)))","v":0},0,1,0,0,0,0,{"$f":"IF(ISERROR(VLOOKUP(A14,'9ª MEDIÇÃO'!$A$5:$J$1048576,8,0)),0,(VLOOKUP(A14,'9ª MEDIÇÃO'!$A$5:$J$1048576,8,0)))","v":0},0,1,0,0,0,0,{"$f":"IF(ISERROR(VLOOKUP(A14,#REF!,8,0)),0,(VLOOKUP(A14,#REF!,8,0)))","v":0},0,1,0,0,0,0,{"$f":"IF(ISERROR(VLOOKUP($A14,#REF!,8,0)),0,(VLOOKUP($A14,#REF!,8,0)))","v":0},0,1,0,0,0,0,{"$f":"IF(ISERROR(VLOOKUP($A14,#REF!,8,0)),0,(VLOOKUP($A14,#REF!,8,0)))","v":0},0,1,0,0,0,0,{"$f":"IF(ISERROR(VLOOKUP($A14,#REF!,8,0)),0,(VLOOKUP($A14,#REF!,8,0)))","v":0},0,1,0,0,0,0,{"$f":"IF(ISERROR(VLOOKUP($A14,#REF!,8,0)),0,(VLOOKUP($A14,#REF!,8,0)))","v":0},0,1,0,0,0,0,{"$f":"IF(ISERROR(VLOOKUP($A14,#REF!,8,0)),0,(VLOOKUP($A14,#REF!,8,0)))","v":0},0,1,0,0,0,0,{"$f":"IF(ISERROR(VLOOKUP($A14,#REF!,8,0)),0,(VLOOKUP($A14,#REF!,8,0)))","v":0},0,1,0,0,0,0,{"$f":"IF(ISERROR(VLOOKUP($A14,#REF!,8,0)),0,(VLOOKUP($A14,#REF!,8,0)))","v":0},0,1,0,0,0,0,{"$f":"IF(ISERROR(VLOOKUP($A14,#REF!,8,0)),0,(VLOOKUP($A14,#REF!,8,0)))","v":0},0,1,0,0,0,0,{"$f":"IF(ISERROR(VLOOKUP($A14,#REF!,8,0)),0,(VLOOKUP($A14,#REF!,8,0)))","v":0},0,1,0,0,0,0,{"$f":"IF(ISERROR(VLOOKUP($A14,#REF!,8,0)),0,(VLOOKUP($A14,#REF!,8,0)))","v":0},0,1,0,0,0,0,{"$f":"IF(ISERROR(VLOOKUP($A14,#REF!,8,0)),0,(VLOOKUP($A14,#REF!,8,0)))","v":0},0,1,0,0,0,0,{"$f":"IF(ISERROR(VLOOKUP($A14,#REF!,8,0)),0,(VLOOKUP($A14,#REF!,8,0)))","v":0},0,1,0,0,0,0,{"$f":"IF(ISERROR(VLOOKUP($A14,#REF!,8,0)),0,(VLOOKUP($A14,#REF!,8,0)))","v":0},0,1,0,0,0,0,{"$f":"IF(ISERROR(VLOOKUP($A14,#REF!,8,0)),0,(VLOOKUP($A14,#REF!,8,0)))","v":0},0,1,0,0,0,0,{"$f":"IF(ISERROR(VLOOKUP($A14,#REF!,8,0)),0,(VLOOKUP($A14,#REF!,8,0)))","v":0},0,1,0,0,0,0,{"$f":"IF(ISERROR(VLOOKUP($A14,#REF!,8,0)),0,(VLOOKUP($A14,#REF!,8,0)))","v":0},0,1,0,0,0,0,{"$f":"IF(ISERROR(VLOOKUP($A14,#REF!,8,0)),0,(VLOOKUP($A14,#REF!,8,0)))","v":0},0,1,0,0,0,0,{"$f":"IF(ISERROR(VLOOKUP($A14,#REF!,8,0)),0,(VLOOKUP($A14,#REF!,8,0)))","v":0},0,1,0,0,0,0,{"$f":"IF(ISERROR(VLOOKUP($A14,#REF!,8,0)),0,(VLOOKUP($A14,#REF!,8,0)))","v":0},0,1,0,0,0,0,{"$f":"IF(ISERROR(VLOOKUP($A14,#REF!,8,0)),0,(VLOOKUP($A14,#REF!,8,0)))","v":0},0,1,0,0,0,0,{"$f":"IF(ISERROR(VLOOKUP($A14,#REF!,8,0)),0,(VLOOKUP($A14,#REF!,8,0)))","v":0},0,1,0,0,0,0,{"$f":"IF(ISERROR(VLOOKUP($A14,#REF!,8,0)),0,(VLOOKUP($A14,#REF!,8,0)))","v":0},0,1,0,0,0,0,{"$f":"IF(ISERROR(VLOOKUP($A14,#REF!,8,0)),0,(VLOOKUP($A14,#REF!,8,0)))","v":0},0,1,0,0,0,0,{"$f":"IF(ISERROR(VLOOKUP($A14,#REF!,8,0)),0,(VLOOKUP($A14,#REF!,8,0)))","v":0},0,1,0,0,0,0,{"$f":"IF(ISERROR(VLOOKUP($A14,#REF!,8,0)),0,(VLOOKUP($A14,#REF!,8,0)))","v":0},0,1,0,0,0,0,{"$f":"IF(ISERROR(VLOOKUP($A14,#REF!,8,0)),0,(VLOOKUP($A14,#REF!,8,0)))","v":0},0,1,0,0,0,0,{"$f":"IF(ISERROR(VLOOKUP($A14,#REF!,8,0)),0,(VLOOKUP($A14,#REF!,8,0)))","v":0},0,1,0,0,0,0,{"$f":"IF(ISERROR(VLOOKUP($A14,#REF!,8,0)),0,(VLOOKUP($A14,#REF!,8,0)))","v":0},0,1,0,0,0,0,{"$f":"IF(ISERROR(VLOOKUP($A14,#REF!,8,0)),0,(VLOOKUP($A14,#REF!,8,0)))","v":0},0,1,0,0,0,0,{"$f":"IF(ISERROR(VLOOKUP($A14,#REF!,8,0)),0,(VLOOKUP($A14,#REF!,8,0)))","v":0},0,1,0,0,0,0,{"$f":"IF(ISERROR(VLOOKUP($A14,#REF!,8,0)),0,(VLOOKUP($A14,#REF!,8,0)))","v":0},0,1,0,0,0,0,{"$f":"IF(ISERROR(VLOOKUP($A14,#REF!,8,0)),0,(VLOOKUP($A14,#REF!,8,0)))","v":0},0,1,0,0,0,0,{"$f":"IF(ISERROR(VLOOKUP($A14,#REF!,8,0)),0,(VLOOKUP($A14,#REF!,8,0)))","v":0},0,1,0,0,0,0,{"$f":"IF(ISERROR(VLOOKUP($A14,#REF!,8,0)),0,(VLOOKUP($A14,#REF!,8,0)))","v":0},0,1,0,0,0,0,{"$f":"IF(ISERROR(VLOOKUP($A14,#REF!,8,0)),0,(VLOOKUP($A14,#REF!,8,0)))","v":0},0,1,0,0,0,0,{"$f":"IF(ISERROR(VLOOKUP($A14,#REF!,8,0)),0,(VLOOKUP($A14,#REF!,8,0)))","v":0},0,1,0,0,0,0,{"$f":"IF(ISERROR(VLOOKUP($A14,#REF!,8,0)),0,(VLOOKUP($A14,#REF!,8,0)))","v":0},0,1,0,0,0,0,{"$f":"IF(ISERROR(VLOOKUP($A14,#REF!,8,0)),0,(VLOOKUP($A14,#REF!,8,0)))","v":0},0,1,0,0,0,0,{"$f":"IF(ISERROR(VLOOKUP($A14,#REF!,8,0)),0,(VLOOKUP($A14,#REF!,8,0)))","v":0},0,1,0,0,0,0,{"$f":"IF(ISERROR(VLOOKUP($A14,#REF!,8,0)),0,(VLOOKUP($A14,#REF!,8,0)))","v":0},0,1,0,0,0,0,{"$f":"IF(ISERROR(VLOOKUP($A14,#REF!,8,0)),0,(VLOOKUP($A14,#REF!,8,0)))","v":0},0,1,0,0,0,0,{"$f":"IF(ISERROR(VLOOKUP($A14,#REF!,8,0)),0,(VLOOKUP($A14,#REF!,8,0)))","v":0},0,1,0,0,0,0,{"$f":"IF(ISERROR(VLOOKUP($A14,#REF!,8,0)),0,(VLOOKUP($A14,#REF!,8,0)))","v":0},0,1,0,0,0,0,{"$f":"IF(ISERROR(VLOOKUP($A14,#REF!,8,0)),0,(VLOOKUP($A14,#REF!,8,0)))","v":0},0,1,0,0,0,0,{"$f":"IF(ISERROR(VLOOKUP($A14,#REF!,8,0)),0,(VLOOKUP($A14,#REF!,8,0)))","v":0},0,1,0,0,0,0,4278.1284400000004,4278.1284400000004,1,0]
["1.5","Execução de teste de absorção do solo, conforme norma vigente.","un",1,1,0,0,0,988.10919999999999,988.10919999999999,0,0,988.10919999999999,0,988.10919999999999,1,1,0,988.10919999999999,0,988.11,null,0,1,0,0,0,0,null,0,1,0,0,0,0,null,0,1,0,0,0,0,null,0,1,0,0,0,0,null,0,1,0,0,0,0,{"$f":"IF(ISERROR(VLOOKUP(A15,'7ª MEDIÇÃO'!$A$5:$J$1048576,8,0)),0,(VLOOKUP(A15,'7ª MEDIÇÃO'!$A$5:$J$1048576,8,0)))","v":0},0,1,0,0,0,0,{"$f":"IF(ISERROR(VLOOKUP(A15,'8ª MEDIÇÃO'!$A$5:$J$1048576,8,0)),0,(VLOOKUP(A15,'8ª MEDIÇÃO'!$A$5:$J$1048576,8,0)))","v":0},0,1,0,0,0,0,{"$f":"IF(ISERROR(VLOOKUP(A15,'9ª MEDIÇÃO'!$A$5:$J$1048576,8,0)),0,(VLOOKUP(A15,'9ª MEDIÇÃO'!$A$5:$J$1048576,8,0)))","v":0},0,1,0,0,0,0,{"$f":"IF(ISERROR(VLOOKUP(A15,#REF!,8,0)),0,(VLOOKUP(A15,#REF!,8,0)))","v":0},0,1,0,0,0,0,{"$f":"IF(ISERROR(VLOOKUP($A15,#REF!,8,0)),0,(VLOOKUP($A15,#REF!,8,0)))","v":0},0,1,0,0,0,0,{"$f":"IF(ISERROR(VLOOKUP($A15,#REF!,8,0)),0,(VLOOKUP($A15,#REF!,8,0)))","v":0},0,1,0,0,0,0,{"$f":"IF(ISERROR(VLOOKUP($A15,#REF!,8,0)),0,(VLOOKUP($A15,#REF!,8,0)))","v":0},0,1,0,0,0,0,{"$f":"IF(ISERROR(VLOOKUP($A15,#REF!,8,0)),0,(VLOOKUP($A15,#REF!,8,0)))","v":0},0,1,0,0,0,0,{"$f":"IF(ISERROR(VLOOKUP($A15,#REF!,8,0)),0,(VLOOKUP($A15,#REF!,8,0)))","v":0},0,1,0,0,0,0,{"$f":"IF(ISERROR(VLOOKUP($A15,#REF!,8,0)),0,(VLOOKUP($A15,#REF!,8,0)))","v":0},0,1,0,0,0,0,{"$f":"IF(ISERROR(VLOOKUP($A15,#REF!,8,0)),0,(VLOOKUP($A15,#REF!,8,0)))","v":0},0,1,0,0,0,0,{"$f":"IF(ISERROR(VLOOKUP($A15,#REF!,8,0)),0,(VLOOKUP($A15,#REF!,8,0)))","v":0},0,1,0,0,0,0,{"$f":"IF(ISERROR(VLOOKUP($A15,#REF!,8,0)),0,(VLOOKUP($A15,#REF!,8,0)))","v":0},0,1,0,0,0,0,{"$f":"IF(ISERROR(VLOOKUP($A15,#REF!,8,0)),0,(VLOOKUP($A15,#REF!,8,0)))","v":0},0,1,0,0,0,0,{"$f":"IF(ISERROR(VLOOKUP($A15,#REF!,8,0)),0,(VLOOKUP($A15,#REF!,8,0)))","v":0},0,1,0,0,0,0,{"$f":"IF(ISERROR(VLOOKUP($A15,#REF!,8,0)),0,(VLOOKUP($A15,#REF!,8,0)))","v":0},0,1,0,0,0,0,{"$f":"IF(ISERROR(VLOOKUP($A15,#REF!,8,0)),0,(VLOOKUP($A15,#REF!,8,0)))","v":0},0,1,0,0,0,0,{"$f":"IF(ISERROR(VLOOKUP($A15,#REF!,8,0)),0,(VLOOKUP($A15,#REF!,8,0)))","v":0},0,1,0,0,0,0,{"$f":"IF(ISERROR(VLOOKUP($A15,#REF!,8,0)),0,(VLOOKUP($A15,#REF!,8,0)))","v":0},0,1,0,0,0,0,{"$f":"IF(ISERROR(VLOOKUP($A15,#REF!,8,0)),0,(VLOOKUP($A15,#REF!,8,0)))","v":0},0,1,0,0,0,0,{"$f":"IF(ISERROR(VLOOKUP($A15,#REF!,8,0)),0,(VLOOKUP($A15,#REF!,8,0)))","v":0},0,1,0,0,0,0,{"$f":"IF(ISERROR(VLOOKUP($A15,#REF!,8,0)),0,(VLOOKUP($A15,#REF!,8,0)))","v":0},0,1,0,0,0,0,{"$f":"IF(ISERROR(VLOOKUP($A15,#REF!,8,0)),0,(VLOOKUP($A15,#REF!,8,0)))","v":0},0,1,0,0,0,0,{"$f":"IF(ISERROR(VLOOKUP($A15,#REF!,8,0)),0,(VLOOKUP($A15,#REF!,8,0)))","v":0},0,1,0,0,0,0,{"$f":"IF(ISERROR(VLOOKUP($A15,#REF!,8,0)),0,(VLOOKUP($A15,#REF!,8,0)))","v":0},0,1,0,0,0,0,{"$f":"IF(ISERROR(VLOOKUP($A15,#REF!,8,0)),0,(VLOOKUP($A15,#REF!,8,0)))","v":0},0,1,0,0,0,0,{"$f":"IF(ISERROR(VLOOKUP($A15,#REF!,8,0)),0,(VLOOKUP($A15,#REF!,8,0)))","v":0},0,1,0,0,0,0,{"$f":"IF(ISERROR(VLOOKUP($A15,#REF!,8,0)),0,(VLOOKUP($A15,#REF!,8,0)))","v":0},0,1,0,0,0,0,{"$f":"IF(ISERROR(VLOOKUP($A15,#REF!,8,0)),0,(VLOOKUP($A15,#REF!,8,0)))","v":0},0,1,0,0,0,0,{"$f":"IF(ISERROR(VLOOKUP($A15,#REF!,8,0)),0,(VLOOKUP($A15,#REF!,8,0)))","v":0},0,1,0,0,0,0,{"$f":"IF(ISERROR(VLOOKUP($A15,#REF!,8,0)),0,(VLOOKUP($A15,#REF!,8,0)))","v":0},0,1,0,0,0,0,{"$f":"IF(ISERROR(VLOOKUP($A15,#REF!,8,0)),0,(VLOOKUP($A15,#REF!,8,0)))","v":0},0,1,0,0,0,0,{"$f":"IF(ISERROR(VLOOKUP($A15,#REF!,8,0)),0,(VLOOKUP($A15,#REF!,8,0)))","v":0},0,1,0,0,0,0,{"$f":"IF(ISERROR(VLOOKUP($A15,#REF!,8,0)),0,(VLOOKUP($A15,#REF!,8,0)))","v":0},0,1,0,0,0,0,{"$f":"IF(ISERROR(VLOOKUP($A15,#REF!,8,0)),0,(VLOOKUP($A15,#REF!,8,0)))","v":0},0,1,0,0,0,0,{"$f":"IF(ISERROR(VLOOKUP($A15,#REF!,8,0)),0,(VLOOKUP($A15,#REF!,8,0)))","v":0},0,1,0,0,0,0,{"$f":"IF(ISERROR(VLOOKUP($A15,#REF!,8,0)),0,(VLOOKUP($A15,#REF!,8,0)))","v":0},0,1,0,0,0,0,{"$f":"IF(ISERROR(VLOOKUP($A15,#REF!,8,0)),0,(VLOOKUP($A15,#REF!,8,0)))","v":0},0,1,0,0,0,0,{"$f":"IF(ISERROR(VLOOKUP($A15,#REF!,8,0)),0,(VLOOKUP($A15,#REF!,8,0)))","v":0},0,1,0,0,0,0,{"$f":"IF(ISERROR(VLOOKUP($A15,#REF!,8,0)),0,(VLOOKUP($A15,#REF!,8,0)))","v":0},0,1,0,0,0,0,{"$f":"IF(ISERROR(VLOOKUP($A15,#REF!,8,0)),0,(VLOOKUP($A15,#REF!,8,0)))","v":0},0,1,0,0,0,0,{"$f":"IF(ISERROR(VLOOKUP($A15,#REF!,8,0)),0,(VLOOKUP($A15,#REF!,8,0)))","v":0},0,1,0,0,0,0,{"$f":"IF(ISERROR(VLOOKUP($A15,#REF!,8,0)),0,(VLOOKUP($A15,#REF!,8,0)))","v":0},0,1,0,0,0,0,{"$f":"IF(ISERROR(VLOOKUP($A15,#REF!,8,0)),0,(VLOOKUP($A15,#REF!,8,0)))","v":0},0,1,0,0,0,0,{"$f":"IF(ISERROR(VLOOKUP($A15,#REF!,8,0)),0,(VLOOKUP($A15,#REF!,8,0)))","v":0},0,1,0,0,0,0,{"$f":"IF(ISERROR(VLOOKUP($A15,#REF!,8,0)),0,(VLOOKUP($A15,#REF!,8,0)))","v":0},0,1,0,0,0,0,{"$f":"IF(ISERROR(VLOOKUP($A15,#REF!,8,0)),0,(VLOOKUP($A15,#REF!,8,0)))","v":0},0,1,0,0,0,0,{"$f":"IF(ISERROR(VLOOKUP($A15,#REF!,8,0)),0,(VLOOKUP($A15,#REF!,8,0)))","v":0},0,1,0,0,0,0,{"$f":"IF(ISERROR(VLOOKUP($A15,#REF!,8,0)),0,(VLOOKUP($A15,#REF!,8,0)))","v":0},0,1,0,0,0,0,988.10919999999999,988.10919999999999,1,0]
["1.6","Revisão com adequação  de Projeto Executivo de Sistema de Prevenção e combate à incêndio, inclusive ART.","um",1,1,0,0,0,6725.9099200000001,6725.9099200000001,0,0,6725.9099200000001,0,6725.9099200000001,null,0,0,0,0,0,null,0,1,0,0,0,0,null,0,1,0,0,0,0,null,0,1,0,0,0,0,null,0,1,0,0,0,0,null,0,1,0,0,0,0,{"$f":"IF(ISERROR(VLOOKUP(A16,'7ª MEDIÇÃO'!$A$5:$J$1048576,8,0)),0,(VLOOKUP(A16,'7ª MEDIÇÃO'!$A$5:$J$1048576,8,0)))","v":0},0,1,0,0,0,0,{"$f":"IF(ISERROR(VLOOKUP(A16,'8ª MEDIÇÃO'!$A$5:$J$1048576,8,0)),0,(VLOOKUP(A16,'8ª MEDIÇÃO'!$A$5:$J$1048576,8,0)))","v":0},0,1,0,0,0,0,{"$f":"IF(ISERROR(VLOOKUP(A16,'9ª MEDIÇÃO'!$A$5:$J$1048576,8,0)),0,(VLOOKUP(A16,'9ª MEDIÇÃO'!$A$5:$J$1048576,8,0)))","v":0},0,1,0,0,0,0,{"$f":"IF(ISERROR(VLOOKUP(A16,#REF!,8,0)),0,(VLOOKUP(A16,#REF!,8,0)))","v":0},0,1,0,0,0,0,{"$f":"IF(ISERROR(VLOOKUP($A16,#REF!,8,0)),0,(VLOOKUP($A16,#REF!,8,0)))","v":0},0,1,0,0,0,0,{"$f":"IF(ISERROR(VLOOKUP($A16,#REF!,8,0)),0,(VLOOKUP($A16,#REF!,8,0)))","v":0},0,1,0,0,0,0,{"$f":"IF(ISERROR(VLOOKUP($A16,#REF!,8,0)),0,(VLOOKUP($A16,#REF!,8,0)))","v":0},0,1,0,0,0,0,{"$f":"IF(ISERROR(VLOOKUP($A16,#REF!,8,0)),0,(VLOOKUP($A16,#REF!,8,0)))","v":0},0,1,0,0,0,0,{"$f":"IF(ISERROR(VLOOKUP($A16,#REF!,8,0)),0,(VLOOKUP($A16,#REF!,8,0)))","v":0},0,1,0,0,0,0,{"$f":"IF(ISERROR(VLOOKUP($A16,#REF!,8,0)),0,(VLOOKUP($A16,#REF!,8,0)))","v":0},0,1,0,0,0,0,{"$f":"IF(ISERROR(VLOOKUP($A16,#REF!,8,0)),0,(VLOOKUP($A16,#REF!,8,0)))","v":0},0,1,0,0,0,0,{"$f":"IF(ISERROR(VLOOKUP($A16,#REF!,8,0)),0,(VLOOKUP($A16,#REF!,8,0)))","v":0},0,1,0,0,0,0,{"$f":"IF(ISERROR(VLOOKUP($A16,#REF!,8,0)),0,(VLOOKUP($A16,#REF!,8,0)))","v":0},0,1,0,0,0,0,{"$f":"IF(ISERROR(VLOOKUP($A16,#REF!,8,0)),0,(VLOOKUP($A16,#REF!,8,0)))","v":0},0,1,0,0,0,0,{"$f":"IF(ISERROR(VLOOKUP($A16,#REF!,8,0)),0,(VLOOKUP($A16,#REF!,8,0)))","v":0},0,1,0,0,0,0,{"$f":"IF(ISERROR(VLOOKUP($A16,#REF!,8,0)),0,(VLOOKUP($A16,#REF!,8,0)))","v":0},0,1,0,0,0,0,{"$f":"IF(ISERROR(VLOOKUP($A16,#REF!,8,0)),0,(VLOOKUP($A16,#REF!,8,0)))","v":0},0,1,0,0,0,0,{"$f":"IF(ISERROR(VLOOKUP($A16,#REF!,8,0)),0,(VLOOKUP($A16,#REF!,8,0)))","v":0},0,1,0,0,0,0,{"$f":"IF(ISERROR(VLOOKUP($A16,#REF!,8,0)),0,(VLOOKUP($A16,#REF!,8,0)))","v":0},0,1,0,0,0,0,{"$f":"IF(ISERROR(VLOOKUP($A16,#REF!,8,0)),0,(VLOOKUP($A16,#REF!,8,0)))","v":0},0,1,0,0,0,0,{"$f":"IF(ISERROR(VLOOKUP($A16,#REF!,8,0)),0,(VLOOKUP($A16,#REF!,8,0)))","v":0},0,1,0,0,0,0,{"$f":"IF(ISERROR(VLOOKUP($A16,#REF!,8,0)),0,(VLOOKUP($A16,#REF!,8,0)))","v":0},0,1,0,0,0,0,{"$f":"IF(ISERROR(VLOOKUP($A16,#REF!,8,0)),0,(VLOOKUP($A16,#REF!,8,0)))","v":0},0,1,0,0,0,0,{"$f":"IF(ISERROR(VLOOKUP($A16,#REF!,8,0)),0,(VLOOKUP($A16,#REF!,8,0)))","v":0},0,1,0,0,0,0,{"$f":"IF(ISERROR(VLOOKUP($A16,#REF!,8,0)),0,(VLOOKUP($A16,#REF!,8,0)))","v":0},0,1,0,0,0,0,{"$f":"IF(ISERROR(VLOOKUP($A16,#REF!,8,0)),0,(VLOOKUP($A16,#REF!,8,0)))","v":0},0,1,0,0,0,0,{"$f":"IF(ISERROR(VLOOKUP($A16,#REF!,8,0)),0,(VLOOKUP($A16,#REF!,8,0)))","v":0},0,1,0,0,0,0,{"$f":"IF(ISERROR(VLOOKUP($A16,#REF!,8,0)),0,(VLOOKUP($A16,#REF!,8,0)))","v":0},0,1,0,0,0,0,{"$f":"IF(ISERROR(VLOOKUP($A16,#REF!,8,0)),0,(VLOOKUP($A16,#REF!,8,0)))","v":0},0,1,0,0,0,0,{"$f":"IF(ISERROR(VLOOKUP($A16,#REF!,8,0)),0,(VLOOKUP($A16,#REF!,8,0)))","v":0},0,1,0,0,0,0,{"$f":"IF(ISERROR(VLOOKUP($A16,#REF!,8,0)),0,(VLOOKUP($A16,#REF!,8,0)))","v":0},0,1,0,0,0,0,{"$f":"IF(ISERROR(VLOOKUP($A16,#REF!,8,0)),0,(VLOOKUP($A16,#REF!,8,0)))","v":0},0,1,0,0,0,0,{"$f":"IF(ISERROR(VLOOKUP($A16,#REF!,8,0)),0,(VLOOKUP($A16,#REF!,8,0)))","v":0},0,1,0,0,0,0,{"$f":"IF(ISERROR(VLOOKUP($A16,#REF!,8,0)),0,(VLOOKUP($A16,#REF!,8,0)))","v":0},0,1,0,0,0,0,{"$f":"IF(ISERROR(VLOOKUP($A16,#REF!,8,0)),0,(VLOOKUP($A16,#REF!,8,0)))","v":0},0,1,0,0,0,0,{"$f":"IF(ISERROR(VLOOKUP($A16,#REF!,8,0)),0,(VLOOKUP($A16,#REF!,8,0)))","v":0},0,1,0,0,0,0,{"$f":"IF(ISERROR(VLOOKUP($A16,#REF!,8,0)),0,(VLOOKUP($A16,#REF!,8,0)))","v":0},0,1,0,0,0,0,{"$f":"IF(ISERROR(VLOOKUP($A16,#REF!,8,0)),0,(VLOOKUP($A16,#REF!,8,0)))","v":0},0,1,0,0,0,0,{"$f":"IF(ISERROR(VLOOKUP($A16,#REF!,8,0)),0,(VLOOKUP($A16,#REF!,8,0)))","v":0},0,1,0,0,0,0,{"$f":"IF(ISERROR(VLOOKUP($A16,#REF!,8,0)),0,(VLOOKUP($A16,#REF!,8,0)))","v":0},0,1,0,0,0,0,{"$f":"IF(ISERROR(VLOOKUP($A16,#REF!,8,0)),0,(VLOOKUP($A16,#REF!,8,0)))","v":0},0,1,0,0,0,0,{"$f":"IF(ISERROR(VLOOKUP($A16,#REF!,8,0)),0,(VLOOKUP($A16,#REF!,8,0)))","v":0},0,1,0,0,0,0,{"$f":"IF(ISERROR(VLOOKUP($A16,#REF!,8,0)),0,(VLOOKUP($A16,#REF!,8,0)))","v":0},0,1,0,0,0,0,{"$f":"IF(ISERROR(VLOOKUP($A16,#REF!,8,0)),0,(VLOOKUP($A16,#REF!,8,0)))","v":0},0,1,0,0,0,0,{"$f":"IF(ISERROR(VLOOKUP($A16,#REF!,8,0)),0,(VLOOKUP($A16,#REF!,8,0)))","v":0},0,1,0,0,0,0,{"$f":"IF(ISERROR(VLOOKUP($A16,#REF!,8,0)),0,(VLOOKUP($A16,#REF!,8,0)))","v":0},0,1,0,0,0,0,{"$f":"IF(ISERROR(VLOOKUP($A16,#REF!,8,0)),0,(VLOOKUP($A16,#REF!,8,0)))","v":0},0,1,0,0,0,0,{"$f":"IF(ISERROR(VLOOKUP($A16,#REF!,8,0)),0,(VLOOKUP($A16,#REF!,8,0)))","v":0},0,1,0,0,0,0,{"$f":"IF(ISERROR(VLOOKUP($A16,#REF!,8,0)),0,(VLOOKUP($A16,#REF!,8,0)))","v":0},0,1,0,0,0,0,6725.9099200000001,6725.9099200000001,1,0]
["1.7","Revisão com adequação de Projeto Executivo de Climatização, inclusive ART.","un",1,1,0,0,0,13352.9094,13352.9094,0,0,13352.9094,0,13352.9094,null,0,{"$f":"P17*$G17","v":0},0,0,0,null,0,1,0,0,0,0,null,0,1,0,0,0,0,null,0,1,0,0,0,0,null,0,1,0,0,0,0,null,0,1,0,0,0,0,{"$f":"IF(ISERROR(VLOOKUP(A17,'7ª MEDIÇÃO'!$A$5:$J$1048576,8,0)),0,(VLOOKUP(A17,'7ª MEDIÇÃO'!$A$5:$J$1048576,8,0)))","v":0},0,1,0,0,0,0,{"$f":"IF(ISERROR(VLOOKUP(A17,'8ª MEDIÇÃO'!$A$5:$J$1048576,8,0)),0,(VLOOKUP(A17,'8ª MEDIÇÃO'!$A$5:$J$1048576,8,0)))","v":0},0,1,0,0,0,0,{"$f":"IF(ISERROR(VLOOKUP(A17,'9ª MEDIÇÃO'!$A$5:$J$1048576,8,0)),0,(VLOOKUP(A17,'9ª MEDIÇÃO'!$A$5:$J$1048576,8,0)))","v":0},0,1,0,0,0,0,{"$f":"IF(ISERROR(VLOOKUP(A17,#REF!,8,0)),0,(VLOOKUP(A17,#REF!,8,0)))","v":0},0,1,0,0,0,0,{"$f":"IF(ISERROR(VLOOKUP($A17,#REF!,8,0)),0,(VLOOKUP($A17,#REF!,8,0)))","v":0},0,1,0,0,0,0,{"$f":"IF(ISERROR(VLOOKUP($A17,#REF!,8,0)),0,(VLOOKUP($A17,#REF!,8,0)))","v":0},0,1,0,0,0,0,{"$f":"IF(ISERROR(VLOOKUP($A17,#REF!,8,0)),0,(VLOOKUP($A17,#REF!,8,0)))","v":0},0,1,0,0,0,0,{"$f":"IF(ISERROR(VLOOKUP($A17,#REF!,8,0)),0,(VLOOKUP($A17,#REF!,8,0)))","v":0},0,1,0,0,0,0,{"$f":"IF(ISERROR(VLOOKUP($A17,#REF!,8,0)),0,(VLOOKUP($A17,#REF!,8,0)))","v":0},0,1,0,0,0,0,{"$f":"IF(ISERROR(VLOOKUP($A17,#REF!,8,0)),0,(VLOOKUP($A17,#REF!,8,0)))","v":0},0,1,0,0,0,0,{"$f":"IF(ISERROR(VLOOKUP($A17,#REF!,8,0)),0,(VLOOKUP($A17,#REF!,8,0)))","v":0},0,1,0,0,0,0,{"$f":"IF(ISERROR(VLOOKUP($A17,#REF!,8,0)),0,(VLOOKUP($A17,#REF!,8,0)))","v":0},0,1,0,0,0,0,{"$f":"IF(ISERROR(VLOOKUP($A17,#REF!,8,0)),0,(VLOOKUP($A17,#REF!,8,0)))","v":0},0,1,0,0,0,0,{"$f":"IF(ISERROR(VLOOKUP($A17,#REF!,8,0)),0,(VLOOKUP($A17,#REF!,8,0)))","v":0},0,1,0,0,0,0,{"$f":"IF(ISERROR(VLOOKUP($A17,#REF!,8,0)),0,(VLOOKUP($A17,#REF!,8,0)))","v":0},0,1,0,0,0,0,{"$f":"IF(ISERROR(VLOOKUP($A17,#REF!,8,0)),0,(VLOOKUP($A17,#REF!,8,0)))","v":0},0,1,0,0,0,0,{"$f":"IF(ISERROR(VLOOKUP($A17,#REF!,8,0)),0,(VLOOKUP($A17,#REF!,8,0)))","v":0},0,1,0,0,0,0,{"$f":"IF(ISERROR(VLOOKUP($A17,#REF!,8,0)),0,(VLOOKUP($A17,#REF!,8,0)))","v":0},0,1,0,0,0,0,{"$f":"IF(ISERROR(VLOOKUP($A17,#REF!,8,0)),0,(VLOOKUP($A17,#REF!,8,0)))","v":0},0,1,0,0,0,0,{"$f":"IF(ISERROR(VLOOKUP($A17,#REF!,8,0)),0,(VLOOKUP($A17,#REF!,8,0)))","v":0},0,1,0,0,0,0,{"$f":"IF(ISERROR(VLOOKUP($A17,#REF!,8,0)),0,(VLOOKUP($A17,#REF!,8,0)))","v":0},0,1,0,0,0,0,{"$f":"IF(ISERROR(VLOOKUP($A17,#REF!,8,0)),0,(VLOOKUP($A17,#REF!,8,0)))","v":0},0,1,0,0,0,0,null,0,1,0,0,0,0,{"$f":"IF(ISERROR(VLOOKUP($A17,#REF!,8,0)),0,(VLOOKUP($A17,#REF!,8,0)))","v":0},0,1,0,0,0,0,{"$f":"IF(ISERROR(VLOOKUP($A17,#REF!,8,0)),0,(VLOOKUP($A17,#REF!,8,0)))","v":0},0,1,0,0,0,0,{"$f":"IF(ISERROR(VLOOKUP($A17,#REF!,8,0)),0,(VLOOKUP($A17,#REF!,8,0)))","v":0},0,1,0,0,0,0,{"$f":"IF(ISERROR(VLOOKUP($A17,#REF!,8,0)),0,(VLOOKUP($A17,#REF!,8,0)))","v":0},0,1,0,0,0,0,{"$f":"IF(ISERROR(VLOOKUP($A17,#REF!,8,0)),0,(VLOOKUP($A17,#REF!,8,0)))","v":0},0,1,0,0,0,0,{"$f":"IF(ISERROR(VLOOKUP($A17,#REF!,8,0)),0,(VLOOKUP($A17,#REF!,8,0)))","v":0},0,1,0,0,0,0,{"$f":"IF(ISERROR(VLOOKUP($A17,#REF!,8,0)),0,(VLOOKUP($A17,#REF!,8,0)))","v":0},0,1,0,0,0,0,{"$f":"IF(ISERROR(VLOOKUP($A17,#REF!,8,0)),0,(VLOOKUP($A17,#REF!,8,0)))","v":0},0,1,0,0,0,0,{"$f":"IF(ISERROR(VLOOKUP($A17,#REF!,8,0)),0,(VLOOKUP($A17,#REF!,8,0)))","v":0},0,1,0,0,0,0,{"$f":"IF(ISERROR(VLOOKUP($A17,#REF!,8,0)),0,(VLOOKUP($A17,#REF!,8,0)))","v":0},0,1,0,0,0,0,{"$f":"IF(ISERROR(VLOOKUP($A17,#REF!,8,0)),0,(VLOOKUP($A17,#REF!,8,0)))","v":0},0,1,0,0,0,0,{"$f":"IF(ISERROR(VLOOKUP($A17,#REF!,8,0)),0,(VLOOKUP($A17,#REF!,8,0)))","v":0},0,1,0,0,0,0,{"$f":"IF(ISERROR(VLOOKUP($A17,#REF!,8,0)),0,(VLOOKUP($A17,#REF!,8,0)))","v":0},0,1,0,0,0,0,{"$f":"IF(ISERROR(VLOOKUP($A17,#REF!,8,0)),0,(VLOOKUP($A17,#REF!,8,0)))","v":0},0,1,0,0,0,0,{"$f":"IF(ISERROR(VLOOKUP($A17,#REF!,8,0)),0,(VLOOKUP($A17,#REF!,8,0)))","v":0},0,1,0,0,0,0,{"$f":"IF(ISERROR(VLOOKUP($A17,#REF!,8,0)),0,(VLOOKUP($A17,#REF!,8,0)))","v":0},0,1,0,0,0,0,{"$f":"IF(ISERROR(VLOOKUP($A17,#REF!,8,0)),0,(VLOOKUP($A17,#REF!,8,0)))","v":0},0,1,0,0,0,0,{"$f":"IF(ISERROR(VLOOKUP($A17,#REF!,8,0)),0,(VLOOKUP($A17,#REF!,8,0)))","v":0},0,1,0,0,0,0,{"$f":"IF(ISERROR(VLOOKUP($A17,#REF!,8,0)),0,(VLOOKUP($A17,#REF!,8,0)))","v":0},0,1,0,0,0,0,{"$f":"IF(ISERROR(VLOOKUP($A17,#REF!,8,0)),0,(VLOOKUP($A17,#REF!,8,0)))","v":0},0,1,0,0,0,0,{"$f":"IF(ISERROR(VLOOKUP($A17,#REF!,8,0)),0,(VLOOKUP($A17,#REF!,8,0)))","v":0},0,1,0,0,0,0,{"$f":"IF(ISERROR(VLOOKUP($A17,#REF!,8,0)),0,(VLOOKUP($A17,#REF!,8,0)))","v":0},0,1,0,0,0,0,{"$f":"IF(ISERROR(VLOOKUP($A17,#REF!,8,0)),0,(VLOOKUP($A17,#REF!,8,0)))","v":0},0,1,0,0,0,0,{"$f":"IF(ISERROR(VLOOKUP($A17,#REF!,8,0)),0,(VLOOKUP($A17,#REF!,8,0)))","v":0},0,1,0,0,0,0,{"$f":"IF(ISERROR(VLOOKUP($A17,#REF!,8,0)),0,(VLOOKUP($A17,#REF!,8,0)))","v":0},0,1,0,0,0,0,{"$f":"IF(ISERROR(VLOOKUP($A17,#REF!,8,0)),0,(VLOOKUP($A17,#REF!,8,0)))","v":0},0,1,0,0,0,0,13352.9094,13352.9094,1,0]
["1.8","Revisão com adequação de Projeto Básico de Instalações Hidrossanitárias, inclusive ART.","un",1,0,1,0,0,5934.6264000000001,5934.6264000000001,0,0,5934.6264000000001,5934.6264000000001,0,null,0,0,0,0,0,null,0,0,0,0,0,0,null,0,0,0,0,0,0,null,0,0,0,0,0,0,null,0,0,0,0,0,0,null,0,0,0,0,0,0,{"$f":"IF(ISERROR(VLOOKUP(A18,'7ª MEDIÇÃO'!$A$5:$J$1048576,8,0)),0,(VLOOKUP(A18,'7ª MEDIÇÃO'!$A$5:$J$1048576,8,0)))","v":0},0,0,0,0,0,0,{"$f":"IF(ISERROR(VLOOKUP(A18,'8ª MEDIÇÃO'!$A$5:$J$1048576,8,0)),0,(VLOOKUP(A18,'8ª MEDIÇÃO'!$A$5:$J$1048576,8,0)))","v":0},0,0,0,0,0,0,{"$f":"IF(ISERROR(VLOOKUP(A18,'9ª MEDIÇÃO'!$A$5:$J$1048576,8,0)),0,(VLOOKUP(A18,'9ª MEDIÇÃO'!$A$5:$J$1048576,8,0)))","v":0},0,0,0,0,0,0,{"$f":"IF(ISERROR(VLOOKUP(A18,#REF!,8,0)),0,(VLOOKUP(A18,#REF!,8,0)))","v":0},0,0,0,0,0,0,{"$f":"IF(ISERROR(VLOOKUP($A18,#REF!,8,0)),0,(VLOOKUP($A18,#REF!,8,0)))","v":0},0,0,0,0,0,0,{"$f":"IF(ISERROR(VLOOKUP($A18,#REF!,8,0)),0,(VLOOKUP($A18,#REF!,8,0)))","v":0},0,0,0,0,0,0,{"$f":"IF(ISERROR(VLOOKUP($A18,#REF!,8,0)),0,(VLOOKUP($A18,#REF!,8,0)))","v":0},0,0,0,0,0,0,{"$f":"IF(ISERROR(VLOOKUP($A18,#REF!,8,0)),0,(VLOOKUP($A18,#REF!,8,0)))","v":0},0,0,0,0,0,0,{"$f":"IF(ISERROR(VLOOKUP($A18,#REF!,8,0)),0,(VLOOKUP($A18,#REF!,8,0)))","v":0},0,0,0,0,0,0,{"$f":"IF(ISERROR(VLOOKUP($A18,#REF!,8,0)),0,(VLOOKUP($A18,#REF!,8,0)))","v":0},0,0,0,0,0,0,{"$f":"IF(ISERROR(VLOOKUP($A18,#REF!,8,0)),0,(VLOOKUP($A18,#REF!,8,0)))","v":0},0,0,0,0,0,0,{"$f":"IF(ISERROR(VLOOKUP($A18,#REF!,8,0)),0,(VLOOKUP($A18,#REF!,8,0)))","v":0},0,0,0,0,0,0,{"$f":"IF(ISERROR(VLOOKUP($A18,#REF!,8,0)),0,(VLOOKUP($A18,#REF!,8,0)))","v":0},0,0,0,0,0,0,{"$f":"IF(ISERROR(VLOOKUP($A18,#REF!,8,0)),0,(VLOOKUP($A18,#REF!,8,0)))","v":0},0,0,0,0,0,0,{"$f":"IF(ISERROR(VLOOKUP($A18,#REF!,8,0)),0,(VLOOKUP($A18,#REF!,8,0)))","v":0},0,0,0,0,0,0,{"$f":"IF(ISERROR(VLOOKUP($A18,#REF!,8,0)),0,(VLOOKUP($A18,#REF!,8,0)))","v":0},0,0,0,0,0,0,{"$f":"IF(ISERROR(VLOOKUP($A18,#REF!,8,0)),0,(VLOOKUP($A18,#REF!,8,0)))","v":0},0,0,0,0,0,0,{"$f":"IF(ISERROR(VLOOKUP($A18,#REF!,8,0)),0,(VLOOKUP($A18,#REF!,8,0)))","v":0},0,0,0,0,0,0,{"$f":"IF(ISERROR(VLOOKUP($A18,#REF!,8,0)),0,(VLOOKUP($A18,#REF!,8,0)))","v":0},0,0,0,0,0,0,{"$f":"IF(ISERROR(VLOOKUP($A18,#REF!,8,0)),0,(VLOOKUP($A18,#REF!,8,0)))","v":0},0,0,0,0,0,0,{"$f":"IF(ISERROR(VLOOKUP($A18,#REF!,8,0)),0,(VLOOKUP($A18,#REF!,8,0)))","v":0},0,0,0,0,0,0,{"$f":"IF(ISERROR(VLOOKUP($A18,#REF!,8,0)),0,(VLOOKUP($A18,#REF!,8,0)))","v":0},0,0,0,0,0,0,{"$f":"IF(ISERROR(VLOOKUP($A18,#REF!,8,0)),0,(VLOOKUP($A18,#REF!,8,0)))","v":0},0,0,0,0,0,0,{"$f":"IF(ISERROR(VLOOKUP($A18,#REF!,8,0)),0,(VLOOKUP($A18,#REF!,8,0)))","v":0},0,0,0,0,0,0,{"$f":"IF(ISERROR(VLOOKUP($A18,#REF!,8,0)),0,(VLOOKUP($A18,#REF!,8,0)))","v":0},0,0,0,0,0,0,{"$f":"IF(ISERROR(VLOOKUP($A18,#REF!,8,0)),0,(VLOOKUP($A18,#REF!,8,0)))","v":0},0,0,0,0,0,0,{"$f":"IF(ISERROR(VLOOKUP($A18,#REF!,8,0)),0,(VLOOKUP($A18,#REF!,8,0)))","v":0},0,0,0,0,0,0,{"$f":"IF(ISERROR(VLOOKUP($A18,#REF!,8,0)),0,(VLOOKUP($A18,#REF!,8,0)))","v":0},0,0,0,0,0,0,{"$f":"IF(ISERROR(VLOOKUP($A18,#REF!,8,0)),0,(VLOOKUP($A18,#REF!,8,0)))","v":0},0,0,0,0,0,0,{"$f":"IF(ISERROR(VLOOKUP($A18,#REF!,8,0)),0,(VLOOKUP($A18,#REF!,8,0)))","v":0},0,0,0,0,0,0,{"$f":"IF(ISERROR(VLOOKUP($A18,#REF!,8,0)),0,(VLOOKUP($A18,#REF!,8,0)))","v":0},0,0,0,0,0,0,{"$f":"IF(ISERROR(VLOOKUP($A18,#REF!,8,0)),0,(VLOOKUP($A18,#REF!,8,0)))","v":0},0,0,0,0,0,0,{"$f":"IF(ISERROR(VLOOKUP($A18,#REF!,8,0)),0,(VLOOKUP($A18,#REF!,8,0)))","v":0},0,0,0,0,0,0,{"$f":"IF(ISERROR(VLOOKUP($A18,#REF!,8,0)),0,(VLOOKUP($A18,#REF!,8,0)))","v":0},0,0,0,0,0,0,{"$f":"IF(ISERROR(VLOOKUP($A18,#REF!,8,0)),0,(VLOOKUP($A18,#REF!,8,0)))","v":0},0,0,0,0,0,0,{"$f":"IF(ISERROR(VLOOKUP($A18,#REF!,8,0)),0,(VLOOKUP($A18,#REF!,8,0)))","v":0},0,0,0,0,0,0,{"$f":"IF(ISERROR(VLOOKUP($A18,#REF!,8,0)),0,(VLOOKUP($A18,#REF!,8,0)))","v":0},0,0,0,0,0,0,{"$f":"IF(ISERROR(VLOOKUP($A18,#REF!,8,0)),0,(VLOOKUP($A18,#REF!,8,0)))","v":0},0,0,0,0,0,0,{"$f":"IF(ISERROR(VLOOKUP($A18,#REF!,8,0)),0,(VLOOKUP($A18,#REF!,8,0)))","v":0},0,0,0,0,0,0,{"$f":"IF(ISERROR(VLOOKUP($A18,#REF!,8,0)),0,(VLOOKUP($A18,#REF!,8,0)))","v":0},0,0,0,0,0,0,{"$f":"IF(ISERROR(VLOOKUP($A18,#REF!,8,0)),0,(VLOOKUP($A18,#REF!,8,0)))","v":0},0,0,0,0,0,0,{"$f":"IF(ISERROR(VLOOKUP($A18,#REF!,8,0)),0,(VLOOKUP($A18,#REF!,8,0)))","v":0},0,0,0,0,0,0,{"$f":"IF(ISERROR(VLOOKUP($A18,#REF!,8,0)),0,(VLOOKUP($A18,#REF!,8,0)))","v":0},0,0,0,0,0,0,{"$f":"IF(ISERROR(VLOOKUP($A18,#REF!,8,0)),0,(VLOOKUP($A18,#REF!,8,0)))","v":0},0,0,0,0,0,0,{"$f":"IF(ISERROR(VLOOKUP($A18,#REF!,8,0)),0,(VLOOKUP($A18,#REF!,8,0)))","v":0},0,0,0,0,0,0,{"$f":"IF(ISERROR(VLOOKUP($A18,#REF!,8,0)),0,(VLOOKUP($A18,#REF!,8,0)))","v":0},0,0,0,0,0,0,{"$f":"IF(ISERROR(VLOOKUP($A18,#REF!,8,0)),0,(VLOOKUP($A18,#REF!,8,0)))","v":0},0,0,0,0,0,0,{"$f":"IF(ISERROR(VLOOKUP($A18,#REF!,8,0)),0,(VLOOKUP($A18,#REF!,8,0)))","v":0},0,0,0,0,0,0,{"$f":"IF(ISERROR(VLOOKUP($A18,#REF!,8,0)),0,(VLOOKUP($A18,#REF!,8,0)))","v":0},0,0,0,0,0,0,0,0,{"$error":"#DIV/0!"},0]
["1.9","Elaboração de Projeto Executivo de Terraplanagem, Pavimentação e Drenagem, inclusive levantamento plani-altimétrico e estudo geotécnico do solo.","un",1,1,0,0,0,10088.864880000001,10088.864880000001,0,0,10088.864880000001,0,10088.864880000001,null,0,0,0,0,0,1,1,1,0,10088.864880000001,0,10088.86,null,0,1,0,0,0,0,null,0,1,0,0,0,0,null,0,1,0,0,0,0,null,0,1,0,0,0,0,{"$f":"IF(ISERROR(VLOOKUP(A19,'7ª MEDIÇÃO'!$A$5:$J$1048576,8,0)),0,(VLOOKUP(A19,'7ª MEDIÇÃO'!$A$5:$J$1048576,8,0)))","v":0},0,1,0,0,0,0,{"$f":"IF(ISERROR(VLOOKUP(A19,'8ª MEDIÇÃO'!$A$5:$J$1048576,8,0)),0,(VLOOKUP(A19,'8ª MEDIÇÃO'!$A$5:$J$1048576,8,0)))","v":0},0,1,0,0,0,0,{"$f":"IF(ISERROR(VLOOKUP(A19,'9ª MEDIÇÃO'!$A$5:$J$1048576,8,0)),0,(VLOOKUP(A19,'9ª MEDIÇÃO'!$A$5:$J$1048576,8,0)))","v":0},0,1,0,0,0,0,{"$f":"IF(ISERROR(VLOOKUP(A19,#REF!,8,0)),0,(VLOOKUP(A19,#REF!,8,0)))","v":0},0,1,0,0,0,0,{"$f":"IF(ISERROR(VLOOKUP($A19,#REF!,8,0)),0,(VLOOKUP($A19,#REF!,8,0)))","v":0},0,1,0,0,0,0,{"$f":"IF(ISERROR(VLOOKUP($A19,#REF!,8,0)),0,(VLOOKUP($A19,#REF!,8,0)))","v":0},0,1,0,0,0,0,{"$f":"IF(ISERROR(VLOOKUP($A19,#REF!,8,0)),0,(VLOOKUP($A19,#REF!,8,0)))","v":0},0,1,0,0,0,0,{"$f":"IF(ISERROR(VLOOKUP($A19,#REF!,8,0)),0,(VLOOKUP($A19,#REF!,8,0)))","v":0},0,1,0,0,0,0,{"$f":"IF(ISERROR(VLOOKUP($A19,#REF!,8,0)),0,(VLOOKUP($A19,#REF!,8,0)))","v":0},0,1,0,0,0,0,{"$f":"IF(ISERROR(VLOOKUP($A19,#REF!,8,0)),0,(VLOOKUP($A19,#REF!,8,0)))","v":0},0,1,0,0,0,0,{"$f":"IF(ISERROR(VLOOKUP($A19,#REF!,8,0)),0,(VLOOKUP($A19,#REF!,8,0)))","v":0},0,1,0,0,0,0,{"$f":"IF(ISERROR(VLOOKUP($A19,#REF!,8,0)),0,(VLOOKUP($A19,#REF!,8,0)))","v":0},0,1,0,0,0,0,{"$f":"IF(ISERROR(VLOOKUP($A19,#REF!,8,0)),0,(VLOOKUP($A19,#REF!,8,0)))","v":0},0,1,0,0,0,0,{"$f":"IF(ISERROR(VLOOKUP($A19,#REF!,8,0)),0,(VLOOKUP($A19,#REF!,8,0)))","v":0},0,1,0,0,0,0,{"$f":"IF(ISERROR(VLOOKUP($A19,#REF!,8,0)),0,(VLOOKUP($A19,#REF!,8,0)))","v":0},0,1,0,0,0,0,{"$f":"IF(ISERROR(VLOOKUP($A19,#REF!,8,0)),0,(VLOOKUP($A19,#REF!,8,0)))","v":0},0,1,0,0,0,0,{"$f":"IF(ISERROR(VLOOKUP($A19,#REF!,8,0)),0,(VLOOKUP($A19,#REF!,8,0)))","v":0},0,1,0,0,0,0,{"$f":"IF(ISERROR(VLOOKUP($A19,#REF!,8,0)),0,(VLOOKUP($A19,#REF!,8,0)))","v":0},0,1,0,0,0,0,{"$f":"IF(ISERROR(VLOOKUP($A19,#REF!,8,0)),0,(VLOOKUP($A19,#REF!,8,0)))","v":0},0,1,0,0,0,0,{"$f":"IF(ISERROR(VLOOKUP($A19,#REF!,8,0)),0,(VLOOKUP($A19,#REF!,8,0)))","v":0},0,1,0,0,0,0,{"$f":"IF(ISERROR(VLOOKUP($A19,#REF!,8,0)),0,(VLOOKUP($A19,#REF!,8,0)))","v":0},0,1,0,0,0,0,{"$f":"IF(ISERROR(VLOOKUP($A19,#REF!,8,0)),0,(VLOOKUP($A19,#REF!,8,0)))","v":0},0,1,0,0,0,0,{"$f":"IF(ISERROR(VLOOKUP($A19,#REF!,8,0)),0,(VLOOKUP($A19,#REF!,8,0)))","v":0},0,1,0,0,0,0,{"$f":"IF(ISERROR(VLOOKUP($A19,#REF!,8,0)),0,(VLOOKUP($A19,#REF!,8,0)))","v":0},0,1,0,0,0,0,{"$f":"IF(ISERROR(VLOOKUP($A19,#REF!,8,0)),0,(VLOOKUP($A19,#REF!,8,0)))","v":0},0,1,0,0,0,0,{"$f":"IF(ISERROR(VLOOKUP($A19,#REF!,8,0)),0,(VLOOKUP($A19,#REF!,8,0)))","v":0},0,1,0,0,0,0,{"$f":"IF(ISERROR(VLOOKUP($A19,#REF!,8,0)),0,(VLOOKUP($A19,#REF!,8,0)))","v":0},0,1,0,0,0,0,{"$f":"IF(ISERROR(VLOOKUP($A19,#REF!,8,0)),0,(VLOOKUP($A19,#REF!,8,0)))","v":0},0,1,0,0,0,0,{"$f":"IF(ISERROR(VLOOKUP($A19,#REF!,8,0)),0,(VLOOKUP($A19,#REF!,8,0)))","v":0},0,1,0,0,0,0,{"$f":"IF(ISERROR(VLOOKUP($A19,#REF!,8,0)),0,(VLOOKUP($A19,#REF!,8,0)))","v":0},0,1,0,0,0,0,{"$f":"IF(ISERROR(VLOOKUP($A19,#REF!,8,0)),0,(VLOOKUP($A19,#REF!,8,0)))","v":0},0,1,0,0,0,0,{"$f":"IF(ISERROR(VLOOKUP($A19,#REF!,8,0)),0,(VLOOKUP($A19,#REF!,8,0)))","v":0},0,1,0,0,0,0,{"$f":"IF(ISERROR(VLOOKUP($A19,#REF!,8,0)),0,(VLOOKUP($A19,#REF!,8,0)))","v":0},0,1,0,0,0,0,{"$f":"IF(ISERROR(VLOOKUP($A19,#REF!,8,0)),0,(VLOOKUP($A19,#REF!,8,0)))","v":0},0,1,0,0,0,0,{"$f":"IF(ISERROR(VLOOKUP($A19,#REF!,8,0)),0,(VLOOKUP($A19,#REF!,8,0)))","v":0},0,1,0,0,0,0,{"$f":"IF(ISERROR(VLOOKUP($A19,#REF!,8,0)),0,(VLOOKUP($A19,#REF!,8,0)))","v":0},0,1,0,0,0,0,{"$f":"IF(ISERROR(VLOOKUP($A19,#REF!,8,0)),0,(VLOOKUP($A19,#REF!,8,0)))","v":0},0,1,0,0,0,0,{"$f":"IF(ISERROR(VLOOKUP($A19,#REF!,8,0)),0,(VLOOKUP($A19,#REF!,8,0)))","v":0},0,1,0,0,0,0,{"$f":"IF(ISERROR(VLOOKUP($A19,#REF!,8,0)),0,(VLOOKUP($A19,#REF!,8,0)))","v":0},0,1,0,0,0,0,{"$f":"IF(ISERROR(VLOOKUP($A19,#REF!,8,0)),0,(VLOOKUP($A19,#REF!,8,0)))","v":0},0,1,0,0,0,0,{"$f":"IF(ISERROR(VLOOKUP($A19,#REF!,8,0)),0,(VLOOKUP($A19,#REF!,8,0)))","v":0},0,1,0,0,0,0,{"$f":"IF(ISERROR(VLOOKUP($A19,#REF!,8,0)),0,(VLOOKUP($A19,#REF!,8,0)))","v":0},0,1,0,0,0,0,{"$f":"IF(ISERROR(VLOOKUP($A19,#REF!,8,0)),0,(VLOOKUP($A19,#REF!,8,0)))","v":0},0,1,0,0,0,0,{"$f":"IF(ISERROR(VLOOKUP($A19,#REF!,8,0)),0,(VLOOKUP($A19,#REF!,8,0)))","v":0},0,1,0,0,0,0,{"$f":"IF(ISERROR(VLOOKUP($A19,#REF!,8,0)),0,(VLOOKUP($A19,#REF!,8,0)))","v":0},0,1,0,0,0,0,{"$f":"IF(ISERROR(VLOOKUP($A19,#REF!,8,0)),0,(VLOOKUP($A19,#REF!,8,0)))","v":0},0,1,0,0,0,0,{"$f":"IF(ISERROR(VLOOKUP($A19,#REF!,8,0)),0,(VLOOKUP($A19,#REF!,8,0)))","v":0},0,1,0,0,0,0,{"$f":"IF(ISERROR(VLOOKUP($A19,#REF!,8,0)),0,(VLOOKUP($A19,#REF!,8,0)))","v":0},0,1,0,0,0,0,{"$f":"IF(ISERROR(VLOOKUP($A19,#REF!,8,0)),0,(VLOOKUP($A19,#REF!,8,0)))","v":0},0,1,0,0,0,0,10088.864880000001,10088.864880000001,1,0]
["1.10","Tapume de chapa de madeira compensada, E= 6mm, com pintura a cal e reaproveitamento de 2x.","m²",971,931.14,39.860000000000014,13.798979999999998,13398.809579999999,25.85032,25100.66072,0,0,39.649299999999997,1580.4210980000005,36919.049201999995,null,0,0,0,0,0,523.74,0.53938208032955715,0.95894953656024717,7227.0777851999992,13538.8465968,0,20765.919999999998,407.4,0.41956745623068997,0.95894953656024717,5621.704451999999,10531.420367999999,0,16153.12,null,0,0.95894953656024717,0,0,0,0,null,0,0.95894953656024717,0,0,0,0,null,0,0.95894953656024717,0,0,0,0,{"$f":"IF(ISERROR(VLOOKUP(A20,'7ª MEDIÇÃO'!$A$5:$J$1048576,8,0)),0,(VLOOKUP(A20,'7ª MEDIÇÃO'!$A$5:$J$1048576,8,0)))","v":0},0,0.95894953656024717,0,0,0,0,{"$f":"IF(ISERROR(VLOOKUP(A20,'8ª MEDIÇÃO'!$A$5:$J$1048576,8,0)),0,(VLOOKUP(A20,'8ª MEDIÇÃO'!$A$5:$J$1048576,8,0)))","v":0},0,0.95894953656024717,0,0,0,0,{"$f":"IF(ISERROR(VLOOKUP(A20,'9ª MEDIÇÃO'!$A$5:$J$1048576,8,0)),0,(VLOOKUP(A20,'9ª MEDIÇÃO'!$A$5:$J$1048576,8,0)))","v":0},0,0.95894953656024717,0,0,0,0,{"$f":"IF(ISERROR(VLOOKUP(A20,#REF!,8,0)),0,(VLOOKUP(A20,#REF!,8,0)))","v":0},0,0.95894953656024717,0,0,0,0,{"$f":"IF(ISERROR(VLOOKUP($A20,#REF!,8,0)),0,(VLOOKUP($A20,#REF!,8,0)))","v":0},0,0.95894953656024717,0,0,0,0,{"$f":"IF(ISERROR(VLOOKUP($A20,#REF!,8,0)),0,(VLOOKUP($A20,#REF!,8,0)))","v":0},0,0.95894953656024717,0,0,0,0,{"$f":"IF(ISERROR(VLOOKUP($A20,#REF!,8,0)),0,(VLOOKUP($A20,#REF!,8,0)))","v":0},0,0.95894953656024717,0,0,0,0,{"$f":"IF(ISERROR(VLOOKUP($A20,#REF!,8,0)),0,(VLOOKUP($A20,#REF!,8,0)))","v":0},0,0.95894953656024717,0,0,0,0,{"$f":"IF(ISERROR(VLOOKUP($A20,#REF!,8,0)),0,(VLOOKUP($A20,#REF!,8,0)))","v":0},0,0.95894953656024717,0,0,0,0,{"$f":"IF(ISERROR(VLOOKUP($A20,#REF!,8,0)),0,(VLOOKUP($A20,#REF!,8,0)))","v":0},0,0.95894953656024717,0,0,0,0,{"$f":"IF(ISERROR(VLOOKUP($A20,#REF!,8,0)),0,(VLOOKUP($A20,#REF!,8,0)))","v":0},0,0.95894953656024717,0,0,0,0,{"$f":"IF(ISERROR(VLOOKUP($A20,#REF!,8,0)),0,(VLOOKUP($A20,#REF!,8,0)))","v":0},0,0.95894953656024717,0,0,0,0,{"$f":"IF(ISERROR(VLOOKUP($A20,#REF!,8,0)),0,(VLOOKUP($A20,#REF!,8,0)))","v":0},0,0.95894953656024717,0,0,0,0,{"$f":"IF(ISERROR(VLOOKUP($A20,#REF!,8,0)),0,(VLOOKUP($A20,#REF!,8,0)))","v":0},0,0.95894953656024717,0,0,0,0,{"$f":"IF(ISERROR(VLOOKUP($A20,#REF!,8,0)),0,(VLOOKUP($A20,#REF!,8,0)))","v":0},0,0.95894953656024717,0,0,0,0,{"$f":"IF(ISERROR(VLOOKUP($A20,#REF!,8,0)),0,(VLOOKUP($A20,#REF!,8,0)))","v":0},0,0.95894953656024717,0,0,0,0,{"$f":"IF(ISERROR(VLOOKUP($A20,#REF!,8,0)),0,(VLOOKUP($A20,#REF!,8,0)))","v":0},0,0.95894953656024717,0,0,0,0,{"$f":"IF(ISERROR(VLOOKUP($A20,#REF!,8,0)),0,(VLOOKUP($A20,#REF!,8,0)))","v":0},0,0.95894953656024717,0,0,0,0,{"$f":"IF(ISERROR(VLOOKUP($A20,#REF!,8,0)),0,(VLOOKUP($A20,#REF!,8,0)))","v":0},0,0.95894953656024717,0,0,0,0,{"$f":"IF(ISERROR(VLOOKUP($A20,#REF!,8,0)),0,(VLOOKUP($A20,#REF!,8,0)))","v":0},0,0.95894953656024717,0,0,0,0,{"$f":"IF(ISERROR(VLOOKUP($A20,#REF!,8,0)),0,(VLOOKUP($A20,#REF!,8,0)))","v":0},0,0.95894953656024717,0,0,0,0,{"$f":"IF(ISERROR(VLOOKUP($A20,#REF!,8,0)),0,(VLOOKUP($A20,#REF!,8,0)))","v":0},0,0.95894953656024717,0,0,0,0,{"$f":"IF(ISERROR(VLOOKUP($A20,#REF!,8,0)),0,(VLOOKUP($A20,#REF!,8,0)))","v":0},0,0.95894953656024717,0,0,0,0,{"$f":"IF(ISERROR(VLOOKUP($A20,#REF!,8,0)),0,(VLOOKUP($A20,#REF!,8,0)))","v":0},0,0.95894953656024717,0,0,0,0,{"$f":"IF(ISERROR(VLOOKUP($A20,#REF!,8,0)),0,(VLOOKUP($A20,#REF!,8,0)))","v":0},0,0.95894953656024717,0,0,0,0,{"$f":"IF(ISERROR(VLOOKUP($A20,#REF!,8,0)),0,(VLOOKUP($A20,#REF!,8,0)))","v":0},0,0.95894953656024717,0,0,0,0,{"$f":"IF(ISERROR(VLOOKUP($A20,#REF!,8,0)),0,(VLOOKUP($A20,#REF!,8,0)))","v":0},0,0.95894953656024717,0,0,0,0,{"$f":"IF(ISERROR(VLOOKUP($A20,#REF!,8,0)),0,(VLOOKUP($A20,#REF!,8,0)))","v":0},0,0.95894953656024717,0,0,0,0,{"$f":"IF(ISERROR(VLOOKUP($A20,#REF!,8,0)),0,(VLOOKUP($A20,#REF!,8,0)))","v":0},0,0.95894953656024717,0,0,0,0,{"$f":"IF(ISERROR(VLOOKUP($A20,#REF!,8,0)),0,(VLOOKUP($A20,#REF!,8,0)))","v":0},0,0.95894953656024717,0,0,0,0,{"$f":"IF(ISERROR(VLOOKUP($A20,#REF!,8,0)),0,(VLOOKUP($A20,#REF!,8,0)))","v":0},0,0.95894953656024717,0,0,0,0,{"$f":"IF(ISERROR(VLOOKUP($A20,#REF!,8,0)),0,(VLOOKUP($A20,#REF!,8,0)))","v":0},0,0.95894953656024717,0,0,0,0,{"$f":"IF(ISERROR(VLOOKUP($A20,#REF!,8,0)),0,(VLOOKUP($A20,#REF!,8,0)))","v":0},0,0.95894953656024717,0,0,0,0,{"$f":"IF(ISERROR(VLOOKUP($A20,#REF!,8,0)),0,(VLOOKUP($A20,#REF!,8,0)))","v":0},0,0.95894953656024717,0,0,0,0,{"$f":"IF(ISERROR(VLOOKUP($A20,#REF!,8,0)),0,(VLOOKUP($A20,#REF!,8,0)))","v":0},0,0.95894953656024717,0,0,0,0,{"$f":"IF(ISERROR(VLOOKUP($A20,#REF!,8,0)),0,(VLOOKUP($A20,#REF!,8,0)))","v":0},0,0.95894953656024717,0,0,0,0,{"$f":"IF(ISERROR(VLOOKUP($A20,#REF!,8,0)),0,(VLOOKUP($A20,#REF!,8,0)))","v":0},0,0.95894953656024717,0,0,0,0,{"$f":"IF(ISERROR(VLOOKUP($A20,#REF!,8,0)),0,(VLOOKUP($A20,#REF!,8,0)))","v":0},0,0.95894953656024717,0,0,0,0,{"$f":"IF(ISERROR(VLOOKUP($A20,#REF!,8,0)),0,(VLOOKUP($A20,#REF!,8,0)))","v":0},0,0.95894953656024717,0,0,0,0,{"$f":"IF(ISERROR(VLOOKUP($A20,#REF!,8,0)),0,(VLOOKUP($A20,#REF!,8,0)))","v":0},0,0.95894953656024717,0,0,0,0,{"$f":"IF(ISERROR(VLOOKUP($A20,#REF!,8,0)),0,(VLOOKUP($A20,#REF!,8,0)))","v":0},0,0.95894953656024717,0,0,0,0,{"$f":"IF(ISERROR(VLOOKUP($A20,#REF!,8,0)),0,(VLOOKUP($A20,#REF!,8,0)))","v":0},0,0.95894953656024717,0,0,0,0,{"$f":"IF(ISERROR(VLOOKUP($A20,#REF!,8,0)),0,(VLOOKUP($A20,#REF!,8,0)))","v":0},0,0.95894953656024717,0,0,0,0,{"$f":"IF(ISERROR(VLOOKUP($A20,#REF!,8,0)),0,(VLOOKUP($A20,#REF!,8,0)))","v":0},0,0.95894953656024717,0,0,0,0,{"$f":"IF(ISERROR(VLOOKUP($A20,#REF!,8,0)),0,(VLOOKUP($A20,#REF!,8,0)))","v":0},0,0.95894953656024717,0,0,0,0,{"$f":"IF(ISERROR(VLOOKUP($A20,#REF!,8,0)),0,(VLOOKUP($A20,#REF!,8,0)))","v":0},0,0.95894953656024717,0,0,0,0,{"$f":"IF(ISERROR(VLOOKUP($A20,#REF!,8,0)),0,(VLOOKUP($A20,#REF!,8,0)))","v":0},0,0.95894953656024717,0,0,0,0,{"$f":"IF(ISERROR(VLOOKUP($A20,#REF!,8,0)),0,(VLOOKUP($A20,#REF!,8,0)))","v":0},0,0.95894953656024717,0,0,0,0,{"$f":"IF(ISERROR(VLOOKUP($A20,#REF!,8,0)),0,(VLOOKUP($A20,#REF!,8,0)))","v":0},0,0.95894953656024717,0,0,0,0,36919.049201999995,36919.049201999995,1,0]
["1.11","Limpeza mecanizada de terreno com remoção de camada vegetal, utilizando motoniveladora.","m²",6850,6850,0,0,0,0.54735999999999996,3749.4159999999997,0,0,0.54735999999999996,0,3749.4159999999997,6850,{"$f":"IF($D21>0,P21/$D21,0)","v":1},{"$f":"P21*$G21","v":0},{"$f":"$I21*P21","v":3749.4159999999997},{"$f":"$K21*P21","v":0},{"$f":"ROUND($M21*P21,2)","v":3749.42},null,{"$f":"IF($D21>0,V21/$D21,0)","v":0},1,{"$f":"V21*$G21","v":0},{"$f":"$I21*V21","v":0},{"$f":"$K21*V21","v":0},{"$f":"ROUND($M21*V21,2)","v":0},null,{"$f":"IF($D21>0,AC21/$D21,0)","v":0},1,{"$f":"AC21*$G21","v":0},{"$f":"$I21*AC21","v":0},{"$f":"$K21*AC21","v":0},{"$f":"ROUND($M21*AC21,2)","v":0},null,{"$f":"IF($D21>0,AJ21/$D21,0)","v":0},1,{"$f":"AJ21*$G21","v":0},{"$f":"$I21*AJ21","v":0},{"$f":"$K21*AJ21","v":0},{"$f":"ROUND($M21*AJ21,2)","v":0},null,{"$f":"IF($D21>0,AQ21/$D21,0)","v":0},1,{"$f":"AQ21*$G21","v":0},{"$f":"$I21*AQ21","v":0},{"$f":"$K21*AQ21","v":0},{"$f":"ROUND($M21*AQ21,2)","v":0},null,{"$f":"IF($D21>0,AX21/$D21,0)","v":0},1,{"$f":"AX21*$G21","v":0},{"$f":"$I21*AX21","v":0},{"$f":"$K21*AX21","v":0},{"$f":"ROUND($M21*AX21,2)","v":0},{"$f":"IF(ISERROR(VLOOKUP(A21,'7ª MEDIÇÃO'!$A$5:$J$1048576,8,0)),0,(VLOOKUP(A21,'7ª MEDIÇÃO'!$A$5:$J$1048576,8,0)))","v":0},{"$f":"IF($D21>0,BE21/$D21,0)","v":0},1,{"$f":"BE21*$G21","v":0},{"$f":"$I21*BE21","v":0},{"$f":"$K21*BE21","v":0},{"$f":"ROUND($M21*BE21,2)","v":0},{"$f":"IF(ISERROR(VLOOKUP(A21,'8ª MEDIÇÃO'!$A$5:$J$1048576,8,0)),0,(VLOOKUP(A21,'8ª MEDIÇÃO'!$A$5:$J$1048576,8,0)))","v":0},{"$f":"IF($D21>0,BL21/$D21,0)","v":0},1,{"$f":"BL21*$G21","v":0},{"$f":"$I21*BL21","v":0},{"$f":"$K21*BL21","v":0},{"$f":"ROUND($M21*BL21,2)","v":0},{"$f":"IF(ISERROR(VLOOKUP(A21,'9ª MEDIÇÃO'!$A$5:$J$1048576,8,0)),0,(VLOOKUP(A21,'9ª MEDIÇÃO'!$A$5:$J$1048576,8,0)))","v":0},{"$f":"IF($D21>0,BS21/$D21,0)","v":0},1,{"$f":"BS21*$G21","v":0},{"$f":"$I21*BS21","v":0},{"$f":"$K21*BS21","v":0},{"$f":"ROUND($M21*BS21,2)","v":0},{"$f":"IF(ISERROR(VLOOKUP(A21,#REF!,8,0)),0,(VLOOKUP(A21,#REF!,8,0)))","v":0},{"$f":"IF($D21>0,BZ21/$D21,0)","v":0},1,{"$f":"BZ21*$G21","v":0},{"$f":"$I21*BZ21","v":0},{"$f":"$K21*BZ21","v":0},{"$f":"ROUND($M21*BZ21,2)","v":0},{"$f":"IF(ISERROR(VLOOKUP($A21,#REF!,8,0)),0,(VLOOKUP($A21,#REF!,8,0)))","v":0},{"$f":"IF($D21>0,CG21/$D21,0)","v":0},1,{"$f":"CG21*$G21","v":0},{"$f":"$I21*CG21","v":0},{"$f":"$K21*CG21","v":0},{"$f":"ROUND($M21*CG21,2)","v":0},{"$f":"IF(ISERROR(VLOOKUP($A21,#REF!,8,0)),0,(VLOOKUP($A21,#REF!,8,0)))","v":0},{"$f":"IF($D21>0,CN21/$D21,0)","v":0},1,{"$f":"CN21*$G21","v":0},{"$f":"$I21*CN21","v":0},{"$f":"$K21*CN21","v":0},{"$f":"ROUND($M21*CN21,2)","v":0},{"$f":"IF(ISERROR(VLOOKUP($A21,#REF!,8,0)),0,(VLOOKUP($A21,#REF!,8,0)))","v":0},{"$f":"IF($D21>0,CU21/$D21,0)","v":0},1,{"$f":"CU21*$G21","v":0},{"$f":"$I21*CU21","v":0},{"$f":"$K21*CU21","v":0},{"$f":"ROUND($M21*CU21,2)","v":0},{"$f":"IF(ISERROR(VLOOKUP($A21,#REF!,8,0)),0,(VLOOKUP($A21,#REF!,8,0)))","v":0},{"$f":"IF($D21>0,DB21/$D21,0)","v":0},1,{"$f":"DB21*$G21","v":0},{"$f":"$I21*DB21","v":0},{"$f":"$K21*DB21","v":0},{"$f":"ROUND($M21*DB21,2)","v":0},{"$f":"IF(ISERROR(VLOOKUP($A21,#REF!,8,0)),0,(VLOOKUP($A21,#REF!,8,0)))","v":0},{"$f":"IF($D21>0,DI21/$D21,0)","v":0},1,{"$f":"DI21*$G21","v":0},{"$f":"$I21*DI21","v":0},{"$f":"$K21*DI21","v":0},{"$f":"ROUND($M21*DI21,2)","v":0},{"$f":"IF(ISERROR(VLOOKUP($A21,#REF!,8,0)),0,(VLOOKUP($A21,#REF!,8,0)))","v":0},{"$f":"IF($D21>0,DP21/$D21,0)","v":0},1,{"$f":"DP21*$G21","v":0},{"$f":"$I21*DP21","v":0},{"$f":"$K21*DP21","v":0},{"$f":"ROUND($M21*DP21,2)","v":0},{"$f":"IF(ISERROR(VLOOKUP($A21,#REF!,8,0)),0,(VLOOKUP($A21,#REF!,8,0)))","v":0},{"$f":"IF($D21>0,DW21/$D21,0)","v":0},1,{"$f":"DW21*$G21","v":0},{"$f":"$I21*DW21","v":0},{"$f":"$K21*DW21","v":0},{"$f":"ROUND($M21*DW21,2)","v":0},{"$f":"IF(ISERROR(VLOOKUP($A21,#REF!,8,0)),0,(VLOOKUP($A21,#REF!,8,0)))","v":0},{"$f":"IF($D21>0,ED21/$D21,0)","v":0},1,{"$f":"ED21*$G21","v":0},{"$f":"$I21*ED21","v":0},{"$f":"$K21*ED21","v":0},{"$f":"ROUND($M21*ED21,2)","v":0},{"$f":"IF(ISERROR(VLOOKUP($A21,#REF!,8,0)),0,(VLOOKUP($A21,#REF!,8,0)))","v":0},{"$f":"IF($D21>0,EK21/$D21,0)","v":0},1,{"$f":"EK21*$G21","v":0},{"$f":"$I21*EK21","v":0},{"$f":"$K21*EK21","v":0},{"$f":"ROUND($M21*EK21,2)","v":0},{"$f":"IF(ISERROR(VLOOKUP($A21,#REF!,8,0)),0,(VLOOKUP($A21,#REF!,8,0)))","v":0},{"$f":"IF($D21>0,ER21/$D21,0)","v":0},1,{"$f":"ER21*$G21","v":0},{"$f":"$I21*ER21","v":0},{"$f":"$K21*ER21","v":0},{"$f":"ROUND($M21*ER21,2)","v":0},{"$f":"IF(ISERROR(VLOOKUP($A21,#REF!,8,0)),0,(VLOOKUP($A21,#REF!,8,0)))","v":0},{"$f":"IF($D21>0,EY21/$D21,0)","v":0},1,{"$f":"EY21*$G21","v":0},{"$f":"$I21*EY21","v":0},{"$f":"$K21*EY21","v":0},{"$f":"ROUND($M21*EY21,2)","v":0},{"$f":"IF(ISERROR(VLOOKUP($A21,#REF!,8,0)),0,(VLOOKUP($A21,#REF!,8,0)))","v":0},{"$f":"IF($D21>0,FF21/$D21,0)","v":0},1,{"$f":"FF21*$G21","v":0},{"$f":"$I21*FF21","v":0},{"$f":"$K21*FF21","v":0},{"$f":"ROUND($M21*FF21,2)","v":0},{"$f":"IF(ISERROR(VLOOKUP($A21,#REF!,8,0)),0,(VLOOKUP($A21,#REF!,8,0)))","v":0},{"$f":"IF($D21>0,FM21/$D21,0)","v":0},1,{"$f":"FM21*$G21","v":0},{"$f":"$I21*FM21","v":0},{"$f":"$K21*FM21","v":0},{"$f":"ROUND($M21*FM21,2)","v":0},{"$f":"IF(ISERROR(VLOOKUP($A21,#REF!,8,0)),0,(VLOOKUP($A21,#REF!,8,0)))","v":0},{"$f":"IF($D21>0,FT21/$D21,0)","v":0},1,{"$f":"FT21*$G21","v":0},{"$f":"$I21*FT21","v":0},{"$f":"$K21*FT21","v":0},{"$f":"ROUND($M21*FT21,2)","v":0},{"$f":"IF(ISERROR(VLOOKUP($A21,#REF!,8,0)),0,(VLOOKUP($A21,#REF!,8,0)))","v":0},{"$f":"IF($D21>0,GA21/$D21,0)","v":0},1,{"$f":"GA21*$G21","v":0},{"$f":"$I21*GA21","v":0},{"$f":"$K21*GA21","v":0},{"$f":"ROUND($M21*GA21,2)","v":0},{"$f":"IF(ISERROR(VLOOKUP($A21,#REF!,8,0)),0,(VLOOKUP($A21,#REF!,8,0)))","v":0},0,1,0,0,0,0,{"$f":"IF(ISERROR(VLOOKUP($A21,#REF!,8,0)),0,(VLOOKUP($A21,#REF!,8,0)))","v":0},0,1,0,0,0,0,{"$f":"IF(ISERROR(VLOOKUP($A21,#REF!,8,0)),0,(VLOOKUP($A21,#REF!,8,0)))","v":0},0,1,0,0,0,0,{"$f":"IF(ISERROR(VLOOKUP($A21,#REF!,8,0)),0,(VLOOKUP($A21,#REF!,8,0)))","v":0},0,1,0,0,0,0,{"$f":"IF(ISERROR(VLOOKUP($A21,#REF!,8,0)),0,(VLOOKUP($A21,#REF!,8,0)))","v":0},0,1,0,0,0,0,{"$f":"IF(ISERROR(VLOOKUP($A21,#REF!,8,0)),0,(VLOOKUP($A21,#REF!,8,0)))","v":0},0,1,0,0,0,0,{"$f":"IF(ISERROR(VLOOKUP($A21,#REF!,8,0)),0,(VLOOKUP($A21,#REF!,8,0)))","v":0},0,1,0,0,0,0,{"$f":"IF(ISERROR(VLOOKUP($A21,#REF!,8,0)),0,(VLOOKUP($A21,#REF!,8,0)))","v":0},0,1,0,0,0,0,{"$f":"IF(ISERROR(VLOOKUP($A21,#REF!,8,0)),0,(VLOOKUP($A21,#REF!,8,0)))","v":0},0,1,0,0,0,0,{"$f":"IF(ISERROR(VLOOKUP($A21,#REF!,8,0)),0,(VLOOKUP($A21,#REF!,8,0)))","v":0},0,1,0,0,0,0,{"$f":"IF(ISERROR(VLOOKUP($A21,#REF!,8,0)),0,(VLOOKUP($A21,#REF!,8,0)))","v":0},0,1,0,0,0,0,{"$f":"IF(ISERROR(VLOOKUP($A21,#REF!,8,0)),0,(VLOOKUP($A21,#REF!,8,0)))","v":0},0,1,0,0,0,0,{"$f":"IF(ISERROR(VLOOKUP($A21,#REF!,8,0)),0,(VLOOKUP($A21,#REF!,8,0)))","v":0},0,1,0,0,0,0,{"$f":"IF(ISERROR(VLOOKUP($A21,#REF!,8,0)),0,(VLOOKUP($A21,#REF!,8,0)))","v":0},0,1,0,0,0,0,{"$f":"IF(ISERROR(VLOOKUP($A21,#REF!,8,0)),0,(VLOOKUP($A21,#REF!,8,0)))","v":0},0,1,0,0,0,0,{"$f":"IF(ISERROR(VLOOKUP($A21,#REF!,8,0)),0,(VLOOKUP($A21,#REF!,8,0)))","v":0},0,1,0,0,0,0,{"$f":"IF(ISERROR(VLOOKUP($A21,#REF!,8,0)),0,(VLOOKUP($A21,#REF!,8,0)))","v":0},0,1,0,0,0,0,{"$f":"IF(ISERROR(VLOOKUP($A21,#REF!,8,0)),0,(VLOOKUP($A21,#REF!,8,0)))","v":0},0,1,0,0,0,0,{"$f":"IF(ISERROR(VLOOKUP($A21,#REF!,8,0)),0,(VLOOKUP($A21,#REF!,8,0)))","v":0},0,1,0,0,0,0,{"$f":"IF(ISERROR(VLOOKUP($A21,#REF!,8,0)),0,(VLOOKUP($A21,#REF!,8,0)))","v":0},0,1,0,0,0,0,{"$f":"IF(ISERROR(VLOOKUP($A21,#REF!,8,0)),0,(VLOOKUP($A21,#REF!,8,0)))","v":0},0,1,0,0,0,0,{"$f":"IF(ISERROR(VLOOKUP($A21,#REF!,8,0)),0,(VLOOKUP($A21,#REF!,8,0)))","v":0},0,1,0,0,0,0,{"$f":"IF(ISERROR(VLOOKUP($A21,#REF!,8,0)),0,(VLOOKUP($A21,#REF!,8,0)))","v":0},0,1,0,0,0,0,{"$f":"IF(ISERROR(VLOOKUP($A21,#REF!,8,0)),0,(VLOOKUP($A21,#REF!,8,0)))","v":0},0,1,0,0,0,0,{"$f":"IF(ISERROR(VLOOKUP($A21,#REF!,8,0)),0,(VLOOKUP($A21,#REF!,8,0)))","v":0},0,1,0,0,0,0,{"$f":"IF(ISERROR(VLOOKUP($A21,#REF!,8,0)),0,(VLOOKUP($A21,#REF!,8,0)))","v":0},0,1,0,0,0,0,{"$f":"IF(ISERROR(VLOOKUP($A21,#REF!,8,0)),0,(VLOOKUP($A21,#REF!,8,0)))","v":0},0,1,0,0,0,0,{"$f":"IF(ISERROR(VLOOKUP($A21,#REF!,8,0)),0,(VLOOKUP($A21,#REF!,8,0)))","v":0},0,1,0,0,0,0,{"$f":"IF(ISERROR(VLOOKUP($A21,#REF!,8,0)),0,(VLOOKUP($A21,#REF!,8,0)))","v":0},0,1,0,0,0,0,{"$f":"IF(ISERROR(VLOOKUP($A21,#REF!,8,0)),0,(VLOOKUP($A21,#REF!,8,0)))","v":0},0,1,0,0,0,0,3749.4159999999997,3749.4159999999997,1,0]
["1.12","Escavação mecânica de vala em material de primeira categoria, proveniente de corte de subleito.","m³",1240,658.12,581.88,0,0,3.8315200000000003,4751.0848000000005,0,0,3.8315200000000003,2229.4848575999999,2521.5999424000001,null,0,0,0,0,0,null,0,0.53074193548387094,0,0,0,0,null,0,0.53074193548387094,0,0,0,0,null,0,0.53074193548387094,0,0,0,0,null,0,0.53074193548387094,0,0,0,0,null,0,0.53074193548387094,0,0,0,0,371.23,0.2993790322580645,0.53074193548387094,0,1422.3751696000002,0,1422.38,{"$f":"IF(ISERROR(VLOOKUP(A22,'8ª MEDIÇÃO'!$A$5:$J$1048576,8,0)),0,(VLOOKUP(A22,'8ª MEDIÇÃO'!$A$5:$J$1048576,8,0)))","v":0},0,0.53074193548387094,0,0,0,0,{"$f":"IF(ISERROR(VLOOKUP(A22,'9ª MEDIÇÃO'!$A$5:$J$1048576,8,0)),0,(VLOOKUP(A22,'9ª MEDIÇÃO'!$A$5:$J$1048576,8,0)))","v":0},0,0.53074193548387094,0,0,0,0,{"$f":"IF(ISERROR(VLOOKUP(A22,#REF!,8,0)),0,(VLOOKUP(A22,#REF!,8,0)))","v":0},0,0.53074193548387094,0,0,0,0,{"$f":"IF(ISERROR(VLOOKUP($A22,#REF!,8,0)),0,(VLOOKUP($A22,#REF!,8,0)))","v":0},0,0.53074193548387094,0,0,0,0,{"$f":"IF(ISERROR(VLOOKUP($A22,#REF!,8,0)),0,(VLOOKUP($A22,#REF!,8,0)))","v":0},0,0.53074193548387094,0,0,0,0,{"$f":"IF(ISERROR(VLOOKUP($A22,#REF!,8,0)),0,(VLOOKUP($A22,#REF!,8,0)))","v":0},0,0.53074193548387094,0,0,0,0,{"$f":"IF(ISERROR(VLOOKUP($A22,#REF!,8,0)),0,(VLOOKUP($A22,#REF!,8,0)))","v":0},0,0.53074193548387094,0,0,0,0,{"$f":"IF(ISERROR(VLOOKUP($A22,#REF!,8,0)),0,(VLOOKUP($A22,#REF!,8,0)))","v":0},0,0.53074193548387094,0,0,0,0,{"$f":"IF(ISERROR(VLOOKUP($A22,#REF!,8,0)),0,(VLOOKUP($A22,#REF!,8,0)))","v":0},0,0.53074193548387094,0,0,0,0,{"$f":"IF(ISERROR(VLOOKUP($A22,#REF!,8,0)),0,(VLOOKUP($A22,#REF!,8,0)))","v":0},0,0.53074193548387094,0,0,0,0,{"$f":"IF(ISERROR(VLOOKUP($A22,#REF!,8,0)),0,(VLOOKUP($A22,#REF!,8,0)))","v":0},0,0.53074193548387094,0,0,0,0,{"$f":"IF(ISERROR(VLOOKUP($A22,#REF!,8,0)),0,(VLOOKUP($A22,#REF!,8,0)))","v":0},0,0.53074193548387094,0,0,0,0,{"$f":"IF(ISERROR(VLOOKUP($A22,#REF!,8,0)),0,(VLOOKUP($A22,#REF!,8,0)))","v":0},0,0.53074193548387094,0,0,0,0,{"$f":"IF(ISERROR(VLOOKUP($A22,#REF!,8,0)),0,(VLOOKUP($A22,#REF!,8,0)))","v":0},0,0.53074193548387094,0,0,0,0,{"$f":"IF(ISERROR(VLOOKUP($A22,#REF!,8,0)),0,(VLOOKUP($A22,#REF!,8,0)))","v":0},0,0.53074193548387094,0,0,0,0,{"$f":"IF(ISERROR(VLOOKUP($A22,#REF!,8,0)),0,(VLOOKUP($A22,#REF!,8,0)))","v":0},0,0.53074193548387094,0,0,0,0,{"$f":"IF(ISERROR(VLOOKUP($A22,#REF!,8,0)),0,(VLOOKUP($A22,#REF!,8,0)))","v":0},0,0.53074193548387094,0,0,0,0,{"$f":"IF(ISERROR(VLOOKUP($A22,#REF!,8,0)),0,(VLOOKUP($A22,#REF!,8,0)))","v":0},0,0.53074193548387094,0,0,0,0,{"$f":"IF(ISERROR(VLOOKUP($A22,#REF!,8,0)),0,(VLOOKUP($A22,#REF!,8,0)))","v":0},0,0.53074193548387094,0,0,0,0,{"$f":"IF(ISERROR(VLOOKUP($A22,#REF!,8,0)),0,(VLOOKUP($A22,#REF!,8,0)))","v":0},0,0.53074193548387094,0,0,0,0,{"$f":"IF(ISERROR(VLOOKUP($A22,#REF!,8,0)),0,(VLOOKUP($A22,#REF!,8,0)))","v":0},0,0.53074193548387094,0,0,0,0,{"$f":"#REF!","v":{"$error":"#REF!"}},{"$error":"#REF!"},0.53074193548387094,{"$error":"#REF!"},{"$error":"#REF!"},{"$error":"#REF!"},{"$f":"ROUND($M22*HC22,2)","v":{"$error":"#REF!"}},{"$f":"IF(ISERROR(VLOOKUP($A22,#REF!,8,0)),0,(VLOOKUP($A22,#REF!,8,0)))","v":0},0,0.53074193548387094,0,0,0,0,{"$f":"IF(ISERROR(VLOOKUP($A22,#REF!,8,0)),0,(VLOOKUP($A22,#REF!,8,0)))","v":0},0,0.53074193548387094,0,0,0,0,{"$f":"IF(ISERROR(VLOOKUP($A22,#REF!,8,0)),0,(VLOOKUP($A22,#REF!,8,0)))","v":0},0,0.53074193548387094,0,0,0,0,{"$f":"IF(ISERROR(VLOOKUP($A22,#REF!,8,0)),0,(VLOOKUP($A22,#REF!,8,0)))","v":0},0,0.53074193548387094,0,0,0,0,{"$f":"IF(ISERROR(VLOOKUP($A22,#REF!,8,0)),0,(VLOOKUP($A22,#REF!,8,0)))","v":0},0,0.53074193548387094,0,0,0,0,{"$f":"IF(ISERROR(VLOOKUP($A22,#REF!,8,0)),0,(VLOOKUP($A22,#REF!,8,0)))","v":0},0,0.53074193548387094,0,0,0,0,{"$f":"IF(ISERROR(VLOOKUP($A22,#REF!,8,0)),0,(VLOOKUP($A22,#REF!,8,0)))","v":0},0,0.53074193548387094,0,0,0,0,{"$f":"IF(ISERROR(VLOOKUP($A22,#REF!,8,0)),0,(VLOOKUP($A22,#REF!,8,0)))","v":0},0,0.53074193548387094,0,0,0,0,{"$f":"IF(ISERROR(VLOOKUP($A22,#REF!,8,0)),0,(VLOOKUP($A22,#REF!,8,0)))","v":0},0,0.53074193548387094,0,0,0,0,{"$f":"IF(ISERROR(VLOOKUP($A22,#REF!,8,0)),0,(VLOOKUP($A22,#REF!,8,0)))","v":0},0,0.53074193548387094,0,0,0,0,{"$f":"IF(ISERROR(VLOOKUP($A22,#REF!,8,0)),0,(VLOOKUP($A22,#REF!,8,0)))","v":0},0,0.53074193548387094,0,0,0,0,{"$f":"IF(ISERROR(VLOOKUP($A22,#REF!,8,0)),0,(VLOOKUP($A22,#REF!,8,0)))","v":0},0,0.53074193548387094,0,0,0,0,{"$f":"IF(ISERROR(VLOOKUP($A22,#REF!,8,0)),0,(VLOOKUP($A22,#REF!,8,0)))","v":0},0,0.53074193548387094,0,0,0,0,{"$f":"IF(ISERROR(VLOOKUP($A22,#REF!,8,0)),0,(VLOOKUP($A22,#REF!,8,0)))","v":0},0,0.53074193548387094,0,0,0,0,{"$f":"IF(ISERROR(VLOOKUP($A22,#REF!,8,0)),0,(VLOOKUP($A22,#REF!,8,0)))","v":0},0,0.53074193548387094,0,0,0,0,{"$f":"IF(ISERROR(VLOOKUP($A22,#REF!,8,0)),0,(VLOOKUP($A22,#REF!,8,0)))","v":0},0,0.53074193548387094,0,0,0,0,{"$f":"IF(ISERROR(VLOOKUP($A22,#REF!,8,0)),0,(VLOOKUP($A22,#REF!,8,0)))","v":0},0,0.53074193548387094,0,0,0,0,{"$f":"IF(ISERROR(VLOOKUP($A22,#REF!,8,0)),0,(VLOOKUP($A22,#REF!,8,0)))","v":0},0,0.53074193548387094,0,0,0,0,{"$f":"IF(ISERROR(VLOOKUP($A22,#REF!,8,0)),0,(VLOOKUP($A22,#REF!,8,0)))","v":0},0,0.53074193548387094,0,0,0,0,{"$f":"IF(ISERROR(VLOOKUP($A22,#REF!,8,0)),0,(VLOOKUP($A22,#REF!,8,0)))","v":0},0,0.53074193548387094,0,0,0,0,{"$f":"IF(ISERROR(VLOOKUP($A22,#REF!,8,0)),0,(VLOOKUP($A22,#REF!,8,0)))","v":0},0,0.53074193548387094,0,0,0,0,{"$f":"IF(ISERROR(VLOOKUP($A22,#REF!,8,0)),0,(VLOOKUP($A22,#REF!,8,0)))","v":0},0,0.53074193548387094,0,0,0,0,{"$f":"IF(ISERROR(VLOOKUP($A22,#REF!,8,0)),0,(VLOOKUP($A22,#REF!,8,0)))","v":0},0,0.53074193548387094,0,0,0,0,{"$f":"IF(ISERROR(VLOOKUP($A22,#REF!,8,0)),0,(VLOOKUP($A22,#REF!,8,0)))","v":0},0,0.53074193548387094,0,0,0,0,{"$f":"IF(ISERROR(VLOOKUP($A22,#REF!,8,0)),0,(VLOOKUP($A22,#REF!,8,0)))","v":0},0,0.53074193548387094,0,0,0,0,{"$f":"IF(ISERROR(VLOOKUP($A22,#REF!,8,0)),0,(VLOOKUP($A22,#REF!,8,0)))","v":0},0,0.53074193548387094,0,0,0,0,2521.5999424000001,2521.5999424000001,1,0]
["1.13","Remoção de material de primeira categoria em caminhão basculante, D.M.T. 12KM, inclusive carga e descarga mecânica.","m³",3692,781.2,2910.8,0,0,19.56812,72245.499039999995,0,0,19.56812,56958.883696000004,15286.615344000002,null,0,0,0,0,0,null,0,0.2115926327193933,0,0,0,0,null,0,0.2115926327193933,0,0,0,0,null,0,0.2115926327193933,0,0,0,0,null,0,0.2115926327193933,0,0,0,0,null,0,0.2115926327193933,0,0,0,0,{"$f":"IF(ISERROR(VLOOKUP(A23,'7ª MEDIÇÃO'!$A$5:$J$1048576,8,0)),0,(VLOOKUP(A23,'7ª MEDIÇÃO'!$A$5:$J$1048576,8,0)))","v":0},0,0.2115926327193933,0,0,0,0,{"$f":"IF(ISERROR(VLOOKUP(A23,'8ª MEDIÇÃO'!$A$5:$J$1048576,8,0)),0,(VLOOKUP(A23,'8ª MEDIÇÃO'!$A$5:$J$1048576,8,0)))","v":0},0,0.2115926327193933,0,0,0,0,{"$f":"IF(ISERROR(VLOOKUP(A23,'9ª MEDIÇÃO'!$A$5:$J$1048576,8,0)),0,(VLOOKUP(A23,'9ª MEDIÇÃO'!$A$5:$J$1048576,8,0)))","v":0},0,0.2115926327193933,0,0,0,0,{"$f":"IF(ISERROR(VLOOKUP(A23,#REF!,8,0)),0,(VLOOKUP(A23,#REF!,8,0)))","v":0},0,0.2115926327193933,0,0,0,0,{"$f":"IF(ISERROR(VLOOKUP($A23,#REF!,8,0)),0,(VLOOKUP($A23,#REF!,8,0)))","v":0},0,0.2115926327193933,0,0,0,0,{"$f":"IF(ISERROR(VLOOKUP($A23,#REF!,8,0)),0,(VLOOKUP($A23,#REF!,8,0)))","v":0},0,0.2115926327193933,0,0,0,0,{"$f":"IF(ISERROR(VLOOKUP($A23,#REF!,8,0)),0,(VLOOKUP($A23,#REF!,8,0)))","v":0},0,0.2115926327193933,0,0,0,0,{"$f":"IF(ISERROR(VLOOKUP($A23,#REF!,8,0)),0,(VLOOKUP($A23,#REF!,8,0)))","v":0},0,0.2115926327193933,0,0,0,0,{"$f":"IF(ISERROR(VLOOKUP($A23,#REF!,8,0)),0,(VLOOKUP($A23,#REF!,8,0)))","v":0},0,0.2115926327193933,0,0,0,0,{"$f":"IF(ISERROR(VLOOKUP($A23,#REF!,8,0)),0,(VLOOKUP($A23,#REF!,8,0)))","v":0},0,0.2115926327193933,0,0,0,0,{"$f":"IF(ISERROR(VLOOKUP($A23,#REF!,8,0)),0,(VLOOKUP($A23,#REF!,8,0)))","v":0},0,0.2115926327193933,0,0,0,0,{"$f":"IF(ISERROR(VLOOKUP($A23,#REF!,8,0)),0,(VLOOKUP($A23,#REF!,8,0)))","v":0},0,0.2115926327193933,0,0,0,0,{"$f":"IF(ISERROR(VLOOKUP($A23,#REF!,8,0)),0,(VLOOKUP($A23,#REF!,8,0)))","v":0},0,0.2115926327193933,0,0,0,0,{"$f":"IF(ISERROR(VLOOKUP($A23,#REF!,8,0)),0,(VLOOKUP($A23,#REF!,8,0)))","v":0},0,0.2115926327193933,0,0,0,0,{"$f":"IF(ISERROR(VLOOKUP($A23,#REF!,8,0)),0,(VLOOKUP($A23,#REF!,8,0)))","v":0},0,0.2115926327193933,0,0,0,0,{"$f":"IF(ISERROR(VLOOKUP($A23,#REF!,8,0)),0,(VLOOKUP($A23,#REF!,8,0)))","v":0},0,0.2115926327193933,0,0,0,0,{"$f":"IF(ISERROR(VLOOKUP($A23,#REF!,8,0)),0,(VLOOKUP($A23,#REF!,8,0)))","v":0},0,0.2115926327193933,0,0,0,0,{"$f":"IF(ISERROR(VLOOKUP($A23,#REF!,8,0)),0,(VLOOKUP($A23,#REF!,8,0)))","v":0},0,0.2115926327193933,0,0,0,0,{"$f":"IF(ISERROR(VLOOKUP($A23,#REF!,8,0)),0,(VLOOKUP($A23,#REF!,8,0)))","v":0},0,0.2115926327193933,0,0,0,0,{"$f":"IF(ISERROR(VLOOKUP($A23,#REF!,8,0)),0,(VLOOKUP($A23,#REF!,8,0)))","v":0},0,0.2115926327193933,0,0,0,0,{"$f":"IF(ISERROR(VLOOKUP($A23,#REF!,8,0)),0,(VLOOKUP($A23,#REF!,8,0)))","v":0},0,0.2115926327193933,0,0,0,0,{"$f":"IF(ISERROR(VLOOKUP($A23,#REF!,8,0)),0,(VLOOKUP($A23,#REF!,8,0)))","v":0},0,0.2115926327193933,0,0,0,0,{"$f":"IF(ISERROR(VLOOKUP($A23,#REF!,8,0)),0,(VLOOKUP($A23,#REF!,8,0)))","v":0},0,0.2115926327193933,0,0,0,{"$f":"ROUND($M23*HC23,2)","v":0},{"$f":"IF(ISERROR(VLOOKUP($A23,#REF!,8,0)),0,(VLOOKUP($A23,#REF!,8,0)))","v":0},0,0.2115926327193933,0,0,0,0,{"$f":"IF(ISERROR(VLOOKUP($A23,#REF!,8,0)),0,(VLOOKUP($A23,#REF!,8,0)))","v":0},0,0.2115926327193933,0,0,0,0,{"$f":"IF(ISERROR(VLOOKUP($A23,#REF!,8,0)),0,(VLOOKUP($A23,#REF!,8,0)))","v":0},0,0.2115926327193933,0,0,0,0,{"$f":"IF(ISERROR(VLOOKUP($A23,#REF!,8,0)),0,(VLOOKUP($A23,#REF!,8,0)))","v":0},0,0.2115926327193933,0,0,0,0,{"$f":"IF(ISERROR(VLOOKUP($A23,#REF!,8,0)),0,(VLOOKUP($A23,#REF!,8,0)))","v":0},0,0.2115926327193933,0,0,0,0,{"$f":"IF(ISERROR(VLOOKUP($A23,#REF!,8,0)),0,(VLOOKUP($A23,#REF!,8,0)))","v":0},0,0.2115926327193933,0,0,0,0,{"$f":"IF(ISERROR(VLOOKUP($A23,#REF!,8,0)),0,(VLOOKUP($A23,#REF!,8,0)))","v":0},0,0.2115926327193933,0,0,0,0,{"$f":"IF(ISERROR(VLOOKUP($A23,#REF!,8,0)),0,(VLOOKUP($A23,#REF!,8,0)))","v":0},0,0.2115926327193933,0,0,0,0,{"$f":"IF(ISERROR(VLOOKUP($A23,#REF!,8,0)),0,(VLOOKUP($A23,#REF!,8,0)))","v":0},0,0.2115926327193933,0,0,0,0,{"$f":"IF(ISERROR(VLOOKUP($A23,#REF!,8,0)),0,(VLOOKUP($A23,#REF!,8,0)))","v":0},0,0.2115926327193933,0,0,0,0,{"$f":"IF(ISERROR(VLOOKUP($A23,#REF!,8,0)),0,(VLOOKUP($A23,#REF!,8,0)))","v":0},0,0.2115926327193933,0,0,0,0,{"$f":"IF(ISERROR(VLOOKUP($A23,#REF!,8,0)),0,(VLOOKUP($A23,#REF!,8,0)))","v":0},0,0.2115926327193933,0,0,0,0,{"$f":"IF(ISERROR(VLOOKUP($A23,#REF!,8,0)),0,(VLOOKUP($A23,#REF!,8,0)))","v":0},0,0.2115926327193933,0,0,0,0,{"$f":"IF(ISERROR(VLOOKUP($A23,#REF!,8,0)),0,(VLOOKUP($A23,#REF!,8,0)))","v":0},0,0.2115926327193933,0,0,0,0,{"$f":"IF(ISERROR(VLOOKUP($A23,#REF!,8,0)),0,(VLOOKUP($A23,#REF!,8,0)))","v":0},0,0.2115926327193933,0,0,0,0,{"$f":"IF(ISERROR(VLOOKUP($A23,#REF!,8,0)),0,(VLOOKUP($A23,#REF!,8,0)))","v":0},0,0.2115926327193933,0,0,0,0,{"$f":"IF(ISERROR(VLOOKUP($A23,#REF!,8,0)),0,(VLOOKUP($A23,#REF!,8,0)))","v":0},0,0.2115926327193933,0,0,0,0,{"$f":"IF(ISERROR(VLOOKUP($A23,#REF!,8,0)),0,(VLOOKUP($A23,#REF!,8,0)))","v":0},0,0.2115926327193933,0,0,0,0,{"$f":"IF(ISERROR(VLOOKUP($A23,#REF!,8,0)),0,(VLOOKUP($A23,#REF!,8,0)))","v":0},0,0.2115926327193933,0,0,0,0,{"$f":"IF(ISERROR(VLOOKUP($A23,#REF!,8,0)),0,(VLOOKUP($A23,#REF!,8,0)))","v":0},0,0.2115926327193933,0,0,0,0,{"$f":"IF(ISERROR(VLOOKUP($A23,#REF!,8,0)),0,(VLOOKUP($A23,#REF!,8,0)))","v":0},0,0.2115926327193933,0,0,0,0,{"$f":"IF(ISERROR(VLOOKUP($A23,#REF!,8,0)),0,(VLOOKUP($A23,#REF!,8,0)))","v":0},0,0.2115926327193933,0,0,0,0,{"$f":"IF(ISERROR(VLOOKUP($A23,#REF!,8,0)),0,(VLOOKUP($A23,#REF!,8,0)))","v":0},0,0.2115926327193933,0,0,0,0,{"$f":"IF(ISERROR(VLOOKUP($A23,#REF!,8,0)),0,(VLOOKUP($A23,#REF!,8,0)))","v":0},0,0.2115926327193933,0,0,0,0,{"$f":"IF(ISERROR(VLOOKUP($A23,#REF!,8,0)),0,(VLOOKUP($A23,#REF!,8,0)))","v":0},0,0.2115926327193933,0,0,0,0,{"$f":"IF(ISERROR(VLOOKUP($A23,#REF!,8,0)),0,(VLOOKUP($A23,#REF!,8,0)))","v":0},0,0.2115926327193933,0,0,0,0,15286.615344000002,15286.615344000002,1,0]
["1.14","Locação convencional de obra, através de gabarito de tábuas corridas pontaletadas a cada 1,50m, sem reaproveitamento.","m²",1835.5,1835.5,0,3.6207579999999999,6645.9013089999999,3.2468399999999997,5959.5748199999998,0,0,6.8675979999999992,0,12605.476128999999,1835.5,1,6645.9013089999999,5959.5748199999998,0,12605.48,null,0,1,0,0,0,0,null,0,1,0,0,0,0,null,0,1,0,0,0,0,null,0,1,0,0,0,0,null,0,1,0,0,0,0,{"$f":"IF(ISERROR(VLOOKUP(A24,'7ª MEDIÇÃO'!$A$5:$J$1048576,8,0)),0,(VLOOKUP(A24,'7ª MEDIÇÃO'!$A$5:$J$1048576,8,0)))","v":0},0,1,0,0,0,0,{"$f":"IF(ISERROR(VLOOKUP(A24,'8ª MEDIÇÃO'!$A$5:$J$1048576,8,0)),0,(VLOOKUP(A24,'8ª MEDIÇÃO'!$A$5:$J$1048576,8,0)))","v":0},0,1,0,0,0,0,{"$f":"IF(ISERROR(VLOOKUP(A24,'9ª MEDIÇÃO'!$A$5:$J$1048576,8,0)),0,(VLOOKUP(A24,'9ª MEDIÇÃO'!$A$5:$J$1048576,8,0)))","v":0},0,1,0,0,0,0,{"$f":"IF(ISERROR(VLOOKUP(A24,#REF!,8,0)),0,(VLOOKUP(A24,#REF!,8,0)))","v":0},0,1,0,0,0,0,{"$f":"IF(ISERROR(VLOOKUP($A24,#REF!,8,0)),0,(VLOOKUP($A24,#REF!,8,0)))","v":0},0,1,0,0,0,0,{"$f":"IF(ISERROR(VLOOKUP($A24,#REF!,8,0)),0,(VLOOKUP($A24,#REF!,8,0)))","v":0},0,1,0,0,0,0,{"$f":"IF(ISERROR(VLOOKUP($A24,#REF!,8,0)),0,(VLOOKUP($A24,#REF!,8,0)))","v":0},0,1,0,0,0,0,{"$f":"IF(ISERROR(VLOOKUP($A24,#REF!,8,0)),0,(VLOOKUP($A24,#REF!,8,0)))","v":0},0,1,0,0,0,0,{"$f":"IF(ISERROR(VLOOKUP($A24,#REF!,8,0)),0,(VLOOKUP($A24,#REF!,8,0)))","v":0},0,1,0,0,0,0,{"$f":"IF(ISERROR(VLOOKUP($A24,#REF!,8,0)),0,(VLOOKUP($A24,#REF!,8,0)))","v":0},0,1,0,0,0,0,{"$f":"IF(ISERROR(VLOOKUP($A24,#REF!,8,0)),0,(VLOOKUP($A24,#REF!,8,0)))","v":0},0,1,0,0,0,0,{"$f":"IF(ISERROR(VLOOKUP($A24,#REF!,8,0)),0,(VLOOKUP($A24,#REF!,8,0)))","v":0},0,1,0,0,0,0,{"$f":"IF(ISERROR(VLOOKUP($A24,#REF!,8,0)),0,(VLOOKUP($A24,#REF!,8,0)))","v":0},0,1,0,0,0,0,{"$f":"IF(ISERROR(VLOOKUP($A24,#REF!,8,0)),0,(VLOOKUP($A24,#REF!,8,0)))","v":0},0,1,0,0,0,0,{"$f":"IF(ISERROR(VLOOKUP($A24,#REF!,8,0)),0,(VLOOKUP($A24,#REF!,8,0)))","v":0},0,1,0,0,0,0,{"$f":"IF(ISERROR(VLOOKUP($A24,#REF!,8,0)),0,(VLOOKUP($A24,#REF!,8,0)))","v":0},0,1,0,0,0,0,{"$f":"IF(ISERROR(VLOOKUP($A24,#REF!,8,0)),0,(VLOOKUP($A24,#REF!,8,0)))","v":0},0,1,0,0,0,0,{"$f":"IF(ISERROR(VLOOKUP($A24,#REF!,8,0)),0,(VLOOKUP($A24,#REF!,8,0)))","v":0},0,1,0,0,0,0,{"$f":"IF(ISERROR(VLOOKUP($A24,#REF!,8,0)),0,(VLOOKUP($A24,#REF!,8,0)))","v":0},0,1,0,0,0,0,{"$f":"IF(ISERROR(VLOOKUP($A24,#REF!,8,0)),0,(VLOOKUP($A24,#REF!,8,0)))","v":0},0,1,0,0,0,0,{"$f":"IF(ISERROR(VLOOKUP($A24,#REF!,8,0)),0,(VLOOKUP($A24,#REF!,8,0)))","v":0},0,1,0,0,0,0,{"$f":"IF(ISERROR(VLOOKUP($A24,#REF!,8,0)),0,(VLOOKUP($A24,#REF!,8,0)))","v":0},0,1,0,0,0,0,{"$f":"IF(ISERROR(VLOOKUP($A24,#REF!,8,0)),0,(VLOOKUP($A24,#REF!,8,0)))","v":0},0,1,0,0,0,0,{"$f":"IF(ISERROR(VLOOKUP($A24,#REF!,8,0)),0,(VLOOKUP($A24,#REF!,8,0)))","v":0},0,1,0,0,0,0,{"$f":"IF(ISERROR(VLOOKUP($A24,#REF!,8,0)),0,(VLOOKUP($A24,#REF!,8,0)))","v":0},0,1,0,0,0,0,{"$f":"IF(ISERROR(VLOOKUP($A24,#REF!,8,0)),0,(VLOOKUP($A24,#REF!,8,0)))","v":0},0,1,0,0,0,0,{"$f":"IF(ISERROR(VLOOKUP($A24,#REF!,8,0)),0,(VLOOKUP($A24,#REF!,8,0)))","v":0},0,1,0,0,0,0,{"$f":"IF(ISERROR(VLOOKUP($A24,#REF!,8,0)),0,(VLOOKUP($A24,#REF!,8,0)))","v":0},0,1,0,0,0,0,{"$f":"IF(ISERROR(VLOOKUP($A24,#REF!,8,0)),0,(VLOOKUP($A24,#REF!,8,0)))","v":0},0,1,0,0,0,0,{"$f":"IF(ISERROR(VLOOKUP($A24,#REF!,8,0)),0,(VLOOKUP($A24,#REF!,8,0)))","v":0},0,1,0,0,0,0,{"$f":"IF(ISERROR(VLOOKUP($A24,#REF!,8,0)),0,(VLOOKUP($A24,#REF!,8,0)))","v":0},0,1,0,0,0,0,{"$f":"IF(ISERROR(VLOOKUP($A24,#REF!,8,0)),0,(VLOOKUP($A24,#REF!,8,0)))","v":0},0,1,0,0,0,0,{"$f":"IF(ISERROR(VLOOKUP($A24,#REF!,8,0)),0,(VLOOKUP($A24,#REF!,8,0)))","v":0},0,1,0,0,0,0,{"$f":"IF(ISERROR(VLOOKUP($A24,#REF!,8,0)),0,(VLOOKUP($A24,#REF!,8,0)))","v":0},0,1,0,0,0,0,{"$f":"IF(ISERROR(VLOOKUP($A24,#REF!,8,0)),0,(VLOOKUP($A24,#REF!,8,0)))","v":0},0,1,0,0,0,0,{"$f":"IF(ISERROR(VLOOKUP($A24,#REF!,8,0)),0,(VLOOKUP($A24,#REF!,8,0)))","v":0},0,1,0,0,0,0,{"$f":"IF(ISERROR(VLOOKUP($A24,#REF!,8,0)),0,(VLOOKUP($A24,#REF!,8,0)))","v":0},0,1,0,0,0,0,{"$f":"IF(ISERROR(VLOOKUP($A24,#REF!,8,0)),0,(VLOOKUP($A24,#REF!,8,0)))","v":0},0,1,0,0,0,0,{"$f":"IF(ISERROR(VLOOKUP($A24,#REF!,8,0)),0,(VLOOKUP($A24,#REF!,8,0)))","v":0},0,1,0,0,0,0,{"$f":"IF(ISERROR(VLOOKUP($A24,#REF!,8,0)),0,(VLOOKUP($A24,#REF!,8,0)))","v":0},0,1,0,0,0,0,{"$f":"IF(ISERROR(VLOOKUP($A24,#REF!,8,0)),0,(VLOOKUP($A24,#REF!,8,0)))","v":0},0,1,0,0,0,0,{"$f":"IF(ISERROR(VLOOKUP($A24,#REF!,8,0)),0,(VLOOKUP($A24,#REF!,8,0)))","v":0},0,1,0,0,0,0,{"$f":"IF(ISERROR(VLOOKUP($A24,#REF!,8,0)),0,(VLOOKUP($A24,#REF!,8,0)))","v":0},0,1,0,0,0,0,{"$f":"IF(ISERROR(VLOOKUP($A24,#REF!,8,0)),0,(VLOOKUP($A24,#REF!,8,0)))","v":0},0,1,0,0,0,0,{"$f":"IF(ISERROR(VLOOKUP($A24,#REF!,8,0)),0,(VLOOKUP($A24,#REF!,8,0)))","v":0},0,1,0,0,0,0,{"$f":"IF(ISERROR(VLOOKUP($A24,#REF!,8,0)),0,(VLOOKUP($A24,#REF!,8,0)))","v":0},0,1,0,0,0,0,{"$f":"IF(ISERROR(VLOOKUP($A24,#REF!,8,0)),0,(VLOOKUP($A24,#REF!,8,0)))","v":0},0,1,0,0,0,0,{"$f":"IF(ISERROR(VLOOKUP($A24,#REF!,8,0)),0,(VLOOKUP($A24,#REF!,8,0)))","v":0},0,1,0,0,0,0,{"$f":"IF(ISERROR(VLOOKUP($A24,#REF!,8,0)),0,(VLOOKUP($A24,#REF!,8,0)))","v":0},0,1,0,0,0,0,12605.476128999999,12605.476128999999,1,0]
["1.15","Construção de canteiro de obra em alvenaria, instalações hidráulicas e elétricas, conforme projeto.","m²",365,344.49,20.509999999999991,175.718806,64137.36419,191.91188000000002,70047.836200000005,0,0,367.63068600000003,7540.1053698599972,126645.09502014001,null,0,0,0,0,0,344.49,0.94380821917808222,0.94380821917808222,60533.371478940004,66111.723541200015,0,126645.1,null,0,0.94380821917808222,0,0,0,0,null,0,0.94380821917808222,0,0,0,0,null,0,0.94380821917808222,0,0,0,0,null,0,0.94380821917808222,0,0,0,0,{"$f":"IF(ISERROR(VLOOKUP(A25,'7ª MEDIÇÃO'!$A$5:$J$1048576,8,0)),0,(VLOOKUP(A25,'7ª MEDIÇÃO'!$A$5:$J$1048576,8,0)))","v":0},0,0.94380821917808222,0,0,0,0,{"$f":"IF(ISERROR(VLOOKUP(A25,'8ª MEDIÇÃO'!$A$5:$J$1048576,8,0)),0,(VLOOKUP(A25,'8ª MEDIÇÃO'!$A$5:$J$1048576,8,0)))","v":0},0,0.94380821917808222,0,0,0,0,{"$f":"IF(ISERROR(VLOOKUP(A25,'9ª MEDIÇÃO'!$A$5:$J$1048576,8,0)),0,(VLOOKUP(A25,'9ª MEDIÇÃO'!$A$5:$J$1048576,8,0)))","v":0},0,0.94380821917808222,0,0,0,0,{"$f":"IF(ISERROR(VLOOKUP(A25,#REF!,8,0)),0,(VLOOKUP(A25,#REF!,8,0)))","v":0},0,0.94380821917808222,0,0,0,0,{"$f":"IF(ISERROR(VLOOKUP($A25,#REF!,8,0)),0,(VLOOKUP($A25,#REF!,8,0)))","v":0},0,0.94380821917808222,0,0,0,0,{"$f":"IF(ISERROR(VLOOKUP($A25,#REF!,8,0)),0,(VLOOKUP($A25,#REF!,8,0)))","v":0},0,0.94380821917808222,0,0,0,0,{"$f":"IF(ISERROR(VLOOKUP($A25,#REF!,8,0)),0,(VLOOKUP($A25,#REF!,8,0)))","v":0},0,0.94380821917808222,0,0,0,0,{"$f":"IF(ISERROR(VLOOKUP($A25,#REF!,8,0)),0,(VLOOKUP($A25,#REF!,8,0)))","v":0},0,0.94380821917808222,0,0,0,0,{"$f":"IF(ISERROR(VLOOKUP($A25,#REF!,8,0)),0,(VLOOKUP($A25,#REF!,8,0)))","v":0},0,0.94380821917808222,0,0,0,0,{"$f":"IF(ISERROR(VLOOKUP($A25,#REF!,8,0)),0,(VLOOKUP($A25,#REF!,8,0)))","v":0},0,0.94380821917808222,0,0,0,0,{"$f":"IF(ISERROR(VLOOKUP($A25,#REF!,8,0)),0,(VLOOKUP($A25,#REF!,8,0)))","v":0},0,0.94380821917808222,0,0,0,0,{"$f":"IF(ISERROR(VLOOKUP($A25,#REF!,8,0)),0,(VLOOKUP($A25,#REF!,8,0)))","v":0},0,0.94380821917808222,0,0,0,0,{"$f":"IF(ISERROR(VLOOKUP($A25,#REF!,8,0)),0,(VLOOKUP($A25,#REF!,8,0)))","v":0},0,0.94380821917808222,0,0,0,0,{"$f":"IF(ISERROR(VLOOKUP($A25,#REF!,8,0)),0,(VLOOKUP($A25,#REF!,8,0)))","v":0},0,0.94380821917808222,0,0,0,0,{"$f":"IF(ISERROR(VLOOKUP($A25,#REF!,8,0)),0,(VLOOKUP($A25,#REF!,8,0)))","v":0},0,0.94380821917808222,0,0,0,0,{"$f":"IF(ISERROR(VLOOKUP($A25,#REF!,8,0)),0,(VLOOKUP($A25,#REF!,8,0)))","v":0},0,0.94380821917808222,0,0,0,0,{"$f":"IF(ISERROR(VLOOKUP($A25,#REF!,8,0)),0,(VLOOKUP($A25,#REF!,8,0)))","v":0},0,0.94380821917808222,0,0,0,0,{"$f":"IF(ISERROR(VLOOKUP($A25,#REF!,8,0)),0,(VLOOKUP($A25,#REF!,8,0)))","v":0},0,0.94380821917808222,0,0,0,0,{"$f":"IF(ISERROR(VLOOKUP($A25,#REF!,8,0)),0,(VLOOKUP($A25,#REF!,8,0)))","v":0},0,0.94380821917808222,0,0,0,0,{"$f":"IF(ISERROR(VLOOKUP($A25,#REF!,8,0)),0,(VLOOKUP($A25,#REF!,8,0)))","v":0},0,0.94380821917808222,0,0,0,0,{"$f":"IF(ISERROR(VLOOKUP($A25,#REF!,8,0)),0,(VLOOKUP($A25,#REF!,8,0)))","v":0},0,0.94380821917808222,0,0,0,0,{"$f":"IF(ISERROR(VLOOKUP($A25,#REF!,8,0)),0,(VLOOKUP($A25,#REF!,8,0)))","v":0},0,0.94380821917808222,0,0,0,0,{"$f":"IF(ISERROR(VLOOKUP($A25,#REF!,8,0)),0,(VLOOKUP($A25,#REF!,8,0)))","v":0},0,0.94380821917808222,0,0,0,0,{"$f":"IF(ISERROR(VLOOKUP($A25,#REF!,8,0)),0,(VLOOKUP($A25,#REF!,8,0)))","v":0},0,0.94380821917808222,0,0,0,0,{"$f":"IF(ISERROR(VLOOKUP($A25,#REF!,8,0)),0,(VLOOKUP($A25,#REF!,8,0)))","v":0},0,0.94380821917808222,0,0,0,0,{"$f":"IF(ISERROR(VLOOKUP($A25,#REF!,8,0)),0,(VLOOKUP($A25,#REF!,8,0)))","v":0},0,0.94380821917808222,0,0,0,0,{"$f":"IF(ISERROR(VLOOKUP($A25,#REF!,8,0)),0,(VLOOKUP($A25,#REF!,8,0)))","v":0},0,0.94380821917808222,0,0,0,0,{"$f":"IF(ISERROR(VLOOKUP($A25,#REF!,8,0)),0,(VLOOKUP($A25,#REF!,8,0)))","v":0},0,0.94380821917808222,0,0,0,0,{"$f":"IF(ISERROR(VLOOKUP($A25,#REF!,8,0)),0,(VLOOKUP($A25,#REF!,8,0)))","v":0},0,0.94380821917808222,0,0,0,0,{"$f":"IF(ISERROR(VLOOKUP($A25,#REF!,8,0)),0,(VLOOKUP($A25,#REF!,8,0)))","v":0},0,0.94380821917808222,0,0,0,0,{"$f":"IF(ISERROR(VLOOKUP($A25,#REF!,8,0)),0,(VLOOKUP($A25,#REF!,8,0)))","v":0},0,0.94380821917808222,0,0,0,0,{"$f":"IF(ISERROR(VLOOKUP($A25,#REF!,8,0)),0,(VLOOKUP($A25,#REF!,8,0)))","v":0},0,0.94380821917808222,0,0,0,0,{"$f":"IF(ISERROR(VLOOKUP($A25,#REF!,8,0)),0,(VLOOKUP($A25,#REF!,8,0)))","v":0},0,0.94380821917808222,0,0,0,0,{"$f":"IF(ISERROR(VLOOKUP($A25,#REF!,8,0)),0,(VLOOKUP($A25,#REF!,8,0)))","v":0},0,0.94380821917808222,0,0,0,0,{"$f":"IF(ISERROR(VLOOKUP($A25,#REF!,8,0)),0,(VLOOKUP($A25,#REF!,8,0)))","v":0},0,0.94380821917808222,0,0,0,0,{"$f":"IF(ISERROR(VLOOKUP($A25,#REF!,8,0)),0,(VLOOKUP($A25,#REF!,8,0)))","v":0},0,0.94380821917808222,0,0,0,0,{"$f":"IF(ISERROR(VLOOKUP($A25,#REF!,8,0)),0,(VLOOKUP($A25,#REF!,8,0)))","v":0},0,0.94380821917808222,0,0,0,0,{"$f":"IF(ISERROR(VLOOKUP($A25,#REF!,8,0)),0,(VLOOKUP($A25,#REF!,8,0)))","v":0},0,0.94380821917808222,0,0,0,0,{"$f":"IF(ISERROR(VLOOKUP($A25,#REF!,8,0)),0,(VLOOKUP($A25,#REF!,8,0)))","v":0},0,0.94380821917808222,0,0,0,0,{"$f":"IF(ISERROR(VLOOKUP($A25,#REF!,8,0)),0,(VLOOKUP($A25,#REF!,8,0)))","v":0},0,0.94380821917808222,0,0,0,0,{"$f":"IF(ISERROR(VLOOKUP($A25,#REF!,8,0)),0,(VLOOKUP($A25,#REF!,8,0)))","v":0},0,0.94380821917808222,0,0,0,0,{"$f":"IF(ISERROR(VLOOKUP($A25,#REF!,8,0)),0,(VLOOKUP($A25,#REF!,8,0)))","v":0},0,0.94380821917808222,0,0,0,0,{"$f":"IF(ISERROR(VLOOKUP($A25,#REF!,8,0)),0,(VLOOKUP($A25,#REF!,8,0)))","v":0},0,0.94380821917808222,0,0,0,0,{"$f":"IF(ISERROR(VLOOKUP($A25,#REF!,8,0)),0,(VLOOKUP($A25,#REF!,8,0)))","v":0},0,0.94380821917808222,0,0,0,0,{"$f":"IF(ISERROR(VLOOKUP($A25,#REF!,8,0)),0,(VLOOKUP($A25,#REF!,8,0)))","v":0},0,0.94380821917808222,0,0,0,0,{"$f":"IF(ISERROR(VLOOKUP($A25,#REF!,8,0)),0,(VLOOKUP($A25,#REF!,8,0)))","v":0},0,0.94380821917808222,0,0,0,0,{"$f":"IF(ISERROR(VLOOKUP($A25,#REF!,8,0)),0,(VLOOKUP($A25,#REF!,8,0)))","v":0},0,0.94380821917808222,0,0,0,0,{"$f":"IF(ISERROR(VLOOKUP($A25,#REF!,8,0)),0,(VLOOKUP($A25,#REF!,8,0)))","v":0},0,0.94380821917808222,0,0,0,0,{"$f":"IF(ISERROR(VLOOKUP($A25,#REF!,8,0)),0,(VLOOKUP($A25,#REF!,8,0)))","v":0},0,0.94380821917808222,0,0,0,0,126645.09502014001,126645.09502014001,1,0]
["1.16","Fornecimento e execução de barracão aberto. ","m²",100,100,0,39.250432000000004,3925.0432000000005,35.429119999999998,3542.9119999999998,0,0,74.679552000000001,0,7467.9552000000003,null,0,0,0,0,0,54.48,0.54479999999999995,1,2138.3635353600002,1930.1784575999998,0,4068.54,45.52,0.45520000000000005,1,1786.6796646400003,1612.7335424,0,3399.41,null,0,1,0,0,0,0,null,0,1,0,0,0,0,null,0,1,0,0,0,0,{"$f":"IF(ISERROR(VLOOKUP(A26,'7ª MEDIÇÃO'!$A$5:$J$1048576,8,0)),0,(VLOOKUP(A26,'7ª MEDIÇÃO'!$A$5:$J$1048576,8,0)))","v":0},0,1,0,0,0,0,{"$f":"IF(ISERROR(VLOOKUP(A26,'8ª MEDIÇÃO'!$A$5:$J$1048576,8,0)),0,(VLOOKUP(A26,'8ª MEDIÇÃO'!$A$5:$J$1048576,8,0)))","v":0},0,1,0,0,0,0,{"$f":"IF(ISERROR(VLOOKUP(A26,'9ª MEDIÇÃO'!$A$5:$J$1048576,8,0)),0,(VLOOKUP(A26,'9ª MEDIÇÃO'!$A$5:$J$1048576,8,0)))","v":0},0,1,0,0,0,0,{"$f":"IF(ISERROR(VLOOKUP(A26,#REF!,8,0)),0,(VLOOKUP(A26,#REF!,8,0)))","v":0},0,1,0,0,0,0,{"$f":"IF(ISERROR(VLOOKUP($A26,#REF!,8,0)),0,(VLOOKUP($A26,#REF!,8,0)))","v":0},0,1,0,0,0,0,{"$f":"IF(ISERROR(VLOOKUP($A26,#REF!,8,0)),0,(VLOOKUP($A26,#REF!,8,0)))","v":0},0,1,0,0,0,0,{"$f":"IF(ISERROR(VLOOKUP($A26,#REF!,8,0)),0,(VLOOKUP($A26,#REF!,8,0)))","v":0},0,1,0,0,0,0,{"$f":"IF(ISERROR(VLOOKUP($A26,#REF!,8,0)),0,(VLOOKUP($A26,#REF!,8,0)))","v":0},0,1,0,0,0,0,{"$f":"IF(ISERROR(VLOOKUP($A26,#REF!,8,0)),0,(VLOOKUP($A26,#REF!,8,0)))","v":0},0,1,0,0,0,0,{"$f":"IF(ISERROR(VLOOKUP($A26,#REF!,8,0)),0,(VLOOKUP($A26,#REF!,8,0)))","v":0},0,1,0,0,0,0,{"$f":"IF(ISERROR(VLOOKUP($A26,#REF!,8,0)),0,(VLOOKUP($A26,#REF!,8,0)))","v":0},0,1,0,0,0,0,{"$f":"IF(ISERROR(VLOOKUP($A26,#REF!,8,0)),0,(VLOOKUP($A26,#REF!,8,0)))","v":0},0,1,0,0,0,0,{"$f":"IF(ISERROR(VLOOKUP($A26,#REF!,8,0)),0,(VLOOKUP($A26,#REF!,8,0)))","v":0},0,1,0,0,0,0,{"$f":"IF(ISERROR(VLOOKUP($A26,#REF!,8,0)),0,(VLOOKUP($A26,#REF!,8,0)))","v":0},0,1,0,0,0,0,{"$f":"IF(ISERROR(VLOOKUP($A26,#REF!,8,0)),0,(VLOOKUP($A26,#REF!,8,0)))","v":0},0,1,0,0,0,0,{"$f":"IF(ISERROR(VLOOKUP($A26,#REF!,8,0)),0,(VLOOKUP($A26,#REF!,8,0)))","v":0},0,1,0,0,0,0,{"$f":"IF(ISERROR(VLOOKUP($A26,#REF!,8,0)),0,(VLOOKUP($A26,#REF!,8,0)))","v":0},0,1,0,0,0,0,{"$f":"IF(ISERROR(VLOOKUP($A26,#REF!,8,0)),0,(VLOOKUP($A26,#REF!,8,0)))","v":0},0,1,0,0,0,0,{"$f":"IF(ISERROR(VLOOKUP($A26,#REF!,8,0)),0,(VLOOKUP($A26,#REF!,8,0)))","v":0},0,1,0,0,0,0,{"$f":"IF(ISERROR(VLOOKUP($A26,#REF!,8,0)),0,(VLOOKUP($A26,#REF!,8,0)))","v":0},0,1,0,0,0,0,{"$f":"IF(ISERROR(VLOOKUP($A26,#REF!,8,0)),0,(VLOOKUP($A26,#REF!,8,0)))","v":0},0,1,0,0,0,0,{"$f":"IF(ISERROR(VLOOKUP($A26,#REF!,8,0)),0,(VLOOKUP($A26,#REF!,8,0)))","v":0},0,1,0,0,0,0,{"$f":"IF(ISERROR(VLOOKUP($A26,#REF!,8,0)),0,(VLOOKUP($A26,#REF!,8,0)))","v":0},0,1,0,0,0,0,{"$f":"IF(ISERROR(VLOOKUP($A26,#REF!,8,0)),0,(VLOOKUP($A26,#REF!,8,0)))","v":0},0,1,0,0,0,0,{"$f":"IF(ISERROR(VLOOKUP($A26,#REF!,8,0)),0,(VLOOKUP($A26,#REF!,8,0)))","v":0},0,1,0,0,0,0,{"$f":"IF(ISERROR(VLOOKUP($A26,#REF!,8,0)),0,(VLOOKUP($A26,#REF!,8,0)))","v":0},0,1,0,0,0,0,{"$f":"IF(ISERROR(VLOOKUP($A26,#REF!,8,0)),0,(VLOOKUP($A26,#REF!,8,0)))","v":0},0,1,0,0,0,0,{"$f":"IF(ISERROR(VLOOKUP($A26,#REF!,8,0)),0,(VLOOKUP($A26,#REF!,8,0)))","v":0},0,1,0,0,0,0,{"$f":"IF(ISERROR(VLOOKUP($A26,#REF!,8,0)),0,(VLOOKUP($A26,#REF!,8,0)))","v":0},0,1,0,0,0,0,{"$f":"IF(ISERROR(VLOOKUP($A26,#REF!,8,0)),0,(VLOOKUP($A26,#REF!,8,0)))","v":0},0,1,0,0,0,0,{"$f":"IF(ISERROR(VLOOKUP($A26,#REF!,8,0)),0,(VLOOKUP($A26,#REF!,8,0)))","v":0},0,1,0,0,0,0,{"$f":"IF(ISERROR(VLOOKUP($A26,#REF!,8,0)),0,(VLOOKUP($A26,#REF!,8,0)))","v":0},0,1,0,0,0,0,{"$f":"IF(ISERROR(VLOOKUP($A26,#REF!,8,0)),0,(VLOOKUP($A26,#REF!,8,0)))","v":0},0,1,0,0,0,0,{"$f":"IF(ISERROR(VLOOKUP($A26,#REF!,8,0)),0,(VLOOKUP($A26,#REF!,8,0)))","v":0},0,1,0,0,0,0,{"$f":"IF(ISERROR(VLOOKUP($A26,#REF!,8,0)),0,(VLOOKUP($A26,#REF!,8,0)))","v":0},0,1,0,0,0,0,{"$f":"IF(ISERROR(VLOOKUP($A26,#REF!,8,0)),0,(VLOOKUP($A26,#REF!,8,0)))","v":0},0,1,0,0,0,0,{"$f":"IF(ISERROR(VLOOKUP($A26,#REF!,8,0)),0,(VLOOKUP($A26,#REF!,8,0)))","v":0},0,1,0,0,0,0,{"$f":"IF(ISERROR(VLOOKUP($A26,#REF!,8,0)),0,(VLOOKUP($A26,#REF!,8,0)))","v":0},0,1,0,0,0,0,{"$f":"IF(ISERROR(VLOOKUP($A26,#REF!,8,0)),0,(VLOOKUP($A26,#REF!,8,0)))","v":0},0,1,0,0,0,0,{"$f":"IF(ISERROR(VLOOKUP($A26,#REF!,8,0)),0,(VLOOKUP($A26,#REF!,8,0)))","v":0},0,1,0,0,0,0,{"$f":"IF(ISERROR(VLOOKUP($A26,#REF!,8,0)),0,(VLOOKUP($A26,#REF!,8,0)))","v":0},0,1,0,0,0,0,{"$f":"IF(ISERROR(VLOOKUP($A26,#REF!,8,0)),0,(VLOOKUP($A26,#REF!,8,0)))","v":0},0,1,0,0,0,0,{"$f":"IF(ISERROR(VLOOKUP($A26,#REF!,8,0)),0,(VLOOKUP($A26,#REF!,8,0)))","v":0},0,1,0,0,0,0,{"$f":"IF(ISERROR(VLOOKUP($A26,#REF!,8,0)),0,(VLOOKUP($A26,#REF!,8,0)))","v":0},0,1,0,0,0,0,{"$f":"IF(ISERROR(VLOOKUP($A26,#REF!,8,0)),0,(VLOOKUP($A26,#REF!,8,0)))","v":0},0,1,0,0,0,0,{"$f":"IF(ISERROR(VLOOKUP($A26,#REF!,8,0)),0,(VLOOKUP($A26,#REF!,8,0)))","v":0},0,1,0,0,0,0,{"$f":"IF(ISERROR(VLOOKUP($A26,#REF!,8,0)),0,(VLOOKUP($A26,#REF!,8,0)))","v":0},0,1,0,0,0,0,{"$f":"IF(ISERROR(VLOOKUP($A26,#REF!,8,0)),0,(VLOOKUP($A26,#REF!,8,0)))","v":0},0,1,0,0,0,0,{"$f":"IF(ISERROR(VLOOKUP($A26,#REF!,8,0)),0,(VLOOKUP($A26,#REF!,8,0)))","v":0},0,1,0,0,0,0,7467.9552000000003,7467.9552000000003,1,0]
["1.17","Controle Tecnológico do Concreto com ensaio de compressão de corpos de prova cilíndricos (NBR 5739)/2007, com transporte para o laboratório realizado pelo cliente.","un",1439,1439,0,0,0,13.34812,19207.944680000001,0,0,13.34812,0,19207.944680000001,null,0,0,0,0,0,8,5.5594162612925642E-3,1,0,106.78496,0,106.78,null,0,1,0,0,0,0,72,5.0034746351633082E-2,1,0,961.06463999999994,0,961.06,null,0,1,0,0,0,0,71,4.9339819318971509E-2,1,0,947.71651999999995,0,947.72,110,7.6441973592772758E-2,1,0,1468.2932000000001,0,1468.29,38,2.640722724113968E-2,1,0,507.22856000000002,0,507.23,26,1.8068102849200834E-2,1,0,347.05111999999997,0,347.05,{"$f":"IF(ISERROR(VLOOKUP(A27,#REF!,8,0)),0,(VLOOKUP(A27,#REF!,8,0)))","v":0},0,1,0,0,0,0,{"$f":"IF(ISERROR(VLOOKUP($A27,#REF!,8,0)),0,(VLOOKUP($A27,#REF!,8,0)))","v":0},0,1,0,0,0,0,{"$f":"IF(ISERROR(VLOOKUP($A27,#REF!,8,0)),0,(VLOOKUP($A27,#REF!,8,0)))","v":0},0,1,0,0,0,0,{"$f":"IF(ISERROR(VLOOKUP($A27,#REF!,8,0)),0,(VLOOKUP($A27,#REF!,8,0)))","v":0},0,1,0,0,0,0,{"$f":"IF(ISERROR(VLOOKUP($A27,#REF!,8,0)),0,(VLOOKUP($A27,#REF!,8,0)))","v":0},0,1,0,0,0,0,{"$f":"IF(ISERROR(VLOOKUP($A27,#REF!,8,0)),0,(VLOOKUP($A27,#REF!,8,0)))","v":0},0,1,0,0,0,0,{"$f":"IF(ISERROR(VLOOKUP($A27,#REF!,8,0)),0,(VLOOKUP($A27,#REF!,8,0)))","v":0},0,1,0,0,0,0,{"$f":"IF(ISERROR(VLOOKUP($A27,#REF!,8,0)),0,(VLOOKUP($A27,#REF!,8,0)))","v":0},0,1,0,0,0,0,{"$f":"IF(ISERROR(VLOOKUP($A27,#REF!,8,0)),0,(VLOOKUP($A27,#REF!,8,0)))","v":0},0,1,0,0,0,0,{"$f":"IF(ISERROR(VLOOKUP($A27,#REF!,8,0)),0,(VLOOKUP($A27,#REF!,8,0)))","v":0},0,1,{"$f":"EK27*$G27","v":0},{"$f":"$I27*EK27","v":0},{"$f":"$K27*EK27","v":0},{"$f":"ROUND($M27*EK27,2)","v":0},{"$f":"IF(ISERROR(VLOOKUP($A27,#REF!,8,0)),0,(VLOOKUP($A27,#REF!,8,0)))","v":0},0,1,0,0,0,0,{"$f":"IF(ISERROR(VLOOKUP($A27,#REF!,8,0)),0,(VLOOKUP($A27,#REF!,8,0)))","v":0},0,1,0,0,0,0,{"$f":"IF(ISERROR(VLOOKUP($A27,#REF!,8,0)),0,(VLOOKUP($A27,#REF!,8,0)))","v":0},0,1,0,0,0,0,{"$f":"IF(ISERROR(VLOOKUP($A27,#REF!,8,0)),0,(VLOOKUP($A27,#REF!,8,0)))","v":0},0,1,0,0,0,0,{"$f":"IF(ISERROR(VLOOKUP($A27,#REF!,8,0)),0,(VLOOKUP($A27,#REF!,8,0)))","v":0},0,1,0,0,0,0,{"$f":"IF(ISERROR(VLOOKUP($A27,#REF!,8,0)),0,(VLOOKUP($A27,#REF!,8,0)))","v":0},0,1,0,0,0,0,{"$f":"IF(ISERROR(VLOOKUP($A27,#REF!,8,0)),0,(VLOOKUP($A27,#REF!,8,0)))","v":0},0,1,0,0,0,0,{"$f":"IF(ISERROR(VLOOKUP($A27,#REF!,8,0)),0,(VLOOKUP($A27,#REF!,8,0)))","v":0},0,1,0,0,0,0,{"$f":"IF(ISERROR(VLOOKUP($A27,#REF!,8,0)),0,(VLOOKUP($A27,#REF!,8,0)))","v":0},0,1,0,0,0,0,{"$f":"IF(ISERROR(VLOOKUP($A27,#REF!,8,0)),0,(VLOOKUP($A27,#REF!,8,0)))","v":0},0,1,0,0,0,0,{"$f":"IF(ISERROR(VLOOKUP($A27,#REF!,8,0)),0,(VLOOKUP($A27,#REF!,8,0)))","v":0},0,1,0,0,0,0,{"$f":"IF(ISERROR(VLOOKUP($A27,#REF!,8,0)),0,(VLOOKUP($A27,#REF!,8,0)))","v":0},0,1,0,0,0,0,{"$f":"IF(ISERROR(VLOOKUP($A27,#REF!,8,0)),0,(VLOOKUP($A27,#REF!,8,0)))","v":0},0,1,0,0,0,0,{"$f":"IF(ISERROR(VLOOKUP($A27,#REF!,8,0)),0,(VLOOKUP($A27,#REF!,8,0)))","v":0},0,1,0,0,0,0,{"$f":"IF(ISERROR(VLOOKUP($A27,#REF!,8,0)),0,(VLOOKUP($A27,#REF!,8,0)))","v":0},0,1,0,0,0,0,{"$f":"IF(ISERROR(VLOOKUP($A27,#REF!,8,0)),0,(VLOOKUP($A27,#REF!,8,0)))","v":0},0,1,0,0,0,0,{"$f":"IF(ISERROR(VLOOKUP($A27,#REF!,8,0)),0,(VLOOKUP($A27,#REF!,8,0)))","v":0},0,1,0,0,0,0,{"$f":"IF(ISERROR(VLOOKUP($A27,#REF!,8,0)),0,(VLOOKUP($A27,#REF!,8,0)))","v":0},0,1,0,0,0,0,{"$f":"IF(ISERROR(VLOOKUP($A27,#REF!,8,0)),0,(VLOOKUP($A27,#REF!,8,0)))","v":0},0,1,0,0,0,0,{"$f":"IF(ISERROR(VLOOKUP($A27,#REF!,8,0)),0,(VLOOKUP($A27,#REF!,8,0)))","v":0},0,1,0,0,0,0,{"$f":"IF(ISERROR(VLOOKUP($A27,#REF!,8,0)),0,(VLOOKUP($A27,#REF!,8,0)))","v":0},0,1,0,0,0,0,{"$f":"IF(ISERROR(VLOOKUP($A27,#REF!,8,0)),0,(VLOOKUP($A27,#REF!,8,0)))","v":0},0,1,0,0,0,0,{"$f":"IF(ISERROR(VLOOKUP($A27,#REF!,8,0)),0,(VLOOKUP($A27,#REF!,8,0)))","v":0},0,1,0,0,0,0,{"$f":"IF(ISERROR(VLOOKUP($A27,#REF!,8,0)),0,(VLOOKUP($A27,#REF!,8,0)))","v":0},0,1,0,0,0,0,{"$f":"IF(ISERROR(VLOOKUP($A27,#REF!,8,0)),0,(VLOOKUP($A27,#REF!,8,0)))","v":0},0,1,0,0,0,0,{"$f":"IF(ISERROR(VLOOKUP($A27,#REF!,8,0)),0,(VLOOKUP($A27,#REF!,8,0)))","v":0},0,1,0,0,0,0,{"$f":"IF(ISERROR(VLOOKUP($A27,#REF!,8,0)),0,(VLOOKUP($A27,#REF!,8,0)))","v":0},0,1,0,0,0,0,{"$f":"IF(ISERROR(VLOOKUP($A27,#REF!,8,0)),0,(VLOOKUP($A27,#REF!,8,0)))","v":0},0,1,0,0,0,0,{"$f":"IF(ISERROR(VLOOKUP($A27,#REF!,8,0)),0,(VLOOKUP($A27,#REF!,8,0)))","v":0},0,1,0,0,0,0,{"$f":"IF(ISERROR(VLOOKUP($A27,#REF!,8,0)),0,(VLOOKUP($A27,#REF!,8,0)))","v":0},0,1,0,0,0,0,{"$f":"IF(ISERROR(VLOOKUP($A27,#REF!,8,0)),0,(VLOOKUP($A27,#REF!,8,0)))","v":0},0,1,0,0,0,0,{"$f":"IF(ISERROR(VLOOKUP($A27,#REF!,8,0)),0,(VLOOKUP($A27,#REF!,8,0)))","v":0},0,1,0,0,0,0,{"$f":"IF(ISERROR(VLOOKUP($A27,#REF!,8,0)),0,(VLOOKUP($A27,#REF!,8,0)))","v":0},0,1,0,0,0,0,{"$f":"IF(ISERROR(VLOOKUP($A27,#REF!,8,0)),0,(VLOOKUP($A27,#REF!,8,0)))","v":0},0,1,0,0,0,0,{"$f":"IF(ISERROR(VLOOKUP($A27,#REF!,8,0)),0,(VLOOKUP($A27,#REF!,8,0)))","v":0},0,1,0,0,0,0,{"$f":"IF(ISERROR(VLOOKUP($A27,#REF!,8,0)),0,(VLOOKUP($A27,#REF!,8,0)))","v":0},0,1,0,0,0,0,19207.944680000001,19207.944680000001,1,0]
["1.18","Ligações provisórias de água da rede ao hidrômetro, inclusive cavalete e registro 1/2\".","un",1,1,0,68.912341999999995,68.912341999999995,115.36855999999999,115.36855999999999,0,0,184.28090199999997,0,184.28090199999997,1,1,68.912341999999995,115.36855999999999,0,184.28,null,0,1,0,0,0,0,null,0,1,0,0,0,0,null,0,1,0,0,0,0,null,0,1,0,0,0,0,null,0,1,0,0,0,0,{"$f":"IF(ISERROR(VLOOKUP(A28,'7ª MEDIÇÃO'!$A$5:$J$1048576,8,0)),0,(VLOOKUP(A28,'7ª MEDIÇÃO'!$A$5:$J$1048576,8,0)))","v":0},0,1,0,0,0,0,{"$f":"IF(ISERROR(VLOOKUP(A28,'8ª MEDIÇÃO'!$A$5:$J$1048576,8,0)),0,(VLOOKUP(A28,'8ª MEDIÇÃO'!$A$5:$J$1048576,8,0)))","v":0},0,1,0,0,0,0,{"$f":"IF(ISERROR(VLOOKUP(A28,'9ª MEDIÇÃO'!$A$5:$J$1048576,8,0)),0,(VLOOKUP(A28,'9ª MEDIÇÃO'!$A$5:$J$1048576,8,0)))","v":0},0,1,0,0,0,0,{"$f":"IF(ISERROR(VLOOKUP(A28,#REF!,8,0)),0,(VLOOKUP(A28,#REF!,8,0)))","v":0},0,1,0,0,0,0,{"$f":"IF(ISERROR(VLOOKUP($A28,#REF!,8,0)),0,(VLOOKUP($A28,#REF!,8,0)))","v":0},0,1,0,0,0,0,{"$f":"IF(ISERROR(VLOOKUP($A28,#REF!,8,0)),0,(VLOOKUP($A28,#REF!,8,0)))","v":0},0,1,0,0,0,0,{"$f":"IF(ISERROR(VLOOKUP($A28,#REF!,8,0)),0,(VLOOKUP($A28,#REF!,8,0)))","v":0},0,1,0,0,0,0,{"$f":"IF(ISERROR(VLOOKUP($A28,#REF!,8,0)),0,(VLOOKUP($A28,#REF!,8,0)))","v":0},0,1,0,0,0,0,{"$f":"IF(ISERROR(VLOOKUP($A28,#REF!,8,0)),0,(VLOOKUP($A28,#REF!,8,0)))","v":0},0,1,0,0,0,0,{"$f":"IF(ISERROR(VLOOKUP($A28,#REF!,8,0)),0,(VLOOKUP($A28,#REF!,8,0)))","v":0},0,1,0,0,0,0,{"$f":"IF(ISERROR(VLOOKUP($A28,#REF!,8,0)),0,(VLOOKUP($A28,#REF!,8,0)))","v":0},0,1,0,0,0,0,{"$f":"IF(ISERROR(VLOOKUP($A28,#REF!,8,0)),0,(VLOOKUP($A28,#REF!,8,0)))","v":0},0,1,0,0,0,0,{"$f":"IF(ISERROR(VLOOKUP($A28,#REF!,8,0)),0,(VLOOKUP($A28,#REF!,8,0)))","v":0},0,1,0,0,0,0,{"$f":"IF(ISERROR(VLOOKUP($A28,#REF!,8,0)),0,(VLOOKUP($A28,#REF!,8,0)))","v":0},0,1,0,0,0,0,{"$f":"IF(ISERROR(VLOOKUP($A28,#REF!,8,0)),0,(VLOOKUP($A28,#REF!,8,0)))","v":0},0,1,0,0,0,0,{"$f":"IF(ISERROR(VLOOKUP($A28,#REF!,8,0)),0,(VLOOKUP($A28,#REF!,8,0)))","v":0},0,1,0,0,0,0,{"$f":"IF(ISERROR(VLOOKUP($A28,#REF!,8,0)),0,(VLOOKUP($A28,#REF!,8,0)))","v":0},0,1,0,0,0,0,{"$f":"IF(ISERROR(VLOOKUP($A28,#REF!,8,0)),0,(VLOOKUP($A28,#REF!,8,0)))","v":0},0,1,0,0,0,0,{"$f":"IF(ISERROR(VLOOKUP($A28,#REF!,8,0)),0,(VLOOKUP($A28,#REF!,8,0)))","v":0},0,1,0,0,0,0,{"$f":"IF(ISERROR(VLOOKUP($A28,#REF!,8,0)),0,(VLOOKUP($A28,#REF!,8,0)))","v":0},0,1,0,0,0,0,{"$f":"IF(ISERROR(VLOOKUP($A28,#REF!,8,0)),0,(VLOOKUP($A28,#REF!,8,0)))","v":0},0,1,0,0,0,0,{"$f":"IF(ISERROR(VLOOKUP($A28,#REF!,8,0)),0,(VLOOKUP($A28,#REF!,8,0)))","v":0},0,1,0,0,0,0,{"$f":"IF(ISERROR(VLOOKUP($A28,#REF!,8,0)),0,(VLOOKUP($A28,#REF!,8,0)))","v":0},0,1,0,0,0,0,{"$f":"IF(ISERROR(VLOOKUP($A28,#REF!,8,0)),0,(VLOOKUP($A28,#REF!,8,0)))","v":0},0,1,0,0,0,0,{"$f":"IF(ISERROR(VLOOKUP($A28,#REF!,8,0)),0,(VLOOKUP($A28,#REF!,8,0)))","v":0},0,1,0,0,0,0,{"$f":"IF(ISERROR(VLOOKUP($A28,#REF!,8,0)),0,(VLOOKUP($A28,#REF!,8,0)))","v":0},0,1,0,0,0,0,{"$f":"IF(ISERROR(VLOOKUP($A28,#REF!,8,0)),0,(VLOOKUP($A28,#REF!,8,0)))","v":0},0,1,0,0,0,0,{"$f":"IF(ISERROR(VLOOKUP($A28,#REF!,8,0)),0,(VLOOKUP($A28,#REF!,8,0)))","v":0},0,1,0,0,0,0,{"$f":"IF(ISERROR(VLOOKUP($A28,#REF!,8,0)),0,(VLOOKUP($A28,#REF!,8,0)))","v":0},0,1,0,0,0,0,{"$f":"IF(ISERROR(VLOOKUP($A28,#REF!,8,0)),0,(VLOOKUP($A28,#REF!,8,0)))","v":0},0,1,0,0,0,0,{"$f":"IF(ISERROR(VLOOKUP($A28,#REF!,8,0)),0,(VLOOKUP($A28,#REF!,8,0)))","v":0},0,1,0,0,0,0,{"$f":"IF(ISERROR(VLOOKUP($A28,#REF!,8,0)),0,(VLOOKUP($A28,#REF!,8,0)))","v":0},0,1,0,0,0,0,{"$f":"IF(ISERROR(VLOOKUP($A28,#REF!,8,0)),0,(VLOOKUP($A28,#REF!,8,0)))","v":0},0,1,0,0,0,0,{"$f":"IF(ISERROR(VLOOKUP($A28,#REF!,8,0)),0,(VLOOKUP($A28,#REF!,8,0)))","v":0},0,1,0,0,0,0,{"$f":"IF(ISERROR(VLOOKUP($A28,#REF!,8,0)),0,(VLOOKUP($A28,#REF!,8,0)))","v":0},0,1,0,0,0,0,{"$f":"IF(ISERROR(VLOOKUP($A28,#REF!,8,0)),0,(VLOOKUP($A28,#REF!,8,0)))","v":0},0,1,0,0,0,0,{"$f":"IF(ISERROR(VLOOKUP($A28,#REF!,8,0)),0,(VLOOKUP($A28,#REF!,8,0)))","v":0},0,1,0,0,0,0,{"$f":"IF(ISERROR(VLOOKUP($A28,#REF!,8,0)),0,(VLOOKUP($A28,#REF!,8,0)))","v":0},0,1,0,0,0,0,{"$f":"IF(ISERROR(VLOOKUP($A28,#REF!,8,0)),0,(VLOOKUP($A28,#REF!,8,0)))","v":0},0,1,0,0,0,0,{"$f":"IF(ISERROR(VLOOKUP($A28,#REF!,8,0)),0,(VLOOKUP($A28,#REF!,8,0)))","v":0},0,1,0,0,0,0,{"$f":"IF(ISERROR(VLOOKUP($A28,#REF!,8,0)),0,(VLOOKUP($A28,#REF!,8,0)))","v":0},0,1,0,0,0,0,{"$f":"IF(ISERROR(VLOOKUP($A28,#REF!,8,0)),0,(VLOOKUP($A28,#REF!,8,0)))","v":0},0,1,0,0,0,0,{"$f":"IF(ISERROR(VLOOKUP($A28,#REF!,8,0)),0,(VLOOKUP($A28,#REF!,8,0)))","v":0},0,1,0,0,0,0,{"$f":"IF(ISERROR(VLOOKUP($A28,#REF!,8,0)),0,(VLOOKUP($A28,#REF!,8,0)))","v":0},0,1,0,0,0,0,{"$f":"IF(ISERROR(VLOOKUP($A28,#REF!,8,0)),0,(VLOOKUP($A28,#REF!,8,0)))","v":0},0,1,0,0,0,0,{"$f":"IF(ISERROR(VLOOKUP($A28,#REF!,8,0)),0,(VLOOKUP($A28,#REF!,8,0)))","v":0},0,1,0,0,0,0,{"$f":"IF(ISERROR(VLOOKUP($A28,#REF!,8,0)),0,(VLOOKUP($A28,#REF!,8,0)))","v":0},0,1,0,0,0,0,{"$f":"IF(ISERROR(VLOOKUP($A28,#REF!,8,0)),0,(VLOOKUP($A28,#REF!,8,0)))","v":0},0,1,0,0,0,0,{"$f":"IF(ISERROR(VLOOKUP($A28,#REF!,8,0)),0,(VLOOKUP($A28,#REF!,8,0)))","v":0},0,1,0,0,0,0,184.28090199999997,184.28090199999997,1,0]
["1.19","Instal/ligação provisória elétrica baixa tensão p/cant obra obra, m³-chave 100a carga 3kwh,20cv excl. forn medidor.","un",1,1,0,698.73553000000004,698.73553000000004,598.79939999999999,598.79939999999999,0,0,1297.53493,0,1297.53493,null,0,0,0,0,0,null,0,1,0,0,0,0,null,0,1,0,0,0,0,null,0,1,0,0,0,0,null,0,1,0,0,0,0,null,0,1,0,0,0,0,{"$f":"IF(ISERROR(VLOOKUP(A29,'7ª MEDIÇÃO'!$A$5:$J$1048576,8,0)),0,(VLOOKUP(A29,'7ª MEDIÇÃO'!$A$5:$J$1048576,8,0)))","v":0},0,1,0,0,0,0,{"$f":"IF(ISERROR(VLOOKUP(A29,'8ª MEDIÇÃO'!$A$5:$J$1048576,8,0)),0,(VLOOKUP(A29,'8ª MEDIÇÃO'!$A$5:$J$1048576,8,0)))","v":0},0,1,0,0,0,0,{"$f":"IF(ISERROR(VLOOKUP(A29,'9ª MEDIÇÃO'!$A$5:$J$1048576,8,0)),0,(VLOOKUP(A29,'9ª MEDIÇÃO'!$A$5:$J$1048576,8,0)))","v":0},0,1,0,0,0,0,{"$f":"IF(ISERROR(VLOOKUP(A29,#REF!,8,0)),0,(VLOOKUP(A29,#REF!,8,0)))","v":0},0,1,0,0,0,0,{"$f":"IF(ISERROR(VLOOKUP($A29,#REF!,8,0)),0,(VLOOKUP($A29,#REF!,8,0)))","v":0},0,1,0,0,0,0,{"$f":"IF(ISERROR(VLOOKUP($A29,#REF!,8,0)),0,(VLOOKUP($A29,#REF!,8,0)))","v":0},0,1,0,0,0,0,{"$f":"IF(ISERROR(VLOOKUP($A29,#REF!,8,0)),0,(VLOOKUP($A29,#REF!,8,0)))","v":0},0,1,0,0,0,0,{"$f":"IF(ISERROR(VLOOKUP($A29,#REF!,8,0)),0,(VLOOKUP($A29,#REF!,8,0)))","v":0},0,1,0,0,0,0,{"$f":"IF(ISERROR(VLOOKUP($A29,#REF!,8,0)),0,(VLOOKUP($A29,#REF!,8,0)))","v":0},0,1,0,0,0,0,{"$f":"IF(ISERROR(VLOOKUP($A29,#REF!,8,0)),0,(VLOOKUP($A29,#REF!,8,0)))","v":0},0,1,0,0,0,0,{"$f":"IF(ISERROR(VLOOKUP($A29,#REF!,8,0)),0,(VLOOKUP($A29,#REF!,8,0)))","v":0},0,1,0,0,0,0,{"$f":"IF(ISERROR(VLOOKUP($A29,#REF!,8,0)),0,(VLOOKUP($A29,#REF!,8,0)))","v":0},0,1,0,0,0,0,{"$f":"IF(ISERROR(VLOOKUP($A29,#REF!,8,0)),0,(VLOOKUP($A29,#REF!,8,0)))","v":0},0,1,0,0,0,0,{"$f":"IF(ISERROR(VLOOKUP($A29,#REF!,8,0)),0,(VLOOKUP($A29,#REF!,8,0)))","v":0},0,1,0,0,0,0,{"$f":"IF(ISERROR(VLOOKUP($A29,#REF!,8,0)),0,(VLOOKUP($A29,#REF!,8,0)))","v":0},0,1,0,0,0,0,{"$f":"IF(ISERROR(VLOOKUP($A29,#REF!,8,0)),0,(VLOOKUP($A29,#REF!,8,0)))","v":0},0,1,0,0,0,0,{"$f":"IF(ISERROR(VLOOKUP($A29,#REF!,8,0)),0,(VLOOKUP($A29,#REF!,8,0)))","v":0},0,1,0,0,0,0,{"$f":"IF(ISERROR(VLOOKUP($A29,#REF!,8,0)),0,(VLOOKUP($A29,#REF!,8,0)))","v":0},0,1,0,0,0,0,{"$f":"IF(ISERROR(VLOOKUP($A29,#REF!,8,0)),0,(VLOOKUP($A29,#REF!,8,0)))","v":0},0,1,0,0,0,0,{"$f":"IF(ISERROR(VLOOKUP($A29,#REF!,8,0)),0,(VLOOKUP($A29,#REF!,8,0)))","v":0},0,1,0,0,0,0,{"$f":"IF(ISERROR(VLOOKUP($A29,#REF!,8,0)),0,(VLOOKUP($A29,#REF!,8,0)))","v":0},0,1,0,0,0,0,{"$f":"IF(ISERROR(VLOOKUP($A29,#REF!,8,0)),0,(VLOOKUP($A29,#REF!,8,0)))","v":0},0,1,0,0,0,0,{"$f":"IF(ISERROR(VLOOKUP($A29,#REF!,8,0)),0,(VLOOKUP($A29,#REF!,8,0)))","v":0},0,1,0,0,0,0,{"$f":"IF(ISERROR(VLOOKUP($A29,#REF!,8,0)),0,(VLOOKUP($A29,#REF!,8,0)))","v":0},0,1,0,0,0,0,{"$f":"IF(ISERROR(VLOOKUP($A29,#REF!,8,0)),0,(VLOOKUP($A29,#REF!,8,0)))","v":0},0,1,0,0,0,0,{"$f":"IF(ISERROR(VLOOKUP($A29,#REF!,8,0)),0,(VLOOKUP($A29,#REF!,8,0)))","v":0},0,1,0,0,0,0,{"$f":"IF(ISERROR(VLOOKUP($A29,#REF!,8,0)),0,(VLOOKUP($A29,#REF!,8,0)))","v":0},0,1,0,0,0,0,{"$f":"IF(ISERROR(VLOOKUP($A29,#REF!,8,0)),0,(VLOOKUP($A29,#REF!,8,0)))","v":0},0,1,0,0,0,0,{"$f":"IF(ISERROR(VLOOKUP($A29,#REF!,8,0)),0,(VLOOKUP($A29,#REF!,8,0)))","v":0},0,1,0,0,0,0,{"$f":"IF(ISERROR(VLOOKUP($A29,#REF!,8,0)),0,(VLOOKUP($A29,#REF!,8,0)))","v":0},0,1,0,0,0,0,{"$f":"IF(ISERROR(VLOOKUP($A29,#REF!,8,0)),0,(VLOOKUP($A29,#REF!,8,0)))","v":0},0,1,0,0,0,0,{"$f":"IF(ISERROR(VLOOKUP($A29,#REF!,8,0)),0,(VLOOKUP($A29,#REF!,8,0)))","v":0},0,1,0,0,0,0,{"$f":"IF(ISERROR(VLOOKUP($A29,#REF!,8,0)),0,(VLOOKUP($A29,#REF!,8,0)))","v":0},0,1,0,0,0,0,{"$f":"IF(ISERROR(VLOOKUP($A29,#REF!,8,0)),0,(VLOOKUP($A29,#REF!,8,0)))","v":0},0,1,0,0,0,0,{"$f":"IF(ISERROR(VLOOKUP($A29,#REF!,8,0)),0,(VLOOKUP($A29,#REF!,8,0)))","v":0},0,1,0,0,0,0,{"$f":"IF(ISERROR(VLOOKUP($A29,#REF!,8,0)),0,(VLOOKUP($A29,#REF!,8,0)))","v":0},0,1,0,0,0,0,{"$f":"IF(ISERROR(VLOOKUP($A29,#REF!,8,0)),0,(VLOOKUP($A29,#REF!,8,0)))","v":0},0,1,0,0,0,0,{"$f":"IF(ISERROR(VLOOKUP($A29,#REF!,8,0)),0,(VLOOKUP($A29,#REF!,8,0)))","v":0},0,1,0,0,0,0,{"$f":"IF(ISERROR(VLOOKUP($A29,#REF!,8,0)),0,(VLOOKUP($A29,#REF!,8,0)))","v":0},0,1,0,0,0,0,{"$f":"IF(ISERROR(VLOOKUP($A29,#REF!,8,0)),0,(VLOOKUP($A29,#REF!,8,0)))","v":0},0,1,0,0,0,0,{"$f":"IF(ISERROR(VLOOKUP($A29,#REF!,8,0)),0,(VLOOKUP($A29,#REF!,8,0)))","v":0},0,1,0,0,0,0,{"$f":"IF(ISERROR(VLOOKUP($A29,#REF!,8,0)),0,(VLOOKUP($A29,#REF!,8,0)))","v":0},0,1,0,0,0,0,{"$f":"IF(ISERROR(VLOOKUP($A29,#REF!,8,0)),0,(VLOOKUP($A29,#REF!,8,0)))","v":0},0,1,0,0,0,0,{"$f":"IF(ISERROR(VLOOKUP($A29,#REF!,8,0)),0,(VLOOKUP($A29,#REF!,8,0)))","v":0},0,1,0,0,0,0,{"$f":"IF(ISERROR(VLOOKUP($A29,#REF!,8,0)),0,(VLOOKUP($A29,#REF!,8,0)))","v":0},0,1,0,0,0,0,{"$f":"IF(ISERROR(VLOOKUP($A29,#REF!,8,0)),0,(VLOOKUP($A29,#REF!,8,0)))","v":0},0,1,0,0,0,0,{"$f":"IF(ISERROR(VLOOKUP($A29,#REF!,8,0)),0,(VLOOKUP($A29,#REF!,8,0)))","v":0},0,1,0,0,0,0,{"$f":"IF(ISERROR(VLOOKUP($A29,#REF!,8,0)),0,(VLOOKUP($A29,#REF!,8,0)))","v":0},0,1,0,0,0,0,{"$f":"IF(ISERROR(VLOOKUP($A29,#REF!,8,0)),0,(VLOOKUP($A29,#REF!,8,0)))","v":0},0,1,0,0,0,0,1297.53493,1297.53493,1,0]
["1.20","Sumidouro em alvenaria de tijolo cerâmico maciço diâmetro 1,20m e altura 5,00m, com tampa em concreto armado diâmetro 1,40m e espessura 10cm. (Barraco de obra)","un",1,1,0,424.71373400000004,424.71373400000004,548.31787999999995,548.31787999999995,0,0,973.03161399999999,0,973.03161399999999,null,0,0,0,0,0,1,1,1,424.71373400000004,548.31787999999995,0,973.03,null,0,1,0,0,0,0,null,0,1,0,0,0,0,null,0,1,0,0,0,0,null,0,1,0,0,0,0,{"$f":"IF(ISERROR(VLOOKUP(A30,'7ª MEDIÇÃO'!$A$5:$J$1048576,8,0)),0,(VLOOKUP(A30,'7ª MEDIÇÃO'!$A$5:$J$1048576,8,0)))","v":0},0,1,0,0,0,0,{"$f":"IF(ISERROR(VLOOKUP(A30,'8ª MEDIÇÃO'!$A$5:$J$1048576,8,0)),0,(VLOOKUP(A30,'8ª MEDIÇÃO'!$A$5:$J$1048576,8,0)))","v":0},0,1,0,0,0,0,{"$f":"IF(ISERROR(VLOOKUP(A30,'9ª MEDIÇÃO'!$A$5:$J$1048576,8,0)),0,(VLOOKUP(A30,'9ª MEDIÇÃO'!$A$5:$J$1048576,8,0)))","v":0},0,1,0,0,0,0,{"$f":"IF(ISERROR(VLOOKUP(A30,#REF!,8,0)),0,(VLOOKUP(A30,#REF!,8,0)))","v":0},0,1,0,0,0,0,{"$f":"IF(ISERROR(VLOOKUP($A30,#REF!,8,0)),0,(VLOOKUP($A30,#REF!,8,0)))","v":0},0,1,0,0,0,0,{"$f":"IF(ISERROR(VLOOKUP($A30,#REF!,8,0)),0,(VLOOKUP($A30,#REF!,8,0)))","v":0},0,1,0,0,0,0,{"$f":"IF(ISERROR(VLOOKUP($A30,#REF!,8,0)),0,(VLOOKUP($A30,#REF!,8,0)))","v":0},0,1,0,0,0,0,{"$f":"IF(ISERROR(VLOOKUP($A30,#REF!,8,0)),0,(VLOOKUP($A30,#REF!,8,0)))","v":0},0,1,0,0,0,0,{"$f":"IF(ISERROR(VLOOKUP($A30,#REF!,8,0)),0,(VLOOKUP($A30,#REF!,8,0)))","v":0},0,1,0,0,0,0,{"$f":"IF(ISERROR(VLOOKUP($A30,#REF!,8,0)),0,(VLOOKUP($A30,#REF!,8,0)))","v":0},0,1,0,0,0,0,{"$f":"IF(ISERROR(VLOOKUP($A30,#REF!,8,0)),0,(VLOOKUP($A30,#REF!,8,0)))","v":0},0,1,0,0,0,0,{"$f":"IF(ISERROR(VLOOKUP($A30,#REF!,8,0)),0,(VLOOKUP($A30,#REF!,8,0)))","v":0},0,1,0,0,0,0,{"$f":"IF(ISERROR(VLOOKUP($A30,#REF!,8,0)),0,(VLOOKUP($A30,#REF!,8,0)))","v":0},0,1,0,0,0,0,{"$f":"IF(ISERROR(VLOOKUP($A30,#REF!,8,0)),0,(VLOOKUP($A30,#REF!,8,0)))","v":0},0,1,0,0,0,0,{"$f":"IF(ISERROR(VLOOKUP($A30,#REF!,8,0)),0,(VLOOKUP($A30,#REF!,8,0)))","v":0},0,1,0,0,0,0,{"$f":"IF(ISERROR(VLOOKUP($A30,#REF!,8,0)),0,(VLOOKUP($A30,#REF!,8,0)))","v":0},0,1,0,0,0,0,{"$f":"IF(ISERROR(VLOOKUP($A30,#REF!,8,0)),0,(VLOOKUP($A30,#REF!,8,0)))","v":0},0,1,0,0,0,0,{"$f":"IF(ISERROR(VLOOKUP($A30,#REF!,8,0)),0,(VLOOKUP($A30,#REF!,8,0)))","v":0},0,1,0,0,0,0,{"$f":"IF(ISERROR(VLOOKUP($A30,#REF!,8,0)),0,(VLOOKUP($A30,#REF!,8,0)))","v":0},0,1,0,0,0,0,{"$f":"IF(ISERROR(VLOOKUP($A30,#REF!,8,0)),0,(VLOOKUP($A30,#REF!,8,0)))","v":0},0,1,0,0,0,0,{"$f":"IF(ISERROR(VLOOKUP($A30,#REF!,8,0)),0,(VLOOKUP($A30,#REF!,8,0)))","v":0},0,1,0,0,0,0,{"$f":"IF(ISERROR(VLOOKUP($A30,#REF!,8,0)),0,(VLOOKUP($A30,#REF!,8,0)))","v":0},0,1,0,0,0,0,{"$f":"IF(ISERROR(VLOOKUP($A30,#REF!,8,0)),0,(VLOOKUP($A30,#REF!,8,0)))","v":0},0,1,0,0,0,0,{"$f":"IF(ISERROR(VLOOKUP($A30,#REF!,8,0)),0,(VLOOKUP($A30,#REF!,8,0)))","v":0},0,1,0,0,0,0,{"$f":"IF(ISERROR(VLOOKUP($A30,#REF!,8,0)),0,(VLOOKUP($A30,#REF!,8,0)))","v":0},0,1,0,0,0,0,{"$f":"IF(ISERROR(VLOOKUP($A30,#REF!,8,0)),0,(VLOOKUP($A30,#REF!,8,0)))","v":0},0,1,0,0,0,0,{"$f":"IF(ISERROR(VLOOKUP($A30,#REF!,8,0)),0,(VLOOKUP($A30,#REF!,8,0)))","v":0},0,1,0,0,0,0,{"$f":"IF(ISERROR(VLOOKUP($A30,#REF!,8,0)),0,(VLOOKUP($A30,#REF!,8,0)))","v":0},0,1,0,0,0,0,{"$f":"IF(ISERROR(VLOOKUP($A30,#REF!,8,0)),0,(VLOOKUP($A30,#REF!,8,0)))","v":0},0,1,0,0,0,0,{"$f":"IF(ISERROR(VLOOKUP($A30,#REF!,8,0)),0,(VLOOKUP($A30,#REF!,8,0)))","v":0},0,1,0,0,0,0,{"$f":"IF(ISERROR(VLOOKUP($A30,#REF!,8,0)),0,(VLOOKUP($A30,#REF!,8,0)))","v":0},0,1,0,0,0,0,{"$f":"IF(ISERROR(VLOOKUP($A30,#REF!,8,0)),0,(VLOOKUP($A30,#REF!,8,0)))","v":0},0,1,0,0,0,0,{"$f":"IF(ISERROR(VLOOKUP($A30,#REF!,8,0)),0,(VLOOKUP($A30,#REF!,8,0)))","v":0},0,1,0,0,0,0,{"$f":"IF(ISERROR(VLOOKUP($A30,#REF!,8,0)),0,(VLOOKUP($A30,#REF!,8,0)))","v":0},0,1,0,0,0,0,{"$f":"IF(ISERROR(VLOOKUP($A30,#REF!,8,0)),0,(VLOOKUP($A30,#REF!,8,0)))","v":0},0,1,0,0,0,0,{"$f":"IF(ISERROR(VLOOKUP($A30,#REF!,8,0)),0,(VLOOKUP($A30,#REF!,8,0)))","v":0},0,1,0,0,0,0,{"$f":"IF(ISERROR(VLOOKUP($A30,#REF!,8,0)),0,(VLOOKUP($A30,#REF!,8,0)))","v":0},0,1,0,0,0,0,{"$f":"IF(ISERROR(VLOOKUP($A30,#REF!,8,0)),0,(VLOOKUP($A30,#REF!,8,0)))","v":0},0,1,0,0,0,0,{"$f":"IF(ISERROR(VLOOKUP($A30,#REF!,8,0)),0,(VLOOKUP($A30,#REF!,8,0)))","v":0},0,1,0,0,0,0,{"$f":"IF(ISERROR(VLOOKUP($A30,#REF!,8,0)),0,(VLOOKUP($A30,#REF!,8,0)))","v":0},0,1,0,0,0,0,{"$f":"IF(ISERROR(VLOOKUP($A30,#REF!,8,0)),0,(VLOOKUP($A30,#REF!,8,0)))","v":0},0,1,0,0,0,0,{"$f":"IF(ISERROR(VLOOKUP($A30,#REF!,8,0)),0,(VLOOKUP($A30,#REF!,8,0)))","v":0},0,1,0,0,0,0,{"$f":"IF(ISERROR(VLOOKUP($A30,#REF!,8,0)),0,(VLOOKUP($A30,#REF!,8,0)))","v":0},0,1,0,0,0,0,{"$f":"IF(ISERROR(VLOOKUP($A30,#REF!,8,0)),0,(VLOOKUP($A30,#REF!,8,0)))","v":0},0,1,0,0,0,0,{"$f":"IF(ISERROR(VLOOKUP($A30,#REF!,8,0)),0,(VLOOKUP($A30,#REF!,8,0)))","v":0},0,1,0,0,0,0,{"$f":"IF(ISERROR(VLOOKUP($A30,#REF!,8,0)),0,(VLOOKUP($A30,#REF!,8,0)))","v":0},0,1,0,0,0,0,{"$f":"IF(ISERROR(VLOOKUP($A30,#REF!,8,0)),0,(VLOOKUP($A30,#REF!,8,0)))","v":0},0,1,0,0,0,0,{"$f":"IF(ISERROR(VLOOKUP($A30,#REF!,8,0)),0,(VLOOKUP($A30,#REF!,8,0)))","v":0},0,1,0,0,0,0,{"$f":"IF(ISERROR(VLOOKUP($A30,#REF!,8,0)),0,(VLOOKUP($A30,#REF!,8,0)))","v":0},0,1,0,0,0,0,973.03161399999999,973.03161399999999,1,0]
["1.21","Fornecimento e montagem de tela de sinalização laranja (H=1,2m) fixada em montantes de ferro de 1/2\" ou em barrotes de madeira 3x3\" colocados sobre base de concreto traço 1:4:8, espaçados a cada 2 m, inclusive posterior retirada e reaproveitamento.","m",244,244,0,4.2340460000000002,1033.1072240000001,4.0803199999999995,995.59807999999987,0,0,8.3143659999999997,0,2028.7053039999998,null,0,0,0,0,0,116,0.47540983606557374,1,491.14933600000001,473.31711999999993,0,964.47,null,0,1,0,0,0,0,128,0.52459016393442626,1,541.95788800000003,522.28095999999994,0,1064.24,null,0,1,0,0,0,0,null,0,1,0,0,0,0,{"$f":"IF(ISERROR(VLOOKUP(A31,'7ª MEDIÇÃO'!$A$5:$J$1048576,8,0)),0,(VLOOKUP(A31,'7ª MEDIÇÃO'!$A$5:$J$1048576,8,0)))","v":0},0,1,0,0,0,0,{"$f":"IF(ISERROR(VLOOKUP(A31,'8ª MEDIÇÃO'!$A$5:$J$1048576,8,0)),0,(VLOOKUP(A31,'8ª MEDIÇÃO'!$A$5:$J$1048576,8,0)))","v":0},0,1,0,0,0,0,{"$f":"IF(ISERROR(VLOOKUP(A31,'9ª MEDIÇÃO'!$A$5:$J$1048576,8,0)),0,(VLOOKUP(A31,'9ª MEDIÇÃO'!$A$5:$J$1048576,8,0)))","v":0},0,1,0,0,0,0,{"$f":"IF(ISERROR(VLOOKUP(A31,#REF!,8,0)),0,(VLOOKUP(A31,#REF!,8,0)))","v":0},0,1,0,0,0,0,{"$f":"IF(ISERROR(VLOOKUP($A31,#REF!,8,0)),0,(VLOOKUP($A31,#REF!,8,0)))","v":0},0,1,0,0,0,0,{"$f":"IF(ISERROR(VLOOKUP($A31,#REF!,8,0)),0,(VLOOKUP($A31,#REF!,8,0)))","v":0},0,1,0,0,0,0,{"$f":"IF(ISERROR(VLOOKUP($A31,#REF!,8,0)),0,(VLOOKUP($A31,#REF!,8,0)))","v":0},0,1,0,0,0,0,{"$f":"IF(ISERROR(VLOOKUP($A31,#REF!,8,0)),0,(VLOOKUP($A31,#REF!,8,0)))","v":0},0,1,0,0,0,0,{"$f":"IF(ISERROR(VLOOKUP($A31,#REF!,8,0)),0,(VLOOKUP($A31,#REF!,8,0)))","v":0},0,1,0,0,0,0,{"$f":"IF(ISERROR(VLOOKUP($A31,#REF!,8,0)),0,(VLOOKUP($A31,#REF!,8,0)))","v":0},0,1,0,0,0,0,{"$f":"IF(ISERROR(VLOOKUP($A31,#REF!,8,0)),0,(VLOOKUP($A31,#REF!,8,0)))","v":0},0,1,0,0,0,0,{"$f":"IF(ISERROR(VLOOKUP($A31,#REF!,8,0)),0,(VLOOKUP($A31,#REF!,8,0)))","v":0},0,1,0,0,0,0,{"$f":"IF(ISERROR(VLOOKUP($A31,#REF!,8,0)),0,(VLOOKUP($A31,#REF!,8,0)))","v":0},0,1,0,0,0,0,{"$f":"IF(ISERROR(VLOOKUP($A31,#REF!,8,0)),0,(VLOOKUP($A31,#REF!,8,0)))","v":0},0,1,0,0,0,0,{"$f":"IF(ISERROR(VLOOKUP($A31,#REF!,8,0)),0,(VLOOKUP($A31,#REF!,8,0)))","v":0},0,1,0,0,0,0,{"$f":"IF(ISERROR(VLOOKUP($A31,#REF!,8,0)),0,(VLOOKUP($A31,#REF!,8,0)))","v":0},0,1,0,0,0,0,{"$f":"IF(ISERROR(VLOOKUP($A31,#REF!,8,0)),0,(VLOOKUP($A31,#REF!,8,0)))","v":0},0,1,0,0,0,0,{"$f":"IF(ISERROR(VLOOKUP($A31,#REF!,8,0)),0,(VLOOKUP($A31,#REF!,8,0)))","v":0},0,1,0,0,0,0,{"$f":"IF(ISERROR(VLOOKUP($A31,#REF!,8,0)),0,(VLOOKUP($A31,#REF!,8,0)))","v":0},0,1,0,0,0,0,{"$f":"IF(ISERROR(VLOOKUP($A31,#REF!,8,0)),0,(VLOOKUP($A31,#REF!,8,0)))","v":0},0,1,0,0,0,0,{"$f":"IF(ISERROR(VLOOKUP($A31,#REF!,8,0)),0,(VLOOKUP($A31,#REF!,8,0)))","v":0},0,1,0,0,0,0,{"$f":"IF(ISERROR(VLOOKUP($A31,#REF!,8,0)),0,(VLOOKUP($A31,#REF!,8,0)))","v":0},0,1,0,0,0,0,{"$f":"IF(ISERROR(VLOOKUP($A31,#REF!,8,0)),0,(VLOOKUP($A31,#REF!,8,0)))","v":0},0,1,0,0,0,0,{"$f":"IF(ISERROR(VLOOKUP($A31,#REF!,8,0)),0,(VLOOKUP($A31,#REF!,8,0)))","v":0},0,1,0,0,0,0,{"$f":"IF(ISERROR(VLOOKUP($A31,#REF!,8,0)),0,(VLOOKUP($A31,#REF!,8,0)))","v":0},0,1,0,0,0,0,{"$f":"IF(ISERROR(VLOOKUP($A31,#REF!,8,0)),0,(VLOOKUP($A31,#REF!,8,0)))","v":0},0,1,0,0,0,0,{"$f":"IF(ISERROR(VLOOKUP($A31,#REF!,8,0)),0,(VLOOKUP($A31,#REF!,8,0)))","v":0},0,1,0,0,0,0,{"$f":"IF(ISERROR(VLOOKUP($A31,#REF!,8,0)),0,(VLOOKUP($A31,#REF!,8,0)))","v":0},0,1,0,0,0,0,{"$f":"IF(ISERROR(VLOOKUP($A31,#REF!,8,0)),0,(VLOOKUP($A31,#REF!,8,0)))","v":0},0,1,0,0,0,0,{"$f":"IF(ISERROR(VLOOKUP($A31,#REF!,8,0)),0,(VLOOKUP($A31,#REF!,8,0)))","v":0},0,1,0,0,0,0,{"$f":"IF(ISERROR(VLOOKUP($A31,#REF!,8,0)),0,(VLOOKUP($A31,#REF!,8,0)))","v":0},0,1,0,0,0,0,{"$f":"IF(ISERROR(VLOOKUP($A31,#REF!,8,0)),0,(VLOOKUP($A31,#REF!,8,0)))","v":0},0,1,0,0,0,0,{"$f":"IF(ISERROR(VLOOKUP($A31,#REF!,8,0)),0,(VLOOKUP($A31,#REF!,8,0)))","v":0},0,1,0,0,0,0,{"$f":"IF(ISERROR(VLOOKUP($A31,#REF!,8,0)),0,(VLOOKUP($A31,#REF!,8,0)))","v":0},0,1,0,0,0,0,{"$f":"IF(ISERROR(VLOOKUP($A31,#REF!,8,0)),0,(VLOOKUP($A31,#REF!,8,0)))","v":0},0,1,0,0,0,0,{"$f":"IF(ISERROR(VLOOKUP($A31,#REF!,8,0)),0,(VLOOKUP($A31,#REF!,8,0)))","v":0},0,1,0,0,0,0,{"$f":"IF(ISERROR(VLOOKUP($A31,#REF!,8,0)),0,(VLOOKUP($A31,#REF!,8,0)))","v":0},0,1,0,0,0,0,{"$f":"IF(ISERROR(VLOOKUP($A31,#REF!,8,0)),0,(VLOOKUP($A31,#REF!,8,0)))","v":0},0,1,0,0,0,0,{"$f":"IF(ISERROR(VLOOKUP($A31,#REF!,8,0)),0,(VLOOKUP($A31,#REF!,8,0)))","v":0},0,1,0,0,0,0,{"$f":"IF(ISERROR(VLOOKUP($A31,#REF!,8,0)),0,(VLOOKUP($A31,#REF!,8,0)))","v":0},0,1,0,0,0,0,{"$f":"IF(ISERROR(VLOOKUP($A31,#REF!,8,0)),0,(VLOOKUP($A31,#REF!,8,0)))","v":0},0,1,0,0,0,0,{"$f":"IF(ISERROR(VLOOKUP($A31,#REF!,8,0)),0,(VLOOKUP($A31,#REF!,8,0)))","v":0},0,1,0,0,0,0,{"$f":"IF(ISERROR(VLOOKUP($A31,#REF!,8,0)),0,(VLOOKUP($A31,#REF!,8,0)))","v":0},0,1,0,0,0,0,{"$f":"IF(ISERROR(VLOOKUP($A31,#REF!,8,0)),0,(VLOOKUP($A31,#REF!,8,0)))","v":0},0,1,0,0,0,0,{"$f":"IF(ISERROR(VLOOKUP($A31,#REF!,8,0)),0,(VLOOKUP($A31,#REF!,8,0)))","v":0},0,1,0,0,0,0,{"$f":"IF(ISERROR(VLOOKUP($A31,#REF!,8,0)),0,(VLOOKUP($A31,#REF!,8,0)))","v":0},0,1,0,0,0,0,{"$f":"IF(ISERROR(VLOOKUP($A31,#REF!,8,0)),0,(VLOOKUP($A31,#REF!,8,0)))","v":0},0,1,0,0,0,0,{"$f":"IF(ISERROR(VLOOKUP($A31,#REF!,8,0)),0,(VLOOKUP($A31,#REF!,8,0)))","v":0},0,1,0,0,0,0,{"$f":"IF(ISERROR(VLOOKUP($A31,#REF!,8,0)),0,(VLOOKUP($A31,#REF!,8,0)))","v":0},0,1,0,0,0,0,2028.7053039999998,2028.7053039999998,1,0]
[null,"Andaimes, Bandejas, Balança e equipamentos",null,null,0,0,null,0,null,0,null,0,0,0,0,null,0,0,0,0,0,null,0,0,0,0,0,0,null,0,0,0,0,0,0,null,0,0,0,0,0,0,null,0,0,0,0,0,0,null,0,0,0,0,0,0,{"$f":"IF(ISERROR(VLOOKUP(A32,'7ª MEDIÇÃO'!$A$5:$J$1048576,8,0)),0,(VLOOKUP(A32,'7ª MEDIÇÃO'!$A$5:$J$1048576,8,0)))","v":0},0,0,0,0,0,0,{"$f":"IF(ISERROR(VLOOKUP(A32,'8ª MEDIÇÃO'!$A$5:$J$1048576,8,0)),0,(VLOOKUP(A32,'8ª MEDIÇÃO'!$A$5:$J$1048576,8,0)))","v":0},0,0,0,0,0,0,{"$f":"IF(ISERROR(VLOOKUP(A32,'9ª MEDIÇÃO'!$A$5:$J$1048576,8,0)),0,(VLOOKUP(A32,'9ª MEDIÇÃO'!$A$5:$J$1048576,8,0)))","v":0},0,0,0,0,0,0,{"$f":"IF(ISERROR(VLOOKUP(A32,#REF!,8,0)),0,(VLOOKUP(A32,#REF!,8,0)))","v":0},0,0,0,0,0,0,{"$f":"IF(ISERROR(VLOOKUP($A32,#REF!,8,0)),0,(VLOOKUP($A32,#REF!,8,0)))","v":0},0,0,0,0,0,0,{"$f":"IF(ISERROR(VLOOKUP($A32,#REF!,8,0)),0,(VLOOKUP($A32,#REF!,8,0)))","v":0},0,0,0,0,0,0,{"$f":"IF(ISERROR(VLOOKUP($A32,#REF!,8,0)),0,(VLOOKUP($A32,#REF!,8,0)))","v":0},0,0,0,0,0,0,{"$f":"IF(ISERROR(VLOOKUP($A32,#REF!,8,0)),0,(VLOOKUP($A32,#REF!,8,0)))","v":0},0,0,0,0,0,0,{"$f":"IF(ISERROR(VLOOKUP($A32,#REF!,8,0)),0,(VLOOKUP($A32,#REF!,8,0)))","v":0},0,0,0,0,0,0,{"$f":"IF(ISERROR(VLOOKUP($A32,#REF!,8,0)),0,(VLOOKUP($A32,#REF!,8,0)))","v":0},0,0,0,0,0,0,{"$f":"IF(ISERROR(VLOOKUP($A32,#REF!,8,0)),0,(VLOOKUP($A32,#REF!,8,0)))","v":0},0,0,0,0,0,0,{"$f":"IF(ISERROR(VLOOKUP($A32,#REF!,8,0)),0,(VLOOKUP($A32,#REF!,8,0)))","v":0},0,0,0,0,0,0,{"$f":"IF(ISERROR(VLOOKUP($A32,#REF!,8,0)),0,(VLOOKUP($A32,#REF!,8,0)))","v":0},0,0,0,0,0,0,{"$f":"IF(ISERROR(VLOOKUP($A32,#REF!,8,0)),0,(VLOOKUP($A32,#REF!,8,0)))","v":0},0,0,0,0,0,0,{"$f":"IF(ISERROR(VLOOKUP($A32,#REF!,8,0)),0,(VLOOKUP($A32,#REF!,8,0)))","v":0},0,0,0,0,0,0,{"$f":"IF(ISERROR(VLOOKUP($A32,#REF!,8,0)),0,(VLOOKUP($A32,#REF!,8,0)))","v":0},0,0,0,0,0,0,{"$f":"IF(ISERROR(VLOOKUP($A32,#REF!,8,0)),0,(VLOOKUP($A32,#REF!,8,0)))","v":0},0,0,0,0,0,0,{"$f":"IF(ISERROR(VLOOKUP($A32,#REF!,8,0)),0,(VLOOKUP($A32,#REF!,8,0)))","v":0},0,0,0,0,0,0,{"$f":"IF(ISERROR(VLOOKUP($A32,#REF!,8,0)),0,(VLOOKUP($A32,#REF!,8,0)))","v":0},0,0,0,0,0,0,{"$f":"IF(ISERROR(VLOOKUP($A32,#REF!,8,0)),0,(VLOOKUP($A32,#REF!,8,0)))","v":0},0,0,0,0,0,0,{"$f":"IF(ISERROR(VLOOKUP($A32,#REF!,8,0)),0,(VLOOKUP($A32,#REF!,8,0)))","v":0},0,0,0,0,0,0,{"$f":"IF(ISERROR(VLOOKUP($A32,#REF!,8,0)),0,(VLOOKUP($A32,#REF!,8,0)))","v":0},0,0,0,0,0,0,{"$f":"IF(ISERROR(VLOOKUP($A32,#REF!,8,0)),0,(VLOOKUP($A32,#REF!,8,0)))","v":0},0,0,0,0,0,0,{"$f":"IF(ISERROR(VLOOKUP($A32,#REF!,8,0)),0,(VLOOKUP($A32,#REF!,8,0)))","v":0},0,0,0,0,0,0,{"$f":"IF(ISERROR(VLOOKUP($A32,#REF!,8,0)),0,(VLOOKUP($A32,#REF!,8,0)))","v":0},0,0,0,0,0,0,{"$f":"IF(ISERROR(VLOOKUP($A32,#REF!,8,0)),0,(VLOOKUP($A32,#REF!,8,0)))","v":0},0,0,0,0,0,0,{"$f":"IF(ISERROR(VLOOKUP($A32,#REF!,8,0)),0,(VLOOKUP($A32,#REF!,8,0)))","v":0},0,0,0,0,0,0,{"$f":"IF(ISERROR(VLOOKUP($A32,#REF!,8,0)),0,(VLOOKUP($A32,#REF!,8,0)))","v":0},0,0,0,0,0,0,{"$f":"IF(ISERROR(VLOOKUP($A32,#REF!,8,0)),0,(VLOOKUP($A32,#REF!,8,0)))","v":0},0,0,0,0,0,0,{"$f":"IF(ISERROR(VLOOKUP($A32,#REF!,8,0)),0,(VLOOKUP($A32,#REF!,8,0)))","v":0},0,0,0,0,0,0,{"$f":"IF(ISERROR(VLOOKUP($A32,#REF!,8,0)),0,(VLOOKUP($A32,#REF!,8,0)))","v":0},0,0,0,0,0,0,{"$f":"IF(ISERROR(VLOOKUP($A32,#REF!,8,0)),0,(VLOOKUP($A32,#REF!,8,0)))","v":0},0,0,0,0,0,0,{"$f":"IF(ISERROR(VLOOKUP($A32,#REF!,8,0)),0,(VLOOKUP($A32,#REF!,8,0)))","v":0},0,0,0,0,0,0,{"$f":"IF(ISERROR(VLOOKUP($A32,#REF!,8,0)),0,(VLOOKUP($A32,#REF!,8,0)))","v":0},0,0,0,0,0,0,{"$f":"IF(ISERROR(VLOOKUP($A32,#REF!,8,0)),0,(VLOOKUP($A32,#REF!,8,0)))","v":0},0,0,0,0,0,0,{"$f":"IF(ISERROR(VLOOKUP($A32,#REF!,8,0)),0,(VLOOKUP($A32,#REF!,8,0)))","v":0},0,0,0,0,0,0,{"$f":"IF(ISERROR(VLOOKUP($A32,#REF!,8,0)),0,(VLOOKUP($A32,#REF!,8,0)))","v":0},0,0,0,0,0,0,{"$f":"IF(ISERROR(VLOOKUP($A32,#REF!,8,0)),0,(VLOOKUP($A32,#REF!,8,0)))","v":0},0,0,0,0,0,0,{"$f":"IF(ISERROR(VLOOKUP($A32,#REF!,8,0)),0,(VLOOKUP($A32,#REF!,8,0)))","v":0},0,0,0,0,0,0,{"$f":"IF(ISERROR(VLOOKUP($A32,#REF!,8,0)),0,(VLOOKUP($A32,#REF!,8,0)))","v":0},0,0,0,0,0,0,{"$f":"IF(ISERROR(VLOOKUP($A32,#REF!,8,0)),0,(VLOOKUP($A32,#REF!,8,0)))","v":0},0,0,0,0,0,0,{"$f":"IF(ISERROR(VLOOKUP($A32,#REF!,8,0)),0,(VLOOKUP($A32,#REF!,8,0)))","v":0},0,0,0,0,0,0,{"$f":"IF(ISERROR(VLOOKUP($A32,#REF!,8,0)),0,(VLOOKUP($A32,#REF!,8,0)))","v":0},0,0,0,0,0,0,{"$f":"IF(ISERROR(VLOOKUP($A32,#REF!,8,0)),0,(VLOOKUP($A32,#REF!,8,0)))","v":0},0,0,0,0,0,0,{"$f":"IF(ISERROR(VLOOKUP($A32,#REF!,8,0)),0,(VLOOKUP($A32,#REF!,8,0)))","v":0},0,0,0,0,0,0,{"$f":"IF(ISERROR(VLOOKUP($A32,#REF!,8,0)),0,(VLOOKUP($A32,#REF!,8,0)))","v":0},0,0,0,0,0,0,{"$f":"IF(ISERROR(VLOOKUP($A32,#REF!,8,0)),0,(VLOOKUP($A32,#REF!,8,0)))","v":0},0,0,0,0,0,0,{"$f":"IF(ISERROR(VLOOKUP($A32,#REF!,8,0)),0,(VLOOKUP($A32,#REF!,8,0)))","v":0},0,0,0,0,0,0,{"$f":"IF(ISERROR(VLOOKUP($A32,#REF!,8,0)),0,(VLOOKUP($A32,#REF!,8,0)))","v":0},0,0,0,0,0,0,0,0,{"$error":"#DIV/0!"},0]
["1.22","Fornecimento e colocação de Tela de nylon ou plástica com malha de 5 mm, tipo fachadeira, para proteção de obras em edifícios.","m²",4730,4086.39,643.61000000000013,1.816276,8590.9854799999994,9.9768799999999995,47190.642399999997,0,0,11.793156,7590.1931331600017,48191.434746840001,null,0,0,0,0,0,null,0,0.8639302325581395,0,0,0,0,null,0,0.8639302325581395,0,0,0,0,null,0,0.8639302325581395,0,0,0,0,null,0,0.8639302325581395,0,0,0,0,null,0,0.8639302325581395,0,0,0,0,{"$f":"IF(ISERROR(VLOOKUP(A33,'7ª MEDIÇÃO'!$A$5:$J$1048576,8,0)),0,(VLOOKUP(A33,'7ª MEDIÇÃO'!$A$5:$J$1048576,8,0)))","v":0},0,0.8639302325581395,0,0,0,0,{"$f":"IF(ISERROR(VLOOKUP(A33,'8ª MEDIÇÃO'!$A$5:$J$1048576,8,0)),0,(VLOOKUP(A33,'8ª MEDIÇÃO'!$A$5:$J$1048576,8,0)))","v":0},0,0.8639302325581395,0,0,0,0,{"$f":"IF(ISERROR(VLOOKUP(A33,'9ª MEDIÇÃO'!$A$5:$J$1048576,8,0)),0,(VLOOKUP(A33,'9ª MEDIÇÃO'!$A$5:$J$1048576,8,0)))","v":0},0,0.8639302325581395,0,0,0,0,{"$f":"IF(ISERROR(VLOOKUP(A33,#REF!,8,0)),0,(VLOOKUP(A33,#REF!,8,0)))","v":0},0,0.8639302325581395,0,0,0,0,{"$f":"IF(ISERROR(VLOOKUP($A33,#REF!,8,0)),0,(VLOOKUP($A33,#REF!,8,0)))","v":0},0,0.8639302325581395,0,0,0,0,{"$f":"IF(ISERROR(VLOOKUP($A33,#REF!,8,0)),0,(VLOOKUP($A33,#REF!,8,0)))","v":0},0,0.8639302325581395,0,0,0,0,{"$f":"IF(ISERROR(VLOOKUP($A33,#REF!,8,0)),0,(VLOOKUP($A33,#REF!,8,0)))","v":0},0,0.8639302325581395,0,0,0,0,{"$f":"IF(ISERROR(VLOOKUP($A33,#REF!,8,0)),0,(VLOOKUP($A33,#REF!,8,0)))","v":0},0,0.8639302325581395,0,0,0,0,{"$f":"IF(ISERROR(VLOOKUP($A33,#REF!,8,0)),0,(VLOOKUP($A33,#REF!,8,0)))","v":0},0,0.8639302325581395,0,0,0,0,{"$f":"IF(ISERROR(VLOOKUP($A33,#REF!,8,0)),0,(VLOOKUP($A33,#REF!,8,0)))","v":0},0,0.8639302325581395,0,0,0,0,{"$f":"IF(ISERROR(VLOOKUP($A33,#REF!,8,0)),0,(VLOOKUP($A33,#REF!,8,0)))","v":0},0,0.8639302325581395,0,0,0,0,{"$f":"IF(ISERROR(VLOOKUP($A33,#REF!,8,0)),0,(VLOOKUP($A33,#REF!,8,0)))","v":0},0,0.8639302325581395,0,0,0,0,{"$f":"IF(ISERROR(VLOOKUP($A33,#REF!,8,0)),0,(VLOOKUP($A33,#REF!,8,0)))","v":0},0,0.8639302325581395,0,0,0,0,{"$f":"IF(ISERROR(VLOOKUP($A33,#REF!,8,0)),0,(VLOOKUP($A33,#REF!,8,0)))","v":0},0,0.8639302325581395,0,0,0,0,{"$f":"IF(ISERROR(VLOOKUP($A33,#REF!,8,0)),0,(VLOOKUP($A33,#REF!,8,0)))","v":0},0,0.8639302325581395,0,0,0,0,{"$f":"IF(ISERROR(VLOOKUP($A33,#REF!,8,0)),0,(VLOOKUP($A33,#REF!,8,0)))","v":0},0,0.8639302325581395,0,0,0,0,{"$f":"IF(ISERROR(VLOOKUP($A33,#REF!,8,0)),0,(VLOOKUP($A33,#REF!,8,0)))","v":0},0,0.8639302325581395,0,0,0,0,{"$f":"IF(ISERROR(VLOOKUP($A33,#REF!,8,0)),0,(VLOOKUP($A33,#REF!,8,0)))","v":0},0,0.8639302325581395,0,0,0,0,{"$f":"IF(ISERROR(VLOOKUP($A33,#REF!,8,0)),0,(VLOOKUP($A33,#REF!,8,0)))","v":0},0,0.8639302325581395,0,0,0,0,{"$f":"IF(ISERROR(VLOOKUP($A33,#REF!,8,0)),0,(VLOOKUP($A33,#REF!,8,0)))","v":0},0,0.8639302325581395,0,0,0,0,{"$f":"IF(ISERROR(VLOOKUP($A33,#REF!,8,0)),0,(VLOOKUP($A33,#REF!,8,0)))","v":0},0,0.8639302325581395,0,0,0,0,{"$f":"IF(ISERROR(VLOOKUP($A33,#REF!,8,0)),0,(VLOOKUP($A33,#REF!,8,0)))","v":0},0,0.8639302325581395,0,0,0,0,{"$f":"IF(ISERROR(VLOOKUP($A33,#REF!,8,0)),0,(VLOOKUP($A33,#REF!,8,0)))","v":0},0,0.8639302325581395,0,0,0,0,{"$f":"IF(ISERROR(VLOOKUP($A33,#REF!,8,0)),0,(VLOOKUP($A33,#REF!,8,0)))","v":0},0,0.8639302325581395,0,0,0,0,{"$f":"IF(ISERROR(VLOOKUP($A33,#REF!,8,0)),0,(VLOOKUP($A33,#REF!,8,0)))","v":0},0,0.8639302325581395,0,0,0,0,{"$f":"IF(ISERROR(VLOOKUP($A33,#REF!,8,0)),0,(VLOOKUP($A33,#REF!,8,0)))","v":0},0,0.8639302325581395,0,0,0,0,{"$f":"IF(ISERROR(VLOOKUP($A33,#REF!,8,0)),0,(VLOOKUP($A33,#REF!,8,0)))","v":0},0,0.8639302325581395,0,0,0,0,{"$f":"IF(ISERROR(VLOOKUP($A33,#REF!,8,0)),0,(VLOOKUP($A33,#REF!,8,0)))","v":0},0,0.8639302325581395,0,0,0,0,{"$f":"IF(ISERROR(VLOOKUP($A33,#REF!,8,0)),0,(VLOOKUP($A33,#REF!,8,0)))","v":0},0,0.8639302325581395,0,0,0,0,{"$f":"IF(ISERROR(VLOOKUP($A33,#REF!,8,0)),0,(VLOOKUP($A33,#REF!,8,0)))","v":0},0,0.8639302325581395,0,0,0,0,{"$f":"IF(ISERROR(VLOOKUP($A33,#REF!,8,0)),0,(VLOOKUP($A33,#REF!,8,0)))","v":0},0,0.8639302325581395,0,0,0,0,{"$f":"IF(ISERROR(VLOOKUP($A33,#REF!,8,0)),0,(VLOOKUP($A33,#REF!,8,0)))","v":0},0,0.8639302325581395,0,0,0,0,{"$f":"IF(ISERROR(VLOOKUP($A33,#REF!,8,0)),0,(VLOOKUP($A33,#REF!,8,0)))","v":0},0,0.8639302325581395,0,0,0,0,{"$f":"IF(ISERROR(VLOOKUP($A33,#REF!,8,0)),0,(VLOOKUP($A33,#REF!,8,0)))","v":0},0,0.8639302325581395,0,0,0,0,{"$f":"IF(ISERROR(VLOOKUP($A33,#REF!,8,0)),0,(VLOOKUP($A33,#REF!,8,0)))","v":0},0,0.8639302325581395,0,0,0,0,{"$f":"IF(ISERROR(VLOOKUP($A33,#REF!,8,0)),0,(VLOOKUP($A33,#REF!,8,0)))","v":0},0,0.8639302325581395,0,0,0,0,{"$f":"IF(ISERROR(VLOOKUP($A33,#REF!,8,0)),0,(VLOOKUP($A33,#REF!,8,0)))","v":0},0,0.8639302325581395,0,0,0,0,{"$f":"IF(ISERROR(VLOOKUP($A33,#REF!,8,0)),0,(VLOOKUP($A33,#REF!,8,0)))","v":0},0,0.8639302325581395,0,0,0,0,{"$f":"IF(ISERROR(VLOOKUP($A33,#REF!,8,0)),0,(VLOOKUP($A33,#REF!,8,0)))","v":0},0,0.8639302325581395,0,0,0,0,{"$f":"IF(ISERROR(VLOOKUP($A33,#REF!,8,0)),0,(VLOOKUP($A33,#REF!,8,0)))","v":0},0,0.8639302325581395,0,0,0,0,{"$f":"IF(ISERROR(VLOOKUP($A33,#REF!,8,0)),0,(VLOOKUP($A33,#REF!,8,0)))","v":0},0,0.8639302325581395,0,0,0,0,{"$f":"IF(ISERROR(VLOOKUP($A33,#REF!,8,0)),0,(VLOOKUP($A33,#REF!,8,0)))","v":0},0,0.8639302325581395,0,0,0,0,{"$f":"IF(ISERROR(VLOOKUP($A33,#REF!,8,0)),0,(VLOOKUP($A33,#REF!,8,0)))","v":0},0,0.8639302325581395,0,0,0,0,{"$f":"IF(ISERROR(VLOOKUP($A33,#REF!,8,0)),0,(VLOOKUP($A33,#REF!,8,0)))","v":0},0,0.8639302325581395,0,0,0,0,{"$f":"IF(ISERROR(VLOOKUP($A33,#REF!,8,0)),0,(VLOOKUP($A33,#REF!,8,0)))","v":0},0,0.8639302325581395,0,0,0,0,{"$f":"IF(ISERROR(VLOOKUP($A33,#REF!,8,0)),0,(VLOOKUP($A33,#REF!,8,0)))","v":0},0,0.8639302325581395,0,0,0,0,{"$f":"IF(ISERROR(VLOOKUP($A33,#REF!,8,0)),0,(VLOOKUP($A33,#REF!,8,0)))","v":0},0,0.8639302325581395,0,0,0,0,{"$f":"IF(ISERROR(VLOOKUP($A33,#REF!,8,0)),0,(VLOOKUP($A33,#REF!,8,0)))","v":0},0,0.8639302325581395,0,0,0,0,{"$f":"IF(ISERROR(VLOOKUP($A33,#REF!,8,0)),0,(VLOOKUP($A33,#REF!,8,0)))","v":0},0,0.8639302325581395,0,0,0,0,48191.434746840001,48191.434746840001,1,0]
["1.23","Locação de um guincho coluna capacidade 400kg monofásico, incluindo montagem e desmontagem. (Guincho foguete)","mês",12,5.5,6.5,0,0,227.49028000000001,2729.8833600000003,0,0,227.49028000000001,1478.6868200000001,1251.1965400000001,null,0,0,0,0,0,null,0,0.45833333333333331,0,0,0,0,null,0,0.45833333333333331,0,0,0,0,null,0,0.45833333333333331,0,0,0,0,null,0,0.45833333333333331,0,0,0,0,null,0,0.45833333333333331,0,0,0,0,{"$f":"IF(ISERROR(VLOOKUP(A34,'7ª MEDIÇÃO'!$A$5:$J$1048576,8,0)),0,(VLOOKUP(A34,'7ª MEDIÇÃO'!$A$5:$J$1048576,8,0)))","v":0},0,0.45833333333333331,0,0,0,0,{"$f":"IF(ISERROR(VLOOKUP(A34,'8ª MEDIÇÃO'!$A$5:$J$1048576,8,0)),0,(VLOOKUP(A34,'8ª MEDIÇÃO'!$A$5:$J$1048576,8,0)))","v":0},0,0.45833333333333331,0,0,0,0,{"$f":"IF(ISERROR(VLOOKUP(A34,'9ª MEDIÇÃO'!$A$5:$J$1048576,8,0)),0,(VLOOKUP(A34,'9ª MEDIÇÃO'!$A$5:$J$1048576,8,0)))","v":0},0,0.45833333333333331,0,0,0,0,{"$f":"IF(ISERROR(VLOOKUP(A34,#REF!,8,0)),0,(VLOOKUP(A34,#REF!,8,0)))","v":0},0,0.45833333333333331,0,0,0,0,{"$f":"IF(ISERROR(VLOOKUP($A34,#REF!,8,0)),0,(VLOOKUP($A34,#REF!,8,0)))","v":0},0,0.45833333333333331,0,0,0,0,{"$f":"IF(ISERROR(VLOOKUP($A34,#REF!,8,0)),0,(VLOOKUP($A34,#REF!,8,0)))","v":0},0,0.45833333333333331,0,0,0,0,{"$f":"IF(ISERROR(VLOOKUP($A34,#REF!,8,0)),0,(VLOOKUP($A34,#REF!,8,0)))","v":0},0,0.45833333333333331,0,0,0,0,{"$f":"IF(ISERROR(VLOOKUP($A34,#REF!,8,0)),0,(VLOOKUP($A34,#REF!,8,0)))","v":0},0,0.45833333333333331,0,0,0,0,{"$f":"IF(ISERROR(VLOOKUP($A34,#REF!,8,0)),0,(VLOOKUP($A34,#REF!,8,0)))","v":0},0,0.45833333333333331,0,0,0,0,{"$f":"IF(ISERROR(VLOOKUP($A34,#REF!,8,0)),0,(VLOOKUP($A34,#REF!,8,0)))","v":0},0,0.45833333333333331,0,0,0,0,{"$f":"IF(ISERROR(VLOOKUP($A34,#REF!,8,0)),0,(VLOOKUP($A34,#REF!,8,0)))","v":0},0,0.45833333333333331,0,0,0,0,{"$f":"IF(ISERROR(VLOOKUP($A34,#REF!,8,0)),0,(VLOOKUP($A34,#REF!,8,0)))","v":0},0,0.45833333333333331,0,0,0,0,{"$f":"IF(ISERROR(VLOOKUP($A34,#REF!,8,0)),0,(VLOOKUP($A34,#REF!,8,0)))","v":0},0,0.45833333333333331,0,0,0,{"$f":"ROUND($M34*EK34,2)","v":0},{"$f":"IF(ISERROR(VLOOKUP($A34,#REF!,8,0)),0,(VLOOKUP($A34,#REF!,8,0)))","v":0},0,0.45833333333333331,0,0,0,0,{"$f":"IF(ISERROR(VLOOKUP($A34,#REF!,8,0)),0,(VLOOKUP($A34,#REF!,8,0)))","v":0},0,0.45833333333333331,0,0,0,0,{"$f":"IF(ISERROR(VLOOKUP($A34,#REF!,8,0)),0,(VLOOKUP($A34,#REF!,8,0)))","v":0},0,0.45833333333333331,0,0,0,0,{"$f":"IF(ISERROR(VLOOKUP($A34,#REF!,8,0)),0,(VLOOKUP($A34,#REF!,8,0)))","v":0},0,0.45833333333333331,0,0,0,0,{"$f":"IF(ISERROR(VLOOKUP($A34,#REF!,8,0)),0,(VLOOKUP($A34,#REF!,8,0)))","v":0},0,0.45833333333333331,0,0,0,0,{"$f":"IF(ISERROR(VLOOKUP($A34,#REF!,8,0)),0,(VLOOKUP($A34,#REF!,8,0)))","v":0},0,0.45833333333333331,0,0,0,0,{"$f":"IF(ISERROR(VLOOKUP($A34,#REF!,8,0)),0,(VLOOKUP($A34,#REF!,8,0)))","v":0},0,0.45833333333333331,0,0,0,0,{"$f":"IF(ISERROR(VLOOKUP($A34,#REF!,8,0)),0,(VLOOKUP($A34,#REF!,8,0)))","v":0},0,0.45833333333333331,0,0,0,0,{"$f":"IF(ISERROR(VLOOKUP($A34,#REF!,8,0)),0,(VLOOKUP($A34,#REF!,8,0)))","v":0},0,0.45833333333333331,0,0,0,0,{"$f":"IF(ISERROR(VLOOKUP($A34,#REF!,8,0)),0,(VLOOKUP($A34,#REF!,8,0)))","v":0},0,0.45833333333333331,0,0,0,0,{"$f":"IF(ISERROR(VLOOKUP($A34,#REF!,8,0)),0,(VLOOKUP($A34,#REF!,8,0)))","v":0},0,0.45833333333333331,0,0,0,0,{"$f":"IF(ISERROR(VLOOKUP($A34,#REF!,8,0)),0,(VLOOKUP($A34,#REF!,8,0)))","v":0},0,0.45833333333333331,0,0,0,0,{"$f":"IF(ISERROR(VLOOKUP($A34,#REF!,8,0)),0,(VLOOKUP($A34,#REF!,8,0)))","v":0},0,0.45833333333333331,0,0,0,0,{"$f":"IF(ISERROR(VLOOKUP($A34,#REF!,8,0)),0,(VLOOKUP($A34,#REF!,8,0)))","v":0},0,0.45833333333333331,0,0,0,0,{"$f":"IF(ISERROR(VLOOKUP($A34,#REF!,8,0)),0,(VLOOKUP($A34,#REF!,8,0)))","v":0},0,0.45833333333333331,0,0,0,0,{"$f":"IF(ISERROR(VLOOKUP($A34,#REF!,8,0)),0,(VLOOKUP($A34,#REF!,8,0)))","v":0},0,0.45833333333333331,0,0,0,0,{"$f":"IF(ISERROR(VLOOKUP($A34,#REF!,8,0)),0,(VLOOKUP($A34,#REF!,8,0)))","v":0},0,0.45833333333333331,0,0,0,0,{"$f":"IF(ISERROR(VLOOKUP($A34,#REF!,8,0)),0,(VLOOKUP($A34,#REF!,8,0)))","v":0},0,0.45833333333333331,0,0,0,0,{"$f":"IF(ISERROR(VLOOKUP($A34,#REF!,8,0)),0,(VLOOKUP($A34,#REF!,8,0)))","v":0},0,0.45833333333333331,0,0,0,0,{"$f":"IF(ISERROR(VLOOKUP($A34,#REF!,8,0)),0,(VLOOKUP($A34,#REF!,8,0)))","v":0},0,0.45833333333333331,0,0,0,0,{"$f":"IF(ISERROR(VLOOKUP($A34,#REF!,8,0)),0,(VLOOKUP($A34,#REF!,8,0)))","v":0},0,0.45833333333333331,0,0,0,0,{"$f":"IF(ISERROR(VLOOKUP($A34,#REF!,8,0)),0,(VLOOKUP($A34,#REF!,8,0)))","v":0},0,0.45833333333333331,0,0,0,0,{"$f":"IF(ISERROR(VLOOKUP($A34,#REF!,8,0)),0,(VLOOKUP($A34,#REF!,8,0)))","v":0},0,0.45833333333333331,0,0,0,0,{"$f":"IF(ISERROR(VLOOKUP($A34,#REF!,8,0)),0,(VLOOKUP($A34,#REF!,8,0)))","v":0},0,0.45833333333333331,0,0,0,0,{"$f":"IF(ISERROR(VLOOKUP($A34,#REF!,8,0)),0,(VLOOKUP($A34,#REF!,8,0)))","v":0},0,0.45833333333333331,0,0,0,0,{"$f":"IF(ISERROR(VLOOKUP($A34,#REF!,8,0)),0,(VLOOKUP($A34,#REF!,8,0)))","v":0},0,0.45833333333333331,0,0,0,0,{"$f":"IF(ISERROR(VLOOKUP($A34,#REF!,8,0)),0,(VLOOKUP($A34,#REF!,8,0)))","v":0},0,0.45833333333333331,0,0,0,0,{"$f":"IF(ISERROR(VLOOKUP($A34,#REF!,8,0)),0,(VLOOKUP($A34,#REF!,8,0)))","v":0},0,0.45833333333333331,0,0,0,0,{"$f":"IF(ISERROR(VLOOKUP($A34,#REF!,8,0)),0,(VLOOKUP($A34,#REF!,8,0)))","v":0},0,0.45833333333333331,0,0,0,0,{"$f":"IF(ISERROR(VLOOKUP($A34,#REF!,8,0)),0,(VLOOKUP($A34,#REF!,8,0)))","v":0},0,0.45833333333333331,0,0,0,0,{"$f":"IF(ISERROR(VLOOKUP($A34,#REF!,8,0)),0,(VLOOKUP($A34,#REF!,8,0)))","v":0},0,0.45833333333333331,0,0,0,0,{"$f":"IF(ISERROR(VLOOKUP($A34,#REF!,8,0)),0,(VLOOKUP($A34,#REF!,8,0)))","v":0},0,0.45833333333333331,0,0,0,0,{"$f":"IF(ISERROR(VLOOKUP($A34,#REF!,8,0)),0,(VLOOKUP($A34,#REF!,8,0)))","v":0},0,0.45833333333333331,0,0,0,0,{"$f":"IF(ISERROR(VLOOKUP($A34,#REF!,8,0)),0,(VLOOKUP($A34,#REF!,8,0)))","v":0},0,0.45833333333333331,0,0,0,0,{"$f":"IF(ISERROR(VLOOKUP($A34,#REF!,8,0)),0,(VLOOKUP($A34,#REF!,8,0)))","v":0},0,0.45833333333333331,0,0,0,0,{"$f":"IF(ISERROR(VLOOKUP($A34,#REF!,8,0)),0,(VLOOKUP($A34,#REF!,8,0)))","v":0},0,0.45833333333333331,0,0,0,0,1251.1965400000001,1251.1965400000001,1,0]
["1.24","Locação de andaime metálico tipo fachadeiro, incluindo montagem.  ","m²/mês",3784,3783.9999999999995,0,0,0,6.2448799999999993,23630.625919999999,0,0,6.2448799999999993,0,23630.625919999995,null,0,0,0,0,0,null,0,0.99999999999999989,0,0,0,0,null,0,0.99999999999999989,0,0,0,0,null,0,0.99999999999999989,0,0,0,0,null,0,0.99999999999999989,0,0,0,0,null,0,0.99999999999999989,0,0,0,0,{"$f":"IF(ISERROR(VLOOKUP(A35,'7ª MEDIÇÃO'!$A$5:$J$1048576,8,0)),0,(VLOOKUP(A35,'7ª MEDIÇÃO'!$A$5:$J$1048576,8,0)))","v":0},0,0.99999999999999989,0,0,0,0,{"$f":"IF(ISERROR(VLOOKUP(A35,'8ª MEDIÇÃO'!$A$5:$J$1048576,8,0)),0,(VLOOKUP(A35,'8ª MEDIÇÃO'!$A$5:$J$1048576,8,0)))","v":0},0,0.99999999999999989,0,0,0,0,{"$f":"IF(ISERROR(VLOOKUP(A35,'9ª MEDIÇÃO'!$A$5:$J$1048576,8,0)),0,(VLOOKUP(A35,'9ª MEDIÇÃO'!$A$5:$J$1048576,8,0)))","v":0},0,0.99999999999999989,0,0,0,0,{"$f":"IF(ISERROR(VLOOKUP(A35,#REF!,8,0)),0,(VLOOKUP(A35,#REF!,8,0)))","v":0},0,0.99999999999999989,0,0,0,0,{"$f":"IF(ISERROR(VLOOKUP($A35,#REF!,8,0)),0,(VLOOKUP($A35,#REF!,8,0)))","v":0},0,0.99999999999999989,0,0,0,0,{"$f":"IF(ISERROR(VLOOKUP($A35,#REF!,8,0)),0,(VLOOKUP($A35,#REF!,8,0)))","v":0},0,0.99999999999999989,0,0,0,0,{"$f":"IF(ISERROR(VLOOKUP($A35,#REF!,8,0)),0,(VLOOKUP($A35,#REF!,8,0)))","v":0},0,0.99999999999999989,0,0,0,0,{"$f":"IF(ISERROR(VLOOKUP($A35,#REF!,8,0)),0,(VLOOKUP($A35,#REF!,8,0)))","v":0},0,0.99999999999999989,0,0,0,0,{"$f":"IF(ISERROR(VLOOKUP($A35,#REF!,8,0)),0,(VLOOKUP($A35,#REF!,8,0)))","v":0},0,0.99999999999999989,0,0,0,0,{"$f":"IF(ISERROR(VLOOKUP($A35,#REF!,8,0)),0,(VLOOKUP($A35,#REF!,8,0)))","v":0},0,0.99999999999999989,0,0,0,0,{"$f":"IF(ISERROR(VLOOKUP($A35,#REF!,8,0)),0,(VLOOKUP($A35,#REF!,8,0)))","v":0},0,0.99999999999999989,0,0,0,0,{"$f":"IF(ISERROR(VLOOKUP($A35,#REF!,8,0)),0,(VLOOKUP($A35,#REF!,8,0)))","v":0},0,0.99999999999999989,0,0,0,0,{"$f":"IF(ISERROR(VLOOKUP($A35,#REF!,8,0)),0,(VLOOKUP($A35,#REF!,8,0)))","v":0},0,0.99999999999999989,0,0,0,0,{"$f":"IF(ISERROR(VLOOKUP($A35,#REF!,8,0)),0,(VLOOKUP($A35,#REF!,8,0)))","v":0},0,0.99999999999999989,0,0,0,0,{"$f":"IF(ISERROR(VLOOKUP($A35,#REF!,8,0)),0,(VLOOKUP($A35,#REF!,8,0)))","v":0},0,0.99999999999999989,0,0,0,0,{"$f":"IF(ISERROR(VLOOKUP($A35,#REF!,8,0)),0,(VLOOKUP($A35,#REF!,8,0)))","v":0},0,0.99999999999999989,0,0,0,0,{"$f":"IF(ISERROR(VLOOKUP($A35,#REF!,8,0)),0,(VLOOKUP($A35,#REF!,8,0)))","v":0},0,0.99999999999999989,0,0,0,0,{"$f":"IF(ISERROR(VLOOKUP($A35,#REF!,8,0)),0,(VLOOKUP($A35,#REF!,8,0)))","v":0},0,0.99999999999999989,0,0,0,0,{"$f":"IF(ISERROR(VLOOKUP($A35,#REF!,8,0)),0,(VLOOKUP($A35,#REF!,8,0)))","v":0},0,0.99999999999999989,0,0,0,0,{"$f":"IF(ISERROR(VLOOKUP($A35,#REF!,8,0)),0,(VLOOKUP($A35,#REF!,8,0)))","v":0},0,0.99999999999999989,0,0,0,0,{"$f":"IF(ISERROR(VLOOKUP($A35,#REF!,8,0)),0,(VLOOKUP($A35,#REF!,8,0)))","v":0},0,0.99999999999999989,0,0,0,0,{"$f":"IF(ISERROR(VLOOKUP($A35,#REF!,8,0)),0,(VLOOKUP($A35,#REF!,8,0)))","v":0},0,0.99999999999999989,0,0,0,0,{"$f":"IF(ISERROR(VLOOKUP($A35,#REF!,8,0)),0,(VLOOKUP($A35,#REF!,8,0)))","v":0},0,0.99999999999999989,0,0,0,0,{"$f":"IF(ISERROR(VLOOKUP($A35,#REF!,8,0)),0,(VLOOKUP($A35,#REF!,8,0)))","v":0},0,0.99999999999999989,0,0,0,0,{"$f":"IF(ISERROR(VLOOKUP($A35,#REF!,8,0)),0,(VLOOKUP($A35,#REF!,8,0)))","v":0},0,0.99999999999999989,0,0,0,0,{"$f":"IF(ISERROR(VLOOKUP($A35,#REF!,8,0)),0,(VLOOKUP($A35,#REF!,8,0)))","v":0},0,0.99999999999999989,0,0,0,0,{"$f":"IF(ISERROR(VLOOKUP($A35,#REF!,8,0)),0,(VLOOKUP($A35,#REF!,8,0)))","v":0},0,0.99999999999999989,0,0,0,0,{"$f":"IF(ISERROR(VLOOKUP($A35,#REF!,8,0)),0,(VLOOKUP($A35,#REF!,8,0)))","v":0},0,0.99999999999999989,0,0,0,0,{"$f":"IF(ISERROR(VLOOKUP($A35,#REF!,8,0)),0,(VLOOKUP($A35,#REF!,8,0)))","v":0},0,0.99999999999999989,0,0,0,0,{"$f":"IF(ISERROR(VLOOKUP($A35,#REF!,8,0)),0,(VLOOKUP($A35,#REF!,8,0)))","v":0},0,0.99999999999999989,0,0,0,0,{"$f":"IF(ISERROR(VLOOKUP($A35,#REF!,8,0)),0,(VLOOKUP($A35,#REF!,8,0)))","v":0},0,0.99999999999999989,0,0,0,0,{"$f":"IF(ISERROR(VLOOKUP($A35,#REF!,8,0)),0,(VLOOKUP($A35,#REF!,8,0)))","v":0},0,0.99999999999999989,0,0,0,0,{"$f":"IF(ISERROR(VLOOKUP($A35,#REF!,8,0)),0,(VLOOKUP($A35,#REF!,8,0)))","v":0},0,0.99999999999999989,0,0,0,0,{"$f":"IF(ISERROR(VLOOKUP($A35,#REF!,8,0)),0,(VLOOKUP($A35,#REF!,8,0)))","v":0},0,0.99999999999999989,0,0,0,0,{"$f":"IF(ISERROR(VLOOKUP($A35,#REF!,8,0)),0,(VLOOKUP($A35,#REF!,8,0)))","v":0},0,0.99999999999999989,0,0,0,0,{"$f":"IF(ISERROR(VLOOKUP($A35,#REF!,8,0)),0,(VLOOKUP($A35,#REF!,8,0)))","v":0},0,0.99999999999999989,0,0,0,0,{"$f":"IF(ISERROR(VLOOKUP($A35,#REF!,8,0)),0,(VLOOKUP($A35,#REF!,8,0)))","v":0},0,0.99999999999999989,0,0,0,0,{"$f":"IF(ISERROR(VLOOKUP($A35,#REF!,8,0)),0,(VLOOKUP($A35,#REF!,8,0)))","v":0},0,0.99999999999999989,0,0,0,0,{"$f":"IF(ISERROR(VLOOKUP($A35,#REF!,8,0)),0,(VLOOKUP($A35,#REF!,8,0)))","v":0},0,0.99999999999999989,0,0,0,0,{"$f":"IF(ISERROR(VLOOKUP($A35,#REF!,8,0)),0,(VLOOKUP($A35,#REF!,8,0)))","v":0},0,0.99999999999999989,0,0,0,0,{"$f":"IF(ISERROR(VLOOKUP($A35,#REF!,8,0)),0,(VLOOKUP($A35,#REF!,8,0)))","v":0},0,0.99999999999999989,0,0,0,0,{"$f":"IF(ISERROR(VLOOKUP($A35,#REF!,8,0)),0,(VLOOKUP($A35,#REF!,8,0)))","v":0},0,0.99999999999999989,0,0,0,0,{"$f":"IF(ISERROR(VLOOKUP($A35,#REF!,8,0)),0,(VLOOKUP($A35,#REF!,8,0)))","v":0},0,0.99999999999999989,0,0,0,0,{"$f":"IF(ISERROR(VLOOKUP($A35,#REF!,8,0)),0,(VLOOKUP($A35,#REF!,8,0)))","v":0},0,0.99999999999999989,0,0,0,0,{"$f":"IF(ISERROR(VLOOKUP($A35,#REF!,8,0)),0,(VLOOKUP($A35,#REF!,8,0)))","v":0},0,0.99999999999999989,0,0,0,0,{"$f":"IF(ISERROR(VLOOKUP($A35,#REF!,8,0)),0,(VLOOKUP($A35,#REF!,8,0)))","v":0},0,0.99999999999999989,0,0,0,0,{"$f":"IF(ISERROR(VLOOKUP($A35,#REF!,8,0)),0,(VLOOKUP($A35,#REF!,8,0)))","v":0},0,0.99999999999999989,0,0,0,0,{"$f":"IF(ISERROR(VLOOKUP($A35,#REF!,8,0)),0,(VLOOKUP($A35,#REF!,8,0)))","v":0},0,0.99999999999999989,0,0,0,0,{"$f":"IF(ISERROR(VLOOKUP($A35,#REF!,8,0)),0,(VLOOKUP($A35,#REF!,8,0)))","v":0},0,0.99999999999999989,0,0,0,0,23630.625919999995,23630.625919999995,1,0]
["1.25","Desmontagem de andaimes do tipo fachadeiro inclusive carregamento, descarregamento e transporte posto/obra","m²",3784,3783.9999999999991,0,0,0,2.84876,10779.707839999999,0,0,2.84876,0,10779.707839999997,null,0,0,0,0,0,null,0,0.99999999999999978,0,0,0,0,null,0,0.99999999999999978,0,0,0,0,null,0,0.99999999999999978,0,0,0,0,null,0,0.99999999999999978,0,0,0,0,null,0,0.99999999999999978,0,0,0,0,{"$f":"IF(ISERROR(VLOOKUP(A36,'7ª MEDIÇÃO'!$A$5:$J$1048576,8,0)),0,(VLOOKUP(A36,'7ª MEDIÇÃO'!$A$5:$J$1048576,8,0)))","v":0},0,0.99999999999999978,0,0,0,0,{"$f":"IF(ISERROR(VLOOKUP(A36,'8ª MEDIÇÃO'!$A$5:$J$1048576,8,0)),0,(VLOOKUP(A36,'8ª MEDIÇÃO'!$A$5:$J$1048576,8,0)))","v":0},0,0.99999999999999978,0,0,0,0,{"$f":"IF(ISERROR(VLOOKUP(A36,'9ª MEDIÇÃO'!$A$5:$J$1048576,8,0)),0,(VLOOKUP(A36,'9ª MEDIÇÃO'!$A$5:$J$1048576,8,0)))","v":0},0,0.99999999999999978,0,0,0,0,{"$f":"IF(ISERROR(VLOOKUP(A36,#REF!,8,0)),0,(VLOOKUP(A36,#REF!,8,0)))","v":0},0,0.99999999999999978,0,0,0,0,{"$f":"IF(ISERROR(VLOOKUP($A36,#REF!,8,0)),0,(VLOOKUP($A36,#REF!,8,0)))","v":0},0,0.99999999999999978,0,0,0,0,{"$f":"IF(ISERROR(VLOOKUP($A36,#REF!,8,0)),0,(VLOOKUP($A36,#REF!,8,0)))","v":0},0,0.99999999999999978,0,0,0,0,{"$f":"IF(ISERROR(VLOOKUP($A36,#REF!,8,0)),0,(VLOOKUP($A36,#REF!,8,0)))","v":0},0,0.99999999999999978,0,0,0,0,{"$f":"IF(ISERROR(VLOOKUP($A36,#REF!,8,0)),0,(VLOOKUP($A36,#REF!,8,0)))","v":0},0,0.99999999999999978,0,0,0,0,{"$f":"IF(ISERROR(VLOOKUP($A36,#REF!,8,0)),0,(VLOOKUP($A36,#REF!,8,0)))","v":0},0,0.99999999999999978,0,0,0,0,{"$f":"IF(ISERROR(VLOOKUP($A36,#REF!,8,0)),0,(VLOOKUP($A36,#REF!,8,0)))","v":0},0,0.99999999999999978,0,0,0,0,{"$f":"IF(ISERROR(VLOOKUP($A36,#REF!,8,0)),0,(VLOOKUP($A36,#REF!,8,0)))","v":0},0,0.99999999999999978,0,0,0,0,{"$f":"IF(ISERROR(VLOOKUP($A36,#REF!,8,0)),0,(VLOOKUP($A36,#REF!,8,0)))","v":0},0,0.99999999999999978,0,0,0,0,{"$f":"IF(ISERROR(VLOOKUP($A36,#REF!,8,0)),0,(VLOOKUP($A36,#REF!,8,0)))","v":0},{"$f":"IF($D36>0,EK36/$D36,0)","v":0},{"$f":"IF($E36>0,$E36/$D36,0)","v":0.99999999999999978},{"$f":"EK36*$G36","v":0},{"$f":"$I36*EK36","v":0},{"$f":"$K36*EK36","v":0},{"$f":"ROUND($M36*EK36,2)","v":0},{"$f":"IF(ISERROR(VLOOKUP($A36,#REF!,8,0)),0,(VLOOKUP($A36,#REF!,8,0)))","v":0},0,0.99999999999999978,0,0,0,0,{"$f":"IF(ISERROR(VLOOKUP($A36,#REF!,8,0)),0,(VLOOKUP($A36,#REF!,8,0)))","v":0},0,0.99999999999999978,0,0,0,0,{"$f":"IF(ISERROR(VLOOKUP($A36,#REF!,8,0)),0,(VLOOKUP($A36,#REF!,8,0)))","v":0},0,0.99999999999999978,0,0,0,0,{"$f":"IF(ISERROR(VLOOKUP($A36,#REF!,8,0)),0,(VLOOKUP($A36,#REF!,8,0)))","v":0},0,0.99999999999999978,0,0,0,0,{"$f":"IF(ISERROR(VLOOKUP($A36,#REF!,8,0)),0,(VLOOKUP($A36,#REF!,8,0)))","v":0},0,0.99999999999999978,0,0,0,0,{"$f":"IF(ISERROR(VLOOKUP($A36,#REF!,8,0)),0,(VLOOKUP($A36,#REF!,8,0)))","v":0},0,0.99999999999999978,0,0,0,0,{"$f":"IF(ISERROR(VLOOKUP($A36,#REF!,8,0)),0,(VLOOKUP($A36,#REF!,8,0)))","v":0},0,0.99999999999999978,0,0,0,0,{"$f":"IF(ISERROR(VLOOKUP($A36,#REF!,8,0)),0,(VLOOKUP($A36,#REF!,8,0)))","v":0},0,0.99999999999999978,0,0,0,0,{"$f":"IF(ISERROR(VLOOKUP($A36,#REF!,8,0)),0,(VLOOKUP($A36,#REF!,8,0)))","v":0},0,0.99999999999999978,0,0,0,0,{"$f":"IF(ISERROR(VLOOKUP($A36,#REF!,8,0)),0,(VLOOKUP($A36,#REF!,8,0)))","v":0},0,0.99999999999999978,0,0,0,0,{"$f":"IF(ISERROR(VLOOKUP($A36,#REF!,8,0)),0,(VLOOKUP($A36,#REF!,8,0)))","v":0},0,0.99999999999999978,0,0,0,0,{"$f":"IF(ISERROR(VLOOKUP($A36,#REF!,8,0)),0,(VLOOKUP($A36,#REF!,8,0)))","v":0},0,0.99999999999999978,0,0,0,0,{"$f":"IF(ISERROR(VLOOKUP($A36,#REF!,8,0)),0,(VLOOKUP($A36,#REF!,8,0)))","v":0},0,0.99999999999999978,0,0,0,0,{"$f":"IF(ISERROR(VLOOKUP($A36,#REF!,8,0)),0,(VLOOKUP($A36,#REF!,8,0)))","v":0},0,0.99999999999999978,0,0,0,0,{"$f":"IF(ISERROR(VLOOKUP($A36,#REF!,8,0)),0,(VLOOKUP($A36,#REF!,8,0)))","v":0},0,0.99999999999999978,0,0,0,0,{"$f":"IF(ISERROR(VLOOKUP($A36,#REF!,8,0)),0,(VLOOKUP($A36,#REF!,8,0)))","v":0},0,0.99999999999999978,0,0,0,0,{"$f":"IF(ISERROR(VLOOKUP($A36,#REF!,8,0)),0,(VLOOKUP($A36,#REF!,8,0)))","v":0},0,0.99999999999999978,0,0,0,0,{"$f":"IF(ISERROR(VLOOKUP($A36,#REF!,8,0)),0,(VLOOKUP($A36,#REF!,8,0)))","v":0},0,0.99999999999999978,0,0,0,0,{"$f":"IF(ISERROR(VLOOKUP($A36,#REF!,8,0)),0,(VLOOKUP($A36,#REF!,8,0)))","v":0},0,0.99999999999999978,0,0,0,0,{"$f":"IF(ISERROR(VLOOKUP($A36,#REF!,8,0)),0,(VLOOKUP($A36,#REF!,8,0)))","v":0},0,0.99999999999999978,0,0,0,0,{"$f":"IF(ISERROR(VLOOKUP($A36,#REF!,8,0)),0,(VLOOKUP($A36,#REF!,8,0)))","v":0},0,0.99999999999999978,0,0,0,0,{"$f":"IF(ISERROR(VLOOKUP($A36,#REF!,8,0)),0,(VLOOKUP($A36,#REF!,8,0)))","v":0},0,0.99999999999999978,0,0,0,0,{"$f":"IF(ISERROR(VLOOKUP($A36,#REF!,8,0)),0,(VLOOKUP($A36,#REF!,8,0)))","v":0},0,0.99999999999999978,0,0,0,0,{"$f":"IF(ISERROR(VLOOKUP($A36,#REF!,8,0)),0,(VLOOKUP($A36,#REF!,8,0)))","v":0},0,0.99999999999999978,0,0,0,0,{"$f":"IF(ISERROR(VLOOKUP($A36,#REF!,8,0)),0,(VLOOKUP($A36,#REF!,8,0)))","v":0},0,0.99999999999999978,0,0,0,0,{"$f":"IF(ISERROR(VLOOKUP($A36,#REF!,8,0)),0,(VLOOKUP($A36,#REF!,8,0)))","v":0},0,0.99999999999999978,0,0,0,0,{"$f":"IF(ISERROR(VLOOKUP($A36,#REF!,8,0)),0,(VLOOKUP($A36,#REF!,8,0)))","v":0},0,0.99999999999999978,0,0,0,0,{"$f":"IF(ISERROR(VLOOKUP($A36,#REF!,8,0)),0,(VLOOKUP($A36,#REF!,8,0)))","v":0},0,0.99999999999999978,0,0,0,0,{"$f":"IF(ISERROR(VLOOKUP($A36,#REF!,8,0)),0,(VLOOKUP($A36,#REF!,8,0)))","v":0},0,0.99999999999999978,0,0,0,0,{"$f":"IF(ISERROR(VLOOKUP($A36,#REF!,8,0)),0,(VLOOKUP($A36,#REF!,8,0)))","v":0},0,0.99999999999999978,0,0,0,0,{"$f":"IF(ISERROR(VLOOKUP($A36,#REF!,8,0)),0,(VLOOKUP($A36,#REF!,8,0)))","v":0},0,0.99999999999999978,0,0,0,0,{"$f":"IF(ISERROR(VLOOKUP($A36,#REF!,8,0)),0,(VLOOKUP($A36,#REF!,8,0)))","v":0},0,0.99999999999999978,0,0,0,0,{"$f":"IF(ISERROR(VLOOKUP($A36,#REF!,8,0)),0,(VLOOKUP($A36,#REF!,8,0)))","v":0},0,0.99999999999999978,0,0,0,0,{"$f":"IF(ISERROR(VLOOKUP($A36,#REF!,8,0)),0,(VLOOKUP($A36,#REF!,8,0)))","v":0},0,0.99999999999999978,0,0,0,0,{"$f":"IF(ISERROR(VLOOKUP($A36,#REF!,8,0)),0,(VLOOKUP($A36,#REF!,8,0)))","v":0},0,0.99999999999999978,0,0,0,0,{"$f":"IF(ISERROR(VLOOKUP($A36,#REF!,8,0)),0,(VLOOKUP($A36,#REF!,8,0)))","v":0},0,0.99999999999999978,0,0,0,0,10779.707839999997,10779.707839999997,1,0]
["1.26","Aluguel mensal de balanças com 3,0m de comprimento cada, inclusive acessórios necessários para execução de serviço nas fachadas, bem como kit de segurança.","un",67,67,0,0,0,346.90183999999999,23242.423279999999,0,0,346.90183999999999,0,23242.423279999999,null,0,0,0,0,0,null,0,1,0,0,0,0,null,0,1,0,0,0,0,null,0,1,0,0,0,0,null,0,1,0,0,0,0,null,0,1,0,0,0,0,{"$f":"IF(ISERROR(VLOOKUP(A37,'7ª MEDIÇÃO'!$A$5:$J$1048576,8,0)),0,(VLOOKUP(A37,'7ª MEDIÇÃO'!$A$5:$J$1048576,8,0)))","v":0},0,1,0,0,0,0,{"$f":"IF(ISERROR(VLOOKUP(A37,'8ª MEDIÇÃO'!$A$5:$J$1048576,8,0)),0,(VLOOKUP(A37,'8ª MEDIÇÃO'!$A$5:$J$1048576,8,0)))","v":0},0,1,0,0,0,0,{"$f":"IF(ISERROR(VLOOKUP(A37,'9ª MEDIÇÃO'!$A$5:$J$1048576,8,0)),0,(VLOOKUP(A37,'9ª MEDIÇÃO'!$A$5:$J$1048576,8,0)))","v":0},0,1,0,0,0,0,{"$f":"IF(ISERROR(VLOOKUP(A37,#REF!,8,0)),0,(VLOOKUP(A37,#REF!,8,0)))","v":0},0,1,0,0,0,0,{"$f":"IF(ISERROR(VLOOKUP($A37,#REF!,8,0)),0,(VLOOKUP($A37,#REF!,8,0)))","v":0},0,1,0,0,0,0,{"$f":"IF(ISERROR(VLOOKUP($A37,#REF!,8,0)),0,(VLOOKUP($A37,#REF!,8,0)))","v":0},0,1,0,0,0,0,{"$f":"IF(ISERROR(VLOOKUP($A37,#REF!,8,0)),0,(VLOOKUP($A37,#REF!,8,0)))","v":0},0,1,0,0,0,0,{"$f":"IF(ISERROR(VLOOKUP($A37,#REF!,8,0)),0,(VLOOKUP($A37,#REF!,8,0)))","v":0},0,1,0,0,0,0,{"$f":"IF(ISERROR(VLOOKUP($A37,#REF!,8,0)),0,(VLOOKUP($A37,#REF!,8,0)))","v":0},0,1,0,0,0,0,{"$f":"IF(ISERROR(VLOOKUP($A37,#REF!,8,0)),0,(VLOOKUP($A37,#REF!,8,0)))","v":0},0,1,0,0,0,0,{"$f":"IF(ISERROR(VLOOKUP($A37,#REF!,8,0)),0,(VLOOKUP($A37,#REF!,8,0)))","v":0},0,1,0,0,0,0,{"$f":"IF(ISERROR(VLOOKUP($A37,#REF!,8,0)),0,(VLOOKUP($A37,#REF!,8,0)))","v":0},0,1,0,0,0,0,{"$f":"IF(ISERROR(VLOOKUP($A37,#REF!,8,0)),0,(VLOOKUP($A37,#REF!,8,0)))","v":0},0,1,0,0,0,0,{"$f":"IF(ISERROR(VLOOKUP($A37,#REF!,8,0)),0,(VLOOKUP($A37,#REF!,8,0)))","v":0},0,1,0,0,0,0,{"$f":"IF(ISERROR(VLOOKUP($A37,#REF!,8,0)),0,(VLOOKUP($A37,#REF!,8,0)))","v":0},0,1,0,0,0,0,{"$f":"IF(ISERROR(VLOOKUP($A37,#REF!,8,0)),0,(VLOOKUP($A37,#REF!,8,0)))","v":0},0,1,0,0,0,0,{"$f":"IF(ISERROR(VLOOKUP($A37,#REF!,8,0)),0,(VLOOKUP($A37,#REF!,8,0)))","v":0},0,1,0,0,0,0,{"$f":"IF(ISERROR(VLOOKUP($A37,#REF!,8,0)),0,(VLOOKUP($A37,#REF!,8,0)))","v":0},0,1,0,0,0,0,{"$f":"IF(ISERROR(VLOOKUP($A37,#REF!,8,0)),0,(VLOOKUP($A37,#REF!,8,0)))","v":0},0,1,0,0,0,0,{"$f":"IF(ISERROR(VLOOKUP($A37,#REF!,8,0)),0,(VLOOKUP($A37,#REF!,8,0)))","v":0},0,1,0,0,0,0,{"$f":"IF(ISERROR(VLOOKUP($A37,#REF!,8,0)),0,(VLOOKUP($A37,#REF!,8,0)))","v":0},0,1,0,0,0,0,{"$f":"IF(ISERROR(VLOOKUP($A37,#REF!,8,0)),0,(VLOOKUP($A37,#REF!,8,0)))","v":0},0,1,0,0,0,0,{"$f":"IF(ISERROR(VLOOKUP($A37,#REF!,8,0)),0,(VLOOKUP($A37,#REF!,8,0)))","v":0},0,1,0,0,0,0,{"$f":"IF(ISERROR(VLOOKUP($A37,#REF!,8,0)),0,(VLOOKUP($A37,#REF!,8,0)))","v":0},0,1,0,0,0,0,{"$f":"IF(ISERROR(VLOOKUP($A37,#REF!,8,0)),0,(VLOOKUP($A37,#REF!,8,0)))","v":0},0,1,0,0,0,0,{"$f":"IF(ISERROR(VLOOKUP($A37,#REF!,8,0)),0,(VLOOKUP($A37,#REF!,8,0)))","v":0},0,1,0,0,0,0,{"$f":"IF(ISERROR(VLOOKUP($A37,#REF!,8,0)),0,(VLOOKUP($A37,#REF!,8,0)))","v":0},0,1,0,0,0,0,{"$f":"IF(ISERROR(VLOOKUP($A37,#REF!,8,0)),0,(VLOOKUP($A37,#REF!,8,0)))","v":0},0,1,0,0,0,0,{"$f":"IF(ISERROR(VLOOKUP($A37,#REF!,8,0)),0,(VLOOKUP($A37,#REF!,8,0)))","v":0},0,1,0,0,0,0,{"$f":"IF(ISERROR(VLOOKUP($A37,#REF!,8,0)),0,(VLOOKUP($A37,#REF!,8,0)))","v":0},0,1,0,0,0,0,{"$f":"IF(ISERROR(VLOOKUP($A37,#REF!,8,0)),0,(VLOOKUP($A37,#REF!,8,0)))","v":0},0,1,0,0,0,0,{"$f":"IF(ISERROR(VLOOKUP($A37,#REF!,8,0)),0,(VLOOKUP($A37,#REF!,8,0)))","v":0},0,1,0,0,0,0,{"$f":"IF(ISERROR(VLOOKUP($A37,#REF!,8,0)),0,(VLOOKUP($A37,#REF!,8,0)))","v":0},0,1,0,0,0,0,{"$f":"IF(ISERROR(VLOOKUP($A37,#REF!,8,0)),0,(VLOOKUP($A37,#REF!,8,0)))","v":0},0,1,0,0,0,0,{"$f":"IF(ISERROR(VLOOKUP($A37,#REF!,8,0)),0,(VLOOKUP($A37,#REF!,8,0)))","v":0},0,1,0,0,0,0,{"$f":"IF(ISERROR(VLOOKUP($A37,#REF!,8,0)),0,(VLOOKUP($A37,#REF!,8,0)))","v":0},0,1,0,0,0,0,{"$f":"IF(ISERROR(VLOOKUP($A37,#REF!,8,0)),0,(VLOOKUP($A37,#REF!,8,0)))","v":0},0,1,0,0,0,0,{"$f":"IF(ISERROR(VLOOKUP($A37,#REF!,8,0)),0,(VLOOKUP($A37,#REF!,8,0)))","v":0},0,1,0,0,0,0,{"$f":"IF(ISERROR(VLOOKUP($A37,#REF!,8,0)),0,(VLOOKUP($A37,#REF!,8,0)))","v":0},0,1,0,0,0,0,{"$f":"IF(ISERROR(VLOOKUP($A37,#REF!,8,0)),0,(VLOOKUP($A37,#REF!,8,0)))","v":0},0,1,0,0,0,0,{"$f":"IF(ISERROR(VLOOKUP($A37,#REF!,8,0)),0,(VLOOKUP($A37,#REF!,8,0)))","v":0},0,1,0,0,0,0,{"$f":"IF(ISERROR(VLOOKUP($A37,#REF!,8,0)),0,(VLOOKUP($A37,#REF!,8,0)))","v":0},0,1,0,0,0,0,{"$f":"IF(ISERROR(VLOOKUP($A37,#REF!,8,0)),0,(VLOOKUP($A37,#REF!,8,0)))","v":0},0,1,0,0,0,0,{"$f":"IF(ISERROR(VLOOKUP($A37,#REF!,8,0)),0,(VLOOKUP($A37,#REF!,8,0)))","v":0},0,1,0,0,0,0,{"$f":"IF(ISERROR(VLOOKUP($A37,#REF!,8,0)),0,(VLOOKUP($A37,#REF!,8,0)))","v":0},0,1,0,0,0,0,{"$f":"IF(ISERROR(VLOOKUP($A37,#REF!,8,0)),0,(VLOOKUP($A37,#REF!,8,0)))","v":0},0,1,0,0,0,0,{"$f":"IF(ISERROR(VLOOKUP($A37,#REF!,8,0)),0,(VLOOKUP($A37,#REF!,8,0)))","v":0},0,1,0,0,0,0,{"$f":"IF(ISERROR(VLOOKUP($A37,#REF!,8,0)),0,(VLOOKUP($A37,#REF!,8,0)))","v":0},0,1,0,0,0,0,{"$f":"IF(ISERROR(VLOOKUP($A37,#REF!,8,0)),0,(VLOOKUP($A37,#REF!,8,0)))","v":0},0,1,0,0,0,0,23242.423279999999,23242.423279999999,1,0]
["1.27","Montagem da balança com três metros de comprimento cada, inclusive acessórios necessários para execução de serviço nas fachadas.","un",67,67,0,0,0,308.33784000000003,20658.635280000002,0,0,308.33784000000003,0,20658.635280000002,null,0,0,0,0,0,null,0,1,0,0,0,0,null,0,1,0,0,0,0,null,0,1,0,0,0,0,null,0,1,0,0,0,0,null,0,1,0,0,0,0,{"$f":"IF(ISERROR(VLOOKUP(A38,'7ª MEDIÇÃO'!$A$5:$J$1048576,8,0)),0,(VLOOKUP(A38,'7ª MEDIÇÃO'!$A$5:$J$1048576,8,0)))","v":0},0,1,0,0,0,0,{"$f":"IF(ISERROR(VLOOKUP(A38,'8ª MEDIÇÃO'!$A$5:$J$1048576,8,0)),0,(VLOOKUP(A38,'8ª MEDIÇÃO'!$A$5:$J$1048576,8,0)))","v":0},0,1,0,0,0,0,{"$f":"IF(ISERROR(VLOOKUP(A38,'9ª MEDIÇÃO'!$A$5:$J$1048576,8,0)),0,(VLOOKUP(A38,'9ª MEDIÇÃO'!$A$5:$J$1048576,8,0)))","v":0},0,1,0,0,0,0,{"$f":"IF(ISERROR(VLOOKUP(A38,#REF!,8,0)),0,(VLOOKUP(A38,#REF!,8,0)))","v":0},0,1,0,0,0,0,{"$f":"IF(ISERROR(VLOOKUP($A38,#REF!,8,0)),0,(VLOOKUP($A38,#REF!,8,0)))","v":0},0,1,0,0,0,0,{"$f":"IF(ISERROR(VLOOKUP($A38,#REF!,8,0)),0,(VLOOKUP($A38,#REF!,8,0)))","v":0},0,1,0,0,0,0,{"$f":"IF(ISERROR(VLOOKUP($A38,#REF!,8,0)),0,(VLOOKUP($A38,#REF!,8,0)))","v":0},0,1,0,0,0,0,{"$f":"IF(ISERROR(VLOOKUP($A38,#REF!,8,0)),0,(VLOOKUP($A38,#REF!,8,0)))","v":0},0,1,0,0,0,0,{"$f":"IF(ISERROR(VLOOKUP($A38,#REF!,8,0)),0,(VLOOKUP($A38,#REF!,8,0)))","v":0},0,1,0,0,0,0,{"$f":"IF(ISERROR(VLOOKUP($A38,#REF!,8,0)),0,(VLOOKUP($A38,#REF!,8,0)))","v":0},0,1,0,0,0,0,{"$f":"IF(ISERROR(VLOOKUP($A38,#REF!,8,0)),0,(VLOOKUP($A38,#REF!,8,0)))","v":0},0,1,0,0,0,0,{"$f":"IF(ISERROR(VLOOKUP($A38,#REF!,8,0)),0,(VLOOKUP($A38,#REF!,8,0)))","v":0},0,1,0,0,0,0,{"$f":"IF(ISERROR(VLOOKUP($A38,#REF!,8,0)),0,(VLOOKUP($A38,#REF!,8,0)))","v":0},0,1,0,0,0,0,{"$f":"IF(ISERROR(VLOOKUP($A38,#REF!,8,0)),0,(VLOOKUP($A38,#REF!,8,0)))","v":0},0,1,0,0,0,0,{"$f":"IF(ISERROR(VLOOKUP($A38,#REF!,8,0)),0,(VLOOKUP($A38,#REF!,8,0)))","v":0},0,1,0,0,0,0,{"$f":"IF(ISERROR(VLOOKUP($A38,#REF!,8,0)),0,(VLOOKUP($A38,#REF!,8,0)))","v":0},0,1,0,0,0,0,{"$f":"IF(ISERROR(VLOOKUP($A38,#REF!,8,0)),0,(VLOOKUP($A38,#REF!,8,0)))","v":0},0,1,0,0,0,0,{"$f":"IF(ISERROR(VLOOKUP($A38,#REF!,8,0)),0,(VLOOKUP($A38,#REF!,8,0)))","v":0},0,1,0,0,0,0,{"$f":"IF(ISERROR(VLOOKUP($A38,#REF!,8,0)),0,(VLOOKUP($A38,#REF!,8,0)))","v":0},0,1,0,0,0,0,{"$f":"IF(ISERROR(VLOOKUP($A38,#REF!,8,0)),0,(VLOOKUP($A38,#REF!,8,0)))","v":0},0,1,0,0,0,0,{"$f":"IF(ISERROR(VLOOKUP($A38,#REF!,8,0)),0,(VLOOKUP($A38,#REF!,8,0)))","v":0},0,1,0,0,0,0,{"$f":"IF(ISERROR(VLOOKUP($A38,#REF!,8,0)),0,(VLOOKUP($A38,#REF!,8,0)))","v":0},0,1,0,0,0,0,{"$f":"IF(ISERROR(VLOOKUP($A38,#REF!,8,0)),0,(VLOOKUP($A38,#REF!,8,0)))","v":0},0,1,0,0,0,0,{"$f":"IF(ISERROR(VLOOKUP($A38,#REF!,8,0)),0,(VLOOKUP($A38,#REF!,8,0)))","v":0},0,1,0,0,0,0,{"$f":"IF(ISERROR(VLOOKUP($A38,#REF!,8,0)),0,(VLOOKUP($A38,#REF!,8,0)))","v":0},0,1,0,0,0,0,{"$f":"IF(ISERROR(VLOOKUP($A38,#REF!,8,0)),0,(VLOOKUP($A38,#REF!,8,0)))","v":0},0,1,0,0,0,0,{"$f":"IF(ISERROR(VLOOKUP($A38,#REF!,8,0)),0,(VLOOKUP($A38,#REF!,8,0)))","v":0},0,1,0,0,0,0,{"$f":"IF(ISERROR(VLOOKUP($A38,#REF!,8,0)),0,(VLOOKUP($A38,#REF!,8,0)))","v":0},0,1,0,0,0,0,{"$f":"IF(ISERROR(VLOOKUP($A38,#REF!,8,0)),0,(VLOOKUP($A38,#REF!,8,0)))","v":0},0,1,0,0,0,0,{"$f":"IF(ISERROR(VLOOKUP($A38,#REF!,8,0)),0,(VLOOKUP($A38,#REF!,8,0)))","v":0},0,1,0,0,0,0,{"$f":"IF(ISERROR(VLOOKUP($A38,#REF!,8,0)),0,(VLOOKUP($A38,#REF!,8,0)))","v":0},0,1,0,0,0,0,{"$f":"IF(ISERROR(VLOOKUP($A38,#REF!,8,0)),0,(VLOOKUP($A38,#REF!,8,0)))","v":0},0,1,0,0,0,0,{"$f":"IF(ISERROR(VLOOKUP($A38,#REF!,8,0)),0,(VLOOKUP($A38,#REF!,8,0)))","v":0},0,1,0,0,0,0,{"$f":"IF(ISERROR(VLOOKUP($A38,#REF!,8,0)),0,(VLOOKUP($A38,#REF!,8,0)))","v":0},0,1,0,0,0,0,{"$f":"IF(ISERROR(VLOOKUP($A38,#REF!,8,0)),0,(VLOOKUP($A38,#REF!,8,0)))","v":0},0,1,0,0,0,0,{"$f":"IF(ISERROR(VLOOKUP($A38,#REF!,8,0)),0,(VLOOKUP($A38,#REF!,8,0)))","v":0},0,1,0,0,0,0,{"$f":"IF(ISERROR(VLOOKUP($A38,#REF!,8,0)),0,(VLOOKUP($A38,#REF!,8,0)))","v":0},0,1,0,0,0,0,{"$f":"IF(ISERROR(VLOOKUP($A38,#REF!,8,0)),0,(VLOOKUP($A38,#REF!,8,0)))","v":0},0,1,0,0,0,0,{"$f":"IF(ISERROR(VLOOKUP($A38,#REF!,8,0)),0,(VLOOKUP($A38,#REF!,8,0)))","v":0},0,1,0,0,0,0,{"$f":"IF(ISERROR(VLOOKUP($A38,#REF!,8,0)),0,(VLOOKUP($A38,#REF!,8,0)))","v":0},0,1,0,0,0,0,{"$f":"IF(ISERROR(VLOOKUP($A38,#REF!,8,0)),0,(VLOOKUP($A38,#REF!,8,0)))","v":0},0,1,0,0,0,0,{"$f":"IF(ISERROR(VLOOKUP($A38,#REF!,8,0)),0,(VLOOKUP($A38,#REF!,8,0)))","v":0},0,1,0,0,0,0,{"$f":"IF(ISERROR(VLOOKUP($A38,#REF!,8,0)),0,(VLOOKUP($A38,#REF!,8,0)))","v":0},0,1,0,0,0,0,{"$f":"IF(ISERROR(VLOOKUP($A38,#REF!,8,0)),0,(VLOOKUP($A38,#REF!,8,0)))","v":0},0,1,0,0,0,0,{"$f":"IF(ISERROR(VLOOKUP($A38,#REF!,8,0)),0,(VLOOKUP($A38,#REF!,8,0)))","v":0},0,1,0,0,0,0,{"$f":"IF(ISERROR(VLOOKUP($A38,#REF!,8,0)),0,(VLOOKUP($A38,#REF!,8,0)))","v":0},0,1,0,0,0,0,{"$f":"IF(ISERROR(VLOOKUP($A38,#REF!,8,0)),0,(VLOOKUP($A38,#REF!,8,0)))","v":0},0,1,0,0,0,0,{"$f":"IF(ISERROR(VLOOKUP($A38,#REF!,8,0)),0,(VLOOKUP($A38,#REF!,8,0)))","v":0},0,1,0,0,0,0,{"$f":"IF(ISERROR(VLOOKUP($A38,#REF!,8,0)),0,(VLOOKUP($A38,#REF!,8,0)))","v":0},0,1,0,0,0,0,20658.635280000002,20658.635280000002,1,0]
["1.28","Desmontagem da balança com três metros de comprimento cada, inclusive acessórios necessários para execução de serviço nas fachadas.","un",67,67,0,0,0,308.33784000000003,20658.635280000002,0,0,308.33784000000003,0,20658.635280000002,null,0,0,0,0,0,null,0,1,0,0,0,0,null,0,1,0,0,0,0,null,0,1,0,0,0,0,null,0,1,0,0,0,0,null,0,1,0,0,0,0,{"$f":"IF(ISERROR(VLOOKUP(A39,'7ª MEDIÇÃO'!$A$5:$J$1048576,8,0)),0,(VLOOKUP(A39,'7ª MEDIÇÃO'!$A$5:$J$1048576,8,0)))","v":0},0,1,0,0,0,0,{"$f":"IF(ISERROR(VLOOKUP(A39,'8ª MEDIÇÃO'!$A$5:$J$1048576,8,0)),0,(VLOOKUP(A39,'8ª MEDIÇÃO'!$A$5:$J$1048576,8,0)))","v":0},0,1,0,0,0,0,{"$f":"IF(ISERROR(VLOOKUP(A39,'9ª MEDIÇÃO'!$A$5:$J$1048576,8,0)),0,(VLOOKUP(A39,'9ª MEDIÇÃO'!$A$5:$J$1048576,8,0)))","v":0},0,1,0,0,0,0,{"$f":"IF(ISERROR(VLOOKUP(A39,#REF!,8,0)),0,(VLOOKUP(A39,#REF!,8,0)))","v":0},0,1,0,0,0,0,{"$f":"IF(ISERROR(VLOOKUP($A39,#REF!,8,0)),0,(VLOOKUP($A39,#REF!,8,0)))","v":0},0,1,0,0,0,0,{"$f":"IF(ISERROR(VLOOKUP($A39,#REF!,8,0)),0,(VLOOKUP($A39,#REF!,8,0)))","v":0},0,1,0,0,0,0,{"$f":"IF(ISERROR(VLOOKUP($A39,#REF!,8,0)),0,(VLOOKUP($A39,#REF!,8,0)))","v":0},0,1,0,0,0,0,{"$f":"IF(ISERROR(VLOOKUP($A39,#REF!,8,0)),0,(VLOOKUP($A39,#REF!,8,0)))","v":0},0,1,0,0,0,0,{"$f":"IF(ISERROR(VLOOKUP($A39,#REF!,8,0)),0,(VLOOKUP($A39,#REF!,8,0)))","v":0},0,1,0,0,0,0,{"$f":"IF(ISERROR(VLOOKUP($A39,#REF!,8,0)),0,(VLOOKUP($A39,#REF!,8,0)))","v":0},0,1,0,0,0,0,{"$f":"IF(ISERROR(VLOOKUP($A39,#REF!,8,0)),0,(VLOOKUP($A39,#REF!,8,0)))","v":0},0,1,0,0,0,0,{"$f":"IF(ISERROR(VLOOKUP($A39,#REF!,8,0)),0,(VLOOKUP($A39,#REF!,8,0)))","v":0},0,1,0,0,0,0,{"$f":"IF(ISERROR(VLOOKUP($A39,#REF!,8,0)),0,(VLOOKUP($A39,#REF!,8,0)))","v":0},0,1,0,0,0,0,{"$f":"IF(ISERROR(VLOOKUP($A39,#REF!,8,0)),0,(VLOOKUP($A39,#REF!,8,0)))","v":0},0,1,0,0,0,0,{"$f":"IF(ISERROR(VLOOKUP($A39,#REF!,8,0)),0,(VLOOKUP($A39,#REF!,8,0)))","v":0},0,1,0,0,0,0,{"$f":"IF(ISERROR(VLOOKUP($A39,#REF!,8,0)),0,(VLOOKUP($A39,#REF!,8,0)))","v":0},0,1,0,0,0,0,{"$f":"IF(ISERROR(VLOOKUP($A39,#REF!,8,0)),0,(VLOOKUP($A39,#REF!,8,0)))","v":0},0,1,0,0,0,0,{"$f":"IF(ISERROR(VLOOKUP($A39,#REF!,8,0)),0,(VLOOKUP($A39,#REF!,8,0)))","v":0},0,1,0,0,0,0,{"$f":"IF(ISERROR(VLOOKUP($A39,#REF!,8,0)),0,(VLOOKUP($A39,#REF!,8,0)))","v":0},0,1,0,0,0,0,{"$f":"IF(ISERROR(VLOOKUP($A39,#REF!,8,0)),0,(VLOOKUP($A39,#REF!,8,0)))","v":0},0,1,0,0,0,0,{"$f":"IF(ISERROR(VLOOKUP($A39,#REF!,8,0)),0,(VLOOKUP($A39,#REF!,8,0)))","v":0},0,1,0,0,0,0,{"$f":"IF(ISERROR(VLOOKUP($A39,#REF!,8,0)),0,(VLOOKUP($A39,#REF!,8,0)))","v":0},0,1,0,0,0,0,{"$f":"IF(ISERROR(VLOOKUP($A39,#REF!,8,0)),0,(VLOOKUP($A39,#REF!,8,0)))","v":0},0,1,0,0,0,0,{"$f":"IF(ISERROR(VLOOKUP($A39,#REF!,8,0)),0,(VLOOKUP($A39,#REF!,8,0)))","v":0},0,1,0,0,0,0,{"$f":"IF(ISERROR(VLOOKUP($A39,#REF!,8,0)),0,(VLOOKUP($A39,#REF!,8,0)))","v":0},0,1,0,0,0,0,{"$f":"IF(ISERROR(VLOOKUP($A39,#REF!,8,0)),0,(VLOOKUP($A39,#REF!,8,0)))","v":0},0,1,0,0,0,0,{"$f":"IF(ISERROR(VLOOKUP($A39,#REF!,8,0)),0,(VLOOKUP($A39,#REF!,8,0)))","v":0},0,1,0,0,0,0,{"$f":"IF(ISERROR(VLOOKUP($A39,#REF!,8,0)),0,(VLOOKUP($A39,#REF!,8,0)))","v":0},0,1,0,0,0,0,{"$f":"IF(ISERROR(VLOOKUP($A39,#REF!,8,0)),0,(VLOOKUP($A39,#REF!,8,0)))","v":0},0,1,0,0,0,0,{"$f":"IF(ISERROR(VLOOKUP($A39,#REF!,8,0)),0,(VLOOKUP($A39,#REF!,8,0)))","v":0},0,1,0,0,0,0,{"$f":"IF(ISERROR(VLOOKUP($A39,#REF!,8,0)),0,(VLOOKUP($A39,#REF!,8,0)))","v":0},0,1,0,0,0,0,{"$f":"IF(ISERROR(VLOOKUP($A39,#REF!,8,0)),0,(VLOOKUP($A39,#REF!,8,0)))","v":0},0,1,0,0,0,0,{"$f":"IF(ISERROR(VLOOKUP($A39,#REF!,8,0)),0,(VLOOKUP($A39,#REF!,8,0)))","v":0},0,1,0,0,0,0,{"$f":"IF(ISERROR(VLOOKUP($A39,#REF!,8,0)),0,(VLOOKUP($A39,#REF!,8,0)))","v":0},0,1,0,0,0,0,{"$f":"IF(ISERROR(VLOOKUP($A39,#REF!,8,0)),0,(VLOOKUP($A39,#REF!,8,0)))","v":0},0,1,0,0,0,0,{"$f":"IF(ISERROR(VLOOKUP($A39,#REF!,8,0)),0,(VLOOKUP($A39,#REF!,8,0)))","v":0},0,1,0,0,0,0,{"$f":"IF(ISERROR(VLOOKUP($A39,#REF!,8,0)),0,(VLOOKUP($A39,#REF!,8,0)))","v":0},0,1,0,0,0,0,{"$f":"IF(ISERROR(VLOOKUP($A39,#REF!,8,0)),0,(VLOOKUP($A39,#REF!,8,0)))","v":0},0,1,0,0,0,0,{"$f":"IF(ISERROR(VLOOKUP($A39,#REF!,8,0)),0,(VLOOKUP($A39,#REF!,8,0)))","v":0},0,1,0,0,0,0,{"$f":"IF(ISERROR(VLOOKUP($A39,#REF!,8,0)),0,(VLOOKUP($A39,#REF!,8,0)))","v":0},0,1,0,0,0,0,{"$f":"IF(ISERROR(VLOOKUP($A39,#REF!,8,0)),0,(VLOOKUP($A39,#REF!,8,0)))","v":0},0,1,0,0,0,0,{"$f":"IF(ISERROR(VLOOKUP($A39,#REF!,8,0)),0,(VLOOKUP($A39,#REF!,8,0)))","v":0},0,1,0,0,0,0,{"$f":"IF(ISERROR(VLOOKUP($A39,#REF!,8,0)),0,(VLOOKUP($A39,#REF!,8,0)))","v":0},0,1,0,0,0,0,{"$f":"IF(ISERROR(VLOOKUP($A39,#REF!,8,0)),0,(VLOOKUP($A39,#REF!,8,0)))","v":0},0,1,0,0,0,0,{"$f":"IF(ISERROR(VLOOKUP($A39,#REF!,8,0)),0,(VLOOKUP($A39,#REF!,8,0)))","v":0},0,1,0,0,0,0,{"$f":"IF(ISERROR(VLOOKUP($A39,#REF!,8,0)),0,(VLOOKUP($A39,#REF!,8,0)))","v":0},0,1,0,0,0,0,{"$f":"IF(ISERROR(VLOOKUP($A39,#REF!,8,0)),0,(VLOOKUP($A39,#REF!,8,0)))","v":0},0,1,0,0,0,0,{"$f":"IF(ISERROR(VLOOKUP($A39,#REF!,8,0)),0,(VLOOKUP($A39,#REF!,8,0)))","v":0},0,1,0,0,0,0,{"$f":"IF(ISERROR(VLOOKUP($A39,#REF!,8,0)),0,(VLOOKUP($A39,#REF!,8,0)))","v":0},0,1,0,0,0,0,20658.635280000002,20658.635280000002,1,0]
["1.29","Fornecimento e instalação de Bandeja salva-vidas primária, de madeira - com forro em chapa  compensada - largura 2,50m e complemento de 80cm com inclinação de 45º, conforme NR 18.","m",203,168.95000000000002,34.049999999999983,113.304958,23000.906473999999,75.809359999999998,15389.300079999999,0,0,189.114318,6439.3425278999966,31950.864026100004,null,0,0,0,0,0,null,0,0.83226600985221688,0,0,0,0,null,0,0.83226600985221688,0,0,0,0,null,0,0.83226600985221688,0,0,0,0,null,0,0.83226600985221688,0,0,0,0,null,0,0.83226600985221688,0,0,0,0,{"$f":"IF(ISERROR(VLOOKUP(A40,'7ª MEDIÇÃO'!$A$5:$J$1048576,8,0)),0,(VLOOKUP(A40,'7ª MEDIÇÃO'!$A$5:$J$1048576,8,0)))","v":0},0,0.83226600985221688,0,0,0,0,{"$f":"IF(ISERROR(VLOOKUP(A40,'8ª MEDIÇÃO'!$A$5:$J$1048576,8,0)),0,(VLOOKUP(A40,'8ª MEDIÇÃO'!$A$5:$J$1048576,8,0)))","v":0},0,0.83226600985221688,0,0,0,0,{"$f":"IF(ISERROR(VLOOKUP(A40,'9ª MEDIÇÃO'!$A$5:$J$1048576,8,0)),0,(VLOOKUP(A40,'9ª MEDIÇÃO'!$A$5:$J$1048576,8,0)))","v":0},0,0.83226600985221688,0,0,0,0,{"$f":"IF(ISERROR(VLOOKUP(A40,#REF!,8,0)),0,(VLOOKUP(A40,#REF!,8,0)))","v":0},0,0.83226600985221688,0,0,0,0,{"$f":"IF(ISERROR(VLOOKUP($A40,#REF!,8,0)),0,(VLOOKUP($A40,#REF!,8,0)))","v":0},0,0.83226600985221688,0,0,0,0,{"$f":"IF(ISERROR(VLOOKUP($A40,#REF!,8,0)),0,(VLOOKUP($A40,#REF!,8,0)))","v":0},0,0.83226600985221688,0,0,0,0,{"$f":"IF(ISERROR(VLOOKUP($A40,#REF!,8,0)),0,(VLOOKUP($A40,#REF!,8,0)))","v":0},0,0.83226600985221688,0,0,0,0,{"$f":"IF(ISERROR(VLOOKUP($A40,#REF!,8,0)),0,(VLOOKUP($A40,#REF!,8,0)))","v":0},0,0.83226600985221688,0,0,0,0,{"$f":"IF(ISERROR(VLOOKUP($A40,#REF!,8,0)),0,(VLOOKUP($A40,#REF!,8,0)))","v":0},0,0.83226600985221688,0,0,0,0,{"$f":"IF(ISERROR(VLOOKUP($A40,#REF!,8,0)),0,(VLOOKUP($A40,#REF!,8,0)))","v":0},0,0.83226600985221688,0,0,0,0,{"$f":"IF(ISERROR(VLOOKUP($A40,#REF!,8,0)),0,(VLOOKUP($A40,#REF!,8,0)))","v":0},0,0.83226600985221688,0,0,0,0,{"$f":"IF(ISERROR(VLOOKUP($A40,#REF!,8,0)),0,(VLOOKUP($A40,#REF!,8,0)))","v":0},0,0.83226600985221688,0,0,0,0,{"$f":"IF(ISERROR(VLOOKUP($A40,#REF!,8,0)),0,(VLOOKUP($A40,#REF!,8,0)))","v":0},0,0.83226600985221688,0,0,0,0,{"$f":"IF(ISERROR(VLOOKUP($A40,#REF!,8,0)),0,(VLOOKUP($A40,#REF!,8,0)))","v":0},0,0.83226600985221688,0,0,0,0,{"$f":"IF(ISERROR(VLOOKUP($A40,#REF!,8,0)),0,(VLOOKUP($A40,#REF!,8,0)))","v":0},0,0.83226600985221688,0,0,0,0,{"$f":"IF(ISERROR(VLOOKUP($A40,#REF!,8,0)),0,(VLOOKUP($A40,#REF!,8,0)))","v":0},0,0.83226600985221688,0,0,0,0,{"$f":"IF(ISERROR(VLOOKUP($A40,#REF!,8,0)),0,(VLOOKUP($A40,#REF!,8,0)))","v":0},0,0.83226600985221688,0,0,0,0,{"$f":"IF(ISERROR(VLOOKUP($A40,#REF!,8,0)),0,(VLOOKUP($A40,#REF!,8,0)))","v":0},0,0.83226600985221688,0,0,0,0,{"$f":"IF(ISERROR(VLOOKUP($A40,#REF!,8,0)),0,(VLOOKUP($A40,#REF!,8,0)))","v":0},0,0.83226600985221688,0,0,0,0,{"$f":"IF(ISERROR(VLOOKUP($A40,#REF!,8,0)),0,(VLOOKUP($A40,#REF!,8,0)))","v":0},0,0.83226600985221688,0,0,0,0,{"$f":"IF(ISERROR(VLOOKUP($A40,#REF!,8,0)),0,(VLOOKUP($A40,#REF!,8,0)))","v":0},0,0.83226600985221688,0,0,0,0,{"$f":"IF(ISERROR(VLOOKUP($A40,#REF!,8,0)),0,(VLOOKUP($A40,#REF!,8,0)))","v":0},0,0.83226600985221688,0,0,0,0,{"$f":"IF(ISERROR(VLOOKUP($A40,#REF!,8,0)),0,(VLOOKUP($A40,#REF!,8,0)))","v":0},0,0.83226600985221688,0,0,0,0,{"$f":"IF(ISERROR(VLOOKUP($A40,#REF!,8,0)),0,(VLOOKUP($A40,#REF!,8,0)))","v":0},0,0.83226600985221688,0,0,0,0,{"$f":"IF(ISERROR(VLOOKUP($A40,#REF!,8,0)),0,(VLOOKUP($A40,#REF!,8,0)))","v":0},0,0.83226600985221688,0,0,0,0,{"$f":"IF(ISERROR(VLOOKUP($A40,#REF!,8,0)),0,(VLOOKUP($A40,#REF!,8,0)))","v":0},0,0.83226600985221688,0,0,0,0,{"$f":"IF(ISERROR(VLOOKUP($A40,#REF!,8,0)),0,(VLOOKUP($A40,#REF!,8,0)))","v":0},0,0.83226600985221688,0,0,0,0,{"$f":"IF(ISERROR(VLOOKUP($A40,#REF!,8,0)),0,(VLOOKUP($A40,#REF!,8,0)))","v":0},0,0.83226600985221688,0,0,0,0,{"$f":"IF(ISERROR(VLOOKUP($A40,#REF!,8,0)),0,(VLOOKUP($A40,#REF!,8,0)))","v":0},0,0.83226600985221688,0,0,0,0,{"$f":"IF(ISERROR(VLOOKUP($A40,#REF!,8,0)),0,(VLOOKUP($A40,#REF!,8,0)))","v":0},0,0.83226600985221688,0,0,0,0,{"$f":"IF(ISERROR(VLOOKUP($A40,#REF!,8,0)),0,(VLOOKUP($A40,#REF!,8,0)))","v":0},0,0.83226600985221688,0,0,0,0,{"$f":"IF(ISERROR(VLOOKUP($A40,#REF!,8,0)),0,(VLOOKUP($A40,#REF!,8,0)))","v":0},0,0.83226600985221688,0,0,0,0,{"$f":"IF(ISERROR(VLOOKUP($A40,#REF!,8,0)),0,(VLOOKUP($A40,#REF!,8,0)))","v":0},0,0.83226600985221688,0,0,0,0,{"$f":"IF(ISERROR(VLOOKUP($A40,#REF!,8,0)),0,(VLOOKUP($A40,#REF!,8,0)))","v":0},0,0.83226600985221688,0,0,0,0,{"$f":"IF(ISERROR(VLOOKUP($A40,#REF!,8,0)),0,(VLOOKUP($A40,#REF!,8,0)))","v":0},0,0.83226600985221688,0,0,0,0,{"$f":"IF(ISERROR(VLOOKUP($A40,#REF!,8,0)),0,(VLOOKUP($A40,#REF!,8,0)))","v":0},0,0.83226600985221688,0,0,0,0,{"$f":"IF(ISERROR(VLOOKUP($A40,#REF!,8,0)),0,(VLOOKUP($A40,#REF!,8,0)))","v":0},0,0.83226600985221688,0,0,0,0,{"$f":"IF(ISERROR(VLOOKUP($A40,#REF!,8,0)),0,(VLOOKUP($A40,#REF!,8,0)))","v":0},0,0.83226600985221688,0,0,0,0,{"$f":"IF(ISERROR(VLOOKUP($A40,#REF!,8,0)),0,(VLOOKUP($A40,#REF!,8,0)))","v":0},0,0.83226600985221688,0,0,0,0,{"$f":"IF(ISERROR(VLOOKUP($A40,#REF!,8,0)),0,(VLOOKUP($A40,#REF!,8,0)))","v":0},0,0.83226600985221688,0,0,0,0,{"$f":"IF(ISERROR(VLOOKUP($A40,#REF!,8,0)),0,(VLOOKUP($A40,#REF!,8,0)))","v":0},0,0.83226600985221688,0,0,0,0,{"$f":"IF(ISERROR(VLOOKUP($A40,#REF!,8,0)),0,(VLOOKUP($A40,#REF!,8,0)))","v":0},0,0.83226600985221688,0,0,0,0,{"$f":"IF(ISERROR(VLOOKUP($A40,#REF!,8,0)),0,(VLOOKUP($A40,#REF!,8,0)))","v":0},0,0.83226600985221688,0,0,0,0,{"$f":"IF(ISERROR(VLOOKUP($A40,#REF!,8,0)),0,(VLOOKUP($A40,#REF!,8,0)))","v":0},0,0.83226600985221688,0,0,0,0,{"$f":"IF(ISERROR(VLOOKUP($A40,#REF!,8,0)),0,(VLOOKUP($A40,#REF!,8,0)))","v":0},0,0.83226600985221688,0,0,0,0,{"$f":"IF(ISERROR(VLOOKUP($A40,#REF!,8,0)),0,(VLOOKUP($A40,#REF!,8,0)))","v":0},0,0.83226600985221688,0,0,0,0,{"$f":"IF(ISERROR(VLOOKUP($A40,#REF!,8,0)),0,(VLOOKUP($A40,#REF!,8,0)))","v":0},0,0.83226600985221688,0,0,0,0,{"$f":"IF(ISERROR(VLOOKUP($A40,#REF!,8,0)),0,(VLOOKUP($A40,#REF!,8,0)))","v":0},0,0.83226600985221688,0,0,0,0,{"$f":"IF(ISERROR(VLOOKUP($A40,#REF!,8,0)),0,(VLOOKUP($A40,#REF!,8,0)))","v":0},0,0.83226600985221688,0,0,0,0,31950.864026100004,31950.864026100004,1,0]
["1.30","Fornecimento e instalação de Bandeja salva-vidas secundária, de madeira - com forro em chapa  compensada - largura 1,40m e complemento de 80cm com inclinação de 45º, conforme NR 18.","m",203,53.93,149.07,81.94471200000001,16634.776536000001,54.76088,11116.458640000001,0,0,136.70559200000002,20378.702599440003,7372.532576560001,null,0,0,0,0,0,null,0,0.26566502463054187,0,0,0,0,null,0,0.26566502463054187,0,0,0,0,null,0,0.26566502463054187,0,0,0,0,null,0,0.26566502463054187,0,0,0,0,null,0,0.26566502463054187,0,0,0,0,{"$f":"IF(ISERROR(VLOOKUP(A41,'7ª MEDIÇÃO'!$A$5:$J$1048576,8,0)),0,(VLOOKUP(A41,'7ª MEDIÇÃO'!$A$5:$J$1048576,8,0)))","v":0},0,0.26566502463054187,0,0,0,0,{"$f":"IF(ISERROR(VLOOKUP(A41,'8ª MEDIÇÃO'!$A$5:$J$1048576,8,0)),0,(VLOOKUP(A41,'8ª MEDIÇÃO'!$A$5:$J$1048576,8,0)))","v":0},0,0.26566502463054187,0,0,0,0,{"$f":"IF(ISERROR(VLOOKUP(A41,'9ª MEDIÇÃO'!$A$5:$J$1048576,8,0)),0,(VLOOKUP(A41,'9ª MEDIÇÃO'!$A$5:$J$1048576,8,0)))","v":0},0,0.26566502463054187,0,0,0,0,{"$f":"IF(ISERROR(VLOOKUP(A41,#REF!,8,0)),0,(VLOOKUP(A41,#REF!,8,0)))","v":0},0,0.26566502463054187,0,0,0,0,{"$f":"IF(ISERROR(VLOOKUP($A41,#REF!,8,0)),0,(VLOOKUP($A41,#REF!,8,0)))","v":0},0,0.26566502463054187,0,0,0,0,{"$f":"IF(ISERROR(VLOOKUP($A41,#REF!,8,0)),0,(VLOOKUP($A41,#REF!,8,0)))","v":0},0,0.26566502463054187,0,0,0,0,{"$f":"IF(ISERROR(VLOOKUP($A41,#REF!,8,0)),0,(VLOOKUP($A41,#REF!,8,0)))","v":0},0,0.26566502463054187,0,0,0,0,{"$f":"IF(ISERROR(VLOOKUP($A41,#REF!,8,0)),0,(VLOOKUP($A41,#REF!,8,0)))","v":0},0,0.26566502463054187,0,0,0,0,{"$f":"IF(ISERROR(VLOOKUP($A41,#REF!,8,0)),0,(VLOOKUP($A41,#REF!,8,0)))","v":0},0,0.26566502463054187,0,0,0,0,{"$f":"IF(ISERROR(VLOOKUP($A41,#REF!,8,0)),0,(VLOOKUP($A41,#REF!,8,0)))","v":0},0,0.26566502463054187,0,0,0,0,{"$f":"IF(ISERROR(VLOOKUP($A41,#REF!,8,0)),0,(VLOOKUP($A41,#REF!,8,0)))","v":0},0,0.26566502463054187,0,0,0,0,{"$f":"IF(ISERROR(VLOOKUP($A41,#REF!,8,0)),0,(VLOOKUP($A41,#REF!,8,0)))","v":0},0,0.26566502463054187,0,0,0,0,{"$f":"IF(ISERROR(VLOOKUP($A41,#REF!,8,0)),0,(VLOOKUP($A41,#REF!,8,0)))","v":0},{"$f":"IF($D41>0,EK41/$D41,0)","v":0},{"$f":"IF($E41>0,$E41/$D41,0)","v":0.26566502463054187},{"$f":"EK41*$G41","v":0},{"$f":"$I41*EK41","v":0},{"$f":"$K41*EK41","v":0},{"$f":"ROUND($M41*EK41,2)","v":0},{"$f":"IF(ISERROR(VLOOKUP($A41,#REF!,8,0)),0,(VLOOKUP($A41,#REF!,8,0)))","v":0},0,0.26566502463054187,0,0,0,0,{"$f":"IF(ISERROR(VLOOKUP($A41,#REF!,8,0)),0,(VLOOKUP($A41,#REF!,8,0)))","v":0},0,0.26566502463054187,0,0,0,0,{"$f":"IF(ISERROR(VLOOKUP($A41,#REF!,8,0)),0,(VLOOKUP($A41,#REF!,8,0)))","v":0},0,0.26566502463054187,0,0,0,0,{"$f":"IF(ISERROR(VLOOKUP($A41,#REF!,8,0)),0,(VLOOKUP($A41,#REF!,8,0)))","v":0},0,0.26566502463054187,0,0,0,0,{"$f":"IF(ISERROR(VLOOKUP($A41,#REF!,8,0)),0,(VLOOKUP($A41,#REF!,8,0)))","v":0},0,0.26566502463054187,0,0,0,0,{"$f":"IF(ISERROR(VLOOKUP($A41,#REF!,8,0)),0,(VLOOKUP($A41,#REF!,8,0)))","v":0},0,0.26566502463054187,0,0,0,0,{"$f":"IF(ISERROR(VLOOKUP($A41,#REF!,8,0)),0,(VLOOKUP($A41,#REF!,8,0)))","v":0},0,0.26566502463054187,0,0,0,0,{"$f":"IF(ISERROR(VLOOKUP($A41,#REF!,8,0)),0,(VLOOKUP($A41,#REF!,8,0)))","v":0},0,0.26566502463054187,0,0,0,0,{"$f":"IF(ISERROR(VLOOKUP($A41,#REF!,8,0)),0,(VLOOKUP($A41,#REF!,8,0)))","v":0},0,0.26566502463054187,0,0,0,0,{"$f":"IF(ISERROR(VLOOKUP($A41,#REF!,8,0)),0,(VLOOKUP($A41,#REF!,8,0)))","v":0},0,0.26566502463054187,0,0,0,0,{"$f":"IF(ISERROR(VLOOKUP($A41,#REF!,8,0)),0,(VLOOKUP($A41,#REF!,8,0)))","v":0},0,0.26566502463054187,0,0,0,0,{"$f":"IF(ISERROR(VLOOKUP($A41,#REF!,8,0)),0,(VLOOKUP($A41,#REF!,8,0)))","v":0},0,0.26566502463054187,0,0,0,0,{"$f":"IF(ISERROR(VLOOKUP($A41,#REF!,8,0)),0,(VLOOKUP($A41,#REF!,8,0)))","v":0},0,0.26566502463054187,0,0,0,0,{"$f":"IF(ISERROR(VLOOKUP($A41,#REF!,8,0)),0,(VLOOKUP($A41,#REF!,8,0)))","v":0},0,0.26566502463054187,0,0,0,0,{"$f":"IF(ISERROR(VLOOKUP($A41,#REF!,8,0)),0,(VLOOKUP($A41,#REF!,8,0)))","v":0},0,0.26566502463054187,0,0,0,0,{"$f":"IF(ISERROR(VLOOKUP($A41,#REF!,8,0)),0,(VLOOKUP($A41,#REF!,8,0)))","v":0},0,0.26566502463054187,0,0,0,0,{"$f":"IF(ISERROR(VLOOKUP($A41,#REF!,8,0)),0,(VLOOKUP($A41,#REF!,8,0)))","v":0},0,0.26566502463054187,0,0,0,0,{"$f":"IF(ISERROR(VLOOKUP($A41,#REF!,8,0)),0,(VLOOKUP($A41,#REF!,8,0)))","v":0},0,0.26566502463054187,0,0,0,0,{"$f":"IF(ISERROR(VLOOKUP($A41,#REF!,8,0)),0,(VLOOKUP($A41,#REF!,8,0)))","v":0},0,0.26566502463054187,0,0,0,0,{"$f":"IF(ISERROR(VLOOKUP($A41,#REF!,8,0)),0,(VLOOKUP($A41,#REF!,8,0)))","v":0},0,0.26566502463054187,0,0,0,0,{"$f":"IF(ISERROR(VLOOKUP($A41,#REF!,8,0)),0,(VLOOKUP($A41,#REF!,8,0)))","v":0},0,0.26566502463054187,0,0,0,0,{"$f":"IF(ISERROR(VLOOKUP($A41,#REF!,8,0)),0,(VLOOKUP($A41,#REF!,8,0)))","v":0},0,0.26566502463054187,0,0,0,0,{"$f":"IF(ISERROR(VLOOKUP($A41,#REF!,8,0)),0,(VLOOKUP($A41,#REF!,8,0)))","v":0},0,0.26566502463054187,0,0,0,0,{"$f":"IF(ISERROR(VLOOKUP($A41,#REF!,8,0)),0,(VLOOKUP($A41,#REF!,8,0)))","v":0},0,0.26566502463054187,0,0,0,0,{"$f":"IF(ISERROR(VLOOKUP($A41,#REF!,8,0)),0,(VLOOKUP($A41,#REF!,8,0)))","v":0},0,0.26566502463054187,0,0,0,0,{"$f":"IF(ISERROR(VLOOKUP($A41,#REF!,8,0)),0,(VLOOKUP($A41,#REF!,8,0)))","v":0},0,0.26566502463054187,0,0,0,0,{"$f":"IF(ISERROR(VLOOKUP($A41,#REF!,8,0)),0,(VLOOKUP($A41,#REF!,8,0)))","v":0},0,0.26566502463054187,0,0,0,0,{"$f":"IF(ISERROR(VLOOKUP($A41,#REF!,8,0)),0,(VLOOKUP($A41,#REF!,8,0)))","v":0},0,0.26566502463054187,0,0,0,0,{"$f":"IF(ISERROR(VLOOKUP($A41,#REF!,8,0)),0,(VLOOKUP($A41,#REF!,8,0)))","v":0},0,0.26566502463054187,0,0,0,0,{"$f":"IF(ISERROR(VLOOKUP($A41,#REF!,8,0)),0,(VLOOKUP($A41,#REF!,8,0)))","v":0},0,0.26566502463054187,0,0,0,0,{"$f":"IF(ISERROR(VLOOKUP($A41,#REF!,8,0)),0,(VLOOKUP($A41,#REF!,8,0)))","v":0},0,0.26566502463054187,0,0,0,0,{"$f":"IF(ISERROR(VLOOKUP($A41,#REF!,8,0)),0,(VLOOKUP($A41,#REF!,8,0)))","v":0},0,0.26566502463054187,0,0,0,0,{"$f":"IF(ISERROR(VLOOKUP($A41,#REF!,8,0)),0,(VLOOKUP($A41,#REF!,8,0)))","v":0},0,0.26566502463054187,0,0,0,0,{"$f":"IF(ISERROR(VLOOKUP($A41,#REF!,8,0)),0,(VLOOKUP($A41,#REF!,8,0)))","v":0},0,0.26566502463054187,0,0,0,0,{"$f":"IF(ISERROR(VLOOKUP($A41,#REF!,8,0)),0,(VLOOKUP($A41,#REF!,8,0)))","v":0},0,0.26566502463054187,0,0,0,0,{"$f":"IF(ISERROR(VLOOKUP($A41,#REF!,8,0)),0,(VLOOKUP($A41,#REF!,8,0)))","v":0},0,0.26566502463054187,0,0,0,0,7372.532576560001,7372.532576560001,1,0]
["1.31","Locação de uma GRUA QTG-20 do tipo ascensional, com lança de 30m, capacidade de carga 650kg (ponta) - 2.000kg, inclusive operador, manutenção preventiva, corretiva, elétrica, mecânica  e telescopagem da grua.","mês",10,10,0,0,0,13649.640719999999,136496.40719999999,0,0,13649.640719999999,0,136496.40719999999,null,0,0,0,0,0,null,0,1,0,0,0,0,null,0,1,0,0,0,0,null,0,1,0,0,0,0,null,0,1,0,0,0,0,null,0,1,0,0,0,0,{"$f":"IF(ISERROR(VLOOKUP(A42,'7ª MEDIÇÃO'!$A$5:$J$1048576,8,0)),0,(VLOOKUP(A42,'7ª MEDIÇÃO'!$A$5:$J$1048576,8,0)))","v":0},0,1,0,0,0,0,{"$f":"IF(ISERROR(VLOOKUP(A42,'8ª MEDIÇÃO'!$A$5:$J$1048576,8,0)),0,(VLOOKUP(A42,'8ª MEDIÇÃO'!$A$5:$J$1048576,8,0)))","v":0},0,1,0,0,0,0,{"$f":"IF(ISERROR(VLOOKUP(A42,'9ª MEDIÇÃO'!$A$5:$J$1048576,8,0)),0,(VLOOKUP(A42,'9ª MEDIÇÃO'!$A$5:$J$1048576,8,0)))","v":0},0,1,0,0,0,0,{"$f":"IF(ISERROR(VLOOKUP(A42,#REF!,8,0)),0,(VLOOKUP(A42,#REF!,8,0)))","v":0},0,1,0,0,0,0,{"$f":"IF(ISERROR(VLOOKUP($A42,#REF!,8,0)),0,(VLOOKUP($A42,#REF!,8,0)))","v":0},0,1,0,0,0,0,{"$f":"IF(ISERROR(VLOOKUP($A42,#REF!,8,0)),0,(VLOOKUP($A42,#REF!,8,0)))","v":0},0,1,0,0,0,0,{"$f":"IF(ISERROR(VLOOKUP($A42,#REF!,8,0)),0,(VLOOKUP($A42,#REF!,8,0)))","v":0},0,1,0,0,0,0,{"$f":"IF(ISERROR(VLOOKUP($A42,#REF!,8,0)),0,(VLOOKUP($A42,#REF!,8,0)))","v":0},0,1,0,0,0,0,{"$f":"IF(ISERROR(VLOOKUP($A42,#REF!,8,0)),0,(VLOOKUP($A42,#REF!,8,0)))","v":0},0,1,0,0,0,0,{"$f":"IF(ISERROR(VLOOKUP($A42,#REF!,8,0)),0,(VLOOKUP($A42,#REF!,8,0)))","v":0},0,1,0,0,0,0,{"$f":"IF(ISERROR(VLOOKUP($A42,#REF!,8,0)),0,(VLOOKUP($A42,#REF!,8,0)))","v":0},0,1,0,0,0,0,{"$f":"IF(ISERROR(VLOOKUP($A42,#REF!,8,0)),0,(VLOOKUP($A42,#REF!,8,0)))","v":0},0,1,0,0,0,0,{"$f":"IF(ISERROR(VLOOKUP($A42,#REF!,8,0)),0,(VLOOKUP($A42,#REF!,8,0)))","v":0},{"$f":"IF($D42>0,EK42/$D42,0)","v":0},1,0,0,0,{"$f":"ROUND($M42*EK42,2)","v":0},{"$f":"IF(ISERROR(VLOOKUP($A42,#REF!,8,0)),0,(VLOOKUP($A42,#REF!,8,0)))","v":0},0,1,0,0,0,0,{"$f":"IF(ISERROR(VLOOKUP($A42,#REF!,8,0)),0,(VLOOKUP($A42,#REF!,8,0)))","v":0},0,1,0,0,0,0,{"$f":"IF(ISERROR(VLOOKUP($A42,#REF!,8,0)),0,(VLOOKUP($A42,#REF!,8,0)))","v":0},0,1,0,0,0,0,{"$f":"IF(ISERROR(VLOOKUP($A42,#REF!,8,0)),0,(VLOOKUP($A42,#REF!,8,0)))","v":0},0,1,0,0,0,0,{"$f":"IF(ISERROR(VLOOKUP($A42,#REF!,8,0)),0,(VLOOKUP($A42,#REF!,8,0)))","v":0},0,1,0,0,0,0,{"$f":"IF(ISERROR(VLOOKUP($A42,#REF!,8,0)),0,(VLOOKUP($A42,#REF!,8,0)))","v":0},0,1,0,0,0,0,{"$f":"IF(ISERROR(VLOOKUP($A42,#REF!,8,0)),0,(VLOOKUP($A42,#REF!,8,0)))","v":0},0,1,0,0,0,0,{"$f":"IF(ISERROR(VLOOKUP($A42,#REF!,8,0)),0,(VLOOKUP($A42,#REF!,8,0)))","v":0},0,1,0,0,0,0,{"$f":"IF(ISERROR(VLOOKUP($A42,#REF!,8,0)),0,(VLOOKUP($A42,#REF!,8,0)))","v":0},0,1,0,0,0,0,{"$f":"IF(ISERROR(VLOOKUP($A42,#REF!,8,0)),0,(VLOOKUP($A42,#REF!,8,0)))","v":0},0,1,0,0,0,0,{"$f":"IF(ISERROR(VLOOKUP($A42,#REF!,8,0)),0,(VLOOKUP($A42,#REF!,8,0)))","v":0},0,1,0,0,0,0,{"$f":"IF(ISERROR(VLOOKUP($A42,#REF!,8,0)),0,(VLOOKUP($A42,#REF!,8,0)))","v":0},0,1,0,0,0,0,{"$f":"IF(ISERROR(VLOOKUP($A42,#REF!,8,0)),0,(VLOOKUP($A42,#REF!,8,0)))","v":0},0,1,0,0,0,0,{"$f":"IF(ISERROR(VLOOKUP($A42,#REF!,8,0)),0,(VLOOKUP($A42,#REF!,8,0)))","v":0},0,1,0,0,0,0,{"$f":"IF(ISERROR(VLOOKUP($A42,#REF!,8,0)),0,(VLOOKUP($A42,#REF!,8,0)))","v":0},0,1,0,0,0,0,{"$f":"IF(ISERROR(VLOOKUP($A42,#REF!,8,0)),0,(VLOOKUP($A42,#REF!,8,0)))","v":0},0,1,0,0,0,0,{"$f":"IF(ISERROR(VLOOKUP($A42,#REF!,8,0)),0,(VLOOKUP($A42,#REF!,8,0)))","v":0},0,1,0,0,0,0,{"$f":"IF(ISERROR(VLOOKUP($A42,#REF!,8,0)),0,(VLOOKUP($A42,#REF!,8,0)))","v":0},0,1,0,0,0,0,{"$f":"IF(ISERROR(VLOOKUP($A42,#REF!,8,0)),0,(VLOOKUP($A42,#REF!,8,0)))","v":0},0,1,0,0,0,0,{"$f":"IF(ISERROR(VLOOKUP($A42,#REF!,8,0)),0,(VLOOKUP($A42,#REF!,8,0)))","v":0},0,1,0,0,0,0,{"$f":"IF(ISERROR(VLOOKUP($A42,#REF!,8,0)),0,(VLOOKUP($A42,#REF!,8,0)))","v":0},0,1,0,0,0,0,{"$f":"IF(ISERROR(VLOOKUP($A42,#REF!,8,0)),0,(VLOOKUP($A42,#REF!,8,0)))","v":0},0,1,0,0,0,0,{"$f":"IF(ISERROR(VLOOKUP($A42,#REF!,8,0)),0,(VLOOKUP($A42,#REF!,8,0)))","v":0},0,1,0,0,0,0,{"$f":"IF(ISERROR(VLOOKUP($A42,#REF!,8,0)),0,(VLOOKUP($A42,#REF!,8,0)))","v":0},0,1,0,0,0,0,{"$f":"IF(ISERROR(VLOOKUP($A42,#REF!,8,0)),0,(VLOOKUP($A42,#REF!,8,0)))","v":0},0,1,0,0,0,0,{"$f":"IF(ISERROR(VLOOKUP($A42,#REF!,8,0)),0,(VLOOKUP($A42,#REF!,8,0)))","v":0},0,1,0,0,0,0,{"$f":"IF(ISERROR(VLOOKUP($A42,#REF!,8,0)),0,(VLOOKUP($A42,#REF!,8,0)))","v":0},0,1,0,0,0,0,{"$f":"IF(ISERROR(VLOOKUP($A42,#REF!,8,0)),0,(VLOOKUP($A42,#REF!,8,0)))","v":0},0,1,0,0,0,0,{"$f":"IF(ISERROR(VLOOKUP($A42,#REF!,8,0)),0,(VLOOKUP($A42,#REF!,8,0)))","v":0},0,1,0,0,0,0,{"$f":"IF(ISERROR(VLOOKUP($A42,#REF!,8,0)),0,(VLOOKUP($A42,#REF!,8,0)))","v":0},0,1,0,0,0,0,{"$f":"IF(ISERROR(VLOOKUP($A42,#REF!,8,0)),0,(VLOOKUP($A42,#REF!,8,0)))","v":0},0,1,0,0,0,0,{"$f":"IF(ISERROR(VLOOKUP($A42,#REF!,8,0)),0,(VLOOKUP($A42,#REF!,8,0)))","v":0},0,1,0,0,0,0,{"$f":"IF(ISERROR(VLOOKUP($A42,#REF!,8,0)),0,(VLOOKUP($A42,#REF!,8,0)))","v":0},0,1,0,0,0,0,{"$f":"IF(ISERROR(VLOOKUP($A42,#REF!,8,0)),0,(VLOOKUP($A42,#REF!,8,0)))","v":0},0,1,0,0,0,0,{"$f":"IF(ISERROR(VLOOKUP($A42,#REF!,8,0)),0,(VLOOKUP($A42,#REF!,8,0)))","v":0},0,1,0,0,0,0,{"$f":"IF(ISERROR(VLOOKUP($A42,#REF!,8,0)),0,(VLOOKUP($A42,#REF!,8,0)))","v":0},0,1,0,0,0,0,136496.40719999999,136496.40719999999,1,0]
["1.32","Montagem de GRUA QTG-20 do tipo ascensional, com lança de 30m, inclusive acessórios necessários para execução de serviço.","un",1,1,0,0,0,7418.2830000000004,7418.2830000000004,0,0,7418.2830000000004,0,7418.2830000000004,null,0,0,0,0,0,null,0,1,0,0,0,0,null,0,1,0,0,0,0,null,0,1,0,0,0,0,null,0,1,0,0,0,0,null,0,1,0,0,0,0,{"$f":"IF(ISERROR(VLOOKUP(A43,'7ª MEDIÇÃO'!$A$5:$J$1048576,8,0)),0,(VLOOKUP(A43,'7ª MEDIÇÃO'!$A$5:$J$1048576,8,0)))","v":0},0,1,0,0,0,0,{"$f":"IF(ISERROR(VLOOKUP(A43,'8ª MEDIÇÃO'!$A$5:$J$1048576,8,0)),0,(VLOOKUP(A43,'8ª MEDIÇÃO'!$A$5:$J$1048576,8,0)))","v":0},0,1,0,0,0,0,{"$f":"IF(ISERROR(VLOOKUP(A43,'9ª MEDIÇÃO'!$A$5:$J$1048576,8,0)),0,(VLOOKUP(A43,'9ª MEDIÇÃO'!$A$5:$J$1048576,8,0)))","v":0},0,1,0,0,0,0,{"$f":"IF(ISERROR(VLOOKUP(A43,#REF!,8,0)),0,(VLOOKUP(A43,#REF!,8,0)))","v":0},0,1,0,0,0,0,{"$f":"IF(ISERROR(VLOOKUP($A43,#REF!,8,0)),0,(VLOOKUP($A43,#REF!,8,0)))","v":0},0,1,0,0,0,0,{"$f":"IF(ISERROR(VLOOKUP($A43,#REF!,8,0)),0,(VLOOKUP($A43,#REF!,8,0)))","v":0},0,1,0,0,0,0,{"$f":"IF(ISERROR(VLOOKUP($A43,#REF!,8,0)),0,(VLOOKUP($A43,#REF!,8,0)))","v":0},0,1,0,0,0,0,{"$f":"IF(ISERROR(VLOOKUP($A43,#REF!,8,0)),0,(VLOOKUP($A43,#REF!,8,0)))","v":0},0,1,0,0,0,0,{"$f":"IF(ISERROR(VLOOKUP($A43,#REF!,8,0)),0,(VLOOKUP($A43,#REF!,8,0)))","v":0},0,1,0,0,0,0,{"$f":"IF(ISERROR(VLOOKUP($A43,#REF!,8,0)),0,(VLOOKUP($A43,#REF!,8,0)))","v":0},0,1,0,0,0,0,{"$f":"IF(ISERROR(VLOOKUP($A43,#REF!,8,0)),0,(VLOOKUP($A43,#REF!,8,0)))","v":0},0,1,0,0,0,0,{"$f":"IF(ISERROR(VLOOKUP($A43,#REF!,8,0)),0,(VLOOKUP($A43,#REF!,8,0)))","v":0},0,1,0,0,0,0,{"$f":"IF(ISERROR(VLOOKUP($A43,#REF!,8,0)),0,(VLOOKUP($A43,#REF!,8,0)))","v":0},0,1,0,0,0,0,{"$f":"IF(ISERROR(VLOOKUP($A43,#REF!,8,0)),0,(VLOOKUP($A43,#REF!,8,0)))","v":0},0,1,0,0,0,0,{"$f":"IF(ISERROR(VLOOKUP($A43,#REF!,8,0)),0,(VLOOKUP($A43,#REF!,8,0)))","v":0},0,1,0,0,0,0,{"$f":"IF(ISERROR(VLOOKUP($A43,#REF!,8,0)),0,(VLOOKUP($A43,#REF!,8,0)))","v":0},0,1,0,0,0,0,{"$f":"IF(ISERROR(VLOOKUP($A43,#REF!,8,0)),0,(VLOOKUP($A43,#REF!,8,0)))","v":0},0,1,0,0,0,0,{"$f":"IF(ISERROR(VLOOKUP($A43,#REF!,8,0)),0,(VLOOKUP($A43,#REF!,8,0)))","v":0},0,1,0,0,0,0,{"$f":"IF(ISERROR(VLOOKUP($A43,#REF!,8,0)),0,(VLOOKUP($A43,#REF!,8,0)))","v":0},0,1,0,0,0,0,{"$f":"IF(ISERROR(VLOOKUP($A43,#REF!,8,0)),0,(VLOOKUP($A43,#REF!,8,0)))","v":0},0,1,0,0,0,0,{"$f":"IF(ISERROR(VLOOKUP($A43,#REF!,8,0)),0,(VLOOKUP($A43,#REF!,8,0)))","v":0},0,1,0,0,0,0,{"$f":"IF(ISERROR(VLOOKUP($A43,#REF!,8,0)),0,(VLOOKUP($A43,#REF!,8,0)))","v":0},0,1,0,0,0,0,{"$f":"IF(ISERROR(VLOOKUP($A43,#REF!,8,0)),0,(VLOOKUP($A43,#REF!,8,0)))","v":0},0,1,0,0,0,0,{"$f":"IF(ISERROR(VLOOKUP($A43,#REF!,8,0)),0,(VLOOKUP($A43,#REF!,8,0)))","v":0},0,1,0,0,0,0,{"$f":"IF(ISERROR(VLOOKUP($A43,#REF!,8,0)),0,(VLOOKUP($A43,#REF!,8,0)))","v":0},0,1,0,0,0,0,{"$f":"IF(ISERROR(VLOOKUP($A43,#REF!,8,0)),0,(VLOOKUP($A43,#REF!,8,0)))","v":0},0,1,0,0,0,0,{"$f":"IF(ISERROR(VLOOKUP($A43,#REF!,8,0)),0,(VLOOKUP($A43,#REF!,8,0)))","v":0},0,1,0,0,0,0,{"$f":"IF(ISERROR(VLOOKUP($A43,#REF!,8,0)),0,(VLOOKUP($A43,#REF!,8,0)))","v":0},0,1,0,0,0,0,{"$f":"IF(ISERROR(VLOOKUP($A43,#REF!,8,0)),0,(VLOOKUP($A43,#REF!,8,0)))","v":0},0,1,0,0,0,0,{"$f":"IF(ISERROR(VLOOKUP($A43,#REF!,8,0)),0,(VLOOKUP($A43,#REF!,8,0)))","v":0},0,1,0,0,0,0,{"$f":"IF(ISERROR(VLOOKUP($A43,#REF!,8,0)),0,(VLOOKUP($A43,#REF!,8,0)))","v":0},0,1,0,0,0,0,{"$f":"IF(ISERROR(VLOOKUP($A43,#REF!,8,0)),0,(VLOOKUP($A43,#REF!,8,0)))","v":0},0,1,0,0,0,0,{"$f":"IF(ISERROR(VLOOKUP($A43,#REF!,8,0)),0,(VLOOKUP($A43,#REF!,8,0)))","v":0},0,1,0,0,0,0,{"$f":"IF(ISERROR(VLOOKUP($A43,#REF!,8,0)),0,(VLOOKUP($A43,#REF!,8,0)))","v":0},0,1,0,0,0,0,{"$f":"IF(ISERROR(VLOOKUP($A43,#REF!,8,0)),0,(VLOOKUP($A43,#REF!,8,0)))","v":0},0,1,0,0,0,0,{"$f":"IF(ISERROR(VLOOKUP($A43,#REF!,8,0)),0,(VLOOKUP($A43,#REF!,8,0)))","v":0},0,1,0,0,0,0,{"$f":"IF(ISERROR(VLOOKUP($A43,#REF!,8,0)),0,(VLOOKUP($A43,#REF!,8,0)))","v":0},0,1,0,0,0,0,{"$f":"IF(ISERROR(VLOOKUP($A43,#REF!,8,0)),0,(VLOOKUP($A43,#REF!,8,0)))","v":0},0,1,0,0,0,0,{"$f":"IF(ISERROR(VLOOKUP($A43,#REF!,8,0)),0,(VLOOKUP($A43,#REF!,8,0)))","v":0},0,1,0,0,0,0,{"$f":"IF(ISERROR(VLOOKUP($A43,#REF!,8,0)),0,(VLOOKUP($A43,#REF!,8,0)))","v":0},0,1,0,0,0,0,{"$f":"IF(ISERROR(VLOOKUP($A43,#REF!,8,0)),0,(VLOOKUP($A43,#REF!,8,0)))","v":0},0,1,0,0,0,0,{"$f":"IF(ISERROR(VLOOKUP($A43,#REF!,8,0)),0,(VLOOKUP($A43,#REF!,8,0)))","v":0},0,1,0,0,0,0,{"$f":"IF(ISERROR(VLOOKUP($A43,#REF!,8,0)),0,(VLOOKUP($A43,#REF!,8,0)))","v":0},0,1,0,0,0,0,{"$f":"IF(ISERROR(VLOOKUP($A43,#REF!,8,0)),0,(VLOOKUP($A43,#REF!,8,0)))","v":0},0,1,0,0,0,0,{"$f":"IF(ISERROR(VLOOKUP($A43,#REF!,8,0)),0,(VLOOKUP($A43,#REF!,8,0)))","v":0},0,1,0,0,0,0,{"$f":"IF(ISERROR(VLOOKUP($A43,#REF!,8,0)),0,(VLOOKUP($A43,#REF!,8,0)))","v":0},0,1,0,0,0,0,{"$f":"IF(ISERROR(VLOOKUP($A43,#REF!,8,0)),0,(VLOOKUP($A43,#REF!,8,0)))","v":0},0,1,0,0,0,0,{"$f":"IF(ISERROR(VLOOKUP($A43,#REF!,8,0)),0,(VLOOKUP($A43,#REF!,8,0)))","v":0},0,1,0,0,0,0,{"$f":"IF(ISERROR(VLOOKUP($A43,#REF!,8,0)),0,(VLOOKUP($A43,#REF!,8,0)))","v":0},0,1,0,0,0,0,{"$f":"E43*M43","v":7418.2830000000004},{"$f":"O43","v":7418.2830000000004},1,0]
["1.33","Desmontagem de GRUA QTG-20 do tipo ascensional, com lança de 30m, inclusive acessórios necessários para execução de serviço.","un",1,1,0,0,0,7912.8352000000004,7912.8352000000004,0,0,7912.8352000000004,0,7912.8352000000004,null,0,0,0,0,0,null,0,1,0,0,0,0,null,0,1,0,0,0,0,null,0,1,0,0,0,0,null,0,1,0,0,0,0,null,0,1,0,0,0,0,{"$f":"IF(ISERROR(VLOOKUP(A44,'7ª MEDIÇÃO'!$A$5:$J$1048576,8,0)),0,(VLOOKUP(A44,'7ª MEDIÇÃO'!$A$5:$J$1048576,8,0)))","v":0},0,1,0,0,0,0,{"$f":"IF(ISERROR(VLOOKUP(A44,'8ª MEDIÇÃO'!$A$5:$J$1048576,8,0)),0,(VLOOKUP(A44,'8ª MEDIÇÃO'!$A$5:$J$1048576,8,0)))","v":0},0,1,0,0,0,0,{"$f":"IF(ISERROR(VLOOKUP(A44,'9ª MEDIÇÃO'!$A$5:$J$1048576,8,0)),0,(VLOOKUP(A44,'9ª MEDIÇÃO'!$A$5:$J$1048576,8,0)))","v":0},0,1,0,0,0,0,{"$f":"IF(ISERROR(VLOOKUP(A44,#REF!,8,0)),0,(VLOOKUP(A44,#REF!,8,0)))","v":0},0,1,0,0,0,0,{"$f":"IF(ISERROR(VLOOKUP($A44,#REF!,8,0)),0,(VLOOKUP($A44,#REF!,8,0)))","v":0},0,1,0,0,0,0,{"$f":"IF(ISERROR(VLOOKUP($A44,#REF!,8,0)),0,(VLOOKUP($A44,#REF!,8,0)))","v":0},0,1,0,0,0,0,{"$f":"IF(ISERROR(VLOOKUP($A44,#REF!,8,0)),0,(VLOOKUP($A44,#REF!,8,0)))","v":0},0,1,0,0,0,0,{"$f":"IF(ISERROR(VLOOKUP($A44,#REF!,8,0)),0,(VLOOKUP($A44,#REF!,8,0)))","v":0},0,1,0,0,0,0,{"$f":"IF(ISERROR(VLOOKUP($A44,#REF!,8,0)),0,(VLOOKUP($A44,#REF!,8,0)))","v":0},0,1,0,0,0,0,{"$f":"IF(ISERROR(VLOOKUP($A44,#REF!,8,0)),0,(VLOOKUP($A44,#REF!,8,0)))","v":0},0,1,0,0,0,0,{"$f":"IF(ISERROR(VLOOKUP($A44,#REF!,8,0)),0,(VLOOKUP($A44,#REF!,8,0)))","v":0},0,1,0,0,0,0,{"$f":"IF(ISERROR(VLOOKUP($A44,#REF!,8,0)),0,(VLOOKUP($A44,#REF!,8,0)))","v":0},0,1,0,0,0,0,{"$f":"IF(ISERROR(VLOOKUP($A44,#REF!,8,0)),0,(VLOOKUP($A44,#REF!,8,0)))","v":0},0,1,0,0,0,0,{"$f":"IF(ISERROR(VLOOKUP($A44,#REF!,8,0)),0,(VLOOKUP($A44,#REF!,8,0)))","v":0},0,1,0,0,0,0,{"$f":"IF(ISERROR(VLOOKUP($A44,#REF!,8,0)),0,(VLOOKUP($A44,#REF!,8,0)))","v":0},0,1,0,0,0,0,{"$f":"IF(ISERROR(VLOOKUP($A44,#REF!,8,0)),0,(VLOOKUP($A44,#REF!,8,0)))","v":0},0,1,0,0,0,0,{"$f":"IF(ISERROR(VLOOKUP($A44,#REF!,8,0)),0,(VLOOKUP($A44,#REF!,8,0)))","v":0},0,1,0,0,0,0,{"$f":"IF(ISERROR(VLOOKUP($A44,#REF!,8,0)),0,(VLOOKUP($A44,#REF!,8,0)))","v":0},0,1,0,0,0,0,{"$f":"IF(ISERROR(VLOOKUP($A44,#REF!,8,0)),0,(VLOOKUP($A44,#REF!,8,0)))","v":0},0,1,0,0,0,0,{"$f":"IF(ISERROR(VLOOKUP($A44,#REF!,8,0)),0,(VLOOKUP($A44,#REF!,8,0)))","v":0},0,1,0,0,0,0,{"$f":"IF(ISERROR(VLOOKUP($A44,#REF!,8,0)),0,(VLOOKUP($A44,#REF!,8,0)))","v":0},0,1,0,0,0,0,{"$f":"IF(ISERROR(VLOOKUP($A44,#REF!,8,0)),0,(VLOOKUP($A44,#REF!,8,0)))","v":0},0,1,0,0,0,0,{"$f":"IF(ISERROR(VLOOKUP($A44,#REF!,8,0)),0,(VLOOKUP($A44,#REF!,8,0)))","v":0},0,1,0,0,0,0,{"$f":"IF(ISERROR(VLOOKUP($A44,#REF!,8,0)),0,(VLOOKUP($A44,#REF!,8,0)))","v":0},0,1,0,0,0,0,{"$f":"IF(ISERROR(VLOOKUP($A44,#REF!,8,0)),0,(VLOOKUP($A44,#REF!,8,0)))","v":0},0,1,0,0,0,0,{"$f":"IF(ISERROR(VLOOKUP($A44,#REF!,8,0)),0,(VLOOKUP($A44,#REF!,8,0)))","v":0},0,1,0,0,0,0,{"$f":"IF(ISERROR(VLOOKUP($A44,#REF!,8,0)),0,(VLOOKUP($A44,#REF!,8,0)))","v":0},0,1,0,0,0,0,{"$f":"IF(ISERROR(VLOOKUP($A44,#REF!,8,0)),0,(VLOOKUP($A44,#REF!,8,0)))","v":0},0,1,0,0,0,0,{"$f":"IF(ISERROR(VLOOKUP($A44,#REF!,8,0)),0,(VLOOKUP($A44,#REF!,8,0)))","v":0},0,1,0,0,0,0,{"$f":"IF(ISERROR(VLOOKUP($A44,#REF!,8,0)),0,(VLOOKUP($A44,#REF!,8,0)))","v":0},0,1,0,0,0,0,{"$f":"IF(ISERROR(VLOOKUP($A44,#REF!,8,0)),0,(VLOOKUP($A44,#REF!,8,0)))","v":0},0,1,0,0,0,0,{"$f":"IF(ISERROR(VLOOKUP($A44,#REF!,8,0)),0,(VLOOKUP($A44,#REF!,8,0)))","v":0},0,1,0,0,0,0,{"$f":"IF(ISERROR(VLOOKUP($A44,#REF!,8,0)),0,(VLOOKUP($A44,#REF!,8,0)))","v":0},0,1,0,0,0,0,{"$f":"IF(ISERROR(VLOOKUP($A44,#REF!,8,0)),0,(VLOOKUP($A44,#REF!,8,0)))","v":0},0,1,0,0,0,0,{"$f":"IF(ISERROR(VLOOKUP($A44,#REF!,8,0)),0,(VLOOKUP($A44,#REF!,8,0)))","v":0},0,1,0,0,0,0,{"$f":"IF(ISERROR(VLOOKUP($A44,#REF!,8,0)),0,(VLOOKUP($A44,#REF!,8,0)))","v":0},0,1,0,0,0,0,{"$f":"IF(ISERROR(VLOOKUP($A44,#REF!,8,0)),0,(VLOOKUP($A44,#REF!,8,0)))","v":0},0,1,0,0,0,0,{"$f":"IF(ISERROR(VLOOKUP($A44,#REF!,8,0)),0,(VLOOKUP($A44,#REF!,8,0)))","v":0},0,1,0,0,0,0,{"$f":"IF(ISERROR(VLOOKUP($A44,#REF!,8,0)),0,(VLOOKUP($A44,#REF!,8,0)))","v":0},0,1,0,0,0,0,{"$f":"IF(ISERROR(VLOOKUP($A44,#REF!,8,0)),0,(VLOOKUP($A44,#REF!,8,0)))","v":0},0,1,0,0,0,0,{"$f":"IF(ISERROR(VLOOKUP($A44,#REF!,8,0)),0,(VLOOKUP($A44,#REF!,8,0)))","v":0},0,1,0,0,0,0,{"$f":"IF(ISERROR(VLOOKUP($A44,#REF!,8,0)),0,(VLOOKUP($A44,#REF!,8,0)))","v":0},0,1,0,0,0,0,{"$f":"IF(ISERROR(VLOOKUP($A44,#REF!,8,0)),0,(VLOOKUP($A44,#REF!,8,0)))","v":0},0,1,0,0,0,0,{"$f":"IF(ISERROR(VLOOKUP($A44,#REF!,8,0)),0,(VLOOKUP($A44,#REF!,8,0)))","v":0},0,1,0,0,0,0,{"$f":"IF(ISERROR(VLOOKUP($A44,#REF!,8,0)),0,(VLOOKUP($A44,#REF!,8,0)))","v":0},0,1,0,0,0,0,{"$f":"IF(ISERROR(VLOOKUP($A44,#REF!,8,0)),0,(VLOOKUP($A44,#REF!,8,0)))","v":0},0,1,0,0,0,0,{"$f":"IF(ISERROR(VLOOKUP($A44,#REF!,8,0)),0,(VLOOKUP($A44,#REF!,8,0)))","v":0},0,1,0,0,0,0,{"$f":"IF(ISERROR(VLOOKUP($A44,#REF!,8,0)),0,(VLOOKUP($A44,#REF!,8,0)))","v":0},0,1,0,0,0,0,{"$f":"IF(ISERROR(VLOOKUP($A44,#REF!,8,0)),0,(VLOOKUP($A44,#REF!,8,0)))","v":0},0,1,0,0,0,0,7912.8352000000004,7912.8352000000004,1,0]
["1.34","Transporte de grua QTG-20 em carreta com 12m de comprimento. (Recife/Limoeiro)","un",2,2,0,0,0,1226.4844799999998,2452.9689599999997,0,0,1226.4844799999998,0,2452.9689599999997,null,0,0,0,0,0,null,0,1,0,0,0,0,null,0,1,0,0,0,0,null,0,1,0,0,0,0,null,0,1,0,0,0,0,null,0,1,0,0,0,0,{"$f":"IF(ISERROR(VLOOKUP(A45,'7ª MEDIÇÃO'!$A$5:$J$1048576,8,0)),0,(VLOOKUP(A45,'7ª MEDIÇÃO'!$A$5:$J$1048576,8,0)))","v":0},0,1,0,0,0,0,{"$f":"IF(ISERROR(VLOOKUP(A45,'8ª MEDIÇÃO'!$A$5:$J$1048576,8,0)),0,(VLOOKUP(A45,'8ª MEDIÇÃO'!$A$5:$J$1048576,8,0)))","v":0},0,1,0,0,0,0,{"$f":"IF(ISERROR(VLOOKUP(A45,'9ª MEDIÇÃO'!$A$5:$J$1048576,8,0)),0,(VLOOKUP(A45,'9ª MEDIÇÃO'!$A$5:$J$1048576,8,0)))","v":0},0,1,0,0,0,0,{"$f":"IF(ISERROR(VLOOKUP(A45,#REF!,8,0)),0,(VLOOKUP(A45,#REF!,8,0)))","v":0},0,1,0,0,0,0,{"$f":"IF(ISERROR(VLOOKUP($A45,#REF!,8,0)),0,(VLOOKUP($A45,#REF!,8,0)))","v":0},0,1,0,0,0,0,{"$f":"IF(ISERROR(VLOOKUP($A45,#REF!,8,0)),0,(VLOOKUP($A45,#REF!,8,0)))","v":0},0,1,0,0,0,0,{"$f":"IF(ISERROR(VLOOKUP($A45,#REF!,8,0)),0,(VLOOKUP($A45,#REF!,8,0)))","v":0},0,1,0,0,0,0,{"$f":"IF(ISERROR(VLOOKUP($A45,#REF!,8,0)),0,(VLOOKUP($A45,#REF!,8,0)))","v":0},0,1,0,0,0,0,{"$f":"IF(ISERROR(VLOOKUP($A45,#REF!,8,0)),0,(VLOOKUP($A45,#REF!,8,0)))","v":0},0,1,0,0,0,0,{"$f":"IF(ISERROR(VLOOKUP($A45,#REF!,8,0)),0,(VLOOKUP($A45,#REF!,8,0)))","v":0},0,1,0,0,0,0,{"$f":"IF(ISERROR(VLOOKUP($A45,#REF!,8,0)),0,(VLOOKUP($A45,#REF!,8,0)))","v":0},0,1,0,0,0,0,{"$f":"IF(ISERROR(VLOOKUP($A45,#REF!,8,0)),0,(VLOOKUP($A45,#REF!,8,0)))","v":0},0,1,0,0,0,0,{"$f":"IF(ISERROR(VLOOKUP($A45,#REF!,8,0)),0,(VLOOKUP($A45,#REF!,8,0)))","v":0},0,1,0,0,0,0,{"$f":"IF(ISERROR(VLOOKUP($A45,#REF!,8,0)),0,(VLOOKUP($A45,#REF!,8,0)))","v":0},0,1,0,0,0,0,{"$f":"IF(ISERROR(VLOOKUP($A45,#REF!,8,0)),0,(VLOOKUP($A45,#REF!,8,0)))","v":0},0,1,0,0,0,0,{"$f":"IF(ISERROR(VLOOKUP($A45,#REF!,8,0)),0,(VLOOKUP($A45,#REF!,8,0)))","v":0},0,1,0,0,0,0,{"$f":"IF(ISERROR(VLOOKUP($A45,#REF!,8,0)),0,(VLOOKUP($A45,#REF!,8,0)))","v":0},0,1,0,0,0,0,{"$f":"IF(ISERROR(VLOOKUP($A45,#REF!,8,0)),0,(VLOOKUP($A45,#REF!,8,0)))","v":0},0,1,0,0,0,0,{"$f":"IF(ISERROR(VLOOKUP($A45,#REF!,8,0)),0,(VLOOKUP($A45,#REF!,8,0)))","v":0},0,1,0,0,0,0,{"$f":"IF(ISERROR(VLOOKUP($A45,#REF!,8,0)),0,(VLOOKUP($A45,#REF!,8,0)))","v":0},0,1,0,0,0,0,{"$f":"IF(ISERROR(VLOOKUP($A45,#REF!,8,0)),0,(VLOOKUP($A45,#REF!,8,0)))","v":0},0,1,0,0,0,0,{"$f":"IF(ISERROR(VLOOKUP($A45,#REF!,8,0)),0,(VLOOKUP($A45,#REF!,8,0)))","v":0},0,1,0,0,0,0,{"$f":"IF(ISERROR(VLOOKUP($A45,#REF!,8,0)),0,(VLOOKUP($A45,#REF!,8,0)))","v":0},0,1,0,0,0,0,{"$f":"IF(ISERROR(VLOOKUP($A45,#REF!,8,0)),0,(VLOOKUP($A45,#REF!,8,0)))","v":0},0,1,0,0,0,0,{"$f":"IF(ISERROR(VLOOKUP($A45,#REF!,8,0)),0,(VLOOKUP($A45,#REF!,8,0)))","v":0},0,1,0,0,0,0,{"$f":"IF(ISERROR(VLOOKUP($A45,#REF!,8,0)),0,(VLOOKUP($A45,#REF!,8,0)))","v":0},0,1,0,0,0,0,{"$f":"IF(ISERROR(VLOOKUP($A45,#REF!,8,0)),0,(VLOOKUP($A45,#REF!,8,0)))","v":0},0,1,0,0,0,0,{"$f":"IF(ISERROR(VLOOKUP($A45,#REF!,8,0)),0,(VLOOKUP($A45,#REF!,8,0)))","v":0},0,1,0,0,0,0,{"$f":"IF(ISERROR(VLOOKUP($A45,#REF!,8,0)),0,(VLOOKUP($A45,#REF!,8,0)))","v":0},0,1,0,0,0,0,{"$f":"IF(ISERROR(VLOOKUP($A45,#REF!,8,0)),0,(VLOOKUP($A45,#REF!,8,0)))","v":0},0,1,0,0,0,0,{"$f":"IF(ISERROR(VLOOKUP($A45,#REF!,8,0)),0,(VLOOKUP($A45,#REF!,8,0)))","v":0},0,1,0,0,0,0,{"$f":"IF(ISERROR(VLOOKUP($A45,#REF!,8,0)),0,(VLOOKUP($A45,#REF!,8,0)))","v":0},0,1,0,0,0,0,{"$f":"IF(ISERROR(VLOOKUP($A45,#REF!,8,0)),0,(VLOOKUP($A45,#REF!,8,0)))","v":0},0,1,0,0,0,0,{"$f":"IF(ISERROR(VLOOKUP($A45,#REF!,8,0)),0,(VLOOKUP($A45,#REF!,8,0)))","v":0},0,1,0,0,0,0,{"$f":"IF(ISERROR(VLOOKUP($A45,#REF!,8,0)),0,(VLOOKUP($A45,#REF!,8,0)))","v":0},0,1,0,0,0,0,{"$f":"IF(ISERROR(VLOOKUP($A45,#REF!,8,0)),0,(VLOOKUP($A45,#REF!,8,0)))","v":0},0,1,0,0,0,0,{"$f":"IF(ISERROR(VLOOKUP($A45,#REF!,8,0)),0,(VLOOKUP($A45,#REF!,8,0)))","v":0},0,1,0,0,0,0,{"$f":"IF(ISERROR(VLOOKUP($A45,#REF!,8,0)),0,(VLOOKUP($A45,#REF!,8,0)))","v":0},0,1,0,0,0,0,{"$f":"IF(ISERROR(VLOOKUP($A45,#REF!,8,0)),0,(VLOOKUP($A45,#REF!,8,0)))","v":0},0,1,0,0,0,0,{"$f":"IF(ISERROR(VLOOKUP($A45,#REF!,8,0)),0,(VLOOKUP($A45,#REF!,8,0)))","v":0},0,1,0,0,0,0,{"$f":"IF(ISERROR(VLOOKUP($A45,#REF!,8,0)),0,(VLOOKUP($A45,#REF!,8,0)))","v":0},0,1,0,0,0,0,{"$f":"IF(ISERROR(VLOOKUP($A45,#REF!,8,0)),0,(VLOOKUP($A45,#REF!,8,0)))","v":0},0,1,0,0,0,0,{"$f":"IF(ISERROR(VLOOKUP($A45,#REF!,8,0)),0,(VLOOKUP($A45,#REF!,8,0)))","v":0},0,1,0,0,0,0,{"$f":"IF(ISERROR(VLOOKUP($A45,#REF!,8,0)),0,(VLOOKUP($A45,#REF!,8,0)))","v":0},0,1,0,0,0,0,{"$f":"IF(ISERROR(VLOOKUP($A45,#REF!,8,0)),0,(VLOOKUP($A45,#REF!,8,0)))","v":0},0,1,0,0,0,0,{"$f":"IF(ISERROR(VLOOKUP($A45,#REF!,8,0)),0,(VLOOKUP($A45,#REF!,8,0)))","v":0},0,1,0,0,0,0,{"$f":"IF(ISERROR(VLOOKUP($A45,#REF!,8,0)),0,(VLOOKUP($A45,#REF!,8,0)))","v":0},0,1,0,0,0,0,{"$f":"IF(ISERROR(VLOOKUP($A45,#REF!,8,0)),0,(VLOOKUP($A45,#REF!,8,0)))","v":0},0,1,0,0,0,0,{"$f":"IF(ISERROR(VLOOKUP($A45,#REF!,8,0)),0,(VLOOKUP($A45,#REF!,8,0)))","v":0},0,1,0,0,0,0,2452.9689599999997,2452.9689599999997,1,0]
["1.35","Transporte de grua QTG-20 em carreta com 12m de comprimento. (Limoeiro/Recife)","un",2,2,0,0,0,1226.4844799999998,2452.9689599999997,0,0,1226.4844799999998,0,2452.9689599999997,null,0,0,0,0,0,null,0,1,0,0,0,0,null,0,1,0,0,0,0,null,0,1,0,0,0,0,null,0,1,0,0,0,0,null,0,1,0,0,0,0,{"$f":"IF(ISERROR(VLOOKUP(A46,'7ª MEDIÇÃO'!$A$5:$J$1048576,8,0)),0,(VLOOKUP(A46,'7ª MEDIÇÃO'!$A$5:$J$1048576,8,0)))","v":0},0,1,0,0,0,0,{"$f":"IF(ISERROR(VLOOKUP(A46,'8ª MEDIÇÃO'!$A$5:$J$1048576,8,0)),0,(VLOOKUP(A46,'8ª MEDIÇÃO'!$A$5:$J$1048576,8,0)))","v":0},0,1,0,0,0,0,{"$f":"IF(ISERROR(VLOOKUP(A46,'9ª MEDIÇÃO'!$A$5:$J$1048576,8,0)),0,(VLOOKUP(A46,'9ª MEDIÇÃO'!$A$5:$J$1048576,8,0)))","v":0},0,1,0,0,0,0,{"$f":"IF(ISERROR(VLOOKUP(A46,#REF!,8,0)),0,(VLOOKUP(A46,#REF!,8,0)))","v":0},0,1,0,0,0,0,{"$f":"IF(ISERROR(VLOOKUP($A46,#REF!,8,0)),0,(VLOOKUP($A46,#REF!,8,0)))","v":0},0,1,0,0,0,0,{"$f":"IF(ISERROR(VLOOKUP($A46,#REF!,8,0)),0,(VLOOKUP($A46,#REF!,8,0)))","v":0},0,1,0,0,0,0,{"$f":"IF(ISERROR(VLOOKUP($A46,#REF!,8,0)),0,(VLOOKUP($A46,#REF!,8,0)))","v":0},0,1,0,0,0,0,{"$f":"IF(ISERROR(VLOOKUP($A46,#REF!,8,0)),0,(VLOOKUP($A46,#REF!,8,0)))","v":0},0,1,0,0,0,0,{"$f":"IF(ISERROR(VLOOKUP($A46,#REF!,8,0)),0,(VLOOKUP($A46,#REF!,8,0)))","v":0},0,1,0,0,0,0,{"$f":"IF(ISERROR(VLOOKUP($A46,#REF!,8,0)),0,(VLOOKUP($A46,#REF!,8,0)))","v":0},0,1,0,0,0,0,{"$f":"IF(ISERROR(VLOOKUP($A46,#REF!,8,0)),0,(VLOOKUP($A46,#REF!,8,0)))","v":0},0,1,0,0,0,0,{"$f":"IF(ISERROR(VLOOKUP($A46,#REF!,8,0)),0,(VLOOKUP($A46,#REF!,8,0)))","v":0},0,1,0,0,0,0,{"$f":"IF(ISERROR(VLOOKUP($A46,#REF!,8,0)),0,(VLOOKUP($A46,#REF!,8,0)))","v":0},0,1,0,0,0,0,{"$f":"IF(ISERROR(VLOOKUP($A46,#REF!,8,0)),0,(VLOOKUP($A46,#REF!,8,0)))","v":0},0,1,0,0,0,0,{"$f":"IF(ISERROR(VLOOKUP($A46,#REF!,8,0)),0,(VLOOKUP($A46,#REF!,8,0)))","v":0},0,1,0,0,0,0,{"$f":"IF(ISERROR(VLOOKUP($A46,#REF!,8,0)),0,(VLOOKUP($A46,#REF!,8,0)))","v":0},0,1,0,0,0,0,{"$f":"IF(ISERROR(VLOOKUP($A46,#REF!,8,0)),0,(VLOOKUP($A46,#REF!,8,0)))","v":0},0,1,0,0,0,0,{"$f":"IF(ISERROR(VLOOKUP($A46,#REF!,8,0)),0,(VLOOKUP($A46,#REF!,8,0)))","v":0},0,1,0,0,0,0,{"$f":"IF(ISERROR(VLOOKUP($A46,#REF!,8,0)),0,(VLOOKUP($A46,#REF!,8,0)))","v":0},0,1,0,0,0,0,{"$f":"IF(ISERROR(VLOOKUP($A46,#REF!,8,0)),0,(VLOOKUP($A46,#REF!,8,0)))","v":0},0,1,0,0,0,0,{"$f":"IF(ISERROR(VLOOKUP($A46,#REF!,8,0)),0,(VLOOKUP($A46,#REF!,8,0)))","v":0},0,1,0,0,0,0,{"$f":"IF(ISERROR(VLOOKUP($A46,#REF!,8,0)),0,(VLOOKUP($A46,#REF!,8,0)))","v":0},0,1,0,0,0,0,{"$f":"IF(ISERROR(VLOOKUP($A46,#REF!,8,0)),0,(VLOOKUP($A46,#REF!,8,0)))","v":0},0,1,0,0,0,0,{"$f":"IF(ISERROR(VLOOKUP($A46,#REF!,8,0)),0,(VLOOKUP($A46,#REF!,8,0)))","v":0},0,1,0,0,0,0,{"$f":"IF(ISERROR(VLOOKUP($A46,#REF!,8,0)),0,(VLOOKUP($A46,#REF!,8,0)))","v":0},0,1,0,0,0,0,{"$f":"IF(ISERROR(VLOOKUP($A46,#REF!,8,0)),0,(VLOOKUP($A46,#REF!,8,0)))","v":0},0,1,0,0,0,0,{"$f":"IF(ISERROR(VLOOKUP($A46,#REF!,8,0)),0,(VLOOKUP($A46,#REF!,8,0)))","v":0},0,1,0,0,0,0,{"$f":"IF(ISERROR(VLOOKUP($A46,#REF!,8,0)),0,(VLOOKUP($A46,#REF!,8,0)))","v":0},0,1,0,0,0,0,{"$f":"IF(ISERROR(VLOOKUP($A46,#REF!,8,0)),0,(VLOOKUP($A46,#REF!,8,0)))","v":0},0,1,0,0,0,0,{"$f":"IF(ISERROR(VLOOKUP($A46,#REF!,8,0)),0,(VLOOKUP($A46,#REF!,8,0)))","v":0},0,1,0,0,0,0,{"$f":"IF(ISERROR(VLOOKUP($A46,#REF!,8,0)),0,(VLOOKUP($A46,#REF!,8,0)))","v":0},0,1,0,0,0,0,{"$f":"IF(ISERROR(VLOOKUP($A46,#REF!,8,0)),0,(VLOOKUP($A46,#REF!,8,0)))","v":0},0,1,0,0,0,0,{"$f":"IF(ISERROR(VLOOKUP($A46,#REF!,8,0)),0,(VLOOKUP($A46,#REF!,8,0)))","v":0},0,1,0,0,0,0,{"$f":"IF(ISERROR(VLOOKUP($A46,#REF!,8,0)),0,(VLOOKUP($A46,#REF!,8,0)))","v":0},0,1,0,0,0,0,{"$f":"IF(ISERROR(VLOOKUP($A46,#REF!,8,0)),0,(VLOOKUP($A46,#REF!,8,0)))","v":0},0,1,0,0,0,0,{"$f":"IF(ISERROR(VLOOKUP($A46,#REF!,8,0)),0,(VLOOKUP($A46,#REF!,8,0)))","v":0},0,1,0,0,0,0,{"$f":"IF(ISERROR(VLOOKUP($A46,#REF!,8,0)),0,(VLOOKUP($A46,#REF!,8,0)))","v":0},0,1,0,0,0,0,{"$f":"IF(ISERROR(VLOOKUP($A46,#REF!,8,0)),0,(VLOOKUP($A46,#REF!,8,0)))","v":0},0,1,0,0,0,0,{"$f":"IF(ISERROR(VLOOKUP($A46,#REF!,8,0)),0,(VLOOKUP($A46,#REF!,8,0)))","v":0},0,1,0,0,0,0,{"$f":"IF(ISERROR(VLOOKUP($A46,#REF!,8,0)),0,(VLOOKUP($A46,#REF!,8,0)))","v":0},0,1,0,0,0,0,{"$f":"IF(ISERROR(VLOOKUP($A46,#REF!,8,0)),0,(VLOOKUP($A46,#REF!,8,0)))","v":0},0,1,0,0,0,0,{"$f":"IF(ISERROR(VLOOKUP($A46,#REF!,8,0)),0,(VLOOKUP($A46,#REF!,8,0)))","v":0},0,1,0,0,0,0,{"$f":"IF(ISERROR(VLOOKUP($A46,#REF!,8,0)),0,(VLOOKUP($A46,#REF!,8,0)))","v":0},0,1,0,0,0,0,{"$f":"IF(ISERROR(VLOOKUP($A46,#REF!,8,0)),0,(VLOOKUP($A46,#REF!,8,0)))","v":0},0,1,0,0,0,0,{"$f":"IF(ISERROR(VLOOKUP($A46,#REF!,8,0)),0,(VLOOKUP($A46,#REF!,8,0)))","v":0},0,1,0,0,0,0,{"$f":"IF(ISERROR(VLOOKUP($A46,#REF!,8,0)),0,(VLOOKUP($A46,#REF!,8,0)))","v":0},0,1,0,0,0,0,{"$f":"IF(ISERROR(VLOOKUP($A46,#REF!,8,0)),0,(VLOOKUP($A46,#REF!,8,0)))","v":0},0,1,0,0,0,0,{"$f":"IF(ISERROR(VLOOKUP($A46,#REF!,8,0)),0,(VLOOKUP($A46,#REF!,8,0)))","v":0},0,1,0,0,0,0,{"$f":"IF(ISERROR(VLOOKUP($A46,#REF!,8,0)),0,(VLOOKUP($A46,#REF!,8,0)))","v":0},0,1,0,0,0,0,2452.9689599999997,2452.9689599999997,1,0]
["1.36","Guindaste hidráulico rodoviário com lança telescópia Fabricante: zoomlion, capacidade máxima 70,00 toneladas, alcance vertical máximo 40 m, alcance vertical máximo + jib (9,0m): 49metros, incluindo mobilização e desmobilização.","h",20,0,20,0,0,197.82088000000002,3956.4176000000002,0,0,197.82088000000002,3956.4176000000002,0,null,0,0,0,0,0,null,0,0,0,0,0,0,null,0,0,0,0,0,0,null,0,0,0,0,0,0,null,0,0,0,0,0,0,null,0,0,0,0,0,0,{"$f":"IF(ISERROR(VLOOKUP(A47,'7ª MEDIÇÃO'!$A$5:$J$1048576,8,0)),0,(VLOOKUP(A47,'7ª MEDIÇÃO'!$A$5:$J$1048576,8,0)))","v":0},0,0,0,0,0,0,{"$f":"IF(ISERROR(VLOOKUP(A47,'8ª MEDIÇÃO'!$A$5:$J$1048576,8,0)),0,(VLOOKUP(A47,'8ª MEDIÇÃO'!$A$5:$J$1048576,8,0)))","v":0},0,0,0,0,0,0,{"$f":"IF(ISERROR(VLOOKUP(A47,'9ª MEDIÇÃO'!$A$5:$J$1048576,8,0)),0,(VLOOKUP(A47,'9ª MEDIÇÃO'!$A$5:$J$1048576,8,0)))","v":0},0,0,0,0,0,0,{"$f":"IF(ISERROR(VLOOKUP(A47,#REF!,8,0)),0,(VLOOKUP(A47,#REF!,8,0)))","v":0},0,0,0,0,0,0,{"$f":"IF(ISERROR(VLOOKUP($A47,#REF!,8,0)),0,(VLOOKUP($A47,#REF!,8,0)))","v":0},0,0,0,0,0,0,{"$f":"IF(ISERROR(VLOOKUP($A47,#REF!,8,0)),0,(VLOOKUP($A47,#REF!,8,0)))","v":0},0,0,0,0,0,0,{"$f":"IF(ISERROR(VLOOKUP($A47,#REF!,8,0)),0,(VLOOKUP($A47,#REF!,8,0)))","v":0},0,0,0,0,0,0,{"$f":"IF(ISERROR(VLOOKUP($A47,#REF!,8,0)),0,(VLOOKUP($A47,#REF!,8,0)))","v":0},0,0,0,0,0,0,{"$f":"IF(ISERROR(VLOOKUP($A47,#REF!,8,0)),0,(VLOOKUP($A47,#REF!,8,0)))","v":0},0,0,0,0,0,0,{"$f":"IF(ISERROR(VLOOKUP($A47,#REF!,8,0)),0,(VLOOKUP($A47,#REF!,8,0)))","v":0},0,0,0,0,0,0,{"$f":"IF(ISERROR(VLOOKUP($A47,#REF!,8,0)),0,(VLOOKUP($A47,#REF!,8,0)))","v":0},0,0,0,0,0,0,{"$f":"IF(ISERROR(VLOOKUP($A47,#REF!,8,0)),0,(VLOOKUP($A47,#REF!,8,0)))","v":0},0,0,0,0,0,0,{"$f":"IF(ISERROR(VLOOKUP($A47,#REF!,8,0)),0,(VLOOKUP($A47,#REF!,8,0)))","v":0},0,0,0,0,0,0,{"$f":"IF(ISERROR(VLOOKUP($A47,#REF!,8,0)),0,(VLOOKUP($A47,#REF!,8,0)))","v":0},0,0,0,0,0,0,{"$f":"IF(ISERROR(VLOOKUP($A47,#REF!,8,0)),0,(VLOOKUP($A47,#REF!,8,0)))","v":0},0,0,0,0,0,0,{"$f":"IF(ISERROR(VLOOKUP($A47,#REF!,8,0)),0,(VLOOKUP($A47,#REF!,8,0)))","v":0},0,0,0,0,0,0,{"$f":"IF(ISERROR(VLOOKUP($A47,#REF!,8,0)),0,(VLOOKUP($A47,#REF!,8,0)))","v":0},0,0,0,0,0,0,{"$f":"IF(ISERROR(VLOOKUP($A47,#REF!,8,0)),0,(VLOOKUP($A47,#REF!,8,0)))","v":0},0,0,0,0,0,0,{"$f":"IF(ISERROR(VLOOKUP($A47,#REF!,8,0)),0,(VLOOKUP($A47,#REF!,8,0)))","v":0},0,0,0,0,0,0,{"$f":"IF(ISERROR(VLOOKUP($A47,#REF!,8,0)),0,(VLOOKUP($A47,#REF!,8,0)))","v":0},0,0,0,0,0,0,{"$f":"IF(ISERROR(VLOOKUP($A47,#REF!,8,0)),0,(VLOOKUP($A47,#REF!,8,0)))","v":0},0,0,0,0,0,0,{"$f":"IF(ISERROR(VLOOKUP($A47,#REF!,8,0)),0,(VLOOKUP($A47,#REF!,8,0)))","v":0},0,0,0,0,0,0,{"$f":"IF(ISERROR(VLOOKUP($A47,#REF!,8,0)),0,(VLOOKUP($A47,#REF!,8,0)))","v":0},0,0,0,0,0,0,{"$f":"IF(ISERROR(VLOOKUP($A47,#REF!,8,0)),0,(VLOOKUP($A47,#REF!,8,0)))","v":0},0,0,0,0,0,0,{"$f":"IF(ISERROR(VLOOKUP($A47,#REF!,8,0)),0,(VLOOKUP($A47,#REF!,8,0)))","v":0},0,0,0,0,0,0,{"$f":"IF(ISERROR(VLOOKUP($A47,#REF!,8,0)),0,(VLOOKUP($A47,#REF!,8,0)))","v":0},0,0,0,0,0,0,{"$f":"IF(ISERROR(VLOOKUP($A47,#REF!,8,0)),0,(VLOOKUP($A47,#REF!,8,0)))","v":0},0,0,0,0,0,0,{"$f":"IF(ISERROR(VLOOKUP($A47,#REF!,8,0)),0,(VLOOKUP($A47,#REF!,8,0)))","v":0},0,0,0,0,0,0,{"$f":"IF(ISERROR(VLOOKUP($A47,#REF!,8,0)),0,(VLOOKUP($A47,#REF!,8,0)))","v":0},0,0,0,0,0,0,{"$f":"IF(ISERROR(VLOOKUP($A47,#REF!,8,0)),0,(VLOOKUP($A47,#REF!,8,0)))","v":0},0,0,0,0,0,0,{"$f":"IF(ISERROR(VLOOKUP($A47,#REF!,8,0)),0,(VLOOKUP($A47,#REF!,8,0)))","v":0},0,0,0,0,0,0,{"$f":"IF(ISERROR(VLOOKUP($A47,#REF!,8,0)),0,(VLOOKUP($A47,#REF!,8,0)))","v":0},0,0,0,0,0,0,{"$f":"IF(ISERROR(VLOOKUP($A47,#REF!,8,0)),0,(VLOOKUP($A47,#REF!,8,0)))","v":0},0,0,0,0,0,0,{"$f":"IF(ISERROR(VLOOKUP($A47,#REF!,8,0)),0,(VLOOKUP($A47,#REF!,8,0)))","v":0},0,0,0,0,0,0,{"$f":"IF(ISERROR(VLOOKUP($A47,#REF!,8,0)),0,(VLOOKUP($A47,#REF!,8,0)))","v":0},0,0,0,0,0,0,{"$f":"IF(ISERROR(VLOOKUP($A47,#REF!,8,0)),0,(VLOOKUP($A47,#REF!,8,0)))","v":0},0,0,0,0,0,0,{"$f":"IF(ISERROR(VLOOKUP($A47,#REF!,8,0)),0,(VLOOKUP($A47,#REF!,8,0)))","v":0},0,0,0,0,0,0,{"$f":"IF(ISERROR(VLOOKUP($A47,#REF!,8,0)),0,(VLOOKUP($A47,#REF!,8,0)))","v":0},0,0,0,0,0,0,{"$f":"IF(ISERROR(VLOOKUP($A47,#REF!,8,0)),0,(VLOOKUP($A47,#REF!,8,0)))","v":0},0,0,0,0,0,0,{"$f":"IF(ISERROR(VLOOKUP($A47,#REF!,8,0)),0,(VLOOKUP($A47,#REF!,8,0)))","v":0},0,0,0,0,0,0,{"$f":"IF(ISERROR(VLOOKUP($A47,#REF!,8,0)),0,(VLOOKUP($A47,#REF!,8,0)))","v":0},0,0,0,0,0,0,{"$f":"IF(ISERROR(VLOOKUP($A47,#REF!,8,0)),0,(VLOOKUP($A47,#REF!,8,0)))","v":0},0,0,0,0,0,0,{"$f":"IF(ISERROR(VLOOKUP($A47,#REF!,8,0)),0,(VLOOKUP($A47,#REF!,8,0)))","v":0},0,0,0,0,0,0,{"$f":"IF(ISERROR(VLOOKUP($A47,#REF!,8,0)),0,(VLOOKUP($A47,#REF!,8,0)))","v":0},0,0,0,0,0,0,{"$f":"IF(ISERROR(VLOOKUP($A47,#REF!,8,0)),0,(VLOOKUP($A47,#REF!,8,0)))","v":0},0,0,0,0,0,0,{"$f":"IF(ISERROR(VLOOKUP($A47,#REF!,8,0)),0,(VLOOKUP($A47,#REF!,8,0)))","v":0},0,0,0,0,0,0,{"$f":"IF(ISERROR(VLOOKUP($A47,#REF!,8,0)),0,(VLOOKUP($A47,#REF!,8,0)))","v":0},0,0,0,0,0,0,{"$f":"IF(ISERROR(VLOOKUP($A47,#REF!,8,0)),0,(VLOOKUP($A47,#REF!,8,0)))","v":0},0,0,0,0,0,0,{"$f":"IF(ISERROR(VLOOKUP($A47,#REF!,8,0)),0,(VLOOKUP($A47,#REF!,8,0)))","v":0},0,0,0,0,0,0,0,0,{"$error":"#DIV/0!"},0]
["1.37","Guindauto hidráulico articulado (tipo Munck) montado sobre caminhão com carroceria aberta, momento máximo 30,00 toneladas, tração 6x4 , alcance vertical máximo 14,00m; alcance vertical máximo + Jib (5,0m): 19,00metros (pré montagem da grua - 3 dias; descarrego - 1 dia; desmontagem 3 dias e carrego final 1 dia, incluindo mobilização e desmobilização.","h",80,80,0,0,0,101.13719999999999,8090.9759999999997,0,0,101.13719999999999,0,8090.9759999999997,null,0,0,0,0,0,null,0,1,0,0,0,0,null,0,1,0,0,0,0,null,0,1,0,0,0,0,null,0,1,0,0,0,0,null,0,1,0,0,0,0,{"$f":"IF(ISERROR(VLOOKUP(A48,'7ª MEDIÇÃO'!$A$5:$J$1048576,8,0)),0,(VLOOKUP(A48,'7ª MEDIÇÃO'!$A$5:$J$1048576,8,0)))","v":0},0,1,0,0,0,0,{"$f":"IF(ISERROR(VLOOKUP(A48,'8ª MEDIÇÃO'!$A$5:$J$1048576,8,0)),0,(VLOOKUP(A48,'8ª MEDIÇÃO'!$A$5:$J$1048576,8,0)))","v":0},0,1,0,0,0,0,{"$f":"IF(ISERROR(VLOOKUP(A48,'9ª MEDIÇÃO'!$A$5:$J$1048576,8,0)),0,(VLOOKUP(A48,'9ª MEDIÇÃO'!$A$5:$J$1048576,8,0)))","v":0},0,1,0,0,0,0,{"$f":"IF(ISERROR(VLOOKUP(A48,#REF!,8,0)),0,(VLOOKUP(A48,#REF!,8,0)))","v":0},0,1,0,0,0,0,{"$f":"IF(ISERROR(VLOOKUP($A48,#REF!,8,0)),0,(VLOOKUP($A48,#REF!,8,0)))","v":0},0,1,0,0,0,0,{"$f":"IF(ISERROR(VLOOKUP($A48,#REF!,8,0)),0,(VLOOKUP($A48,#REF!,8,0)))","v":0},0,1,0,0,0,0,{"$f":"IF(ISERROR(VLOOKUP($A48,#REF!,8,0)),0,(VLOOKUP($A48,#REF!,8,0)))","v":0},0,1,0,0,0,0,{"$f":"IF(ISERROR(VLOOKUP($A48,#REF!,8,0)),0,(VLOOKUP($A48,#REF!,8,0)))","v":0},0,1,0,0,0,0,{"$f":"IF(ISERROR(VLOOKUP($A48,#REF!,8,0)),0,(VLOOKUP($A48,#REF!,8,0)))","v":0},0,1,0,0,0,0,{"$f":"IF(ISERROR(VLOOKUP($A48,#REF!,8,0)),0,(VLOOKUP($A48,#REF!,8,0)))","v":0},0,1,0,0,0,0,{"$f":"IF(ISERROR(VLOOKUP($A48,#REF!,8,0)),0,(VLOOKUP($A48,#REF!,8,0)))","v":0},0,1,0,0,0,0,{"$f":"IF(ISERROR(VLOOKUP($A48,#REF!,8,0)),0,(VLOOKUP($A48,#REF!,8,0)))","v":0},0,1,0,0,0,0,{"$f":"IF(ISERROR(VLOOKUP($A48,#REF!,8,0)),0,(VLOOKUP($A48,#REF!,8,0)))","v":0},0,1,0,0,0,0,{"$f":"IF(ISERROR(VLOOKUP($A48,#REF!,8,0)),0,(VLOOKUP($A48,#REF!,8,0)))","v":0},0,1,0,0,0,0,{"$f":"IF(ISERROR(VLOOKUP($A48,#REF!,8,0)),0,(VLOOKUP($A48,#REF!,8,0)))","v":0},0,1,0,0,0,0,{"$f":"IF(ISERROR(VLOOKUP($A48,#REF!,8,0)),0,(VLOOKUP($A48,#REF!,8,0)))","v":0},0,1,0,0,0,0,{"$f":"IF(ISERROR(VLOOKUP($A48,#REF!,8,0)),0,(VLOOKUP($A48,#REF!,8,0)))","v":0},0,1,0,0,0,0,{"$f":"IF(ISERROR(VLOOKUP($A48,#REF!,8,0)),0,(VLOOKUP($A48,#REF!,8,0)))","v":0},0,1,0,0,0,0,{"$f":"IF(ISERROR(VLOOKUP($A48,#REF!,8,0)),0,(VLOOKUP($A48,#REF!,8,0)))","v":0},0,1,0,0,0,0,{"$f":"IF(ISERROR(VLOOKUP($A48,#REF!,8,0)),0,(VLOOKUP($A48,#REF!,8,0)))","v":0},0,1,0,0,0,0,{"$f":"IF(ISERROR(VLOOKUP($A48,#REF!,8,0)),0,(VLOOKUP($A48,#REF!,8,0)))","v":0},0,1,0,0,0,0,{"$f":"IF(ISERROR(VLOOKUP($A48,#REF!,8,0)),0,(VLOOKUP($A48,#REF!,8,0)))","v":0},0,1,0,0,0,0,{"$f":"IF(ISERROR(VLOOKUP($A48,#REF!,8,0)),0,(VLOOKUP($A48,#REF!,8,0)))","v":0},0,1,0,0,0,0,{"$f":"IF(ISERROR(VLOOKUP($A48,#REF!,8,0)),0,(VLOOKUP($A48,#REF!,8,0)))","v":0},0,1,0,0,0,0,{"$f":"IF(ISERROR(VLOOKUP($A48,#REF!,8,0)),0,(VLOOKUP($A48,#REF!,8,0)))","v":0},0,1,0,0,0,0,{"$f":"IF(ISERROR(VLOOKUP($A48,#REF!,8,0)),0,(VLOOKUP($A48,#REF!,8,0)))","v":0},0,1,0,0,0,0,{"$f":"IF(ISERROR(VLOOKUP($A48,#REF!,8,0)),0,(VLOOKUP($A48,#REF!,8,0)))","v":0},0,1,0,0,0,0,{"$f":"IF(ISERROR(VLOOKUP($A48,#REF!,8,0)),0,(VLOOKUP($A48,#REF!,8,0)))","v":0},0,1,0,0,0,0,{"$f":"IF(ISERROR(VLOOKUP($A48,#REF!,8,0)),0,(VLOOKUP($A48,#REF!,8,0)))","v":0},0,1,0,0,0,0,{"$f":"IF(ISERROR(VLOOKUP($A48,#REF!,8,0)),0,(VLOOKUP($A48,#REF!,8,0)))","v":0},0,1,0,0,0,0,{"$f":"IF(ISERROR(VLOOKUP($A48,#REF!,8,0)),0,(VLOOKUP($A48,#REF!,8,0)))","v":0},0,1,0,0,0,0,{"$f":"IF(ISERROR(VLOOKUP($A48,#REF!,8,0)),0,(VLOOKUP($A48,#REF!,8,0)))","v":0},0,1,0,0,0,0,{"$f":"IF(ISERROR(VLOOKUP($A48,#REF!,8,0)),0,(VLOOKUP($A48,#REF!,8,0)))","v":0},0,1,0,0,0,0,{"$f":"IF(ISERROR(VLOOKUP($A48,#REF!,8,0)),0,(VLOOKUP($A48,#REF!,8,0)))","v":0},0,1,0,0,0,0,{"$f":"IF(ISERROR(VLOOKUP($A48,#REF!,8,0)),0,(VLOOKUP($A48,#REF!,8,0)))","v":0},0,1,0,0,0,0,{"$f":"IF(ISERROR(VLOOKUP($A48,#REF!,8,0)),0,(VLOOKUP($A48,#REF!,8,0)))","v":0},0,1,0,0,0,0,{"$f":"IF(ISERROR(VLOOKUP($A48,#REF!,8,0)),0,(VLOOKUP($A48,#REF!,8,0)))","v":0},0,1,0,0,0,0,{"$f":"IF(ISERROR(VLOOKUP($A48,#REF!,8,0)),0,(VLOOKUP($A48,#REF!,8,0)))","v":0},0,1,0,0,0,0,{"$f":"IF(ISERROR(VLOOKUP($A48,#REF!,8,0)),0,(VLOOKUP($A48,#REF!,8,0)))","v":0},0,1,0,0,0,0,{"$f":"IF(ISERROR(VLOOKUP($A48,#REF!,8,0)),0,(VLOOKUP($A48,#REF!,8,0)))","v":0},0,1,0,0,0,0,{"$f":"IF(ISERROR(VLOOKUP($A48,#REF!,8,0)),0,(VLOOKUP($A48,#REF!,8,0)))","v":0},0,1,0,0,0,0,{"$f":"IF(ISERROR(VLOOKUP($A48,#REF!,8,0)),0,(VLOOKUP($A48,#REF!,8,0)))","v":0},0,1,0,0,0,0,{"$f":"IF(ISERROR(VLOOKUP($A48,#REF!,8,0)),0,(VLOOKUP($A48,#REF!,8,0)))","v":0},0,1,0,0,0,0,{"$f":"IF(ISERROR(VLOOKUP($A48,#REF!,8,0)),0,(VLOOKUP($A48,#REF!,8,0)))","v":0},0,1,0,0,0,0,{"$f":"IF(ISERROR(VLOOKUP($A48,#REF!,8,0)),0,(VLOOKUP($A48,#REF!,8,0)))","v":0},0,1,0,0,0,0,{"$f":"IF(ISERROR(VLOOKUP($A48,#REF!,8,0)),0,(VLOOKUP($A48,#REF!,8,0)))","v":0},0,1,0,0,0,0,{"$f":"IF(ISERROR(VLOOKUP($A48,#REF!,8,0)),0,(VLOOKUP($A48,#REF!,8,0)))","v":0},0,1,0,0,0,0,{"$f":"IF(ISERROR(VLOOKUP($A48,#REF!,8,0)),0,(VLOOKUP($A48,#REF!,8,0)))","v":0},0,1,0,0,0,0,{"$f":"IF(ISERROR(VLOOKUP($A48,#REF!,8,0)),0,(VLOOKUP($A48,#REF!,8,0)))","v":0},0,1,0,0,0,0,8090.9759999999997,8090.9759999999997,1,0]
["1.38","Frete de guincho coluna, inclusive carrego e descarrego. (Guincho foguete ida e volta)","un",2,2,0,0,0,403.74020000000002,807.48040000000003,0,0,403.74020000000002,0,807.48040000000003,null,0,0,0,0,0,null,0,1,0,0,0,0,null,0,1,0,0,0,0,null,0,1,0,0,0,0,null,0,1,0,0,0,0,null,0,1,0,0,0,0,{"$f":"IF(ISERROR(VLOOKUP(A49,'7ª MEDIÇÃO'!$A$5:$J$1048576,8,0)),0,(VLOOKUP(A49,'7ª MEDIÇÃO'!$A$5:$J$1048576,8,0)))","v":0},0,1,0,0,0,0,{"$f":"IF(ISERROR(VLOOKUP(A49,'8ª MEDIÇÃO'!$A$5:$J$1048576,8,0)),0,(VLOOKUP(A49,'8ª MEDIÇÃO'!$A$5:$J$1048576,8,0)))","v":0},0,1,0,0,0,0,{"$f":"IF(ISERROR(VLOOKUP(A49,'9ª MEDIÇÃO'!$A$5:$J$1048576,8,0)),0,(VLOOKUP(A49,'9ª MEDIÇÃO'!$A$5:$J$1048576,8,0)))","v":0},0,1,0,0,0,0,{"$f":"IF(ISERROR(VLOOKUP(A49,#REF!,8,0)),0,(VLOOKUP(A49,#REF!,8,0)))","v":0},0,1,0,0,0,0,{"$f":"IF(ISERROR(VLOOKUP($A49,#REF!,8,0)),0,(VLOOKUP($A49,#REF!,8,0)))","v":0},0,1,0,0,0,0,{"$f":"IF(ISERROR(VLOOKUP($A49,#REF!,8,0)),0,(VLOOKUP($A49,#REF!,8,0)))","v":0},0,1,0,0,0,0,{"$f":"IF(ISERROR(VLOOKUP($A49,#REF!,8,0)),0,(VLOOKUP($A49,#REF!,8,0)))","v":0},0,1,0,0,0,0,{"$f":"IF(ISERROR(VLOOKUP($A49,#REF!,8,0)),0,(VLOOKUP($A49,#REF!,8,0)))","v":0},0,1,0,0,0,0,{"$f":"IF(ISERROR(VLOOKUP($A49,#REF!,8,0)),0,(VLOOKUP($A49,#REF!,8,0)))","v":0},0,1,0,0,0,0,{"$f":"IF(ISERROR(VLOOKUP($A49,#REF!,8,0)),0,(VLOOKUP($A49,#REF!,8,0)))","v":0},0,1,0,0,0,0,{"$f":"IF(ISERROR(VLOOKUP($A49,#REF!,8,0)),0,(VLOOKUP($A49,#REF!,8,0)))","v":0},0,1,0,0,0,0,{"$f":"IF(ISERROR(VLOOKUP($A49,#REF!,8,0)),0,(VLOOKUP($A49,#REF!,8,0)))","v":0},0,1,0,0,0,0,{"$f":"IF(ISERROR(VLOOKUP($A49,#REF!,8,0)),0,(VLOOKUP($A49,#REF!,8,0)))","v":0},0,1,0,0,0,0,{"$f":"IF(ISERROR(VLOOKUP($A49,#REF!,8,0)),0,(VLOOKUP($A49,#REF!,8,0)))","v":0},0,1,0,0,0,0,{"$f":"IF(ISERROR(VLOOKUP($A49,#REF!,8,0)),0,(VLOOKUP($A49,#REF!,8,0)))","v":0},0,1,0,0,0,0,{"$f":"IF(ISERROR(VLOOKUP($A49,#REF!,8,0)),0,(VLOOKUP($A49,#REF!,8,0)))","v":0},0,1,0,0,0,0,{"$f":"IF(ISERROR(VLOOKUP($A49,#REF!,8,0)),0,(VLOOKUP($A49,#REF!,8,0)))","v":0},0,1,0,0,0,0,{"$f":"IF(ISERROR(VLOOKUP($A49,#REF!,8,0)),0,(VLOOKUP($A49,#REF!,8,0)))","v":0},0,1,0,0,0,0,{"$f":"IF(ISERROR(VLOOKUP($A49,#REF!,8,0)),0,(VLOOKUP($A49,#REF!,8,0)))","v":0},0,1,0,0,0,0,{"$f":"IF(ISERROR(VLOOKUP($A49,#REF!,8,0)),0,(VLOOKUP($A49,#REF!,8,0)))","v":0},0,1,0,0,0,0,{"$f":"IF(ISERROR(VLOOKUP($A49,#REF!,8,0)),0,(VLOOKUP($A49,#REF!,8,0)))","v":0},0,1,0,0,0,0,{"$f":"IF(ISERROR(VLOOKUP($A49,#REF!,8,0)),0,(VLOOKUP($A49,#REF!,8,0)))","v":0},0,1,0,0,0,0,{"$f":"IF(ISERROR(VLOOKUP($A49,#REF!,8,0)),0,(VLOOKUP($A49,#REF!,8,0)))","v":0},0,1,0,0,0,0,{"$f":"IF(ISERROR(VLOOKUP($A49,#REF!,8,0)),0,(VLOOKUP($A49,#REF!,8,0)))","v":0},0,1,0,0,0,0,{"$f":"IF(ISERROR(VLOOKUP($A49,#REF!,8,0)),0,(VLOOKUP($A49,#REF!,8,0)))","v":0},0,1,0,0,0,0,{"$f":"IF(ISERROR(VLOOKUP($A49,#REF!,8,0)),0,(VLOOKUP($A49,#REF!,8,0)))","v":0},0,1,0,0,0,0,{"$f":"IF(ISERROR(VLOOKUP($A49,#REF!,8,0)),0,(VLOOKUP($A49,#REF!,8,0)))","v":0},0,1,0,0,0,0,{"$f":"IF(ISERROR(VLOOKUP($A49,#REF!,8,0)),0,(VLOOKUP($A49,#REF!,8,0)))","v":0},0,1,0,0,0,0,{"$f":"IF(ISERROR(VLOOKUP($A49,#REF!,8,0)),0,(VLOOKUP($A49,#REF!,8,0)))","v":0},0,1,0,0,0,0,{"$f":"IF(ISERROR(VLOOKUP($A49,#REF!,8,0)),0,(VLOOKUP($A49,#REF!,8,0)))","v":0},0,1,0,0,0,0,{"$f":"IF(ISERROR(VLOOKUP($A49,#REF!,8,0)),0,(VLOOKUP($A49,#REF!,8,0)))","v":0},0,1,0,0,0,0,{"$f":"IF(ISERROR(VLOOKUP($A49,#REF!,8,0)),0,(VLOOKUP($A49,#REF!,8,0)))","v":0},0,1,0,0,0,0,{"$f":"IF(ISERROR(VLOOKUP($A49,#REF!,8,0)),0,(VLOOKUP($A49,#REF!,8,0)))","v":0},0,1,0,0,0,0,{"$f":"IF(ISERROR(VLOOKUP($A49,#REF!,8,0)),0,(VLOOKUP($A49,#REF!,8,0)))","v":0},0,1,0,0,0,0,{"$f":"IF(ISERROR(VLOOKUP($A49,#REF!,8,0)),0,(VLOOKUP($A49,#REF!,8,0)))","v":0},0,1,0,0,0,0,{"$f":"IF(ISERROR(VLOOKUP($A49,#REF!,8,0)),0,(VLOOKUP($A49,#REF!,8,0)))","v":0},0,1,0,0,0,0,{"$f":"IF(ISERROR(VLOOKUP($A49,#REF!,8,0)),0,(VLOOKUP($A49,#REF!,8,0)))","v":0},0,1,0,0,0,0,{"$f":"IF(ISERROR(VLOOKUP($A49,#REF!,8,0)),0,(VLOOKUP($A49,#REF!,8,0)))","v":0},0,1,0,0,0,0,{"$f":"IF(ISERROR(VLOOKUP($A49,#REF!,8,0)),0,(VLOOKUP($A49,#REF!,8,0)))","v":0},0,1,0,0,0,0,{"$f":"IF(ISERROR(VLOOKUP($A49,#REF!,8,0)),0,(VLOOKUP($A49,#REF!,8,0)))","v":0},0,1,0,0,0,0,{"$f":"IF(ISERROR(VLOOKUP($A49,#REF!,8,0)),0,(VLOOKUP($A49,#REF!,8,0)))","v":0},0,1,0,0,0,0,{"$f":"IF(ISERROR(VLOOKUP($A49,#REF!,8,0)),0,(VLOOKUP($A49,#REF!,8,0)))","v":0},0,1,0,0,0,0,{"$f":"IF(ISERROR(VLOOKUP($A49,#REF!,8,0)),0,(VLOOKUP($A49,#REF!,8,0)))","v":0},0,1,0,0,0,0,{"$f":"IF(ISERROR(VLOOKUP($A49,#REF!,8,0)),0,(VLOOKUP($A49,#REF!,8,0)))","v":0},0,1,0,0,0,0,{"$f":"IF(ISERROR(VLOOKUP($A49,#REF!,8,0)),0,(VLOOKUP($A49,#REF!,8,0)))","v":0},0,1,0,0,0,0,{"$f":"IF(ISERROR(VLOOKUP($A49,#REF!,8,0)),0,(VLOOKUP($A49,#REF!,8,0)))","v":0},0,1,0,0,0,0,{"$f":"IF(ISERROR(VLOOKUP($A49,#REF!,8,0)),0,(VLOOKUP($A49,#REF!,8,0)))","v":0},0,1,0,0,0,0,{"$f":"IF(ISERROR(VLOOKUP($A49,#REF!,8,0)),0,(VLOOKUP($A49,#REF!,8,0)))","v":0},0,1,0,0,0,0,{"$f":"IF(ISERROR(VLOOKUP($A49,#REF!,8,0)),0,(VLOOKUP($A49,#REF!,8,0)))","v":0},0,1,0,0,0,0,807.48040000000003,807.48040000000003,1,0]
[null,"SUBESTAÇÃO PROVISÓRIA DE 112,5 KVA",null,null,0,0,0,0,0,0,0,0,0,0,0,null,0,0,0,0,0,null,0,0,0,0,0,0,null,0,0,0,0,0,0,null,0,0,0,0,0,0,null,0,0,0,0,0,0,null,0,0,0,0,0,0,{"$f":"IF(ISERROR(VLOOKUP(A50,'7ª MEDIÇÃO'!$A$5:$J$1048576,8,0)),0,(VLOOKUP(A50,'7ª MEDIÇÃO'!$A$5:$J$1048576,8,0)))","v":0},0,0,0,0,0,0,{"$f":"IF(ISERROR(VLOOKUP(A50,'8ª MEDIÇÃO'!$A$5:$J$1048576,8,0)),0,(VLOOKUP(A50,'8ª MEDIÇÃO'!$A$5:$J$1048576,8,0)))","v":0},0,0,0,0,0,0,{"$f":"IF(ISERROR(VLOOKUP(A50,'9ª MEDIÇÃO'!$A$5:$J$1048576,8,0)),0,(VLOOKUP(A50,'9ª MEDIÇÃO'!$A$5:$J$1048576,8,0)))","v":0},0,0,0,0,0,0,{"$f":"IF(ISERROR(VLOOKUP(A50,#REF!,8,0)),0,(VLOOKUP(A50,#REF!,8,0)))","v":0},0,0,0,0,0,0,{"$f":"IF(ISERROR(VLOOKUP($A50,#REF!,8,0)),0,(VLOOKUP($A50,#REF!,8,0)))","v":0},0,0,0,0,0,0,{"$f":"IF(ISERROR(VLOOKUP($A50,#REF!,8,0)),0,(VLOOKUP($A50,#REF!,8,0)))","v":0},0,0,0,0,0,0,{"$f":"IF(ISERROR(VLOOKUP($A50,#REF!,8,0)),0,(VLOOKUP($A50,#REF!,8,0)))","v":0},0,0,0,0,0,0,{"$f":"IF(ISERROR(VLOOKUP($A50,#REF!,8,0)),0,(VLOOKUP($A50,#REF!,8,0)))","v":0},0,0,0,0,0,0,{"$f":"IF(ISERROR(VLOOKUP($A50,#REF!,8,0)),0,(VLOOKUP($A50,#REF!,8,0)))","v":0},0,0,0,0,0,0,{"$f":"IF(ISERROR(VLOOKUP($A50,#REF!,8,0)),0,(VLOOKUP($A50,#REF!,8,0)))","v":0},0,0,0,0,0,0,{"$f":"IF(ISERROR(VLOOKUP($A50,#REF!,8,0)),0,(VLOOKUP($A50,#REF!,8,0)))","v":0},0,0,0,0,0,0,{"$f":"IF(ISERROR(VLOOKUP($A50,#REF!,8,0)),0,(VLOOKUP($A50,#REF!,8,0)))","v":0},0,0,0,0,0,0,{"$f":"IF(ISERROR(VLOOKUP($A50,#REF!,8,0)),0,(VLOOKUP($A50,#REF!,8,0)))","v":0},0,0,0,0,0,0,{"$f":"IF(ISERROR(VLOOKUP($A50,#REF!,8,0)),0,(VLOOKUP($A50,#REF!,8,0)))","v":0},0,0,0,0,0,0,{"$f":"IF(ISERROR(VLOOKUP($A50,#REF!,8,0)),0,(VLOOKUP($A50,#REF!,8,0)))","v":0},0,0,0,0,0,0,{"$f":"IF(ISERROR(VLOOKUP($A50,#REF!,8,0)),0,(VLOOKUP($A50,#REF!,8,0)))","v":0},0,0,0,0,0,0,{"$f":"IF(ISERROR(VLOOKUP($A50,#REF!,8,0)),0,(VLOOKUP($A50,#REF!,8,0)))","v":0},0,0,0,0,0,0,{"$f":"IF(ISERROR(VLOOKUP($A50,#REF!,8,0)),0,(VLOOKUP($A50,#REF!,8,0)))","v":0},0,0,0,0,0,0,{"$f":"IF(ISERROR(VLOOKUP($A50,#REF!,8,0)),0,(VLOOKUP($A50,#REF!,8,0)))","v":0},0,0,0,0,0,0,{"$f":"IF(ISERROR(VLOOKUP($A50,#REF!,8,0)),0,(VLOOKUP($A50,#REF!,8,0)))","v":0},0,0,0,0,0,0,{"$f":"IF(ISERROR(VLOOKUP($A50,#REF!,8,0)),0,(VLOOKUP($A50,#REF!,8,0)))","v":0},0,0,0,0,0,0,{"$f":"IF(ISERROR(VLOOKUP($A50,#REF!,8,0)),0,(VLOOKUP($A50,#REF!,8,0)))","v":0},0,0,0,0,0,0,{"$f":"IF(ISERROR(VLOOKUP($A50,#REF!,8,0)),0,(VLOOKUP($A50,#REF!,8,0)))","v":0},0,0,0,0,0,0,{"$f":"IF(ISERROR(VLOOKUP($A50,#REF!,8,0)),0,(VLOOKUP($A50,#REF!,8,0)))","v":0},0,0,0,0,0,0,{"$f":"IF(ISERROR(VLOOKUP($A50,#REF!,8,0)),0,(VLOOKUP($A50,#REF!,8,0)))","v":0},0,0,0,0,0,0,{"$f":"IF(ISERROR(VLOOKUP($A50,#REF!,8,0)),0,(VLOOKUP($A50,#REF!,8,0)))","v":0},0,0,0,0,0,0,{"$f":"IF(ISERROR(VLOOKUP($A50,#REF!,8,0)),0,(VLOOKUP($A50,#REF!,8,0)))","v":0},0,0,0,0,0,0,{"$f":"IF(ISERROR(VLOOKUP($A50,#REF!,8,0)),0,(VLOOKUP($A50,#REF!,8,0)))","v":0},0,0,0,0,0,0,{"$f":"IF(ISERROR(VLOOKUP($A50,#REF!,8,0)),0,(VLOOKUP($A50,#REF!,8,0)))","v":0},0,0,0,0,0,0,{"$f":"IF(ISERROR(VLOOKUP($A50,#REF!,8,0)),0,(VLOOKUP($A50,#REF!,8,0)))","v":0},0,0,0,0,0,0,{"$f":"IF(ISERROR(VLOOKUP($A50,#REF!,8,0)),0,(VLOOKUP($A50,#REF!,8,0)))","v":0},0,0,0,0,0,0,{"$f":"IF(ISERROR(VLOOKUP($A50,#REF!,8,0)),0,(VLOOKUP($A50,#REF!,8,0)))","v":0},0,0,0,0,0,0,{"$f":"IF(ISERROR(VLOOKUP($A50,#REF!,8,0)),0,(VLOOKUP($A50,#REF!,8,0)))","v":0},0,0,0,0,0,0,{"$f":"IF(ISERROR(VLOOKUP($A50,#REF!,8,0)),0,(VLOOKUP($A50,#REF!,8,0)))","v":0},0,0,0,0,0,0,{"$f":"IF(ISERROR(VLOOKUP($A50,#REF!,8,0)),0,(VLOOKUP($A50,#REF!,8,0)))","v":0},0,0,0,0,0,0,{"$f":"IF(ISERROR(VLOOKUP($A50,#REF!,8,0)),0,(VLOOKUP($A50,#REF!,8,0)))","v":0},0,0,0,0,0,0,{"$f":"IF(ISERROR(VLOOKUP($A50,#REF!,8,0)),0,(VLOOKUP($A50,#REF!,8,0)))","v":0},0,0,0,0,0,0,{"$f":"IF(ISERROR(VLOOKUP($A50,#REF!,8,0)),0,(VLOOKUP($A50,#REF!,8,0)))","v":0},0,0,0,0,0,0,{"$f":"IF(ISERROR(VLOOKUP($A50,#REF!,8,0)),0,(VLOOKUP($A50,#REF!,8,0)))","v":0},0,0,0,0,0,0,{"$f":"IF(ISERROR(VLOOKUP($A50,#REF!,8,0)),0,(VLOOKUP($A50,#REF!,8,0)))","v":0},0,0,0,0,0,0,{"$f":"IF(ISERROR(VLOOKUP($A50,#REF!,8,0)),0,(VLOOKUP($A50,#REF!,8,0)))","v":0},0,0,0,0,0,0,{"$f":"IF(ISERROR(VLOOKUP($A50,#REF!,8,0)),0,(VLOOKUP($A50,#REF!,8,0)))","v":0},0,0,0,0,0,0,{"$f":"IF(ISERROR(VLOOKUP($A50,#REF!,8,0)),0,(VLOOKUP($A50,#REF!,8,0)))","v":0},0,0,0,0,0,0,{"$f":"IF(ISERROR(VLOOKUP($A50,#REF!,8,0)),0,(VLOOKUP($A50,#REF!,8,0)))","v":0},0,0,0,0,0,0,{"$f":"IF(ISERROR(VLOOKUP($A50,#REF!,8,0)),0,(VLOOKUP($A50,#REF!,8,0)))","v":0},0,0,0,0,0,0,{"$f":"IF(ISERROR(VLOOKUP($A50,#REF!,8,0)),0,(VLOOKUP($A50,#REF!,8,0)))","v":0},0,0,0,0,0,0,{"$f":"IF(ISERROR(VLOOKUP($A50,#REF!,8,0)),0,(VLOOKUP($A50,#REF!,8,0)))","v":0},0,0,0,0,0,0,{"$f":"IF(ISERROR(VLOOKUP($A50,#REF!,8,0)),0,(VLOOKUP($A50,#REF!,8,0)))","v":0},0,0,0,0,0,0,{"$f":"IF(ISERROR(VLOOKUP($A50,#REF!,8,0)),0,(VLOOKUP($A50,#REF!,8,0)))","v":0},0,0,0,0,0,0,0,0,{"$error":"#DIV/0!"},0]
["1.39","Fornecimento de poste de concreto tipo \"duplo T\" 300/10 com engastamento direto no solo de 1,60m, inclusive colocação.      ","un",1,1,0,625.84861000000001,625.84861000000001,95.688479999999998,95.688479999999998,0,0,721.53709000000003,0,721.53709000000003,1,1,625.84861000000001,95.688479999999998,0,721.54,null,0,1,0,0,0,0,null,0,1,0,0,0,0,null,0,1,0,0,0,0,null,0,1,0,0,0,0,null,0,1,0,0,0,0,{"$f":"IF(ISERROR(VLOOKUP(A51,'7ª MEDIÇÃO'!$A$5:$J$1048576,8,0)),0,(VLOOKUP(A51,'7ª MEDIÇÃO'!$A$5:$J$1048576,8,0)))","v":0},0,1,0,0,0,0,{"$f":"IF(ISERROR(VLOOKUP(A51,'8ª MEDIÇÃO'!$A$5:$J$1048576,8,0)),0,(VLOOKUP(A51,'8ª MEDIÇÃO'!$A$5:$J$1048576,8,0)))","v":0},0,1,0,0,0,0,{"$f":"IF(ISERROR(VLOOKUP(A51,'9ª MEDIÇÃO'!$A$5:$J$1048576,8,0)),0,(VLOOKUP(A51,'9ª MEDIÇÃO'!$A$5:$J$1048576,8,0)))","v":0},0,1,0,0,0,0,{"$f":"IF(ISERROR(VLOOKUP(A51,#REF!,8,0)),0,(VLOOKUP(A51,#REF!,8,0)))","v":0},0,1,0,0,0,0,{"$f":"IF(ISERROR(VLOOKUP($A51,#REF!,8,0)),0,(VLOOKUP($A51,#REF!,8,0)))","v":0},0,1,0,0,0,0,{"$f":"IF(ISERROR(VLOOKUP($A51,#REF!,8,0)),0,(VLOOKUP($A51,#REF!,8,0)))","v":0},0,1,0,0,0,0,{"$f":"IF(ISERROR(VLOOKUP($A51,#REF!,8,0)),0,(VLOOKUP($A51,#REF!,8,0)))","v":0},0,1,0,0,0,0,{"$f":"IF(ISERROR(VLOOKUP($A51,#REF!,8,0)),0,(VLOOKUP($A51,#REF!,8,0)))","v":0},0,1,0,0,0,0,{"$f":"IF(ISERROR(VLOOKUP($A51,#REF!,8,0)),0,(VLOOKUP($A51,#REF!,8,0)))","v":0},0,1,0,0,0,0,{"$f":"IF(ISERROR(VLOOKUP($A51,#REF!,8,0)),0,(VLOOKUP($A51,#REF!,8,0)))","v":0},0,1,0,0,0,0,{"$f":"IF(ISERROR(VLOOKUP($A51,#REF!,8,0)),0,(VLOOKUP($A51,#REF!,8,0)))","v":0},0,1,0,0,0,0,{"$f":"IF(ISERROR(VLOOKUP($A51,#REF!,8,0)),0,(VLOOKUP($A51,#REF!,8,0)))","v":0},0,1,0,0,0,0,{"$f":"IF(ISERROR(VLOOKUP($A51,#REF!,8,0)),0,(VLOOKUP($A51,#REF!,8,0)))","v":0},0,1,0,0,0,0,{"$f":"IF(ISERROR(VLOOKUP($A51,#REF!,8,0)),0,(VLOOKUP($A51,#REF!,8,0)))","v":0},0,1,0,0,0,0,{"$f":"IF(ISERROR(VLOOKUP($A51,#REF!,8,0)),0,(VLOOKUP($A51,#REF!,8,0)))","v":0},0,1,0,0,0,0,{"$f":"IF(ISERROR(VLOOKUP($A51,#REF!,8,0)),0,(VLOOKUP($A51,#REF!,8,0)))","v":0},0,1,0,0,0,0,{"$f":"IF(ISERROR(VLOOKUP($A51,#REF!,8,0)),0,(VLOOKUP($A51,#REF!,8,0)))","v":0},0,1,0,0,0,0,{"$f":"IF(ISERROR(VLOOKUP($A51,#REF!,8,0)),0,(VLOOKUP($A51,#REF!,8,0)))","v":0},0,1,0,0,0,0,{"$f":"IF(ISERROR(VLOOKUP($A51,#REF!,8,0)),0,(VLOOKUP($A51,#REF!,8,0)))","v":0},0,1,0,0,0,0,{"$f":"IF(ISERROR(VLOOKUP($A51,#REF!,8,0)),0,(VLOOKUP($A51,#REF!,8,0)))","v":0},0,1,0,0,0,0,{"$f":"IF(ISERROR(VLOOKUP($A51,#REF!,8,0)),0,(VLOOKUP($A51,#REF!,8,0)))","v":0},0,1,0,0,0,0,{"$f":"IF(ISERROR(VLOOKUP($A51,#REF!,8,0)),0,(VLOOKUP($A51,#REF!,8,0)))","v":0},0,1,0,0,0,0,{"$f":"IF(ISERROR(VLOOKUP($A51,#REF!,8,0)),0,(VLOOKUP($A51,#REF!,8,0)))","v":0},0,1,0,0,0,0,{"$f":"IF(ISERROR(VLOOKUP($A51,#REF!,8,0)),0,(VLOOKUP($A51,#REF!,8,0)))","v":0},0,1,0,0,0,0,{"$f":"IF(ISERROR(VLOOKUP($A51,#REF!,8,0)),0,(VLOOKUP($A51,#REF!,8,0)))","v":0},0,1,0,0,0,0,{"$f":"IF(ISERROR(VLOOKUP($A51,#REF!,8,0)),0,(VLOOKUP($A51,#REF!,8,0)))","v":0},0,1,0,0,0,0,{"$f":"IF(ISERROR(VLOOKUP($A51,#REF!,8,0)),0,(VLOOKUP($A51,#REF!,8,0)))","v":0},0,1,0,0,0,0,{"$f":"IF(ISERROR(VLOOKUP($A51,#REF!,8,0)),0,(VLOOKUP($A51,#REF!,8,0)))","v":0},0,1,0,0,0,0,{"$f":"IF(ISERROR(VLOOKUP($A51,#REF!,8,0)),0,(VLOOKUP($A51,#REF!,8,0)))","v":0},0,1,0,0,0,0,{"$f":"IF(ISERROR(VLOOKUP($A51,#REF!,8,0)),0,(VLOOKUP($A51,#REF!,8,0)))","v":0},0,1,0,0,0,0,{"$f":"IF(ISERROR(VLOOKUP($A51,#REF!,8,0)),0,(VLOOKUP($A51,#REF!,8,0)))","v":0},0,1,0,0,0,0,{"$f":"IF(ISERROR(VLOOKUP($A51,#REF!,8,0)),0,(VLOOKUP($A51,#REF!,8,0)))","v":0},0,1,0,0,0,0,{"$f":"IF(ISERROR(VLOOKUP($A51,#REF!,8,0)),0,(VLOOKUP($A51,#REF!,8,0)))","v":0},0,1,0,0,0,0,{"$f":"IF(ISERROR(VLOOKUP($A51,#REF!,8,0)),0,(VLOOKUP($A51,#REF!,8,0)))","v":0},0,1,0,0,0,0,{"$f":"IF(ISERROR(VLOOKUP($A51,#REF!,8,0)),0,(VLOOKUP($A51,#REF!,8,0)))","v":0},0,1,0,0,0,0,{"$f":"IF(ISERROR(VLOOKUP($A51,#REF!,8,0)),0,(VLOOKUP($A51,#REF!,8,0)))","v":0},0,1,0,0,0,0,{"$f":"IF(ISERROR(VLOOKUP($A51,#REF!,8,0)),0,(VLOOKUP($A51,#REF!,8,0)))","v":0},0,1,0,0,0,0,{"$f":"IF(ISERROR(VLOOKUP($A51,#REF!,8,0)),0,(VLOOKUP($A51,#REF!,8,0)))","v":0},0,1,0,0,0,0,{"$f":"IF(ISERROR(VLOOKUP($A51,#REF!,8,0)),0,(VLOOKUP($A51,#REF!,8,0)))","v":0},0,1,0,0,0,0,{"$f":"IF(ISERROR(VLOOKUP($A51,#REF!,8,0)),0,(VLOOKUP($A51,#REF!,8,0)))","v":0},0,1,0,0,0,0,{"$f":"IF(ISERROR(VLOOKUP($A51,#REF!,8,0)),0,(VLOOKUP($A51,#REF!,8,0)))","v":0},0,1,0,0,0,0,{"$f":"IF(ISERROR(VLOOKUP($A51,#REF!,8,0)),0,(VLOOKUP($A51,#REF!,8,0)))","v":0},0,1,0,0,0,0,{"$f":"IF(ISERROR(VLOOKUP($A51,#REF!,8,0)),0,(VLOOKUP($A51,#REF!,8,0)))","v":0},0,1,0,0,0,0,{"$f":"IF(ISERROR(VLOOKUP($A51,#REF!,8,0)),0,(VLOOKUP($A51,#REF!,8,0)))","v":0},0,1,0,0,0,0,{"$f":"IF(ISERROR(VLOOKUP($A51,#REF!,8,0)),0,(VLOOKUP($A51,#REF!,8,0)))","v":0},0,1,0,0,0,0,{"$f":"IF(ISERROR(VLOOKUP($A51,#REF!,8,0)),0,(VLOOKUP($A51,#REF!,8,0)))","v":0},0,1,0,0,0,0,{"$f":"IF(ISERROR(VLOOKUP($A51,#REF!,8,0)),0,(VLOOKUP($A51,#REF!,8,0)))","v":0},0,1,0,0,0,0,{"$f":"IF(ISERROR(VLOOKUP($A51,#REF!,8,0)),0,(VLOOKUP($A51,#REF!,8,0)))","v":0},0,1,0,0,0,0,{"$f":"IF(ISERROR(VLOOKUP($A51,#REF!,8,0)),0,(VLOOKUP($A51,#REF!,8,0)))","v":0},0,1,0,0,0,0,721.53709000000003,721.53709000000003,1,0]
["1.40","Utilização de equipamento munck com carroceria de 10m, 6000kg.","un",6,6,0,91.144031999999996,546.864192,29.719160000000002,178.31496000000001,0,0,120.863192,0,725.17915199999993,6,1,546.864192,178.31496000000001,0,725.18,null,0,1,0,0,0,0,null,0,1,0,0,0,0,null,0,1,0,0,0,0,null,0,1,0,0,0,0,null,0,1,0,0,0,0,{"$f":"IF(ISERROR(VLOOKUP(A52,'7ª MEDIÇÃO'!$A$5:$J$1048576,8,0)),0,(VLOOKUP(A52,'7ª MEDIÇÃO'!$A$5:$J$1048576,8,0)))","v":0},0,1,0,0,0,0,{"$f":"IF(ISERROR(VLOOKUP(A52,'8ª MEDIÇÃO'!$A$5:$J$1048576,8,0)),0,(VLOOKUP(A52,'8ª MEDIÇÃO'!$A$5:$J$1048576,8,0)))","v":0},0,1,0,0,0,0,{"$f":"IF(ISERROR(VLOOKUP(A52,'9ª MEDIÇÃO'!$A$5:$J$1048576,8,0)),0,(VLOOKUP(A52,'9ª MEDIÇÃO'!$A$5:$J$1048576,8,0)))","v":0},0,1,0,0,0,0,{"$f":"IF(ISERROR(VLOOKUP(A52,#REF!,8,0)),0,(VLOOKUP(A52,#REF!,8,0)))","v":0},0,1,0,0,0,0,{"$f":"IF(ISERROR(VLOOKUP($A52,#REF!,8,0)),0,(VLOOKUP($A52,#REF!,8,0)))","v":0},0,1,0,0,0,0,{"$f":"IF(ISERROR(VLOOKUP($A52,#REF!,8,0)),0,(VLOOKUP($A52,#REF!,8,0)))","v":0},0,1,0,0,0,0,{"$f":"IF(ISERROR(VLOOKUP($A52,#REF!,8,0)),0,(VLOOKUP($A52,#REF!,8,0)))","v":0},0,1,0,0,0,0,{"$f":"IF(ISERROR(VLOOKUP($A52,#REF!,8,0)),0,(VLOOKUP($A52,#REF!,8,0)))","v":0},0,1,0,0,0,0,{"$f":"IF(ISERROR(VLOOKUP($A52,#REF!,8,0)),0,(VLOOKUP($A52,#REF!,8,0)))","v":0},0,1,0,0,0,0,{"$f":"IF(ISERROR(VLOOKUP($A52,#REF!,8,0)),0,(VLOOKUP($A52,#REF!,8,0)))","v":0},0,1,0,0,0,0,{"$f":"IF(ISERROR(VLOOKUP($A52,#REF!,8,0)),0,(VLOOKUP($A52,#REF!,8,0)))","v":0},0,1,0,0,0,0,{"$f":"IF(ISERROR(VLOOKUP($A52,#REF!,8,0)),0,(VLOOKUP($A52,#REF!,8,0)))","v":0},0,1,0,0,0,0,{"$f":"IF(ISERROR(VLOOKUP($A52,#REF!,8,0)),0,(VLOOKUP($A52,#REF!,8,0)))","v":0},0,1,0,0,0,0,{"$f":"IF(ISERROR(VLOOKUP($A52,#REF!,8,0)),0,(VLOOKUP($A52,#REF!,8,0)))","v":0},0,1,0,0,0,0,{"$f":"IF(ISERROR(VLOOKUP($A52,#REF!,8,0)),0,(VLOOKUP($A52,#REF!,8,0)))","v":0},0,1,0,0,0,0,{"$f":"IF(ISERROR(VLOOKUP($A52,#REF!,8,0)),0,(VLOOKUP($A52,#REF!,8,0)))","v":0},0,1,0,0,0,0,{"$f":"IF(ISERROR(VLOOKUP($A52,#REF!,8,0)),0,(VLOOKUP($A52,#REF!,8,0)))","v":0},0,1,0,0,0,0,{"$f":"IF(ISERROR(VLOOKUP($A52,#REF!,8,0)),0,(VLOOKUP($A52,#REF!,8,0)))","v":0},0,1,0,0,0,0,{"$f":"IF(ISERROR(VLOOKUP($A52,#REF!,8,0)),0,(VLOOKUP($A52,#REF!,8,0)))","v":0},0,1,0,0,0,0,{"$f":"IF(ISERROR(VLOOKUP($A52,#REF!,8,0)),0,(VLOOKUP($A52,#REF!,8,0)))","v":0},0,1,0,0,0,0,{"$f":"IF(ISERROR(VLOOKUP($A52,#REF!,8,0)),0,(VLOOKUP($A52,#REF!,8,0)))","v":0},0,1,0,0,0,0,{"$f":"IF(ISERROR(VLOOKUP($A52,#REF!,8,0)),0,(VLOOKUP($A52,#REF!,8,0)))","v":0},0,1,0,0,0,0,{"$f":"IF(ISERROR(VLOOKUP($A52,#REF!,8,0)),0,(VLOOKUP($A52,#REF!,8,0)))","v":0},0,1,0,0,0,0,{"$f":"IF(ISERROR(VLOOKUP($A52,#REF!,8,0)),0,(VLOOKUP($A52,#REF!,8,0)))","v":0},0,1,0,0,0,0,{"$f":"IF(ISERROR(VLOOKUP($A52,#REF!,8,0)),0,(VLOOKUP($A52,#REF!,8,0)))","v":0},0,1,0,0,0,0,{"$f":"IF(ISERROR(VLOOKUP($A52,#REF!,8,0)),0,(VLOOKUP($A52,#REF!,8,0)))","v":0},0,1,0,0,0,0,{"$f":"IF(ISERROR(VLOOKUP($A52,#REF!,8,0)),0,(VLOOKUP($A52,#REF!,8,0)))","v":0},0,1,0,0,0,0,{"$f":"IF(ISERROR(VLOOKUP($A52,#REF!,8,0)),0,(VLOOKUP($A52,#REF!,8,0)))","v":0},0,1,0,0,0,0,{"$f":"IF(ISERROR(VLOOKUP($A52,#REF!,8,0)),0,(VLOOKUP($A52,#REF!,8,0)))","v":0},0,1,0,0,0,0,{"$f":"IF(ISERROR(VLOOKUP($A52,#REF!,8,0)),0,(VLOOKUP($A52,#REF!,8,0)))","v":0},0,1,0,0,0,0,{"$f":"IF(ISERROR(VLOOKUP($A52,#REF!,8,0)),0,(VLOOKUP($A52,#REF!,8,0)))","v":0},0,1,0,0,0,0,{"$f":"IF(ISERROR(VLOOKUP($A52,#REF!,8,0)),0,(VLOOKUP($A52,#REF!,8,0)))","v":0},0,1,0,0,0,0,{"$f":"IF(ISERROR(VLOOKUP($A52,#REF!,8,0)),0,(VLOOKUP($A52,#REF!,8,0)))","v":0},0,1,0,0,0,0,{"$f":"IF(ISERROR(VLOOKUP($A52,#REF!,8,0)),0,(VLOOKUP($A52,#REF!,8,0)))","v":0},0,1,0,0,0,0,{"$f":"IF(ISERROR(VLOOKUP($A52,#REF!,8,0)),0,(VLOOKUP($A52,#REF!,8,0)))","v":0},0,1,0,0,0,0,{"$f":"IF(ISERROR(VLOOKUP($A52,#REF!,8,0)),0,(VLOOKUP($A52,#REF!,8,0)))","v":0},0,1,0,0,0,0,{"$f":"IF(ISERROR(VLOOKUP($A52,#REF!,8,0)),0,(VLOOKUP($A52,#REF!,8,0)))","v":0},0,1,0,0,0,0,{"$f":"IF(ISERROR(VLOOKUP($A52,#REF!,8,0)),0,(VLOOKUP($A52,#REF!,8,0)))","v":0},0,1,0,0,0,0,{"$f":"IF(ISERROR(VLOOKUP($A52,#REF!,8,0)),0,(VLOOKUP($A52,#REF!,8,0)))","v":0},0,1,0,0,0,0,{"$f":"IF(ISERROR(VLOOKUP($A52,#REF!,8,0)),0,(VLOOKUP($A52,#REF!,8,0)))","v":0},0,1,0,0,0,0,{"$f":"IF(ISERROR(VLOOKUP($A52,#REF!,8,0)),0,(VLOOKUP($A52,#REF!,8,0)))","v":0},0,1,0,0,0,0,{"$f":"IF(ISERROR(VLOOKUP($A52,#REF!,8,0)),0,(VLOOKUP($A52,#REF!,8,0)))","v":0},0,1,0,0,0,0,{"$f":"IF(ISERROR(VLOOKUP($A52,#REF!,8,0)),0,(VLOOKUP($A52,#REF!,8,0)))","v":0},0,1,0,0,0,0,{"$f":"IF(ISERROR(VLOOKUP($A52,#REF!,8,0)),0,(VLOOKUP($A52,#REF!,8,0)))","v":0},0,1,0,0,0,0,{"$f":"IF(ISERROR(VLOOKUP($A52,#REF!,8,0)),0,(VLOOKUP($A52,#REF!,8,0)))","v":0},0,1,0,0,0,0,{"$f":"IF(ISERROR(VLOOKUP($A52,#REF!,8,0)),0,(VLOOKUP($A52,#REF!,8,0)))","v":0},0,1,0,0,0,0,{"$f":"IF(ISERROR(VLOOKUP($A52,#REF!,8,0)),0,(VLOOKUP($A52,#REF!,8,0)))","v":0},0,1,0,0,0,0,{"$f":"IF(ISERROR(VLOOKUP($A52,#REF!,8,0)),0,(VLOOKUP($A52,#REF!,8,0)))","v":0},0,1,0,0,0,0,{"$f":"IF(ISERROR(VLOOKUP($A52,#REF!,8,0)),0,(VLOOKUP($A52,#REF!,8,0)))","v":0},0,1,0,0,0,0,725.17915199999993,725.17915199999993,1,0]
["1.41","Fornecimento de Cruzeta tipo T 1900mm, inclusive acessórios para instalação e assentamento em poste.","un",3,3,0,92.665457999999987,277.99637399999995,66.131039999999999,198.39312000000001,0,0,158.79649799999999,0,476.38949399999996,3,1,277.99637399999995,198.39312000000001,0,476.39,null,0,1,0,0,0,0,null,0,1,0,0,0,0,null,0,1,0,0,0,0,null,0,1,0,0,0,0,null,0,1,0,0,0,0,{"$f":"IF(ISERROR(VLOOKUP(A53,'7ª MEDIÇÃO'!$A$5:$J$1048576,8,0)),0,(VLOOKUP(A53,'7ª MEDIÇÃO'!$A$5:$J$1048576,8,0)))","v":0},0,1,0,0,0,0,{"$f":"IF(ISERROR(VLOOKUP(A53,'8ª MEDIÇÃO'!$A$5:$J$1048576,8,0)),0,(VLOOKUP(A53,'8ª MEDIÇÃO'!$A$5:$J$1048576,8,0)))","v":0},0,1,0,0,0,0,{"$f":"IF(ISERROR(VLOOKUP(A53,'9ª MEDIÇÃO'!$A$5:$J$1048576,8,0)),0,(VLOOKUP(A53,'9ª MEDIÇÃO'!$A$5:$J$1048576,8,0)))","v":0},0,1,0,0,0,0,{"$f":"IF(ISERROR(VLOOKUP(A53,#REF!,8,0)),0,(VLOOKUP(A53,#REF!,8,0)))","v":0},0,1,0,0,0,0,{"$f":"IF(ISERROR(VLOOKUP($A53,#REF!,8,0)),0,(VLOOKUP($A53,#REF!,8,0)))","v":0},0,1,0,0,0,0,{"$f":"IF(ISERROR(VLOOKUP($A53,#REF!,8,0)),0,(VLOOKUP($A53,#REF!,8,0)))","v":0},0,1,0,0,0,0,{"$f":"IF(ISERROR(VLOOKUP($A53,#REF!,8,0)),0,(VLOOKUP($A53,#REF!,8,0)))","v":0},0,1,0,0,0,0,{"$f":"IF(ISERROR(VLOOKUP($A53,#REF!,8,0)),0,(VLOOKUP($A53,#REF!,8,0)))","v":0},0,1,0,0,0,0,{"$f":"IF(ISERROR(VLOOKUP($A53,#REF!,8,0)),0,(VLOOKUP($A53,#REF!,8,0)))","v":0},0,1,0,0,0,0,{"$f":"IF(ISERROR(VLOOKUP($A53,#REF!,8,0)),0,(VLOOKUP($A53,#REF!,8,0)))","v":0},0,1,0,0,0,0,{"$f":"IF(ISERROR(VLOOKUP($A53,#REF!,8,0)),0,(VLOOKUP($A53,#REF!,8,0)))","v":0},0,1,0,0,0,0,{"$f":"IF(ISERROR(VLOOKUP($A53,#REF!,8,0)),0,(VLOOKUP($A53,#REF!,8,0)))","v":0},0,1,0,0,0,0,{"$f":"IF(ISERROR(VLOOKUP($A53,#REF!,8,0)),0,(VLOOKUP($A53,#REF!,8,0)))","v":0},0,1,0,0,0,0,{"$f":"IF(ISERROR(VLOOKUP($A53,#REF!,8,0)),0,(VLOOKUP($A53,#REF!,8,0)))","v":0},0,1,0,0,0,0,{"$f":"IF(ISERROR(VLOOKUP($A53,#REF!,8,0)),0,(VLOOKUP($A53,#REF!,8,0)))","v":0},0,1,0,0,0,0,{"$f":"IF(ISERROR(VLOOKUP($A53,#REF!,8,0)),0,(VLOOKUP($A53,#REF!,8,0)))","v":0},0,1,0,0,0,0,{"$f":"IF(ISERROR(VLOOKUP($A53,#REF!,8,0)),0,(VLOOKUP($A53,#REF!,8,0)))","v":0},0,1,0,0,0,0,{"$f":"IF(ISERROR(VLOOKUP($A53,#REF!,8,0)),0,(VLOOKUP($A53,#REF!,8,0)))","v":0},0,1,0,0,0,0,{"$f":"IF(ISERROR(VLOOKUP($A53,#REF!,8,0)),0,(VLOOKUP($A53,#REF!,8,0)))","v":0},0,1,0,0,0,0,{"$f":"IF(ISERROR(VLOOKUP($A53,#REF!,8,0)),0,(VLOOKUP($A53,#REF!,8,0)))","v":0},0,1,0,0,0,0,{"$f":"IF(ISERROR(VLOOKUP($A53,#REF!,8,0)),0,(VLOOKUP($A53,#REF!,8,0)))","v":0},0,1,0,0,0,0,{"$f":"IF(ISERROR(VLOOKUP($A53,#REF!,8,0)),0,(VLOOKUP($A53,#REF!,8,0)))","v":0},0,1,0,0,0,0,{"$f":"IF(ISERROR(VLOOKUP($A53,#REF!,8,0)),0,(VLOOKUP($A53,#REF!,8,0)))","v":0},0,1,0,0,0,0,{"$f":"IF(ISERROR(VLOOKUP($A53,#REF!,8,0)),0,(VLOOKUP($A53,#REF!,8,0)))","v":0},0,1,0,0,0,0,{"$f":"IF(ISERROR(VLOOKUP($A53,#REF!,8,0)),0,(VLOOKUP($A53,#REF!,8,0)))","v":0},0,1,0,0,0,0,{"$f":"IF(ISERROR(VLOOKUP($A53,#REF!,8,0)),0,(VLOOKUP($A53,#REF!,8,0)))","v":0},0,1,0,0,0,0,{"$f":"IF(ISERROR(VLOOKUP($A53,#REF!,8,0)),0,(VLOOKUP($A53,#REF!,8,0)))","v":0},0,1,0,0,0,0,{"$f":"IF(ISERROR(VLOOKUP($A53,#REF!,8,0)),0,(VLOOKUP($A53,#REF!,8,0)))","v":0},0,1,0,0,0,0,{"$f":"IF(ISERROR(VLOOKUP($A53,#REF!,8,0)),0,(VLOOKUP($A53,#REF!,8,0)))","v":0},0,1,0,0,0,0,{"$f":"IF(ISERROR(VLOOKUP($A53,#REF!,8,0)),0,(VLOOKUP($A53,#REF!,8,0)))","v":0},0,1,0,0,0,0,{"$f":"IF(ISERROR(VLOOKUP($A53,#REF!,8,0)),0,(VLOOKUP($A53,#REF!,8,0)))","v":0},0,1,0,0,0,0,{"$f":"IF(ISERROR(VLOOKUP($A53,#REF!,8,0)),0,(VLOOKUP($A53,#REF!,8,0)))","v":0},0,1,0,0,0,0,{"$f":"IF(ISERROR(VLOOKUP($A53,#REF!,8,0)),0,(VLOOKUP($A53,#REF!,8,0)))","v":0},0,1,0,0,0,0,{"$f":"IF(ISERROR(VLOOKUP($A53,#REF!,8,0)),0,(VLOOKUP($A53,#REF!,8,0)))","v":0},0,1,0,0,0,0,{"$f":"IF(ISERROR(VLOOKUP($A53,#REF!,8,0)),0,(VLOOKUP($A53,#REF!,8,0)))","v":0},0,1,0,0,0,0,{"$f":"IF(ISERROR(VLOOKUP($A53,#REF!,8,0)),0,(VLOOKUP($A53,#REF!,8,0)))","v":0},0,1,0,0,0,0,{"$f":"IF(ISERROR(VLOOKUP($A53,#REF!,8,0)),0,(VLOOKUP($A53,#REF!,8,0)))","v":0},0,1,0,0,0,0,{"$f":"IF(ISERROR(VLOOKUP($A53,#REF!,8,0)),0,(VLOOKUP($A53,#REF!,8,0)))","v":0},0,1,0,0,0,0,{"$f":"IF(ISERROR(VLOOKUP($A53,#REF!,8,0)),0,(VLOOKUP($A53,#REF!,8,0)))","v":0},0,1,0,0,0,0,{"$f":"IF(ISERROR(VLOOKUP($A53,#REF!,8,0)),0,(VLOOKUP($A53,#REF!,8,0)))","v":0},0,1,0,0,0,0,{"$f":"IF(ISERROR(VLOOKUP($A53,#REF!,8,0)),0,(VLOOKUP($A53,#REF!,8,0)))","v":0},0,1,0,0,0,0,{"$f":"IF(ISERROR(VLOOKUP($A53,#REF!,8,0)),0,(VLOOKUP($A53,#REF!,8,0)))","v":0},0,1,0,0,0,0,{"$f":"IF(ISERROR(VLOOKUP($A53,#REF!,8,0)),0,(VLOOKUP($A53,#REF!,8,0)))","v":0},0,1,0,0,0,0,{"$f":"IF(ISERROR(VLOOKUP($A53,#REF!,8,0)),0,(VLOOKUP($A53,#REF!,8,0)))","v":0},0,1,0,0,0,0,{"$f":"IF(ISERROR(VLOOKUP($A53,#REF!,8,0)),0,(VLOOKUP($A53,#REF!,8,0)))","v":0},0,1,0,0,0,0,{"$f":"IF(ISERROR(VLOOKUP($A53,#REF!,8,0)),0,(VLOOKUP($A53,#REF!,8,0)))","v":0},0,1,0,0,0,0,{"$f":"IF(ISERROR(VLOOKUP($A53,#REF!,8,0)),0,(VLOOKUP($A53,#REF!,8,0)))","v":0},0,1,0,0,0,0,{"$f":"IF(ISERROR(VLOOKUP($A53,#REF!,8,0)),0,(VLOOKUP($A53,#REF!,8,0)))","v":0},0,1,0,0,0,0,{"$f":"IF(ISERROR(VLOOKUP($A53,#REF!,8,0)),0,(VLOOKUP($A53,#REF!,8,0)))","v":0},0,1,0,0,0,0,476.38949399999996,476.38949399999996,1,0]
["1.42","Instalação de transformador de 112,5kVA - 15kV.","un",1,1,0,0,0,935.68703999999991,935.68703999999991,0,0,935.68703999999991,0,935.68703999999991,1,1,0,935.68703999999991,0,935.69,null,0,1,0,0,0,0,null,0,1,0,0,0,0,null,0,1,0,0,0,0,null,0,1,0,0,0,0,null,0,1,0,0,0,0,{"$f":"IF(ISERROR(VLOOKUP(A54,'7ª MEDIÇÃO'!$A$5:$J$1048576,8,0)),0,(VLOOKUP(A54,'7ª MEDIÇÃO'!$A$5:$J$1048576,8,0)))","v":0},0,1,0,0,0,0,{"$f":"IF(ISERROR(VLOOKUP(A54,'8ª MEDIÇÃO'!$A$5:$J$1048576,8,0)),0,(VLOOKUP(A54,'8ª MEDIÇÃO'!$A$5:$J$1048576,8,0)))","v":0},0,1,0,0,0,0,{"$f":"IF(ISERROR(VLOOKUP(A54,'9ª MEDIÇÃO'!$A$5:$J$1048576,8,0)),0,(VLOOKUP(A54,'9ª MEDIÇÃO'!$A$5:$J$1048576,8,0)))","v":0},0,1,0,0,0,0,{"$f":"IF(ISERROR(VLOOKUP(A54,#REF!,8,0)),0,(VLOOKUP(A54,#REF!,8,0)))","v":0},0,1,0,0,0,0,{"$f":"IF(ISERROR(VLOOKUP($A54,#REF!,8,0)),0,(VLOOKUP($A54,#REF!,8,0)))","v":0},0,1,0,0,0,0,{"$f":"IF(ISERROR(VLOOKUP($A54,#REF!,8,0)),0,(VLOOKUP($A54,#REF!,8,0)))","v":0},0,1,0,0,0,0,{"$f":"IF(ISERROR(VLOOKUP($A54,#REF!,8,0)),0,(VLOOKUP($A54,#REF!,8,0)))","v":0},0,1,0,0,0,0,{"$f":"IF(ISERROR(VLOOKUP($A54,#REF!,8,0)),0,(VLOOKUP($A54,#REF!,8,0)))","v":0},0,1,0,0,0,0,{"$f":"IF(ISERROR(VLOOKUP($A54,#REF!,8,0)),0,(VLOOKUP($A54,#REF!,8,0)))","v":0},0,1,0,0,0,0,{"$f":"IF(ISERROR(VLOOKUP($A54,#REF!,8,0)),0,(VLOOKUP($A54,#REF!,8,0)))","v":0},0,1,0,0,0,0,{"$f":"IF(ISERROR(VLOOKUP($A54,#REF!,8,0)),0,(VLOOKUP($A54,#REF!,8,0)))","v":0},0,1,0,0,0,0,{"$f":"IF(ISERROR(VLOOKUP($A54,#REF!,8,0)),0,(VLOOKUP($A54,#REF!,8,0)))","v":0},0,1,0,0,0,0,{"$f":"IF(ISERROR(VLOOKUP($A54,#REF!,8,0)),0,(VLOOKUP($A54,#REF!,8,0)))","v":0},0,1,0,0,0,0,{"$f":"IF(ISERROR(VLOOKUP($A54,#REF!,8,0)),0,(VLOOKUP($A54,#REF!,8,0)))","v":0},0,1,0,0,0,0,{"$f":"IF(ISERROR(VLOOKUP($A54,#REF!,8,0)),0,(VLOOKUP($A54,#REF!,8,0)))","v":0},0,1,0,0,0,0,{"$f":"IF(ISERROR(VLOOKUP($A54,#REF!,8,0)),0,(VLOOKUP($A54,#REF!,8,0)))","v":0},0,1,0,0,0,0,{"$f":"IF(ISERROR(VLOOKUP($A54,#REF!,8,0)),0,(VLOOKUP($A54,#REF!,8,0)))","v":0},0,1,0,0,0,0,{"$f":"IF(ISERROR(VLOOKUP($A54,#REF!,8,0)),0,(VLOOKUP($A54,#REF!,8,0)))","v":0},0,1,0,0,0,0,{"$f":"IF(ISERROR(VLOOKUP($A54,#REF!,8,0)),0,(VLOOKUP($A54,#REF!,8,0)))","v":0},0,1,0,0,0,0,{"$f":"IF(ISERROR(VLOOKUP($A54,#REF!,8,0)),0,(VLOOKUP($A54,#REF!,8,0)))","v":0},0,1,0,0,0,0,{"$f":"IF(ISERROR(VLOOKUP($A54,#REF!,8,0)),0,(VLOOKUP($A54,#REF!,8,0)))","v":0},0,1,0,0,0,0,{"$f":"IF(ISERROR(VLOOKUP($A54,#REF!,8,0)),0,(VLOOKUP($A54,#REF!,8,0)))","v":0},0,1,0,0,0,0,{"$f":"IF(ISERROR(VLOOKUP($A54,#REF!,8,0)),0,(VLOOKUP($A54,#REF!,8,0)))","v":0},0,1,0,0,0,0,{"$f":"IF(ISERROR(VLOOKUP($A54,#REF!,8,0)),0,(VLOOKUP($A54,#REF!,8,0)))","v":0},0,1,0,0,0,0,{"$f":"IF(ISERROR(VLOOKUP($A54,#REF!,8,0)),0,(VLOOKUP($A54,#REF!,8,0)))","v":0},0,1,0,0,0,0,{"$f":"IF(ISERROR(VLOOKUP($A54,#REF!,8,0)),0,(VLOOKUP($A54,#REF!,8,0)))","v":0},0,1,0,0,0,0,{"$f":"IF(ISERROR(VLOOKUP($A54,#REF!,8,0)),0,(VLOOKUP($A54,#REF!,8,0)))","v":0},0,1,0,0,0,0,{"$f":"IF(ISERROR(VLOOKUP($A54,#REF!,8,0)),0,(VLOOKUP($A54,#REF!,8,0)))","v":0},0,1,0,0,0,0,{"$f":"IF(ISERROR(VLOOKUP($A54,#REF!,8,0)),0,(VLOOKUP($A54,#REF!,8,0)))","v":0},0,1,0,0,0,0,{"$f":"IF(ISERROR(VLOOKUP($A54,#REF!,8,0)),0,(VLOOKUP($A54,#REF!,8,0)))","v":0},0,1,0,0,0,0,{"$f":"IF(ISERROR(VLOOKUP($A54,#REF!,8,0)),0,(VLOOKUP($A54,#REF!,8,0)))","v":0},0,1,0,0,0,0,{"$f":"IF(ISERROR(VLOOKUP($A54,#REF!,8,0)),0,(VLOOKUP($A54,#REF!,8,0)))","v":0},0,1,0,0,0,0,{"$f":"IF(ISERROR(VLOOKUP($A54,#REF!,8,0)),0,(VLOOKUP($A54,#REF!,8,0)))","v":0},0,1,0,0,0,0,{"$f":"IF(ISERROR(VLOOKUP($A54,#REF!,8,0)),0,(VLOOKUP($A54,#REF!,8,0)))","v":0},0,1,0,0,0,0,{"$f":"IF(ISERROR(VLOOKUP($A54,#REF!,8,0)),0,(VLOOKUP($A54,#REF!,8,0)))","v":0},0,1,0,0,0,0,{"$f":"IF(ISERROR(VLOOKUP($A54,#REF!,8,0)),0,(VLOOKUP($A54,#REF!,8,0)))","v":0},0,1,0,0,0,0,{"$f":"IF(ISERROR(VLOOKUP($A54,#REF!,8,0)),0,(VLOOKUP($A54,#REF!,8,0)))","v":0},0,1,0,0,0,0,{"$f":"IF(ISERROR(VLOOKUP($A54,#REF!,8,0)),0,(VLOOKUP($A54,#REF!,8,0)))","v":0},0,1,0,0,0,0,{"$f":"IF(ISERROR(VLOOKUP($A54,#REF!,8,0)),0,(VLOOKUP($A54,#REF!,8,0)))","v":0},0,1,0,0,0,0,{"$f":"IF(ISERROR(VLOOKUP($A54,#REF!,8,0)),0,(VLOOKUP($A54,#REF!,8,0)))","v":0},0,1,0,0,0,0,{"$f":"IF(ISERROR(VLOOKUP($A54,#REF!,8,0)),0,(VLOOKUP($A54,#REF!,8,0)))","v":0},0,1,0,0,0,0,{"$f":"IF(ISERROR(VLOOKUP($A54,#REF!,8,0)),0,(VLOOKUP($A54,#REF!,8,0)))","v":0},0,1,0,0,0,0,{"$f":"IF(ISERROR(VLOOKUP($A54,#REF!,8,0)),0,(VLOOKUP($A54,#REF!,8,0)))","v":0},0,1,0,0,0,0,{"$f":"IF(ISERROR(VLOOKUP($A54,#REF!,8,0)),0,(VLOOKUP($A54,#REF!,8,0)))","v":0},0,1,0,0,0,0,{"$f":"IF(ISERROR(VLOOKUP($A54,#REF!,8,0)),0,(VLOOKUP($A54,#REF!,8,0)))","v":0},0,1,0,0,0,0,{"$f":"IF(ISERROR(VLOOKUP($A54,#REF!,8,0)),0,(VLOOKUP($A54,#REF!,8,0)))","v":0},0,1,0,0,0,0,{"$f":"IF(ISERROR(VLOOKUP($A54,#REF!,8,0)),0,(VLOOKUP($A54,#REF!,8,0)))","v":0},0,1,0,0,0,0,{"$f":"IF(ISERROR(VLOOKUP($A54,#REF!,8,0)),0,(VLOOKUP($A54,#REF!,8,0)))","v":0},0,1,0,0,0,0,{"$f":"IF(ISERROR(VLOOKUP($A54,#REF!,8,0)),0,(VLOOKUP($A54,#REF!,8,0)))","v":0},0,1,0,0,0,0,935.68703999999991,935.68703999999991,1,0]
["1.43","Fornecimento e instalação de isolador polimérico de 15kV.","un",9,9,0,36.667546000000002,330.00791400000003,24.954639999999998,224.59175999999997,0,0,61.622185999999999,0,554.59967400000005,9,1,330.00791400000003,224.59175999999997,0,554.6,null,0,1,0,0,0,0,null,0,1,0,0,0,0,null,0,1,0,0,0,0,null,0,1,0,0,0,0,null,0,1,0,0,0,0,{"$f":"IF(ISERROR(VLOOKUP(A55,'7ª MEDIÇÃO'!$A$5:$J$1048576,8,0)),0,(VLOOKUP(A55,'7ª MEDIÇÃO'!$A$5:$J$1048576,8,0)))","v":0},0,1,0,0,0,0,{"$f":"IF(ISERROR(VLOOKUP(A55,'8ª MEDIÇÃO'!$A$5:$J$1048576,8,0)),0,(VLOOKUP(A55,'8ª MEDIÇÃO'!$A$5:$J$1048576,8,0)))","v":0},0,1,0,0,0,0,{"$f":"IF(ISERROR(VLOOKUP(A55,'9ª MEDIÇÃO'!$A$5:$J$1048576,8,0)),0,(VLOOKUP(A55,'9ª MEDIÇÃO'!$A$5:$J$1048576,8,0)))","v":0},0,1,0,0,0,0,{"$f":"IF(ISERROR(VLOOKUP(A55,#REF!,8,0)),0,(VLOOKUP(A55,#REF!,8,0)))","v":0},0,1,0,0,0,0,{"$f":"IF(ISERROR(VLOOKUP($A55,#REF!,8,0)),0,(VLOOKUP($A55,#REF!,8,0)))","v":0},0,1,0,0,0,0,{"$f":"IF(ISERROR(VLOOKUP($A55,#REF!,8,0)),0,(VLOOKUP($A55,#REF!,8,0)))","v":0},0,1,0,0,0,0,{"$f":"IF(ISERROR(VLOOKUP($A55,#REF!,8,0)),0,(VLOOKUP($A55,#REF!,8,0)))","v":0},0,1,0,0,0,0,{"$f":"IF(ISERROR(VLOOKUP($A55,#REF!,8,0)),0,(VLOOKUP($A55,#REF!,8,0)))","v":0},0,1,0,0,0,0,{"$f":"IF(ISERROR(VLOOKUP($A55,#REF!,8,0)),0,(VLOOKUP($A55,#REF!,8,0)))","v":0},0,1,0,0,0,0,{"$f":"IF(ISERROR(VLOOKUP($A55,#REF!,8,0)),0,(VLOOKUP($A55,#REF!,8,0)))","v":0},0,1,0,0,0,0,{"$f":"IF(ISERROR(VLOOKUP($A55,#REF!,8,0)),0,(VLOOKUP($A55,#REF!,8,0)))","v":0},0,1,0,0,0,0,{"$f":"IF(ISERROR(VLOOKUP($A55,#REF!,8,0)),0,(VLOOKUP($A55,#REF!,8,0)))","v":0},0,1,0,0,0,0,{"$f":"IF(ISERROR(VLOOKUP($A55,#REF!,8,0)),0,(VLOOKUP($A55,#REF!,8,0)))","v":0},0,1,0,0,0,0,{"$f":"IF(ISERROR(VLOOKUP($A55,#REF!,8,0)),0,(VLOOKUP($A55,#REF!,8,0)))","v":0},0,1,0,0,0,0,{"$f":"IF(ISERROR(VLOOKUP($A55,#REF!,8,0)),0,(VLOOKUP($A55,#REF!,8,0)))","v":0},0,1,0,0,0,0,{"$f":"IF(ISERROR(VLOOKUP($A55,#REF!,8,0)),0,(VLOOKUP($A55,#REF!,8,0)))","v":0},0,1,0,0,0,0,{"$f":"IF(ISERROR(VLOOKUP($A55,#REF!,8,0)),0,(VLOOKUP($A55,#REF!,8,0)))","v":0},0,1,0,0,0,0,{"$f":"IF(ISERROR(VLOOKUP($A55,#REF!,8,0)),0,(VLOOKUP($A55,#REF!,8,0)))","v":0},0,1,0,0,0,0,{"$f":"IF(ISERROR(VLOOKUP($A55,#REF!,8,0)),0,(VLOOKUP($A55,#REF!,8,0)))","v":0},0,1,0,0,0,0,{"$f":"IF(ISERROR(VLOOKUP($A55,#REF!,8,0)),0,(VLOOKUP($A55,#REF!,8,0)))","v":0},0,1,0,0,0,0,{"$f":"IF(ISERROR(VLOOKUP($A55,#REF!,8,0)),0,(VLOOKUP($A55,#REF!,8,0)))","v":0},0,1,0,0,0,0,{"$f":"IF(ISERROR(VLOOKUP($A55,#REF!,8,0)),0,(VLOOKUP($A55,#REF!,8,0)))","v":0},0,1,0,0,0,0,{"$f":"IF(ISERROR(VLOOKUP($A55,#REF!,8,0)),0,(VLOOKUP($A55,#REF!,8,0)))","v":0},0,1,0,0,0,0,{"$f":"IF(ISERROR(VLOOKUP($A55,#REF!,8,0)),0,(VLOOKUP($A55,#REF!,8,0)))","v":0},0,1,0,0,0,0,{"$f":"IF(ISERROR(VLOOKUP($A55,#REF!,8,0)),0,(VLOOKUP($A55,#REF!,8,0)))","v":0},0,1,0,0,0,0,{"$f":"IF(ISERROR(VLOOKUP($A55,#REF!,8,0)),0,(VLOOKUP($A55,#REF!,8,0)))","v":0},0,1,0,0,0,0,{"$f":"IF(ISERROR(VLOOKUP($A55,#REF!,8,0)),0,(VLOOKUP($A55,#REF!,8,0)))","v":0},0,1,0,0,0,0,{"$f":"IF(ISERROR(VLOOKUP($A55,#REF!,8,0)),0,(VLOOKUP($A55,#REF!,8,0)))","v":0},0,1,0,0,0,0,{"$f":"IF(ISERROR(VLOOKUP($A55,#REF!,8,0)),0,(VLOOKUP($A55,#REF!,8,0)))","v":0},0,1,0,0,0,0,{"$f":"IF(ISERROR(VLOOKUP($A55,#REF!,8,0)),0,(VLOOKUP($A55,#REF!,8,0)))","v":0},0,1,0,0,0,0,{"$f":"IF(ISERROR(VLOOKUP($A55,#REF!,8,0)),0,(VLOOKUP($A55,#REF!,8,0)))","v":0},0,1,0,0,0,0,{"$f":"IF(ISERROR(VLOOKUP($A55,#REF!,8,0)),0,(VLOOKUP($A55,#REF!,8,0)))","v":0},0,1,0,0,0,0,{"$f":"IF(ISERROR(VLOOKUP($A55,#REF!,8,0)),0,(VLOOKUP($A55,#REF!,8,0)))","v":0},0,1,0,0,0,0,{"$f":"IF(ISERROR(VLOOKUP($A55,#REF!,8,0)),0,(VLOOKUP($A55,#REF!,8,0)))","v":0},0,1,0,0,0,0,{"$f":"IF(ISERROR(VLOOKUP($A55,#REF!,8,0)),0,(VLOOKUP($A55,#REF!,8,0)))","v":0},0,1,0,0,0,0,{"$f":"IF(ISERROR(VLOOKUP($A55,#REF!,8,0)),0,(VLOOKUP($A55,#REF!,8,0)))","v":0},0,1,0,0,0,0,{"$f":"IF(ISERROR(VLOOKUP($A55,#REF!,8,0)),0,(VLOOKUP($A55,#REF!,8,0)))","v":0},0,1,0,0,0,0,{"$f":"IF(ISERROR(VLOOKUP($A55,#REF!,8,0)),0,(VLOOKUP($A55,#REF!,8,0)))","v":0},0,1,0,0,0,0,{"$f":"IF(ISERROR(VLOOKUP($A55,#REF!,8,0)),0,(VLOOKUP($A55,#REF!,8,0)))","v":0},0,1,0,0,0,0,{"$f":"IF(ISERROR(VLOOKUP($A55,#REF!,8,0)),0,(VLOOKUP($A55,#REF!,8,0)))","v":0},0,1,0,0,0,0,{"$f":"IF(ISERROR(VLOOKUP($A55,#REF!,8,0)),0,(VLOOKUP($A55,#REF!,8,0)))","v":0},0,1,0,0,0,0,{"$f":"IF(ISERROR(VLOOKUP($A55,#REF!,8,0)),0,(VLOOKUP($A55,#REF!,8,0)))","v":0},0,1,0,0,0,0,{"$f":"IF(ISERROR(VLOOKUP($A55,#REF!,8,0)),0,(VLOOKUP($A55,#REF!,8,0)))","v":0},0,1,0,0,0,0,{"$f":"IF(ISERROR(VLOOKUP($A55,#REF!,8,0)),0,(VLOOKUP($A55,#REF!,8,0)))","v":0},0,1,0,0,0,0,{"$f":"IF(ISERROR(VLOOKUP($A55,#REF!,8,0)),0,(VLOOKUP($A55,#REF!,8,0)))","v":0},0,1,0,0,0,0,{"$f":"IF(ISERROR(VLOOKUP($A55,#REF!,8,0)),0,(VLOOKUP($A55,#REF!,8,0)))","v":0},0,1,0,0,0,0,{"$f":"IF(ISERROR(VLOOKUP($A55,#REF!,8,0)),0,(VLOOKUP($A55,#REF!,8,0)))","v":0},0,1,0,0,0,0,{"$f":"IF(ISERROR(VLOOKUP($A55,#REF!,8,0)),0,(VLOOKUP($A55,#REF!,8,0)))","v":0},0,1,0,0,0,0,{"$f":"IF(ISERROR(VLOOKUP($A55,#REF!,8,0)),0,(VLOOKUP($A55,#REF!,8,0)))","v":0},0,1,0,0,0,0,554.59967400000005,554.59967400000005,1,0]
["1.44","Fornecimento e instalação de pino para isolador 15kV.","un",9,9,0,28.506098000000001,256.55488200000002,6.2448799999999993,56.203919999999997,0,0,34.750978000000003,0,312.75880200000006,9,1,256.55488200000002,56.203919999999997,0,312.76,null,0,1,0,0,0,0,null,0,1,0,0,0,0,null,0,1,0,0,0,0,null,0,1,0,0,0,0,null,0,1,0,0,0,0,{"$f":"IF(ISERROR(VLOOKUP(A56,'7ª MEDIÇÃO'!$A$5:$J$1048576,8,0)),0,(VLOOKUP(A56,'7ª MEDIÇÃO'!$A$5:$J$1048576,8,0)))","v":0},0,1,0,0,0,0,{"$f":"IF(ISERROR(VLOOKUP(A56,'8ª MEDIÇÃO'!$A$5:$J$1048576,8,0)),0,(VLOOKUP(A56,'8ª MEDIÇÃO'!$A$5:$J$1048576,8,0)))","v":0},0,1,0,0,0,0,{"$f":"IF(ISERROR(VLOOKUP(A56,'9ª MEDIÇÃO'!$A$5:$J$1048576,8,0)),0,(VLOOKUP(A56,'9ª MEDIÇÃO'!$A$5:$J$1048576,8,0)))","v":0},0,1,0,0,0,0,{"$f":"IF(ISERROR(VLOOKUP(A56,#REF!,8,0)),0,(VLOOKUP(A56,#REF!,8,0)))","v":0},0,1,0,0,0,0,{"$f":"IF(ISERROR(VLOOKUP($A56,#REF!,8,0)),0,(VLOOKUP($A56,#REF!,8,0)))","v":0},0,1,0,0,0,0,{"$f":"IF(ISERROR(VLOOKUP($A56,#REF!,8,0)),0,(VLOOKUP($A56,#REF!,8,0)))","v":0},0,1,0,0,0,0,{"$f":"IF(ISERROR(VLOOKUP($A56,#REF!,8,0)),0,(VLOOKUP($A56,#REF!,8,0)))","v":0},0,1,0,0,0,0,{"$f":"IF(ISERROR(VLOOKUP($A56,#REF!,8,0)),0,(VLOOKUP($A56,#REF!,8,0)))","v":0},0,1,0,0,0,0,{"$f":"IF(ISERROR(VLOOKUP($A56,#REF!,8,0)),0,(VLOOKUP($A56,#REF!,8,0)))","v":0},0,1,0,0,0,0,{"$f":"IF(ISERROR(VLOOKUP($A56,#REF!,8,0)),0,(VLOOKUP($A56,#REF!,8,0)))","v":0},0,1,0,0,0,0,{"$f":"IF(ISERROR(VLOOKUP($A56,#REF!,8,0)),0,(VLOOKUP($A56,#REF!,8,0)))","v":0},0,1,0,0,0,0,{"$f":"IF(ISERROR(VLOOKUP($A56,#REF!,8,0)),0,(VLOOKUP($A56,#REF!,8,0)))","v":0},0,1,0,0,0,0,{"$f":"IF(ISERROR(VLOOKUP($A56,#REF!,8,0)),0,(VLOOKUP($A56,#REF!,8,0)))","v":0},0,1,0,0,0,0,{"$f":"IF(ISERROR(VLOOKUP($A56,#REF!,8,0)),0,(VLOOKUP($A56,#REF!,8,0)))","v":0},0,1,0,0,0,0,{"$f":"IF(ISERROR(VLOOKUP($A56,#REF!,8,0)),0,(VLOOKUP($A56,#REF!,8,0)))","v":0},0,1,0,0,0,0,{"$f":"IF(ISERROR(VLOOKUP($A56,#REF!,8,0)),0,(VLOOKUP($A56,#REF!,8,0)))","v":0},0,1,0,0,0,0,{"$f":"IF(ISERROR(VLOOKUP($A56,#REF!,8,0)),0,(VLOOKUP($A56,#REF!,8,0)))","v":0},0,1,0,0,0,0,{"$f":"IF(ISERROR(VLOOKUP($A56,#REF!,8,0)),0,(VLOOKUP($A56,#REF!,8,0)))","v":0},0,1,0,0,0,0,{"$f":"IF(ISERROR(VLOOKUP($A56,#REF!,8,0)),0,(VLOOKUP($A56,#REF!,8,0)))","v":0},0,1,0,0,0,0,{"$f":"IF(ISERROR(VLOOKUP($A56,#REF!,8,0)),0,(VLOOKUP($A56,#REF!,8,0)))","v":0},0,1,0,0,0,0,{"$f":"IF(ISERROR(VLOOKUP($A56,#REF!,8,0)),0,(VLOOKUP($A56,#REF!,8,0)))","v":0},0,1,0,0,0,0,{"$f":"IF(ISERROR(VLOOKUP($A56,#REF!,8,0)),0,(VLOOKUP($A56,#REF!,8,0)))","v":0},0,1,0,0,0,0,{"$f":"IF(ISERROR(VLOOKUP($A56,#REF!,8,0)),0,(VLOOKUP($A56,#REF!,8,0)))","v":0},0,1,0,0,0,0,{"$f":"IF(ISERROR(VLOOKUP($A56,#REF!,8,0)),0,(VLOOKUP($A56,#REF!,8,0)))","v":0},0,1,0,0,0,0,{"$f":"IF(ISERROR(VLOOKUP($A56,#REF!,8,0)),0,(VLOOKUP($A56,#REF!,8,0)))","v":0},0,1,0,0,0,0,{"$f":"IF(ISERROR(VLOOKUP($A56,#REF!,8,0)),0,(VLOOKUP($A56,#REF!,8,0)))","v":0},0,1,0,0,0,0,{"$f":"IF(ISERROR(VLOOKUP($A56,#REF!,8,0)),0,(VLOOKUP($A56,#REF!,8,0)))","v":0},0,1,0,0,0,0,{"$f":"IF(ISERROR(VLOOKUP($A56,#REF!,8,0)),0,(VLOOKUP($A56,#REF!,8,0)))","v":0},0,1,0,0,0,0,{"$f":"IF(ISERROR(VLOOKUP($A56,#REF!,8,0)),0,(VLOOKUP($A56,#REF!,8,0)))","v":0},0,1,0,0,0,0,{"$f":"IF(ISERROR(VLOOKUP($A56,#REF!,8,0)),0,(VLOOKUP($A56,#REF!,8,0)))","v":0},0,1,0,0,0,0,{"$f":"IF(ISERROR(VLOOKUP($A56,#REF!,8,0)),0,(VLOOKUP($A56,#REF!,8,0)))","v":0},0,1,0,0,0,0,{"$f":"IF(ISERROR(VLOOKUP($A56,#REF!,8,0)),0,(VLOOKUP($A56,#REF!,8,0)))","v":0},0,1,0,0,0,0,{"$f":"IF(ISERROR(VLOOKUP($A56,#REF!,8,0)),0,(VLOOKUP($A56,#REF!,8,0)))","v":0},0,1,0,0,0,0,{"$f":"IF(ISERROR(VLOOKUP($A56,#REF!,8,0)),0,(VLOOKUP($A56,#REF!,8,0)))","v":0},0,1,0,0,0,0,{"$f":"IF(ISERROR(VLOOKUP($A56,#REF!,8,0)),0,(VLOOKUP($A56,#REF!,8,0)))","v":0},0,1,0,0,0,0,{"$f":"IF(ISERROR(VLOOKUP($A56,#REF!,8,0)),0,(VLOOKUP($A56,#REF!,8,0)))","v":0},0,1,0,0,0,0,{"$f":"IF(ISERROR(VLOOKUP($A56,#REF!,8,0)),0,(VLOOKUP($A56,#REF!,8,0)))","v":0},0,1,0,0,0,0,{"$f":"IF(ISERROR(VLOOKUP($A56,#REF!,8,0)),0,(VLOOKUP($A56,#REF!,8,0)))","v":0},0,1,0,0,0,0,{"$f":"IF(ISERROR(VLOOKUP($A56,#REF!,8,0)),0,(VLOOKUP($A56,#REF!,8,0)))","v":0},0,1,0,0,0,0,{"$f":"IF(ISERROR(VLOOKUP($A56,#REF!,8,0)),0,(VLOOKUP($A56,#REF!,8,0)))","v":0},0,1,0,0,0,0,{"$f":"IF(ISERROR(VLOOKUP($A56,#REF!,8,0)),0,(VLOOKUP($A56,#REF!,8,0)))","v":0},0,1,0,0,0,0,{"$f":"IF(ISERROR(VLOOKUP($A56,#REF!,8,0)),0,(VLOOKUP($A56,#REF!,8,0)))","v":0},0,1,0,0,0,0,{"$f":"IF(ISERROR(VLOOKUP($A56,#REF!,8,0)),0,(VLOOKUP($A56,#REF!,8,0)))","v":0},0,1,0,0,0,0,{"$f":"IF(ISERROR(VLOOKUP($A56,#REF!,8,0)),0,(VLOOKUP($A56,#REF!,8,0)))","v":0},0,1,0,0,0,0,{"$f":"IF(ISERROR(VLOOKUP($A56,#REF!,8,0)),0,(VLOOKUP($A56,#REF!,8,0)))","v":0},0,1,0,0,0,0,{"$f":"IF(ISERROR(VLOOKUP($A56,#REF!,8,0)),0,(VLOOKUP($A56,#REF!,8,0)))","v":0},0,1,0,0,0,0,{"$f":"IF(ISERROR(VLOOKUP($A56,#REF!,8,0)),0,(VLOOKUP($A56,#REF!,8,0)))","v":0},0,1,0,0,0,0,{"$f":"IF(ISERROR(VLOOKUP($A56,#REF!,8,0)),0,(VLOOKUP($A56,#REF!,8,0)))","v":0},0,1,0,0,0,0,{"$f":"IF(ISERROR(VLOOKUP($A56,#REF!,8,0)),0,(VLOOKUP($A56,#REF!,8,0)))","v":0},0,1,0,0,0,0,312.75880200000006,312.75880200000006,1,0]
["1.45","Fornecimento e instalação de pára-raios 12kV - 10kA .","un",3,3,0,180.51896400000001,541.55689200000006,37.431959999999997,112.29587999999998,0,0,217.95092400000001,0,653.85277200000007,3,1,541.55689200000006,112.29587999999998,0,653.85,null,0,1,0,0,0,0,null,0,1,0,0,0,0,null,0,1,0,0,0,0,null,0,1,0,0,0,0,null,0,1,0,0,0,0,{"$f":"IF(ISERROR(VLOOKUP(A57,'7ª MEDIÇÃO'!$A$5:$J$1048576,8,0)),0,(VLOOKUP(A57,'7ª MEDIÇÃO'!$A$5:$J$1048576,8,0)))","v":0},0,1,0,0,0,0,{"$f":"IF(ISERROR(VLOOKUP(A57,'8ª MEDIÇÃO'!$A$5:$J$1048576,8,0)),0,(VLOOKUP(A57,'8ª MEDIÇÃO'!$A$5:$J$1048576,8,0)))","v":0},0,1,0,0,0,0,{"$f":"IF(ISERROR(VLOOKUP(A57,'9ª MEDIÇÃO'!$A$5:$J$1048576,8,0)),0,(VLOOKUP(A57,'9ª MEDIÇÃO'!$A$5:$J$1048576,8,0)))","v":0},0,1,0,0,0,0,{"$f":"IF(ISERROR(VLOOKUP(A57,#REF!,8,0)),0,(VLOOKUP(A57,#REF!,8,0)))","v":0},0,1,0,0,0,0,{"$f":"IF(ISERROR(VLOOKUP($A57,#REF!,8,0)),0,(VLOOKUP($A57,#REF!,8,0)))","v":0},0,1,0,0,0,0,{"$f":"IF(ISERROR(VLOOKUP($A57,#REF!,8,0)),0,(VLOOKUP($A57,#REF!,8,0)))","v":0},0,1,0,0,0,0,{"$f":"IF(ISERROR(VLOOKUP($A57,#REF!,8,0)),0,(VLOOKUP($A57,#REF!,8,0)))","v":0},0,1,0,0,0,0,{"$f":"IF(ISERROR(VLOOKUP($A57,#REF!,8,0)),0,(VLOOKUP($A57,#REF!,8,0)))","v":0},0,1,0,0,0,0,{"$f":"IF(ISERROR(VLOOKUP($A57,#REF!,8,0)),0,(VLOOKUP($A57,#REF!,8,0)))","v":0},0,1,0,0,0,0,{"$f":"IF(ISERROR(VLOOKUP($A57,#REF!,8,0)),0,(VLOOKUP($A57,#REF!,8,0)))","v":0},0,1,0,0,0,0,{"$f":"IF(ISERROR(VLOOKUP($A57,#REF!,8,0)),0,(VLOOKUP($A57,#REF!,8,0)))","v":0},0,1,0,0,0,0,{"$f":"IF(ISERROR(VLOOKUP($A57,#REF!,8,0)),0,(VLOOKUP($A57,#REF!,8,0)))","v":0},0,1,0,0,0,0,{"$f":"IF(ISERROR(VLOOKUP($A57,#REF!,8,0)),0,(VLOOKUP($A57,#REF!,8,0)))","v":0},0,1,0,0,0,0,{"$f":"IF(ISERROR(VLOOKUP($A57,#REF!,8,0)),0,(VLOOKUP($A57,#REF!,8,0)))","v":0},0,1,0,0,0,0,{"$f":"IF(ISERROR(VLOOKUP($A57,#REF!,8,0)),0,(VLOOKUP($A57,#REF!,8,0)))","v":0},0,1,0,0,0,0,{"$f":"IF(ISERROR(VLOOKUP($A57,#REF!,8,0)),0,(VLOOKUP($A57,#REF!,8,0)))","v":0},0,1,0,0,0,0,{"$f":"IF(ISERROR(VLOOKUP($A57,#REF!,8,0)),0,(VLOOKUP($A57,#REF!,8,0)))","v":0},0,1,0,0,0,0,{"$f":"IF(ISERROR(VLOOKUP($A57,#REF!,8,0)),0,(VLOOKUP($A57,#REF!,8,0)))","v":0},0,1,0,0,0,0,{"$f":"IF(ISERROR(VLOOKUP($A57,#REF!,8,0)),0,(VLOOKUP($A57,#REF!,8,0)))","v":0},0,1,0,0,0,0,{"$f":"IF(ISERROR(VLOOKUP($A57,#REF!,8,0)),0,(VLOOKUP($A57,#REF!,8,0)))","v":0},0,1,0,0,0,0,{"$f":"IF(ISERROR(VLOOKUP($A57,#REF!,8,0)),0,(VLOOKUP($A57,#REF!,8,0)))","v":0},0,1,0,0,0,0,{"$f":"IF(ISERROR(VLOOKUP($A57,#REF!,8,0)),0,(VLOOKUP($A57,#REF!,8,0)))","v":0},0,1,0,0,0,0,{"$f":"IF(ISERROR(VLOOKUP($A57,#REF!,8,0)),0,(VLOOKUP($A57,#REF!,8,0)))","v":0},0,1,0,0,0,0,{"$f":"IF(ISERROR(VLOOKUP($A57,#REF!,8,0)),0,(VLOOKUP($A57,#REF!,8,0)))","v":0},0,1,0,0,0,0,{"$f":"IF(ISERROR(VLOOKUP($A57,#REF!,8,0)),0,(VLOOKUP($A57,#REF!,8,0)))","v":0},0,1,0,0,0,0,{"$f":"IF(ISERROR(VLOOKUP($A57,#REF!,8,0)),0,(VLOOKUP($A57,#REF!,8,0)))","v":0},0,1,0,0,0,0,{"$f":"IF(ISERROR(VLOOKUP($A57,#REF!,8,0)),0,(VLOOKUP($A57,#REF!,8,0)))","v":0},0,1,0,0,0,0,{"$f":"IF(ISERROR(VLOOKUP($A57,#REF!,8,0)),0,(VLOOKUP($A57,#REF!,8,0)))","v":0},0,1,0,0,0,0,{"$f":"IF(ISERROR(VLOOKUP($A57,#REF!,8,0)),0,(VLOOKUP($A57,#REF!,8,0)))","v":0},0,1,0,0,0,0,{"$f":"IF(ISERROR(VLOOKUP($A57,#REF!,8,0)),0,(VLOOKUP($A57,#REF!,8,0)))","v":0},0,1,0,0,0,0,{"$f":"IF(ISERROR(VLOOKUP($A57,#REF!,8,0)),0,(VLOOKUP($A57,#REF!,8,0)))","v":0},0,1,0,0,0,0,{"$f":"IF(ISERROR(VLOOKUP($A57,#REF!,8,0)),0,(VLOOKUP($A57,#REF!,8,0)))","v":0},0,1,0,0,0,0,{"$f":"IF(ISERROR(VLOOKUP($A57,#REF!,8,0)),0,(VLOOKUP($A57,#REF!,8,0)))","v":0},0,1,0,0,0,0,{"$f":"IF(ISERROR(VLOOKUP($A57,#REF!,8,0)),0,(VLOOKUP($A57,#REF!,8,0)))","v":0},0,1,0,0,0,0,{"$f":"IF(ISERROR(VLOOKUP($A57,#REF!,8,0)),0,(VLOOKUP($A57,#REF!,8,0)))","v":0},0,1,0,0,0,0,{"$f":"IF(ISERROR(VLOOKUP($A57,#REF!,8,0)),0,(VLOOKUP($A57,#REF!,8,0)))","v":0},0,1,0,0,0,0,{"$f":"IF(ISERROR(VLOOKUP($A57,#REF!,8,0)),0,(VLOOKUP($A57,#REF!,8,0)))","v":0},0,1,0,0,0,0,{"$f":"IF(ISERROR(VLOOKUP($A57,#REF!,8,0)),0,(VLOOKUP($A57,#REF!,8,0)))","v":0},0,1,0,0,0,0,{"$f":"IF(ISERROR(VLOOKUP($A57,#REF!,8,0)),0,(VLOOKUP($A57,#REF!,8,0)))","v":0},0,1,0,0,0,0,{"$f":"IF(ISERROR(VLOOKUP($A57,#REF!,8,0)),0,(VLOOKUP($A57,#REF!,8,0)))","v":0},0,1,0,0,0,0,{"$f":"IF(ISERROR(VLOOKUP($A57,#REF!,8,0)),0,(VLOOKUP($A57,#REF!,8,0)))","v":0},0,1,0,0,0,0,{"$f":"IF(ISERROR(VLOOKUP($A57,#REF!,8,0)),0,(VLOOKUP($A57,#REF!,8,0)))","v":0},0,1,0,0,0,0,{"$f":"IF(ISERROR(VLOOKUP($A57,#REF!,8,0)),0,(VLOOKUP($A57,#REF!,8,0)))","v":0},0,1,0,0,0,0,{"$f":"IF(ISERROR(VLOOKUP($A57,#REF!,8,0)),0,(VLOOKUP($A57,#REF!,8,0)))","v":0},0,1,0,0,0,0,{"$f":"IF(ISERROR(VLOOKUP($A57,#REF!,8,0)),0,(VLOOKUP($A57,#REF!,8,0)))","v":0},0,1,0,0,0,0,{"$f":"IF(ISERROR(VLOOKUP($A57,#REF!,8,0)),0,(VLOOKUP($A57,#REF!,8,0)))","v":0},0,1,0,0,0,0,{"$f":"IF(ISERROR(VLOOKUP($A57,#REF!,8,0)),0,(VLOOKUP($A57,#REF!,8,0)))","v":0},0,1,0,0,0,0,{"$f":"IF(ISERROR(VLOOKUP($A57,#REF!,8,0)),0,(VLOOKUP($A57,#REF!,8,0)))","v":0},0,1,0,0,0,0,{"$f":"IF(ISERROR(VLOOKUP($A57,#REF!,8,0)),0,(VLOOKUP($A57,#REF!,8,0)))","v":0},0,1,0,0,0,0,653.85277200000007,653.85277200000007,1,0]
["1.46","Fecho para fita bandit.","un",3,3,0,1.6393659999999999,4.9180979999999996,0,0,0,0,1.6393659999999999,0,4.9180979999999996,3,1,4.9180979999999996,0,0,4.92,null,0,1,0,0,0,0,null,0,1,0,0,0,0,null,0,1,0,0,0,0,null,0,1,0,0,0,0,null,0,1,0,0,0,0,{"$f":"IF(ISERROR(VLOOKUP(A58,'7ª MEDIÇÃO'!$A$5:$J$1048576,8,0)),0,(VLOOKUP(A58,'7ª MEDIÇÃO'!$A$5:$J$1048576,8,0)))","v":0},0,1,0,0,0,0,{"$f":"IF(ISERROR(VLOOKUP(A58,'8ª MEDIÇÃO'!$A$5:$J$1048576,8,0)),0,(VLOOKUP(A58,'8ª MEDIÇÃO'!$A$5:$J$1048576,8,0)))","v":0},0,1,0,0,0,0,{"$f":"IF(ISERROR(VLOOKUP(A58,'9ª MEDIÇÃO'!$A$5:$J$1048576,8,0)),0,(VLOOKUP(A58,'9ª MEDIÇÃO'!$A$5:$J$1048576,8,0)))","v":0},0,1,0,0,0,0,{"$f":"IF(ISERROR(VLOOKUP(A58,#REF!,8,0)),0,(VLOOKUP(A58,#REF!,8,0)))","v":0},0,1,0,0,0,0,{"$f":"IF(ISERROR(VLOOKUP($A58,#REF!,8,0)),0,(VLOOKUP($A58,#REF!,8,0)))","v":0},0,1,0,0,0,0,{"$f":"IF(ISERROR(VLOOKUP($A58,#REF!,8,0)),0,(VLOOKUP($A58,#REF!,8,0)))","v":0},0,1,0,0,0,0,{"$f":"IF(ISERROR(VLOOKUP($A58,#REF!,8,0)),0,(VLOOKUP($A58,#REF!,8,0)))","v":0},0,1,0,0,0,0,{"$f":"IF(ISERROR(VLOOKUP($A58,#REF!,8,0)),0,(VLOOKUP($A58,#REF!,8,0)))","v":0},0,1,0,0,0,0,{"$f":"IF(ISERROR(VLOOKUP($A58,#REF!,8,0)),0,(VLOOKUP($A58,#REF!,8,0)))","v":0},0,1,0,0,0,0,{"$f":"IF(ISERROR(VLOOKUP($A58,#REF!,8,0)),0,(VLOOKUP($A58,#REF!,8,0)))","v":0},0,1,0,0,0,0,{"$f":"IF(ISERROR(VLOOKUP($A58,#REF!,8,0)),0,(VLOOKUP($A58,#REF!,8,0)))","v":0},0,1,0,0,0,0,{"$f":"IF(ISERROR(VLOOKUP($A58,#REF!,8,0)),0,(VLOOKUP($A58,#REF!,8,0)))","v":0},0,1,0,0,0,0,{"$f":"IF(ISERROR(VLOOKUP($A58,#REF!,8,0)),0,(VLOOKUP($A58,#REF!,8,0)))","v":0},0,1,0,0,0,0,{"$f":"IF(ISERROR(VLOOKUP($A58,#REF!,8,0)),0,(VLOOKUP($A58,#REF!,8,0)))","v":0},0,1,0,0,0,0,{"$f":"IF(ISERROR(VLOOKUP($A58,#REF!,8,0)),0,(VLOOKUP($A58,#REF!,8,0)))","v":0},0,1,0,0,0,0,{"$f":"IF(ISERROR(VLOOKUP($A58,#REF!,8,0)),0,(VLOOKUP($A58,#REF!,8,0)))","v":0},0,1,0,0,0,0,{"$f":"IF(ISERROR(VLOOKUP($A58,#REF!,8,0)),0,(VLOOKUP($A58,#REF!,8,0)))","v":0},0,1,0,0,0,0,{"$f":"IF(ISERROR(VLOOKUP($A58,#REF!,8,0)),0,(VLOOKUP($A58,#REF!,8,0)))","v":0},0,1,0,0,0,0,{"$f":"IF(ISERROR(VLOOKUP($A58,#REF!,8,0)),0,(VLOOKUP($A58,#REF!,8,0)))","v":0},0,1,0,0,0,0,{"$f":"IF(ISERROR(VLOOKUP($A58,#REF!,8,0)),0,(VLOOKUP($A58,#REF!,8,0)))","v":0},0,1,0,0,0,0,{"$f":"IF(ISERROR(VLOOKUP($A58,#REF!,8,0)),0,(VLOOKUP($A58,#REF!,8,0)))","v":0},0,1,0,0,0,0,{"$f":"IF(ISERROR(VLOOKUP($A58,#REF!,8,0)),0,(VLOOKUP($A58,#REF!,8,0)))","v":0},0,1,0,0,0,0,{"$f":"IF(ISERROR(VLOOKUP($A58,#REF!,8,0)),0,(VLOOKUP($A58,#REF!,8,0)))","v":0},0,1,0,0,0,0,{"$f":"IF(ISERROR(VLOOKUP($A58,#REF!,8,0)),0,(VLOOKUP($A58,#REF!,8,0)))","v":0},0,1,0,0,0,0,{"$f":"IF(ISERROR(VLOOKUP($A58,#REF!,8,0)),0,(VLOOKUP($A58,#REF!,8,0)))","v":0},0,1,0,0,0,0,{"$f":"IF(ISERROR(VLOOKUP($A58,#REF!,8,0)),0,(VLOOKUP($A58,#REF!,8,0)))","v":0},0,1,0,0,0,0,{"$f":"IF(ISERROR(VLOOKUP($A58,#REF!,8,0)),0,(VLOOKUP($A58,#REF!,8,0)))","v":0},0,1,0,0,0,0,{"$f":"IF(ISERROR(VLOOKUP($A58,#REF!,8,0)),0,(VLOOKUP($A58,#REF!,8,0)))","v":0},0,1,0,0,0,0,{"$f":"IF(ISERROR(VLOOKUP($A58,#REF!,8,0)),0,(VLOOKUP($A58,#REF!,8,0)))","v":0},0,1,0,0,0,0,{"$f":"IF(ISERROR(VLOOKUP($A58,#REF!,8,0)),0,(VLOOKUP($A58,#REF!,8,0)))","v":0},0,1,0,0,0,0,{"$f":"IF(ISERROR(VLOOKUP($A58,#REF!,8,0)),0,(VLOOKUP($A58,#REF!,8,0)))","v":0},0,1,0,0,0,0,{"$f":"IF(ISERROR(VLOOKUP($A58,#REF!,8,0)),0,(VLOOKUP($A58,#REF!,8,0)))","v":0},0,1,0,0,0,0,{"$f":"IF(ISERROR(VLOOKUP($A58,#REF!,8,0)),0,(VLOOKUP($A58,#REF!,8,0)))","v":0},0,1,0,0,0,0,{"$f":"IF(ISERROR(VLOOKUP($A58,#REF!,8,0)),0,(VLOOKUP($A58,#REF!,8,0)))","v":0},0,1,0,0,0,0,{"$f":"IF(ISERROR(VLOOKUP($A58,#REF!,8,0)),0,(VLOOKUP($A58,#REF!,8,0)))","v":0},0,1,0,0,0,0,{"$f":"IF(ISERROR(VLOOKUP($A58,#REF!,8,0)),0,(VLOOKUP($A58,#REF!,8,0)))","v":0},0,1,0,0,0,0,{"$f":"IF(ISERROR(VLOOKUP($A58,#REF!,8,0)),0,(VLOOKUP($A58,#REF!,8,0)))","v":0},0,1,0,0,0,0,{"$f":"IF(ISERROR(VLOOKUP($A58,#REF!,8,0)),0,(VLOOKUP($A58,#REF!,8,0)))","v":0},0,1,0,0,0,0,{"$f":"IF(ISERROR(VLOOKUP($A58,#REF!,8,0)),0,(VLOOKUP($A58,#REF!,8,0)))","v":0},0,1,0,0,0,0,{"$f":"IF(ISERROR(VLOOKUP($A58,#REF!,8,0)),0,(VLOOKUP($A58,#REF!,8,0)))","v":0},0,1,0,0,0,0,{"$f":"IF(ISERROR(VLOOKUP($A58,#REF!,8,0)),0,(VLOOKUP($A58,#REF!,8,0)))","v":0},0,1,0,0,0,0,{"$f":"IF(ISERROR(VLOOKUP($A58,#REF!,8,0)),0,(VLOOKUP($A58,#REF!,8,0)))","v":0},0,1,0,0,0,0,{"$f":"IF(ISERROR(VLOOKUP($A58,#REF!,8,0)),0,(VLOOKUP($A58,#REF!,8,0)))","v":0},0,1,0,0,0,0,{"$f":"IF(ISERROR(VLOOKUP($A58,#REF!,8,0)),0,(VLOOKUP($A58,#REF!,8,0)))","v":0},0,1,0,0,0,0,{"$f":"IF(ISERROR(VLOOKUP($A58,#REF!,8,0)),0,(VLOOKUP($A58,#REF!,8,0)))","v":0},0,1,0,0,0,0,{"$f":"IF(ISERROR(VLOOKUP($A58,#REF!,8,0)),0,(VLOOKUP($A58,#REF!,8,0)))","v":0},0,1,0,0,0,0,{"$f":"IF(ISERROR(VLOOKUP($A58,#REF!,8,0)),0,(VLOOKUP($A58,#REF!,8,0)))","v":0},0,1,0,0,0,0,{"$f":"IF(ISERROR(VLOOKUP($A58,#REF!,8,0)),0,(VLOOKUP($A58,#REF!,8,0)))","v":0},0,1,0,0,0,0,{"$f":"IF(ISERROR(VLOOKUP($A58,#REF!,8,0)),0,(VLOOKUP($A58,#REF!,8,0)))","v":0},0,1,0,0,0,0,4.9180979999999996,4.9180979999999996,1,0]
["1.47","Fita de aço tipo bandit","un",6,6,0,3.0900280000000002,18.540168000000001,0,0,0,0,3.0900280000000002,0,18.540168000000001,6,1,18.540168000000001,0,0,18.54,null,0,1,0,0,0,0,null,0,1,0,0,0,0,null,0,1,0,0,0,0,null,0,1,0,0,0,0,null,0,1,0,0,0,0,{"$f":"IF(ISERROR(VLOOKUP(A59,'7ª MEDIÇÃO'!$A$5:$J$1048576,8,0)),0,(VLOOKUP(A59,'7ª MEDIÇÃO'!$A$5:$J$1048576,8,0)))","v":0},0,1,0,0,0,0,{"$f":"IF(ISERROR(VLOOKUP(A59,'8ª MEDIÇÃO'!$A$5:$J$1048576,8,0)),0,(VLOOKUP(A59,'8ª MEDIÇÃO'!$A$5:$J$1048576,8,0)))","v":0},0,1,0,0,0,0,{"$f":"IF(ISERROR(VLOOKUP(A59,'9ª MEDIÇÃO'!$A$5:$J$1048576,8,0)),0,(VLOOKUP(A59,'9ª MEDIÇÃO'!$A$5:$J$1048576,8,0)))","v":0},0,1,0,0,0,0,{"$f":"IF(ISERROR(VLOOKUP(A59,#REF!,8,0)),0,(VLOOKUP(A59,#REF!,8,0)))","v":0},0,1,0,0,0,0,{"$f":"IF(ISERROR(VLOOKUP($A59,#REF!,8,0)),0,(VLOOKUP($A59,#REF!,8,0)))","v":0},0,1,0,0,0,0,{"$f":"IF(ISERROR(VLOOKUP($A59,#REF!,8,0)),0,(VLOOKUP($A59,#REF!,8,0)))","v":0},0,1,0,0,0,0,{"$f":"IF(ISERROR(VLOOKUP($A59,#REF!,8,0)),0,(VLOOKUP($A59,#REF!,8,0)))","v":0},0,1,0,0,0,0,{"$f":"IF(ISERROR(VLOOKUP($A59,#REF!,8,0)),0,(VLOOKUP($A59,#REF!,8,0)))","v":0},0,1,0,0,0,0,{"$f":"IF(ISERROR(VLOOKUP($A59,#REF!,8,0)),0,(VLOOKUP($A59,#REF!,8,0)))","v":0},0,1,0,0,0,0,{"$f":"IF(ISERROR(VLOOKUP($A59,#REF!,8,0)),0,(VLOOKUP($A59,#REF!,8,0)))","v":0},0,1,0,0,0,0,{"$f":"IF(ISERROR(VLOOKUP($A59,#REF!,8,0)),0,(VLOOKUP($A59,#REF!,8,0)))","v":0},0,1,0,0,0,0,{"$f":"IF(ISERROR(VLOOKUP($A59,#REF!,8,0)),0,(VLOOKUP($A59,#REF!,8,0)))","v":0},0,1,0,0,0,0,{"$f":"IF(ISERROR(VLOOKUP($A59,#REF!,8,0)),0,(VLOOKUP($A59,#REF!,8,0)))","v":0},0,1,0,0,0,0,{"$f":"IF(ISERROR(VLOOKUP($A59,#REF!,8,0)),0,(VLOOKUP($A59,#REF!,8,0)))","v":0},0,1,0,0,0,0,{"$f":"IF(ISERROR(VLOOKUP($A59,#REF!,8,0)),0,(VLOOKUP($A59,#REF!,8,0)))","v":0},0,1,0,0,0,0,{"$f":"IF(ISERROR(VLOOKUP($A59,#REF!,8,0)),0,(VLOOKUP($A59,#REF!,8,0)))","v":0},0,1,0,0,0,0,{"$f":"IF(ISERROR(VLOOKUP($A59,#REF!,8,0)),0,(VLOOKUP($A59,#REF!,8,0)))","v":0},0,1,0,0,0,0,{"$f":"IF(ISERROR(VLOOKUP($A59,#REF!,8,0)),0,(VLOOKUP($A59,#REF!,8,0)))","v":0},0,1,0,0,0,0,{"$f":"IF(ISERROR(VLOOKUP($A59,#REF!,8,0)),0,(VLOOKUP($A59,#REF!,8,0)))","v":0},0,1,0,0,0,0,{"$f":"IF(ISERROR(VLOOKUP($A59,#REF!,8,0)),0,(VLOOKUP($A59,#REF!,8,0)))","v":0},0,1,0,0,0,0,{"$f":"IF(ISERROR(VLOOKUP($A59,#REF!,8,0)),0,(VLOOKUP($A59,#REF!,8,0)))","v":0},0,1,0,0,0,0,{"$f":"IF(ISERROR(VLOOKUP($A59,#REF!,8,0)),0,(VLOOKUP($A59,#REF!,8,0)))","v":0},0,1,0,0,0,0,{"$f":"IF(ISERROR(VLOOKUP($A59,#REF!,8,0)),0,(VLOOKUP($A59,#REF!,8,0)))","v":0},0,1,0,0,0,0,{"$f":"IF(ISERROR(VLOOKUP($A59,#REF!,8,0)),0,(VLOOKUP($A59,#REF!,8,0)))","v":0},0,1,0,0,0,0,{"$f":"IF(ISERROR(VLOOKUP($A59,#REF!,8,0)),0,(VLOOKUP($A59,#REF!,8,0)))","v":0},0,1,0,0,0,0,{"$f":"IF(ISERROR(VLOOKUP($A59,#REF!,8,0)),0,(VLOOKUP($A59,#REF!,8,0)))","v":0},0,1,0,0,0,0,{"$f":"IF(ISERROR(VLOOKUP($A59,#REF!,8,0)),0,(VLOOKUP($A59,#REF!,8,0)))","v":0},0,1,0,0,0,0,{"$f":"IF(ISERROR(VLOOKUP($A59,#REF!,8,0)),0,(VLOOKUP($A59,#REF!,8,0)))","v":0},0,1,0,0,0,0,{"$f":"IF(ISERROR(VLOOKUP($A59,#REF!,8,0)),0,(VLOOKUP($A59,#REF!,8,0)))","v":0},0,1,0,0,0,0,{"$f":"IF(ISERROR(VLOOKUP($A59,#REF!,8,0)),0,(VLOOKUP($A59,#REF!,8,0)))","v":0},0,1,0,0,0,0,{"$f":"IF(ISERROR(VLOOKUP($A59,#REF!,8,0)),0,(VLOOKUP($A59,#REF!,8,0)))","v":0},0,1,0,0,0,0,{"$f":"IF(ISERROR(VLOOKUP($A59,#REF!,8,0)),0,(VLOOKUP($A59,#REF!,8,0)))","v":0},0,1,0,0,0,0,{"$f":"IF(ISERROR(VLOOKUP($A59,#REF!,8,0)),0,(VLOOKUP($A59,#REF!,8,0)))","v":0},0,1,0,0,0,0,{"$f":"IF(ISERROR(VLOOKUP($A59,#REF!,8,0)),0,(VLOOKUP($A59,#REF!,8,0)))","v":0},0,1,0,0,0,0,{"$f":"IF(ISERROR(VLOOKUP($A59,#REF!,8,0)),0,(VLOOKUP($A59,#REF!,8,0)))","v":0},0,1,0,0,0,0,{"$f":"IF(ISERROR(VLOOKUP($A59,#REF!,8,0)),0,(VLOOKUP($A59,#REF!,8,0)))","v":0},0,1,0,0,0,0,{"$f":"IF(ISERROR(VLOOKUP($A59,#REF!,8,0)),0,(VLOOKUP($A59,#REF!,8,0)))","v":0},0,1,0,0,0,0,{"$f":"IF(ISERROR(VLOOKUP($A59,#REF!,8,0)),0,(VLOOKUP($A59,#REF!,8,0)))","v":0},0,1,0,0,0,0,{"$f":"IF(ISERROR(VLOOKUP($A59,#REF!,8,0)),0,(VLOOKUP($A59,#REF!,8,0)))","v":0},0,1,0,0,0,0,{"$f":"IF(ISERROR(VLOOKUP($A59,#REF!,8,0)),0,(VLOOKUP($A59,#REF!,8,0)))","v":0},0,1,0,0,0,0,{"$f":"IF(ISERROR(VLOOKUP($A59,#REF!,8,0)),0,(VLOOKUP($A59,#REF!,8,0)))","v":0},0,1,0,0,0,0,{"$f":"IF(ISERROR(VLOOKUP($A59,#REF!,8,0)),0,(VLOOKUP($A59,#REF!,8,0)))","v":0},0,1,0,0,0,0,{"$f":"IF(ISERROR(VLOOKUP($A59,#REF!,8,0)),0,(VLOOKUP($A59,#REF!,8,0)))","v":0},0,1,0,0,0,0,{"$f":"IF(ISERROR(VLOOKUP($A59,#REF!,8,0)),0,(VLOOKUP($A59,#REF!,8,0)))","v":0},0,1,0,0,0,0,{"$f":"IF(ISERROR(VLOOKUP($A59,#REF!,8,0)),0,(VLOOKUP($A59,#REF!,8,0)))","v":0},0,1,0,0,0,0,{"$f":"IF(ISERROR(VLOOKUP($A59,#REF!,8,0)),0,(VLOOKUP($A59,#REF!,8,0)))","v":0},0,1,0,0,0,0,{"$f":"IF(ISERROR(VLOOKUP($A59,#REF!,8,0)),0,(VLOOKUP($A59,#REF!,8,0)))","v":0},0,1,0,0,0,0,{"$f":"IF(ISERROR(VLOOKUP($A59,#REF!,8,0)),0,(VLOOKUP($A59,#REF!,8,0)))","v":0},0,1,0,0,0,0,{"$f":"IF(ISERROR(VLOOKUP($A59,#REF!,8,0)),0,(VLOOKUP($A59,#REF!,8,0)))","v":0},0,1,0,0,0,0,18.540168000000001,18.540168000000001,1,0]
["1.48","Arruela quadrada furo 5/8\".","un",40,40,0,0.91993200000000008,36.797280000000001,0.21148,8.4591999999999992,0,0,1.1314120000000001,0,45.256480000000003,40,1,36.797280000000001,8.4591999999999992,0,45.26,null,0,1,0,0,0,0,null,0,1,0,0,0,0,null,0,1,0,0,0,0,null,0,1,0,0,0,0,null,0,1,0,0,0,0,{"$f":"IF(ISERROR(VLOOKUP(A60,'7ª MEDIÇÃO'!$A$5:$J$1048576,8,0)),0,(VLOOKUP(A60,'7ª MEDIÇÃO'!$A$5:$J$1048576,8,0)))","v":0},0,1,0,0,0,0,{"$f":"IF(ISERROR(VLOOKUP(A60,'8ª MEDIÇÃO'!$A$5:$J$1048576,8,0)),0,(VLOOKUP(A60,'8ª MEDIÇÃO'!$A$5:$J$1048576,8,0)))","v":0},0,1,0,0,0,0,{"$f":"IF(ISERROR(VLOOKUP(A60,'9ª MEDIÇÃO'!$A$5:$J$1048576,8,0)),0,(VLOOKUP(A60,'9ª MEDIÇÃO'!$A$5:$J$1048576,8,0)))","v":0},0,1,0,0,0,0,{"$f":"IF(ISERROR(VLOOKUP(A60,#REF!,8,0)),0,(VLOOKUP(A60,#REF!,8,0)))","v":0},0,1,0,0,0,0,{"$f":"IF(ISERROR(VLOOKUP($A60,#REF!,8,0)),0,(VLOOKUP($A60,#REF!,8,0)))","v":0},0,1,0,0,0,0,{"$f":"IF(ISERROR(VLOOKUP($A60,#REF!,8,0)),0,(VLOOKUP($A60,#REF!,8,0)))","v":0},0,1,0,0,0,0,{"$f":"IF(ISERROR(VLOOKUP($A60,#REF!,8,0)),0,(VLOOKUP($A60,#REF!,8,0)))","v":0},0,1,0,0,0,0,{"$f":"IF(ISERROR(VLOOKUP($A60,#REF!,8,0)),0,(VLOOKUP($A60,#REF!,8,0)))","v":0},0,1,0,0,0,0,{"$f":"IF(ISERROR(VLOOKUP($A60,#REF!,8,0)),0,(VLOOKUP($A60,#REF!,8,0)))","v":0},0,1,0,0,0,0,{"$f":"IF(ISERROR(VLOOKUP($A60,#REF!,8,0)),0,(VLOOKUP($A60,#REF!,8,0)))","v":0},0,1,0,0,0,0,{"$f":"IF(ISERROR(VLOOKUP($A60,#REF!,8,0)),0,(VLOOKUP($A60,#REF!,8,0)))","v":0},0,1,0,0,0,0,{"$f":"IF(ISERROR(VLOOKUP($A60,#REF!,8,0)),0,(VLOOKUP($A60,#REF!,8,0)))","v":0},0,1,0,0,0,0,{"$f":"IF(ISERROR(VLOOKUP($A60,#REF!,8,0)),0,(VLOOKUP($A60,#REF!,8,0)))","v":0},0,1,0,0,0,0,{"$f":"IF(ISERROR(VLOOKUP($A60,#REF!,8,0)),0,(VLOOKUP($A60,#REF!,8,0)))","v":0},0,1,0,0,0,0,{"$f":"IF(ISERROR(VLOOKUP($A60,#REF!,8,0)),0,(VLOOKUP($A60,#REF!,8,0)))","v":0},0,1,0,0,0,0,{"$f":"IF(ISERROR(VLOOKUP($A60,#REF!,8,0)),0,(VLOOKUP($A60,#REF!,8,0)))","v":0},0,1,0,0,0,0,{"$f":"IF(ISERROR(VLOOKUP($A60,#REF!,8,0)),0,(VLOOKUP($A60,#REF!,8,0)))","v":0},0,1,0,0,0,0,{"$f":"IF(ISERROR(VLOOKUP($A60,#REF!,8,0)),0,(VLOOKUP($A60,#REF!,8,0)))","v":0},0,1,0,0,0,0,{"$f":"IF(ISERROR(VLOOKUP($A60,#REF!,8,0)),0,(VLOOKUP($A60,#REF!,8,0)))","v":0},0,1,0,0,0,0,{"$f":"IF(ISERROR(VLOOKUP($A60,#REF!,8,0)),0,(VLOOKUP($A60,#REF!,8,0)))","v":0},0,1,0,0,0,0,{"$f":"IF(ISERROR(VLOOKUP($A60,#REF!,8,0)),0,(VLOOKUP($A60,#REF!,8,0)))","v":0},0,1,0,0,0,0,{"$f":"IF(ISERROR(VLOOKUP($A60,#REF!,8,0)),0,(VLOOKUP($A60,#REF!,8,0)))","v":0},0,1,0,0,0,0,{"$f":"IF(ISERROR(VLOOKUP($A60,#REF!,8,0)),0,(VLOOKUP($A60,#REF!,8,0)))","v":0},0,1,0,0,0,0,{"$f":"IF(ISERROR(VLOOKUP($A60,#REF!,8,0)),0,(VLOOKUP($A60,#REF!,8,0)))","v":0},0,1,0,0,0,0,{"$f":"IF(ISERROR(VLOOKUP($A60,#REF!,8,0)),0,(VLOOKUP($A60,#REF!,8,0)))","v":0},0,1,0,0,0,0,{"$f":"IF(ISERROR(VLOOKUP($A60,#REF!,8,0)),0,(VLOOKUP($A60,#REF!,8,0)))","v":0},0,1,0,0,0,0,{"$f":"IF(ISERROR(VLOOKUP($A60,#REF!,8,0)),0,(VLOOKUP($A60,#REF!,8,0)))","v":0},0,1,0,0,0,0,{"$f":"IF(ISERROR(VLOOKUP($A60,#REF!,8,0)),0,(VLOOKUP($A60,#REF!,8,0)))","v":0},0,1,0,0,0,0,{"$f":"IF(ISERROR(VLOOKUP($A60,#REF!,8,0)),0,(VLOOKUP($A60,#REF!,8,0)))","v":0},0,1,0,0,0,0,{"$f":"IF(ISERROR(VLOOKUP($A60,#REF!,8,0)),0,(VLOOKUP($A60,#REF!,8,0)))","v":0},0,1,0,0,0,0,{"$f":"IF(ISERROR(VLOOKUP($A60,#REF!,8,0)),0,(VLOOKUP($A60,#REF!,8,0)))","v":0},0,1,0,0,0,0,{"$f":"IF(ISERROR(VLOOKUP($A60,#REF!,8,0)),0,(VLOOKUP($A60,#REF!,8,0)))","v":0},0,1,0,0,0,0,{"$f":"IF(ISERROR(VLOOKUP($A60,#REF!,8,0)),0,(VLOOKUP($A60,#REF!,8,0)))","v":0},0,1,0,0,0,0,{"$f":"IF(ISERROR(VLOOKUP($A60,#REF!,8,0)),0,(VLOOKUP($A60,#REF!,8,0)))","v":0},0,1,0,0,0,0,{"$f":"IF(ISERROR(VLOOKUP($A60,#REF!,8,0)),0,(VLOOKUP($A60,#REF!,8,0)))","v":0},0,1,0,0,0,0,{"$f":"IF(ISERROR(VLOOKUP($A60,#REF!,8,0)),0,(VLOOKUP($A60,#REF!,8,0)))","v":0},0,1,0,0,0,0,{"$f":"IF(ISERROR(VLOOKUP($A60,#REF!,8,0)),0,(VLOOKUP($A60,#REF!,8,0)))","v":0},0,1,0,0,0,0,{"$f":"IF(ISERROR(VLOOKUP($A60,#REF!,8,0)),0,(VLOOKUP($A60,#REF!,8,0)))","v":0},0,1,0,0,0,0,{"$f":"IF(ISERROR(VLOOKUP($A60,#REF!,8,0)),0,(VLOOKUP($A60,#REF!,8,0)))","v":0},0,1,0,0,0,0,{"$f":"IF(ISERROR(VLOOKUP($A60,#REF!,8,0)),0,(VLOOKUP($A60,#REF!,8,0)))","v":0},0,1,0,0,0,0,{"$f":"IF(ISERROR(VLOOKUP($A60,#REF!,8,0)),0,(VLOOKUP($A60,#REF!,8,0)))","v":0},0,1,0,0,0,0,{"$f":"IF(ISERROR(VLOOKUP($A60,#REF!,8,0)),0,(VLOOKUP($A60,#REF!,8,0)))","v":0},0,1,0,0,0,0,{"$f":"IF(ISERROR(VLOOKUP($A60,#REF!,8,0)),0,(VLOOKUP($A60,#REF!,8,0)))","v":0},0,1,0,0,0,0,{"$f":"IF(ISERROR(VLOOKUP($A60,#REF!,8,0)),0,(VLOOKUP($A60,#REF!,8,0)))","v":0},0,1,0,0,0,0,{"$f":"IF(ISERROR(VLOOKUP($A60,#REF!,8,0)),0,(VLOOKUP($A60,#REF!,8,0)))","v":0},0,1,0,0,0,0,{"$f":"IF(ISERROR(VLOOKUP($A60,#REF!,8,0)),0,(VLOOKUP($A60,#REF!,8,0)))","v":0},0,1,0,0,0,0,{"$f":"IF(ISERROR(VLOOKUP($A60,#REF!,8,0)),0,(VLOOKUP($A60,#REF!,8,0)))","v":0},0,1,0,0,0,0,{"$f":"IF(ISERROR(VLOOKUP($A60,#REF!,8,0)),0,(VLOOKUP($A60,#REF!,8,0)))","v":0},0,1,0,0,0,0,{"$f":"IF(ISERROR(VLOOKUP($A60,#REF!,8,0)),0,(VLOOKUP($A60,#REF!,8,0)))","v":0},0,1,0,0,0,0,45.256480000000003,45.256480000000003,1,0]
["1.49","Fornecimento e instalação de Parafuso de rosca simples galvanizado a fogo 5/16\" x 16\" com porca.","un",10,10,0,14.070242,140.70242000000002,9.9893199999999993,99.893199999999993,0,0,24.059562,0,240.59562,10,1,140.70242000000002,99.893199999999993,0,240.6,null,0,1,0,0,0,0,null,0,1,0,0,0,0,null,0,1,0,0,0,0,null,0,1,0,0,0,0,null,0,1,0,0,0,0,{"$f":"IF(ISERROR(VLOOKUP(A61,'7ª MEDIÇÃO'!$A$5:$J$1048576,8,0)),0,(VLOOKUP(A61,'7ª MEDIÇÃO'!$A$5:$J$1048576,8,0)))","v":0},0,1,0,0,0,0,{"$f":"IF(ISERROR(VLOOKUP(A61,'8ª MEDIÇÃO'!$A$5:$J$1048576,8,0)),0,(VLOOKUP(A61,'8ª MEDIÇÃO'!$A$5:$J$1048576,8,0)))","v":0},0,1,0,0,0,0,{"$f":"IF(ISERROR(VLOOKUP(A61,'9ª MEDIÇÃO'!$A$5:$J$1048576,8,0)),0,(VLOOKUP(A61,'9ª MEDIÇÃO'!$A$5:$J$1048576,8,0)))","v":0},0,1,0,0,0,0,{"$f":"IF(ISERROR(VLOOKUP(A61,#REF!,8,0)),0,(VLOOKUP(A61,#REF!,8,0)))","v":0},0,1,0,0,0,0,{"$f":"IF(ISERROR(VLOOKUP($A61,#REF!,8,0)),0,(VLOOKUP($A61,#REF!,8,0)))","v":0},0,1,0,0,0,0,{"$f":"IF(ISERROR(VLOOKUP($A61,#REF!,8,0)),0,(VLOOKUP($A61,#REF!,8,0)))","v":0},0,1,0,0,0,0,{"$f":"IF(ISERROR(VLOOKUP($A61,#REF!,8,0)),0,(VLOOKUP($A61,#REF!,8,0)))","v":0},0,1,0,0,0,0,{"$f":"IF(ISERROR(VLOOKUP($A61,#REF!,8,0)),0,(VLOOKUP($A61,#REF!,8,0)))","v":0},0,1,0,0,0,0,{"$f":"IF(ISERROR(VLOOKUP($A61,#REF!,8,0)),0,(VLOOKUP($A61,#REF!,8,0)))","v":0},0,1,0,0,0,0,{"$f":"IF(ISERROR(VLOOKUP($A61,#REF!,8,0)),0,(VLOOKUP($A61,#REF!,8,0)))","v":0},0,1,0,0,0,0,{"$f":"IF(ISERROR(VLOOKUP($A61,#REF!,8,0)),0,(VLOOKUP($A61,#REF!,8,0)))","v":0},0,1,0,0,0,0,{"$f":"IF(ISERROR(VLOOKUP($A61,#REF!,8,0)),0,(VLOOKUP($A61,#REF!,8,0)))","v":0},0,1,0,0,0,0,{"$f":"IF(ISERROR(VLOOKUP($A61,#REF!,8,0)),0,(VLOOKUP($A61,#REF!,8,0)))","v":0},0,1,0,0,0,0,{"$f":"IF(ISERROR(VLOOKUP($A61,#REF!,8,0)),0,(VLOOKUP($A61,#REF!,8,0)))","v":0},0,1,0,0,0,0,{"$f":"IF(ISERROR(VLOOKUP($A61,#REF!,8,0)),0,(VLOOKUP($A61,#REF!,8,0)))","v":0},0,1,0,0,0,0,{"$f":"IF(ISERROR(VLOOKUP($A61,#REF!,8,0)),0,(VLOOKUP($A61,#REF!,8,0)))","v":0},0,1,0,0,0,0,{"$f":"IF(ISERROR(VLOOKUP($A61,#REF!,8,0)),0,(VLOOKUP($A61,#REF!,8,0)))","v":0},0,1,0,0,0,0,{"$f":"IF(ISERROR(VLOOKUP($A61,#REF!,8,0)),0,(VLOOKUP($A61,#REF!,8,0)))","v":0},0,1,0,0,0,0,{"$f":"IF(ISERROR(VLOOKUP($A61,#REF!,8,0)),0,(VLOOKUP($A61,#REF!,8,0)))","v":0},0,1,0,0,0,0,{"$f":"IF(ISERROR(VLOOKUP($A61,#REF!,8,0)),0,(VLOOKUP($A61,#REF!,8,0)))","v":0},0,1,0,0,0,0,{"$f":"IF(ISERROR(VLOOKUP($A61,#REF!,8,0)),0,(VLOOKUP($A61,#REF!,8,0)))","v":0},0,1,0,0,0,0,{"$f":"IF(ISERROR(VLOOKUP($A61,#REF!,8,0)),0,(VLOOKUP($A61,#REF!,8,0)))","v":0},0,1,0,0,0,0,{"$f":"IF(ISERROR(VLOOKUP($A61,#REF!,8,0)),0,(VLOOKUP($A61,#REF!,8,0)))","v":0},0,1,0,0,0,0,{"$f":"IF(ISERROR(VLOOKUP($A61,#REF!,8,0)),0,(VLOOKUP($A61,#REF!,8,0)))","v":0},0,1,0,0,0,0,{"$f":"IF(ISERROR(VLOOKUP($A61,#REF!,8,0)),0,(VLOOKUP($A61,#REF!,8,0)))","v":0},0,1,0,0,0,0,{"$f":"IF(ISERROR(VLOOKUP($A61,#REF!,8,0)),0,(VLOOKUP($A61,#REF!,8,0)))","v":0},0,1,0,0,0,0,{"$f":"IF(ISERROR(VLOOKUP($A61,#REF!,8,0)),0,(VLOOKUP($A61,#REF!,8,0)))","v":0},0,1,0,0,0,0,{"$f":"IF(ISERROR(VLOOKUP($A61,#REF!,8,0)),0,(VLOOKUP($A61,#REF!,8,0)))","v":0},0,1,0,0,0,0,{"$f":"IF(ISERROR(VLOOKUP($A61,#REF!,8,0)),0,(VLOOKUP($A61,#REF!,8,0)))","v":0},0,1,0,0,0,0,{"$f":"IF(ISERROR(VLOOKUP($A61,#REF!,8,0)),0,(VLOOKUP($A61,#REF!,8,0)))","v":0},0,1,0,0,0,0,{"$f":"IF(ISERROR(VLOOKUP($A61,#REF!,8,0)),0,(VLOOKUP($A61,#REF!,8,0)))","v":0},0,1,0,0,0,0,{"$f":"IF(ISERROR(VLOOKUP($A61,#REF!,8,0)),0,(VLOOKUP($A61,#REF!,8,0)))","v":0},0,1,0,0,0,0,{"$f":"IF(ISERROR(VLOOKUP($A61,#REF!,8,0)),0,(VLOOKUP($A61,#REF!,8,0)))","v":0},0,1,0,0,0,0,{"$f":"IF(ISERROR(VLOOKUP($A61,#REF!,8,0)),0,(VLOOKUP($A61,#REF!,8,0)))","v":0},0,1,0,0,0,0,{"$f":"IF(ISERROR(VLOOKUP($A61,#REF!,8,0)),0,(VLOOKUP($A61,#REF!,8,0)))","v":0},0,1,0,0,0,0,{"$f":"IF(ISERROR(VLOOKUP($A61,#REF!,8,0)),0,(VLOOKUP($A61,#REF!,8,0)))","v":0},0,1,0,0,0,0,{"$f":"IF(ISERROR(VLOOKUP($A61,#REF!,8,0)),0,(VLOOKUP($A61,#REF!,8,0)))","v":0},0,1,0,0,0,0,{"$f":"IF(ISERROR(VLOOKUP($A61,#REF!,8,0)),0,(VLOOKUP($A61,#REF!,8,0)))","v":0},0,1,0,0,0,0,{"$f":"IF(ISERROR(VLOOKUP($A61,#REF!,8,0)),0,(VLOOKUP($A61,#REF!,8,0)))","v":0},0,1,0,0,0,0,{"$f":"IF(ISERROR(VLOOKUP($A61,#REF!,8,0)),0,(VLOOKUP($A61,#REF!,8,0)))","v":0},0,1,0,0,0,0,{"$f":"IF(ISERROR(VLOOKUP($A61,#REF!,8,0)),0,(VLOOKUP($A61,#REF!,8,0)))","v":0},0,1,0,0,0,0,{"$f":"IF(ISERROR(VLOOKUP($A61,#REF!,8,0)),0,(VLOOKUP($A61,#REF!,8,0)))","v":0},0,1,0,0,0,0,{"$f":"IF(ISERROR(VLOOKUP($A61,#REF!,8,0)),0,(VLOOKUP($A61,#REF!,8,0)))","v":0},0,1,0,0,0,0,{"$f":"IF(ISERROR(VLOOKUP($A61,#REF!,8,0)),0,(VLOOKUP($A61,#REF!,8,0)))","v":0},0,1,0,0,0,0,{"$f":"IF(ISERROR(VLOOKUP($A61,#REF!,8,0)),0,(VLOOKUP($A61,#REF!,8,0)))","v":0},0,1,0,0,0,0,{"$f":"IF(ISERROR(VLOOKUP($A61,#REF!,8,0)),0,(VLOOKUP($A61,#REF!,8,0)))","v":0},0,1,0,0,0,0,{"$f":"IF(ISERROR(VLOOKUP($A61,#REF!,8,0)),0,(VLOOKUP($A61,#REF!,8,0)))","v":0},0,1,0,0,0,0,{"$f":"IF(ISERROR(VLOOKUP($A61,#REF!,8,0)),0,(VLOOKUP($A61,#REF!,8,0)))","v":0},0,1,0,0,0,0,{"$f":"IF(ISERROR(VLOOKUP($A61,#REF!,8,0)),0,(VLOOKUP($A61,#REF!,8,0)))","v":0},0,1,0,0,0,0,240.59562,240.59562,1,0]
["1.50","Fornecimento e instalação de Parafuso de rosca dupla galvanizado a fogo 5/16\" x 18\" com porca.","un",2,2,0,17.773558000000001,35.547116000000003,9.9893199999999993,19.978639999999999,0,0,27.762878000000001,0,55.525756000000001,2,1,35.547116000000003,19.978639999999999,0,55.53,null,0,1,0,0,0,0,null,0,1,0,0,0,0,null,0,1,0,0,0,0,null,0,1,0,0,0,0,null,0,1,0,0,0,0,{"$f":"IF(ISERROR(VLOOKUP(A62,'7ª MEDIÇÃO'!$A$5:$J$1048576,8,0)),0,(VLOOKUP(A62,'7ª MEDIÇÃO'!$A$5:$J$1048576,8,0)))","v":0},0,1,0,0,0,0,{"$f":"IF(ISERROR(VLOOKUP(A62,'8ª MEDIÇÃO'!$A$5:$J$1048576,8,0)),0,(VLOOKUP(A62,'8ª MEDIÇÃO'!$A$5:$J$1048576,8,0)))","v":0},0,1,0,0,0,0,{"$f":"IF(ISERROR(VLOOKUP(A62,'9ª MEDIÇÃO'!$A$5:$J$1048576,8,0)),0,(VLOOKUP(A62,'9ª MEDIÇÃO'!$A$5:$J$1048576,8,0)))","v":0},0,1,0,0,0,0,{"$f":"IF(ISERROR(VLOOKUP(A62,#REF!,8,0)),0,(VLOOKUP(A62,#REF!,8,0)))","v":0},0,1,0,0,0,0,{"$f":"IF(ISERROR(VLOOKUP($A62,#REF!,8,0)),0,(VLOOKUP($A62,#REF!,8,0)))","v":0},0,1,0,0,0,0,{"$f":"IF(ISERROR(VLOOKUP($A62,#REF!,8,0)),0,(VLOOKUP($A62,#REF!,8,0)))","v":0},0,1,0,0,0,0,{"$f":"IF(ISERROR(VLOOKUP($A62,#REF!,8,0)),0,(VLOOKUP($A62,#REF!,8,0)))","v":0},0,1,0,0,0,0,{"$f":"IF(ISERROR(VLOOKUP($A62,#REF!,8,0)),0,(VLOOKUP($A62,#REF!,8,0)))","v":0},0,1,0,0,0,0,{"$f":"IF(ISERROR(VLOOKUP($A62,#REF!,8,0)),0,(VLOOKUP($A62,#REF!,8,0)))","v":0},0,1,0,0,0,0,{"$f":"IF(ISERROR(VLOOKUP($A62,#REF!,8,0)),0,(VLOOKUP($A62,#REF!,8,0)))","v":0},0,1,0,0,0,0,{"$f":"IF(ISERROR(VLOOKUP($A62,#REF!,8,0)),0,(VLOOKUP($A62,#REF!,8,0)))","v":0},0,1,0,0,0,0,{"$f":"IF(ISERROR(VLOOKUP($A62,#REF!,8,0)),0,(VLOOKUP($A62,#REF!,8,0)))","v":0},0,1,0,0,0,0,{"$f":"IF(ISERROR(VLOOKUP($A62,#REF!,8,0)),0,(VLOOKUP($A62,#REF!,8,0)))","v":0},0,1,0,0,0,0,{"$f":"IF(ISERROR(VLOOKUP($A62,#REF!,8,0)),0,(VLOOKUP($A62,#REF!,8,0)))","v":0},0,1,0,0,0,0,{"$f":"IF(ISERROR(VLOOKUP($A62,#REF!,8,0)),0,(VLOOKUP($A62,#REF!,8,0)))","v":0},0,1,0,0,0,0,{"$f":"IF(ISERROR(VLOOKUP($A62,#REF!,8,0)),0,(VLOOKUP($A62,#REF!,8,0)))","v":0},0,1,0,0,0,0,{"$f":"IF(ISERROR(VLOOKUP($A62,#REF!,8,0)),0,(VLOOKUP($A62,#REF!,8,0)))","v":0},0,1,0,0,0,0,{"$f":"IF(ISERROR(VLOOKUP($A62,#REF!,8,0)),0,(VLOOKUP($A62,#REF!,8,0)))","v":0},0,1,0,0,0,0,{"$f":"IF(ISERROR(VLOOKUP($A62,#REF!,8,0)),0,(VLOOKUP($A62,#REF!,8,0)))","v":0},0,1,0,0,0,0,{"$f":"IF(ISERROR(VLOOKUP($A62,#REF!,8,0)),0,(VLOOKUP($A62,#REF!,8,0)))","v":0},0,1,0,0,0,0,{"$f":"IF(ISERROR(VLOOKUP($A62,#REF!,8,0)),0,(VLOOKUP($A62,#REF!,8,0)))","v":0},0,1,0,0,0,0,{"$f":"IF(ISERROR(VLOOKUP($A62,#REF!,8,0)),0,(VLOOKUP($A62,#REF!,8,0)))","v":0},0,1,0,0,0,0,{"$f":"IF(ISERROR(VLOOKUP($A62,#REF!,8,0)),0,(VLOOKUP($A62,#REF!,8,0)))","v":0},0,1,0,0,0,0,{"$f":"IF(ISERROR(VLOOKUP($A62,#REF!,8,0)),0,(VLOOKUP($A62,#REF!,8,0)))","v":0},0,1,0,0,0,0,{"$f":"IF(ISERROR(VLOOKUP($A62,#REF!,8,0)),0,(VLOOKUP($A62,#REF!,8,0)))","v":0},0,1,0,0,0,0,{"$f":"IF(ISERROR(VLOOKUP($A62,#REF!,8,0)),0,(VLOOKUP($A62,#REF!,8,0)))","v":0},0,1,0,0,0,0,{"$f":"IF(ISERROR(VLOOKUP($A62,#REF!,8,0)),0,(VLOOKUP($A62,#REF!,8,0)))","v":0},0,1,0,0,0,0,{"$f":"IF(ISERROR(VLOOKUP($A62,#REF!,8,0)),0,(VLOOKUP($A62,#REF!,8,0)))","v":0},0,1,0,0,0,0,{"$f":"IF(ISERROR(VLOOKUP($A62,#REF!,8,0)),0,(VLOOKUP($A62,#REF!,8,0)))","v":0},0,1,0,0,0,0,{"$f":"IF(ISERROR(VLOOKUP($A62,#REF!,8,0)),0,(VLOOKUP($A62,#REF!,8,0)))","v":0},0,1,0,0,0,0,{"$f":"IF(ISERROR(VLOOKUP($A62,#REF!,8,0)),0,(VLOOKUP($A62,#REF!,8,0)))","v":0},0,1,0,0,0,0,{"$f":"IF(ISERROR(VLOOKUP($A62,#REF!,8,0)),0,(VLOOKUP($A62,#REF!,8,0)))","v":0},0,1,0,0,0,0,{"$f":"IF(ISERROR(VLOOKUP($A62,#REF!,8,0)),0,(VLOOKUP($A62,#REF!,8,0)))","v":0},0,1,0,0,0,0,{"$f":"IF(ISERROR(VLOOKUP($A62,#REF!,8,0)),0,(VLOOKUP($A62,#REF!,8,0)))","v":0},0,1,0,0,0,0,{"$f":"IF(ISERROR(VLOOKUP($A62,#REF!,8,0)),0,(VLOOKUP($A62,#REF!,8,0)))","v":0},0,1,0,0,0,0,{"$f":"IF(ISERROR(VLOOKUP($A62,#REF!,8,0)),0,(VLOOKUP($A62,#REF!,8,0)))","v":0},0,1,0,0,0,0,{"$f":"IF(ISERROR(VLOOKUP($A62,#REF!,8,0)),0,(VLOOKUP($A62,#REF!,8,0)))","v":0},0,1,0,0,0,0,{"$f":"IF(ISERROR(VLOOKUP($A62,#REF!,8,0)),0,(VLOOKUP($A62,#REF!,8,0)))","v":0},0,1,0,0,0,0,{"$f":"IF(ISERROR(VLOOKUP($A62,#REF!,8,0)),0,(VLOOKUP($A62,#REF!,8,0)))","v":0},0,1,0,0,0,0,{"$f":"IF(ISERROR(VLOOKUP($A62,#REF!,8,0)),0,(VLOOKUP($A62,#REF!,8,0)))","v":0},0,1,0,0,0,0,{"$f":"IF(ISERROR(VLOOKUP($A62,#REF!,8,0)),0,(VLOOKUP($A62,#REF!,8,0)))","v":0},0,1,0,0,0,0,{"$f":"IF(ISERROR(VLOOKUP($A62,#REF!,8,0)),0,(VLOOKUP($A62,#REF!,8,0)))","v":0},0,1,0,0,0,0,{"$f":"IF(ISERROR(VLOOKUP($A62,#REF!,8,0)),0,(VLOOKUP($A62,#REF!,8,0)))","v":0},0,1,0,0,0,0,{"$f":"IF(ISERROR(VLOOKUP($A62,#REF!,8,0)),0,(VLOOKUP($A62,#REF!,8,0)))","v":0},0,1,0,0,0,0,{"$f":"IF(ISERROR(VLOOKUP($A62,#REF!,8,0)),0,(VLOOKUP($A62,#REF!,8,0)))","v":0},0,1,0,0,0,0,{"$f":"IF(ISERROR(VLOOKUP($A62,#REF!,8,0)),0,(VLOOKUP($A62,#REF!,8,0)))","v":0},0,1,0,0,0,0,{"$f":"IF(ISERROR(VLOOKUP($A62,#REF!,8,0)),0,(VLOOKUP($A62,#REF!,8,0)))","v":0},0,1,0,0,0,0,{"$f":"IF(ISERROR(VLOOKUP($A62,#REF!,8,0)),0,(VLOOKUP($A62,#REF!,8,0)))","v":0},0,1,0,0,0,0,{"$f":"IF(ISERROR(VLOOKUP($A62,#REF!,8,0)),0,(VLOOKUP($A62,#REF!,8,0)))","v":0},0,1,0,0,0,0,55.525756000000001,55.525756000000001,1,0]
["1.51","Caixa de passagem 80x80x100 fundo brita com tampa","un",3,1,2,127.799784,383.39935200000002,225.93528000000001,677.80583999999999,0,0,353.73506400000002,707.47012800000005,353.73506400000002,1,0.33333333333333331,127.799784,225.93528000000001,0,353.74,null,0,0.33333333333333331,0,0,0,0,null,0,0.33333333333333331,0,0,0,0,null,0,0.33333333333333331,0,0,0,0,null,0,0.33333333333333331,0,0,0,0,null,0,0.33333333333333331,0,0,0,0,{"$f":"IF(ISERROR(VLOOKUP(A63,'7ª MEDIÇÃO'!$A$5:$J$1048576,8,0)),0,(VLOOKUP(A63,'7ª MEDIÇÃO'!$A$5:$J$1048576,8,0)))","v":0},0,0.33333333333333331,0,0,0,0,{"$f":"IF(ISERROR(VLOOKUP(A63,'8ª MEDIÇÃO'!$A$5:$J$1048576,8,0)),0,(VLOOKUP(A63,'8ª MEDIÇÃO'!$A$5:$J$1048576,8,0)))","v":0},0,0.33333333333333331,0,0,0,0,{"$f":"IF(ISERROR(VLOOKUP(A63,'9ª MEDIÇÃO'!$A$5:$J$1048576,8,0)),0,(VLOOKUP(A63,'9ª MEDIÇÃO'!$A$5:$J$1048576,8,0)))","v":0},0,0.33333333333333331,0,0,0,0,{"$f":"IF(ISERROR(VLOOKUP(A63,#REF!,8,0)),0,(VLOOKUP(A63,#REF!,8,0)))","v":0},0,0.33333333333333331,0,0,0,0,{"$f":"IF(ISERROR(VLOOKUP($A63,#REF!,8,0)),0,(VLOOKUP($A63,#REF!,8,0)))","v":0},0,0.33333333333333331,0,0,0,0,{"$f":"IF(ISERROR(VLOOKUP($A63,#REF!,8,0)),0,(VLOOKUP($A63,#REF!,8,0)))","v":0},0,0.33333333333333331,0,0,0,0,{"$f":"IF(ISERROR(VLOOKUP($A63,#REF!,8,0)),0,(VLOOKUP($A63,#REF!,8,0)))","v":0},0,0.33333333333333331,0,0,0,0,{"$f":"IF(ISERROR(VLOOKUP($A63,#REF!,8,0)),0,(VLOOKUP($A63,#REF!,8,0)))","v":0},0,0.33333333333333331,0,0,0,0,{"$f":"IF(ISERROR(VLOOKUP($A63,#REF!,8,0)),0,(VLOOKUP($A63,#REF!,8,0)))","v":0},0,0.33333333333333331,0,0,0,0,{"$f":"IF(ISERROR(VLOOKUP($A63,#REF!,8,0)),0,(VLOOKUP($A63,#REF!,8,0)))","v":0},0,0.33333333333333331,0,0,0,0,{"$f":"IF(ISERROR(VLOOKUP($A63,#REF!,8,0)),0,(VLOOKUP($A63,#REF!,8,0)))","v":0},0,0.33333333333333331,0,0,0,0,{"$f":"IF(ISERROR(VLOOKUP($A63,#REF!,8,0)),0,(VLOOKUP($A63,#REF!,8,0)))","v":0},0,0.33333333333333331,0,0,0,0,{"$f":"IF(ISERROR(VLOOKUP($A63,#REF!,8,0)),0,(VLOOKUP($A63,#REF!,8,0)))","v":0},0,0.33333333333333331,0,0,0,0,{"$f":"IF(ISERROR(VLOOKUP($A63,#REF!,8,0)),0,(VLOOKUP($A63,#REF!,8,0)))","v":0},0,0.33333333333333331,0,0,0,0,{"$f":"IF(ISERROR(VLOOKUP($A63,#REF!,8,0)),0,(VLOOKUP($A63,#REF!,8,0)))","v":0},0,0.33333333333333331,0,0,0,0,{"$f":"IF(ISERROR(VLOOKUP($A63,#REF!,8,0)),0,(VLOOKUP($A63,#REF!,8,0)))","v":0},0,0.33333333333333331,0,0,0,0,{"$f":"IF(ISERROR(VLOOKUP($A63,#REF!,8,0)),0,(VLOOKUP($A63,#REF!,8,0)))","v":0},0,0.33333333333333331,0,0,0,0,{"$f":"IF(ISERROR(VLOOKUP($A63,#REF!,8,0)),0,(VLOOKUP($A63,#REF!,8,0)))","v":0},0,0.33333333333333331,0,0,0,0,{"$f":"IF(ISERROR(VLOOKUP($A63,#REF!,8,0)),0,(VLOOKUP($A63,#REF!,8,0)))","v":0},0,0.33333333333333331,0,0,0,0,{"$f":"IF(ISERROR(VLOOKUP($A63,#REF!,8,0)),0,(VLOOKUP($A63,#REF!,8,0)))","v":0},0,0.33333333333333331,0,0,0,0,{"$f":"IF(ISERROR(VLOOKUP($A63,#REF!,8,0)),0,(VLOOKUP($A63,#REF!,8,0)))","v":0},0,0.33333333333333331,0,0,0,0,{"$f":"IF(ISERROR(VLOOKUP($A63,#REF!,8,0)),0,(VLOOKUP($A63,#REF!,8,0)))","v":0},0,0.33333333333333331,0,0,0,0,{"$f":"IF(ISERROR(VLOOKUP($A63,#REF!,8,0)),0,(VLOOKUP($A63,#REF!,8,0)))","v":0},0,0.33333333333333331,0,0,0,0,{"$f":"IF(ISERROR(VLOOKUP($A63,#REF!,8,0)),0,(VLOOKUP($A63,#REF!,8,0)))","v":0},0,0.33333333333333331,0,0,0,0,{"$f":"IF(ISERROR(VLOOKUP($A63,#REF!,8,0)),0,(VLOOKUP($A63,#REF!,8,0)))","v":0},0,0.33333333333333331,0,0,0,0,{"$f":"IF(ISERROR(VLOOKUP($A63,#REF!,8,0)),0,(VLOOKUP($A63,#REF!,8,0)))","v":0},0,0.33333333333333331,0,0,0,0,{"$f":"IF(ISERROR(VLOOKUP($A63,#REF!,8,0)),0,(VLOOKUP($A63,#REF!,8,0)))","v":0},0,0.33333333333333331,0,0,0,0,{"$f":"IF(ISERROR(VLOOKUP($A63,#REF!,8,0)),0,(VLOOKUP($A63,#REF!,8,0)))","v":0},0,0.33333333333333331,0,0,0,0,{"$f":"IF(ISERROR(VLOOKUP($A63,#REF!,8,0)),0,(VLOOKUP($A63,#REF!,8,0)))","v":0},0,0.33333333333333331,0,0,0,0,{"$f":"IF(ISERROR(VLOOKUP($A63,#REF!,8,0)),0,(VLOOKUP($A63,#REF!,8,0)))","v":0},0,0.33333333333333331,0,0,0,0,{"$f":"IF(ISERROR(VLOOKUP($A63,#REF!,8,0)),0,(VLOOKUP($A63,#REF!,8,0)))","v":0},0,0.33333333333333331,0,0,0,0,{"$f":"IF(ISERROR(VLOOKUP($A63,#REF!,8,0)),0,(VLOOKUP($A63,#REF!,8,0)))","v":0},0,0.33333333333333331,0,0,0,0,{"$f":"IF(ISERROR(VLOOKUP($A63,#REF!,8,0)),0,(VLOOKUP($A63,#REF!,8,0)))","v":0},0,0.33333333333333331,0,0,0,0,{"$f":"IF(ISERROR(VLOOKUP($A63,#REF!,8,0)),0,(VLOOKUP($A63,#REF!,8,0)))","v":0},0,0.33333333333333331,0,0,0,0,{"$f":"IF(ISERROR(VLOOKUP($A63,#REF!,8,0)),0,(VLOOKUP($A63,#REF!,8,0)))","v":0},0,0.33333333333333331,0,0,0,0,{"$f":"IF(ISERROR(VLOOKUP($A63,#REF!,8,0)),0,(VLOOKUP($A63,#REF!,8,0)))","v":0},0,0.33333333333333331,0,0,0,0,{"$f":"IF(ISERROR(VLOOKUP($A63,#REF!,8,0)),0,(VLOOKUP($A63,#REF!,8,0)))","v":0},0,0.33333333333333331,0,0,0,0,{"$f":"IF(ISERROR(VLOOKUP($A63,#REF!,8,0)),0,(VLOOKUP($A63,#REF!,8,0)))","v":0},0,0.33333333333333331,0,0,0,0,{"$f":"IF(ISERROR(VLOOKUP($A63,#REF!,8,0)),0,(VLOOKUP($A63,#REF!,8,0)))","v":0},0,0.33333333333333331,0,0,0,0,{"$f":"IF(ISERROR(VLOOKUP($A63,#REF!,8,0)),0,(VLOOKUP($A63,#REF!,8,0)))","v":0},0,0.33333333333333331,0,0,0,0,{"$f":"IF(ISERROR(VLOOKUP($A63,#REF!,8,0)),0,(VLOOKUP($A63,#REF!,8,0)))","v":0},0,0.33333333333333331,0,0,0,0,{"$f":"IF(ISERROR(VLOOKUP($A63,#REF!,8,0)),0,(VLOOKUP($A63,#REF!,8,0)))","v":0},0,0.33333333333333331,0,0,0,0,{"$f":"IF(ISERROR(VLOOKUP($A63,#REF!,8,0)),0,(VLOOKUP($A63,#REF!,8,0)))","v":0},0,0.33333333333333331,0,0,0,0,{"$f":"IF(ISERROR(VLOOKUP($A63,#REF!,8,0)),0,(VLOOKUP($A63,#REF!,8,0)))","v":0},0,0.33333333333333331,0,0,0,0,{"$f":"IF(ISERROR(VLOOKUP($A63,#REF!,8,0)),0,(VLOOKUP($A63,#REF!,8,0)))","v":0},0,0.33333333333333331,0,0,0,0,{"$f":"IF(ISERROR(VLOOKUP($A63,#REF!,8,0)),0,(VLOOKUP($A63,#REF!,8,0)))","v":0},0,0.33333333333333331,0,0,0,0,{"$f":"IF(ISERROR(VLOOKUP($A63,#REF!,8,0)),0,(VLOOKUP($A63,#REF!,8,0)))","v":0},0,0.33333333333333331,0,0,0,0,{"$f":"IF(ISERROR(VLOOKUP($A63,#REF!,8,0)),0,(VLOOKUP($A63,#REF!,8,0)))","v":0},0,0.33333333333333331,0,0,0,0,{"$f":"IF(ISERROR(VLOOKUP($A63,#REF!,8,0)),0,(VLOOKUP($A63,#REF!,8,0)))","v":0},0,0.33333333333333331,0,0,0,0,353.73506400000002,353.73506400000002,1,0]
["1.52","Haste copperweld 5/8\" x 3,0m com conector","un",4,4,0,33.742634000000002,134.97053600000001,9.9893199999999993,39.957279999999997,0,0,43.731954000000002,0,174.92781600000001,4,1,134.97053600000001,39.957279999999997,0,174.93,null,0,1,0,0,0,0,null,0,1,0,0,0,0,null,0,1,0,0,0,0,null,0,1,0,0,0,0,null,0,1,0,0,0,0,{"$f":"IF(ISERROR(VLOOKUP(A64,'7ª MEDIÇÃO'!$A$5:$J$1048576,8,0)),0,(VLOOKUP(A64,'7ª MEDIÇÃO'!$A$5:$J$1048576,8,0)))","v":0},0,1,0,0,0,0,{"$f":"IF(ISERROR(VLOOKUP(A64,'8ª MEDIÇÃO'!$A$5:$J$1048576,8,0)),0,(VLOOKUP(A64,'8ª MEDIÇÃO'!$A$5:$J$1048576,8,0)))","v":0},0,1,0,0,0,0,{"$f":"IF(ISERROR(VLOOKUP(A64,'9ª MEDIÇÃO'!$A$5:$J$1048576,8,0)),0,(VLOOKUP(A64,'9ª MEDIÇÃO'!$A$5:$J$1048576,8,0)))","v":0},0,1,0,0,0,0,{"$f":"IF(ISERROR(VLOOKUP(A64,#REF!,8,0)),0,(VLOOKUP(A64,#REF!,8,0)))","v":0},0,1,0,0,0,0,{"$f":"IF(ISERROR(VLOOKUP($A64,#REF!,8,0)),0,(VLOOKUP($A64,#REF!,8,0)))","v":0},0,1,0,0,0,0,{"$f":"IF(ISERROR(VLOOKUP($A64,#REF!,8,0)),0,(VLOOKUP($A64,#REF!,8,0)))","v":0},0,1,0,0,0,0,{"$f":"IF(ISERROR(VLOOKUP($A64,#REF!,8,0)),0,(VLOOKUP($A64,#REF!,8,0)))","v":0},0,1,0,0,0,0,{"$f":"IF(ISERROR(VLOOKUP($A64,#REF!,8,0)),0,(VLOOKUP($A64,#REF!,8,0)))","v":0},0,1,0,0,0,0,{"$f":"IF(ISERROR(VLOOKUP($A64,#REF!,8,0)),0,(VLOOKUP($A64,#REF!,8,0)))","v":0},0,1,0,0,0,0,{"$f":"IF(ISERROR(VLOOKUP($A64,#REF!,8,0)),0,(VLOOKUP($A64,#REF!,8,0)))","v":0},0,1,0,0,0,0,{"$f":"IF(ISERROR(VLOOKUP($A64,#REF!,8,0)),0,(VLOOKUP($A64,#REF!,8,0)))","v":0},0,1,0,0,0,0,{"$f":"IF(ISERROR(VLOOKUP($A64,#REF!,8,0)),0,(VLOOKUP($A64,#REF!,8,0)))","v":0},0,1,0,0,0,0,{"$f":"IF(ISERROR(VLOOKUP($A64,#REF!,8,0)),0,(VLOOKUP($A64,#REF!,8,0)))","v":0},0,1,0,0,0,0,{"$f":"IF(ISERROR(VLOOKUP($A64,#REF!,8,0)),0,(VLOOKUP($A64,#REF!,8,0)))","v":0},0,1,0,0,0,0,{"$f":"IF(ISERROR(VLOOKUP($A64,#REF!,8,0)),0,(VLOOKUP($A64,#REF!,8,0)))","v":0},0,1,0,0,0,0,{"$f":"IF(ISERROR(VLOOKUP($A64,#REF!,8,0)),0,(VLOOKUP($A64,#REF!,8,0)))","v":0},0,1,0,0,0,0,{"$f":"IF(ISERROR(VLOOKUP($A64,#REF!,8,0)),0,(VLOOKUP($A64,#REF!,8,0)))","v":0},0,1,0,0,0,0,{"$f":"IF(ISERROR(VLOOKUP($A64,#REF!,8,0)),0,(VLOOKUP($A64,#REF!,8,0)))","v":0},0,1,0,0,0,0,{"$f":"IF(ISERROR(VLOOKUP($A64,#REF!,8,0)),0,(VLOOKUP($A64,#REF!,8,0)))","v":0},0,1,0,0,0,0,{"$f":"IF(ISERROR(VLOOKUP($A64,#REF!,8,0)),0,(VLOOKUP($A64,#REF!,8,0)))","v":0},0,1,0,0,0,0,{"$f":"IF(ISERROR(VLOOKUP($A64,#REF!,8,0)),0,(VLOOKUP($A64,#REF!,8,0)))","v":0},0,1,0,0,0,0,{"$f":"IF(ISERROR(VLOOKUP($A64,#REF!,8,0)),0,(VLOOKUP($A64,#REF!,8,0)))","v":0},0,1,0,0,0,0,{"$f":"IF(ISERROR(VLOOKUP($A64,#REF!,8,0)),0,(VLOOKUP($A64,#REF!,8,0)))","v":0},0,1,0,0,0,0,{"$f":"IF(ISERROR(VLOOKUP($A64,#REF!,8,0)),0,(VLOOKUP($A64,#REF!,8,0)))","v":0},0,1,0,0,0,0,{"$f":"IF(ISERROR(VLOOKUP($A64,#REF!,8,0)),0,(VLOOKUP($A64,#REF!,8,0)))","v":0},0,1,0,0,0,0,{"$f":"IF(ISERROR(VLOOKUP($A64,#REF!,8,0)),0,(VLOOKUP($A64,#REF!,8,0)))","v":0},0,1,0,0,0,0,{"$f":"IF(ISERROR(VLOOKUP($A64,#REF!,8,0)),0,(VLOOKUP($A64,#REF!,8,0)))","v":0},0,1,0,0,0,0,{"$f":"IF(ISERROR(VLOOKUP($A64,#REF!,8,0)),0,(VLOOKUP($A64,#REF!,8,0)))","v":0},0,1,0,0,0,0,{"$f":"IF(ISERROR(VLOOKUP($A64,#REF!,8,0)),0,(VLOOKUP($A64,#REF!,8,0)))","v":0},0,1,0,0,0,0,{"$f":"IF(ISERROR(VLOOKUP($A64,#REF!,8,0)),0,(VLOOKUP($A64,#REF!,8,0)))","v":0},0,1,0,0,0,0,{"$f":"IF(ISERROR(VLOOKUP($A64,#REF!,8,0)),0,(VLOOKUP($A64,#REF!,8,0)))","v":0},0,1,0,0,0,0,{"$f":"IF(ISERROR(VLOOKUP($A64,#REF!,8,0)),0,(VLOOKUP($A64,#REF!,8,0)))","v":0},0,1,0,0,0,0,{"$f":"IF(ISERROR(VLOOKUP($A64,#REF!,8,0)),0,(VLOOKUP($A64,#REF!,8,0)))","v":0},0,1,0,0,0,0,{"$f":"IF(ISERROR(VLOOKUP($A64,#REF!,8,0)),0,(VLOOKUP($A64,#REF!,8,0)))","v":0},0,1,0,0,0,0,{"$f":"IF(ISERROR(VLOOKUP($A64,#REF!,8,0)),0,(VLOOKUP($A64,#REF!,8,0)))","v":0},0,1,0,0,0,0,{"$f":"IF(ISERROR(VLOOKUP($A64,#REF!,8,0)),0,(VLOOKUP($A64,#REF!,8,0)))","v":0},0,1,0,0,0,0,{"$f":"IF(ISERROR(VLOOKUP($A64,#REF!,8,0)),0,(VLOOKUP($A64,#REF!,8,0)))","v":0},0,1,0,0,0,0,{"$f":"IF(ISERROR(VLOOKUP($A64,#REF!,8,0)),0,(VLOOKUP($A64,#REF!,8,0)))","v":0},0,1,0,0,0,0,{"$f":"IF(ISERROR(VLOOKUP($A64,#REF!,8,0)),0,(VLOOKUP($A64,#REF!,8,0)))","v":0},0,1,0,0,0,0,{"$f":"IF(ISERROR(VLOOKUP($A64,#REF!,8,0)),0,(VLOOKUP($A64,#REF!,8,0)))","v":0},0,1,0,0,0,0,{"$f":"IF(ISERROR(VLOOKUP($A64,#REF!,8,0)),0,(VLOOKUP($A64,#REF!,8,0)))","v":0},0,1,0,0,0,0,{"$f":"IF(ISERROR(VLOOKUP($A64,#REF!,8,0)),0,(VLOOKUP($A64,#REF!,8,0)))","v":0},0,1,0,0,0,0,{"$f":"IF(ISERROR(VLOOKUP($A64,#REF!,8,0)),0,(VLOOKUP($A64,#REF!,8,0)))","v":0},0,1,0,0,0,0,{"$f":"IF(ISERROR(VLOOKUP($A64,#REF!,8,0)),0,(VLOOKUP($A64,#REF!,8,0)))","v":0},0,1,0,0,0,0,{"$f":"IF(ISERROR(VLOOKUP($A64,#REF!,8,0)),0,(VLOOKUP($A64,#REF!,8,0)))","v":0},0,1,0,0,0,0,{"$f":"IF(ISERROR(VLOOKUP($A64,#REF!,8,0)),0,(VLOOKUP($A64,#REF!,8,0)))","v":0},0,1,0,0,0,0,{"$f":"IF(ISERROR(VLOOKUP($A64,#REF!,8,0)),0,(VLOOKUP($A64,#REF!,8,0)))","v":0},0,1,0,0,0,0,{"$f":"IF(ISERROR(VLOOKUP($A64,#REF!,8,0)),0,(VLOOKUP($A64,#REF!,8,0)))","v":0},0,1,0,0,0,0,{"$f":"IF(ISERROR(VLOOKUP($A64,#REF!,8,0)),0,(VLOOKUP($A64,#REF!,8,0)))","v":0},0,1,0,0,0,0,174.92781600000001,174.92781600000001,1,0]
["1.53","Fornecimento e assentamento de eletroduto de pvc rígido de 1\" com luvas de rosca interna, curvas e demais acessórios de fixação.","m",9,9,0,4.2222520000000001,38.000267999999998,7.4888799999999991,67.399919999999995,0,0,11.711131999999999,0,105.40018799999999,9,1,38.000267999999998,67.399919999999995,0,105.4,null,0,1,0,0,0,0,null,0,1,0,0,0,0,null,0,1,0,0,0,0,null,0,1,0,0,0,0,null,0,1,0,0,0,0,{"$f":"IF(ISERROR(VLOOKUP(A65,'7ª MEDIÇÃO'!$A$5:$J$1048576,8,0)),0,(VLOOKUP(A65,'7ª MEDIÇÃO'!$A$5:$J$1048576,8,0)))","v":0},0,1,0,0,0,0,{"$f":"IF(ISERROR(VLOOKUP(A65,'8ª MEDIÇÃO'!$A$5:$J$1048576,8,0)),0,(VLOOKUP(A65,'8ª MEDIÇÃO'!$A$5:$J$1048576,8,0)))","v":0},0,1,0,0,0,0,{"$f":"IF(ISERROR(VLOOKUP(A65,'9ª MEDIÇÃO'!$A$5:$J$1048576,8,0)),0,(VLOOKUP(A65,'9ª MEDIÇÃO'!$A$5:$J$1048576,8,0)))","v":0},0,1,0,0,0,0,{"$f":"IF(ISERROR(VLOOKUP(A65,#REF!,8,0)),0,(VLOOKUP(A65,#REF!,8,0)))","v":0},0,1,0,0,0,0,{"$f":"IF(ISERROR(VLOOKUP($A65,#REF!,8,0)),0,(VLOOKUP($A65,#REF!,8,0)))","v":0},0,1,0,0,0,0,{"$f":"IF(ISERROR(VLOOKUP($A65,#REF!,8,0)),0,(VLOOKUP($A65,#REF!,8,0)))","v":0},0,1,0,0,0,0,{"$f":"IF(ISERROR(VLOOKUP($A65,#REF!,8,0)),0,(VLOOKUP($A65,#REF!,8,0)))","v":0},0,1,0,0,0,0,{"$f":"IF(ISERROR(VLOOKUP($A65,#REF!,8,0)),0,(VLOOKUP($A65,#REF!,8,0)))","v":0},0,1,0,0,0,0,{"$f":"IF(ISERROR(VLOOKUP($A65,#REF!,8,0)),0,(VLOOKUP($A65,#REF!,8,0)))","v":0},0,1,0,0,0,0,{"$f":"IF(ISERROR(VLOOKUP($A65,#REF!,8,0)),0,(VLOOKUP($A65,#REF!,8,0)))","v":0},0,1,0,0,0,0,{"$f":"IF(ISERROR(VLOOKUP($A65,#REF!,8,0)),0,(VLOOKUP($A65,#REF!,8,0)))","v":0},0,1,0,0,0,0,{"$f":"IF(ISERROR(VLOOKUP($A65,#REF!,8,0)),0,(VLOOKUP($A65,#REF!,8,0)))","v":0},0,1,0,0,0,0,{"$f":"IF(ISERROR(VLOOKUP($A65,#REF!,8,0)),0,(VLOOKUP($A65,#REF!,8,0)))","v":0},0,1,0,0,0,0,{"$f":"IF(ISERROR(VLOOKUP($A65,#REF!,8,0)),0,(VLOOKUP($A65,#REF!,8,0)))","v":0},0,1,0,0,0,0,{"$f":"IF(ISERROR(VLOOKUP($A65,#REF!,8,0)),0,(VLOOKUP($A65,#REF!,8,0)))","v":0},0,1,0,0,0,0,{"$f":"IF(ISERROR(VLOOKUP($A65,#REF!,8,0)),0,(VLOOKUP($A65,#REF!,8,0)))","v":0},0,1,0,0,0,0,{"$f":"IF(ISERROR(VLOOKUP($A65,#REF!,8,0)),0,(VLOOKUP($A65,#REF!,8,0)))","v":0},0,1,0,0,0,0,{"$f":"IF(ISERROR(VLOOKUP($A65,#REF!,8,0)),0,(VLOOKUP($A65,#REF!,8,0)))","v":0},0,1,0,0,0,0,{"$f":"IF(ISERROR(VLOOKUP($A65,#REF!,8,0)),0,(VLOOKUP($A65,#REF!,8,0)))","v":0},0,1,0,0,0,0,{"$f":"IF(ISERROR(VLOOKUP($A65,#REF!,8,0)),0,(VLOOKUP($A65,#REF!,8,0)))","v":0},0,1,0,0,0,0,{"$f":"IF(ISERROR(VLOOKUP($A65,#REF!,8,0)),0,(VLOOKUP($A65,#REF!,8,0)))","v":0},0,1,0,0,0,0,{"$f":"IF(ISERROR(VLOOKUP($A65,#REF!,8,0)),0,(VLOOKUP($A65,#REF!,8,0)))","v":0},0,1,0,0,0,0,{"$f":"IF(ISERROR(VLOOKUP($A65,#REF!,8,0)),0,(VLOOKUP($A65,#REF!,8,0)))","v":0},0,1,0,0,0,0,{"$f":"IF(ISERROR(VLOOKUP($A65,#REF!,8,0)),0,(VLOOKUP($A65,#REF!,8,0)))","v":0},0,1,0,0,0,0,{"$f":"IF(ISERROR(VLOOKUP($A65,#REF!,8,0)),0,(VLOOKUP($A65,#REF!,8,0)))","v":0},0,1,0,0,0,0,{"$f":"IF(ISERROR(VLOOKUP($A65,#REF!,8,0)),0,(VLOOKUP($A65,#REF!,8,0)))","v":0},0,1,0,0,0,0,{"$f":"IF(ISERROR(VLOOKUP($A65,#REF!,8,0)),0,(VLOOKUP($A65,#REF!,8,0)))","v":0},0,1,0,0,0,0,{"$f":"IF(ISERROR(VLOOKUP($A65,#REF!,8,0)),0,(VLOOKUP($A65,#REF!,8,0)))","v":0},0,1,0,0,0,0,{"$f":"IF(ISERROR(VLOOKUP($A65,#REF!,8,0)),0,(VLOOKUP($A65,#REF!,8,0)))","v":0},0,1,0,0,0,0,{"$f":"IF(ISERROR(VLOOKUP($A65,#REF!,8,0)),0,(VLOOKUP($A65,#REF!,8,0)))","v":0},0,1,0,0,0,0,{"$f":"IF(ISERROR(VLOOKUP($A65,#REF!,8,0)),0,(VLOOKUP($A65,#REF!,8,0)))","v":0},0,1,0,0,0,0,{"$f":"IF(ISERROR(VLOOKUP($A65,#REF!,8,0)),0,(VLOOKUP($A65,#REF!,8,0)))","v":0},0,1,0,0,0,0,{"$f":"IF(ISERROR(VLOOKUP($A65,#REF!,8,0)),0,(VLOOKUP($A65,#REF!,8,0)))","v":0},0,1,0,0,0,0,{"$f":"IF(ISERROR(VLOOKUP($A65,#REF!,8,0)),0,(VLOOKUP($A65,#REF!,8,0)))","v":0},0,1,0,0,0,0,{"$f":"IF(ISERROR(VLOOKUP($A65,#REF!,8,0)),0,(VLOOKUP($A65,#REF!,8,0)))","v":0},0,1,0,0,0,0,{"$f":"IF(ISERROR(VLOOKUP($A65,#REF!,8,0)),0,(VLOOKUP($A65,#REF!,8,0)))","v":0},0,1,0,0,0,0,{"$f":"IF(ISERROR(VLOOKUP($A65,#REF!,8,0)),0,(VLOOKUP($A65,#REF!,8,0)))","v":0},0,1,0,0,0,0,{"$f":"IF(ISERROR(VLOOKUP($A65,#REF!,8,0)),0,(VLOOKUP($A65,#REF!,8,0)))","v":0},0,1,0,0,0,0,{"$f":"IF(ISERROR(VLOOKUP($A65,#REF!,8,0)),0,(VLOOKUP($A65,#REF!,8,0)))","v":0},0,1,0,0,0,0,{"$f":"IF(ISERROR(VLOOKUP($A65,#REF!,8,0)),0,(VLOOKUP($A65,#REF!,8,0)))","v":0},0,1,0,0,0,0,{"$f":"IF(ISERROR(VLOOKUP($A65,#REF!,8,0)),0,(VLOOKUP($A65,#REF!,8,0)))","v":0},0,1,0,0,0,0,{"$f":"IF(ISERROR(VLOOKUP($A65,#REF!,8,0)),0,(VLOOKUP($A65,#REF!,8,0)))","v":0},0,1,0,0,0,0,{"$f":"IF(ISERROR(VLOOKUP($A65,#REF!,8,0)),0,(VLOOKUP($A65,#REF!,8,0)))","v":0},0,1,0,0,0,0,{"$f":"IF(ISERROR(VLOOKUP($A65,#REF!,8,0)),0,(VLOOKUP($A65,#REF!,8,0)))","v":0},0,1,0,0,0,0,{"$f":"IF(ISERROR(VLOOKUP($A65,#REF!,8,0)),0,(VLOOKUP($A65,#REF!,8,0)))","v":0},0,1,0,0,0,0,{"$f":"IF(ISERROR(VLOOKUP($A65,#REF!,8,0)),0,(VLOOKUP($A65,#REF!,8,0)))","v":0},0,1,0,0,0,0,{"$f":"IF(ISERROR(VLOOKUP($A65,#REF!,8,0)),0,(VLOOKUP($A65,#REF!,8,0)))","v":0},0,1,0,0,0,0,{"$f":"IF(ISERROR(VLOOKUP($A65,#REF!,8,0)),0,(VLOOKUP($A65,#REF!,8,0)))","v":0},0,1,0,0,0,0,{"$f":"IF(ISERROR(VLOOKUP($A65,#REF!,8,0)),0,(VLOOKUP($A65,#REF!,8,0)))","v":0},0,1,0,0,0,0,105.40018799999999,105.40018799999999,1,0]
["1.54","Fornecimento e assentamento de eletroduto de ferro galvanizado de 3\" (pesado), inclusive assentamento e demais acessórios de fixação.","m",9,9,0,77.415816000000007,696.742344,24.954639999999998,224.59175999999997,0,0,102.370456,0,921.33410400000002,9,1,696.742344,224.59175999999997,0,921.33,null,0,1,0,0,0,0,null,0,1,0,0,0,0,null,0,1,0,0,0,0,null,0,1,0,0,0,0,null,0,1,0,0,0,0,{"$f":"IF(ISERROR(VLOOKUP(A66,'7ª MEDIÇÃO'!$A$5:$J$1048576,8,0)),0,(VLOOKUP(A66,'7ª MEDIÇÃO'!$A$5:$J$1048576,8,0)))","v":0},0,1,0,0,0,0,{"$f":"IF(ISERROR(VLOOKUP(A66,'8ª MEDIÇÃO'!$A$5:$J$1048576,8,0)),0,(VLOOKUP(A66,'8ª MEDIÇÃO'!$A$5:$J$1048576,8,0)))","v":0},0,1,0,0,0,0,{"$f":"IF(ISERROR(VLOOKUP(A66,'9ª MEDIÇÃO'!$A$5:$J$1048576,8,0)),0,(VLOOKUP(A66,'9ª MEDIÇÃO'!$A$5:$J$1048576,8,0)))","v":0},0,1,0,0,0,0,{"$f":"IF(ISERROR(VLOOKUP(A66,#REF!,8,0)),0,(VLOOKUP(A66,#REF!,8,0)))","v":0},0,1,0,0,0,0,{"$f":"IF(ISERROR(VLOOKUP($A66,#REF!,8,0)),0,(VLOOKUP($A66,#REF!,8,0)))","v":0},0,1,0,0,0,0,{"$f":"IF(ISERROR(VLOOKUP($A66,#REF!,8,0)),0,(VLOOKUP($A66,#REF!,8,0)))","v":0},0,1,0,0,0,0,{"$f":"IF(ISERROR(VLOOKUP($A66,#REF!,8,0)),0,(VLOOKUP($A66,#REF!,8,0)))","v":0},0,1,0,0,0,0,{"$f":"IF(ISERROR(VLOOKUP($A66,#REF!,8,0)),0,(VLOOKUP($A66,#REF!,8,0)))","v":0},0,1,0,0,0,0,{"$f":"IF(ISERROR(VLOOKUP($A66,#REF!,8,0)),0,(VLOOKUP($A66,#REF!,8,0)))","v":0},0,1,0,0,0,0,{"$f":"IF(ISERROR(VLOOKUP($A66,#REF!,8,0)),0,(VLOOKUP($A66,#REF!,8,0)))","v":0},0,1,0,0,0,0,{"$f":"IF(ISERROR(VLOOKUP($A66,#REF!,8,0)),0,(VLOOKUP($A66,#REF!,8,0)))","v":0},0,1,0,0,0,0,{"$f":"IF(ISERROR(VLOOKUP($A66,#REF!,8,0)),0,(VLOOKUP($A66,#REF!,8,0)))","v":0},0,1,0,0,0,0,{"$f":"IF(ISERROR(VLOOKUP($A66,#REF!,8,0)),0,(VLOOKUP($A66,#REF!,8,0)))","v":0},0,1,0,0,0,0,{"$f":"IF(ISERROR(VLOOKUP($A66,#REF!,8,0)),0,(VLOOKUP($A66,#REF!,8,0)))","v":0},0,1,0,0,0,0,{"$f":"IF(ISERROR(VLOOKUP($A66,#REF!,8,0)),0,(VLOOKUP($A66,#REF!,8,0)))","v":0},0,1,0,0,0,0,{"$f":"IF(ISERROR(VLOOKUP($A66,#REF!,8,0)),0,(VLOOKUP($A66,#REF!,8,0)))","v":0},0,1,0,0,0,0,{"$f":"IF(ISERROR(VLOOKUP($A66,#REF!,8,0)),0,(VLOOKUP($A66,#REF!,8,0)))","v":0},0,1,0,0,0,0,{"$f":"IF(ISERROR(VLOOKUP($A66,#REF!,8,0)),0,(VLOOKUP($A66,#REF!,8,0)))","v":0},0,1,0,0,0,0,{"$f":"IF(ISERROR(VLOOKUP($A66,#REF!,8,0)),0,(VLOOKUP($A66,#REF!,8,0)))","v":0},0,1,0,0,0,0,{"$f":"IF(ISERROR(VLOOKUP($A66,#REF!,8,0)),0,(VLOOKUP($A66,#REF!,8,0)))","v":0},0,1,0,0,0,0,{"$f":"IF(ISERROR(VLOOKUP($A66,#REF!,8,0)),0,(VLOOKUP($A66,#REF!,8,0)))","v":0},0,1,0,0,0,0,{"$f":"IF(ISERROR(VLOOKUP($A66,#REF!,8,0)),0,(VLOOKUP($A66,#REF!,8,0)))","v":0},0,1,0,0,0,0,{"$f":"IF(ISERROR(VLOOKUP($A66,#REF!,8,0)),0,(VLOOKUP($A66,#REF!,8,0)))","v":0},0,1,0,0,0,0,{"$f":"IF(ISERROR(VLOOKUP($A66,#REF!,8,0)),0,(VLOOKUP($A66,#REF!,8,0)))","v":0},0,1,0,0,0,0,{"$f":"IF(ISERROR(VLOOKUP($A66,#REF!,8,0)),0,(VLOOKUP($A66,#REF!,8,0)))","v":0},0,1,0,0,0,0,{"$f":"IF(ISERROR(VLOOKUP($A66,#REF!,8,0)),0,(VLOOKUP($A66,#REF!,8,0)))","v":0},0,1,0,0,0,0,{"$f":"IF(ISERROR(VLOOKUP($A66,#REF!,8,0)),0,(VLOOKUP($A66,#REF!,8,0)))","v":0},0,1,0,0,0,0,{"$f":"IF(ISERROR(VLOOKUP($A66,#REF!,8,0)),0,(VLOOKUP($A66,#REF!,8,0)))","v":0},0,1,0,0,0,0,{"$f":"IF(ISERROR(VLOOKUP($A66,#REF!,8,0)),0,(VLOOKUP($A66,#REF!,8,0)))","v":0},0,1,0,0,0,0,{"$f":"IF(ISERROR(VLOOKUP($A66,#REF!,8,0)),0,(VLOOKUP($A66,#REF!,8,0)))","v":0},0,1,0,0,0,0,{"$f":"IF(ISERROR(VLOOKUP($A66,#REF!,8,0)),0,(VLOOKUP($A66,#REF!,8,0)))","v":0},0,1,0,0,0,0,{"$f":"IF(ISERROR(VLOOKUP($A66,#REF!,8,0)),0,(VLOOKUP($A66,#REF!,8,0)))","v":0},0,1,0,0,0,0,{"$f":"IF(ISERROR(VLOOKUP($A66,#REF!,8,0)),0,(VLOOKUP($A66,#REF!,8,0)))","v":0},0,1,0,0,0,0,{"$f":"IF(ISERROR(VLOOKUP($A66,#REF!,8,0)),0,(VLOOKUP($A66,#REF!,8,0)))","v":0},0,1,0,0,0,0,{"$f":"IF(ISERROR(VLOOKUP($A66,#REF!,8,0)),0,(VLOOKUP($A66,#REF!,8,0)))","v":0},0,1,0,0,0,0,{"$f":"IF(ISERROR(VLOOKUP($A66,#REF!,8,0)),0,(VLOOKUP($A66,#REF!,8,0)))","v":0},0,1,0,0,0,0,{"$f":"IF(ISERROR(VLOOKUP($A66,#REF!,8,0)),0,(VLOOKUP($A66,#REF!,8,0)))","v":0},0,1,0,0,0,0,{"$f":"IF(ISERROR(VLOOKUP($A66,#REF!,8,0)),0,(VLOOKUP($A66,#REF!,8,0)))","v":0},0,1,0,0,0,0,{"$f":"IF(ISERROR(VLOOKUP($A66,#REF!,8,0)),0,(VLOOKUP($A66,#REF!,8,0)))","v":0},0,1,0,0,0,0,{"$f":"IF(ISERROR(VLOOKUP($A66,#REF!,8,0)),0,(VLOOKUP($A66,#REF!,8,0)))","v":0},0,1,0,0,0,0,{"$f":"IF(ISERROR(VLOOKUP($A66,#REF!,8,0)),0,(VLOOKUP($A66,#REF!,8,0)))","v":0},0,1,0,0,0,0,{"$f":"IF(ISERROR(VLOOKUP($A66,#REF!,8,0)),0,(VLOOKUP($A66,#REF!,8,0)))","v":0},0,1,0,0,0,0,{"$f":"IF(ISERROR(VLOOKUP($A66,#REF!,8,0)),0,(VLOOKUP($A66,#REF!,8,0)))","v":0},0,1,0,0,0,0,{"$f":"IF(ISERROR(VLOOKUP($A66,#REF!,8,0)),0,(VLOOKUP($A66,#REF!,8,0)))","v":0},0,1,0,0,0,0,{"$f":"IF(ISERROR(VLOOKUP($A66,#REF!,8,0)),0,(VLOOKUP($A66,#REF!,8,0)))","v":0},0,1,0,0,0,0,{"$f":"IF(ISERROR(VLOOKUP($A66,#REF!,8,0)),0,(VLOOKUP($A66,#REF!,8,0)))","v":0},0,1,0,0,0,0,{"$f":"IF(ISERROR(VLOOKUP($A66,#REF!,8,0)),0,(VLOOKUP($A66,#REF!,8,0)))","v":0},0,1,0,0,0,0,{"$f":"IF(ISERROR(VLOOKUP($A66,#REF!,8,0)),0,(VLOOKUP($A66,#REF!,8,0)))","v":0},0,1,0,0,0,0,{"$f":"IF(ISERROR(VLOOKUP($A66,#REF!,8,0)),0,(VLOOKUP($A66,#REF!,8,0)))","v":0},0,1,0,0,0,0,921.33410400000002,921.33410400000002,1,0]
["1.55","Curva de aço galvanizado 3\".","un",2,2,0,126.98599800000001,253.97199600000002,6.9912799999999997,13.982559999999999,0,0,133.97727800000001,0,267.95455600000003,2,1,253.97199600000002,13.982559999999999,0,267.95,null,0,1,0,0,0,0,null,0,1,0,0,0,0,null,0,1,0,0,0,0,null,0,1,0,0,0,0,null,0,1,0,0,0,0,{"$f":"IF(ISERROR(VLOOKUP(A67,'7ª MEDIÇÃO'!$A$5:$J$1048576,8,0)),0,(VLOOKUP(A67,'7ª MEDIÇÃO'!$A$5:$J$1048576,8,0)))","v":0},0,1,0,0,0,0,{"$f":"IF(ISERROR(VLOOKUP(A67,'8ª MEDIÇÃO'!$A$5:$J$1048576,8,0)),0,(VLOOKUP(A67,'8ª MEDIÇÃO'!$A$5:$J$1048576,8,0)))","v":0},0,1,0,0,0,0,{"$f":"IF(ISERROR(VLOOKUP(A67,'9ª MEDIÇÃO'!$A$5:$J$1048576,8,0)),0,(VLOOKUP(A67,'9ª MEDIÇÃO'!$A$5:$J$1048576,8,0)))","v":0},0,1,0,0,0,0,{"$f":"IF(ISERROR(VLOOKUP(A67,#REF!,8,0)),0,(VLOOKUP(A67,#REF!,8,0)))","v":0},0,1,0,0,0,0,{"$f":"IF(ISERROR(VLOOKUP($A67,#REF!,8,0)),0,(VLOOKUP($A67,#REF!,8,0)))","v":0},0,1,0,0,0,0,{"$f":"IF(ISERROR(VLOOKUP($A67,#REF!,8,0)),0,(VLOOKUP($A67,#REF!,8,0)))","v":0},0,1,0,0,0,0,{"$f":"IF(ISERROR(VLOOKUP($A67,#REF!,8,0)),0,(VLOOKUP($A67,#REF!,8,0)))","v":0},0,1,0,0,0,0,{"$f":"IF(ISERROR(VLOOKUP($A67,#REF!,8,0)),0,(VLOOKUP($A67,#REF!,8,0)))","v":0},0,1,0,0,0,0,{"$f":"IF(ISERROR(VLOOKUP($A67,#REF!,8,0)),0,(VLOOKUP($A67,#REF!,8,0)))","v":0},0,1,0,0,0,0,{"$f":"IF(ISERROR(VLOOKUP($A67,#REF!,8,0)),0,(VLOOKUP($A67,#REF!,8,0)))","v":0},0,1,0,0,0,0,{"$f":"IF(ISERROR(VLOOKUP($A67,#REF!,8,0)),0,(VLOOKUP($A67,#REF!,8,0)))","v":0},0,1,0,0,0,0,{"$f":"IF(ISERROR(VLOOKUP($A67,#REF!,8,0)),0,(VLOOKUP($A67,#REF!,8,0)))","v":0},0,1,0,0,0,0,{"$f":"IF(ISERROR(VLOOKUP($A67,#REF!,8,0)),0,(VLOOKUP($A67,#REF!,8,0)))","v":0},0,1,0,0,0,0,{"$f":"IF(ISERROR(VLOOKUP($A67,#REF!,8,0)),0,(VLOOKUP($A67,#REF!,8,0)))","v":0},0,1,0,0,0,0,{"$f":"IF(ISERROR(VLOOKUP($A67,#REF!,8,0)),0,(VLOOKUP($A67,#REF!,8,0)))","v":0},0,1,0,0,0,0,{"$f":"IF(ISERROR(VLOOKUP($A67,#REF!,8,0)),0,(VLOOKUP($A67,#REF!,8,0)))","v":0},0,1,0,0,0,0,{"$f":"IF(ISERROR(VLOOKUP($A67,#REF!,8,0)),0,(VLOOKUP($A67,#REF!,8,0)))","v":0},0,1,0,0,0,0,{"$f":"IF(ISERROR(VLOOKUP($A67,#REF!,8,0)),0,(VLOOKUP($A67,#REF!,8,0)))","v":0},0,1,0,0,0,0,{"$f":"IF(ISERROR(VLOOKUP($A67,#REF!,8,0)),0,(VLOOKUP($A67,#REF!,8,0)))","v":0},0,1,0,0,0,0,{"$f":"IF(ISERROR(VLOOKUP($A67,#REF!,8,0)),0,(VLOOKUP($A67,#REF!,8,0)))","v":0},0,1,0,0,0,0,{"$f":"IF(ISERROR(VLOOKUP($A67,#REF!,8,0)),0,(VLOOKUP($A67,#REF!,8,0)))","v":0},0,1,0,0,0,0,{"$f":"IF(ISERROR(VLOOKUP($A67,#REF!,8,0)),0,(VLOOKUP($A67,#REF!,8,0)))","v":0},0,1,0,0,0,0,{"$f":"IF(ISERROR(VLOOKUP($A67,#REF!,8,0)),0,(VLOOKUP($A67,#REF!,8,0)))","v":0},0,1,0,0,0,0,{"$f":"IF(ISERROR(VLOOKUP($A67,#REF!,8,0)),0,(VLOOKUP($A67,#REF!,8,0)))","v":0},0,1,0,0,0,0,{"$f":"IF(ISERROR(VLOOKUP($A67,#REF!,8,0)),0,(VLOOKUP($A67,#REF!,8,0)))","v":0},0,1,0,0,0,0,{"$f":"IF(ISERROR(VLOOKUP($A67,#REF!,8,0)),0,(VLOOKUP($A67,#REF!,8,0)))","v":0},0,1,0,0,0,0,{"$f":"IF(ISERROR(VLOOKUP($A67,#REF!,8,0)),0,(VLOOKUP($A67,#REF!,8,0)))","v":0},0,1,0,0,0,0,{"$f":"IF(ISERROR(VLOOKUP($A67,#REF!,8,0)),0,(VLOOKUP($A67,#REF!,8,0)))","v":0},0,1,0,0,0,0,{"$f":"IF(ISERROR(VLOOKUP($A67,#REF!,8,0)),0,(VLOOKUP($A67,#REF!,8,0)))","v":0},0,1,0,0,0,0,{"$f":"IF(ISERROR(VLOOKUP($A67,#REF!,8,0)),0,(VLOOKUP($A67,#REF!,8,0)))","v":0},0,1,0,0,0,0,{"$f":"IF(ISERROR(VLOOKUP($A67,#REF!,8,0)),0,(VLOOKUP($A67,#REF!,8,0)))","v":0},0,1,0,0,0,0,{"$f":"IF(ISERROR(VLOOKUP($A67,#REF!,8,0)),0,(VLOOKUP($A67,#REF!,8,0)))","v":0},0,1,0,0,0,0,{"$f":"IF(ISERROR(VLOOKUP($A67,#REF!,8,0)),0,(VLOOKUP($A67,#REF!,8,0)))","v":0},0,1,0,0,0,0,{"$f":"IF(ISERROR(VLOOKUP($A67,#REF!,8,0)),0,(VLOOKUP($A67,#REF!,8,0)))","v":0},0,1,0,0,0,0,{"$f":"IF(ISERROR(VLOOKUP($A67,#REF!,8,0)),0,(VLOOKUP($A67,#REF!,8,0)))","v":0},0,1,0,0,0,0,{"$f":"IF(ISERROR(VLOOKUP($A67,#REF!,8,0)),0,(VLOOKUP($A67,#REF!,8,0)))","v":0},0,1,0,0,0,0,{"$f":"IF(ISERROR(VLOOKUP($A67,#REF!,8,0)),0,(VLOOKUP($A67,#REF!,8,0)))","v":0},0,1,0,0,0,0,{"$f":"IF(ISERROR(VLOOKUP($A67,#REF!,8,0)),0,(VLOOKUP($A67,#REF!,8,0)))","v":0},0,1,0,0,0,0,{"$f":"IF(ISERROR(VLOOKUP($A67,#REF!,8,0)),0,(VLOOKUP($A67,#REF!,8,0)))","v":0},0,1,0,0,0,0,{"$f":"IF(ISERROR(VLOOKUP($A67,#REF!,8,0)),0,(VLOOKUP($A67,#REF!,8,0)))","v":0},0,1,0,0,0,0,{"$f":"IF(ISERROR(VLOOKUP($A67,#REF!,8,0)),0,(VLOOKUP($A67,#REF!,8,0)))","v":0},0,1,0,0,0,0,{"$f":"IF(ISERROR(VLOOKUP($A67,#REF!,8,0)),0,(VLOOKUP($A67,#REF!,8,0)))","v":0},0,1,0,0,0,0,{"$f":"IF(ISERROR(VLOOKUP($A67,#REF!,8,0)),0,(VLOOKUP($A67,#REF!,8,0)))","v":0},0,1,0,0,0,0,{"$f":"IF(ISERROR(VLOOKUP($A67,#REF!,8,0)),0,(VLOOKUP($A67,#REF!,8,0)))","v":0},0,1,0,0,0,0,{"$f":"IF(ISERROR(VLOOKUP($A67,#REF!,8,0)),0,(VLOOKUP($A67,#REF!,8,0)))","v":0},0,1,0,0,0,0,{"$f":"IF(ISERROR(VLOOKUP($A67,#REF!,8,0)),0,(VLOOKUP($A67,#REF!,8,0)))","v":0},0,1,0,0,0,0,{"$f":"IF(ISERROR(VLOOKUP($A67,#REF!,8,0)),0,(VLOOKUP($A67,#REF!,8,0)))","v":0},0,1,0,0,0,0,{"$f":"IF(ISERROR(VLOOKUP($A67,#REF!,8,0)),0,(VLOOKUP($A67,#REF!,8,0)))","v":0},0,1,0,0,0,0,{"$f":"IF(ISERROR(VLOOKUP($A67,#REF!,8,0)),0,(VLOOKUP($A67,#REF!,8,0)))","v":0},0,1,0,0,0,0,267.95455600000003,267.95455600000003,1,0]
["1.56","Fornecimento e instalação de capacete de alumínio 3\".","un",1,1,0,39.380166000000003,39.380166000000003,9.9893199999999993,9.9893199999999993,0,0,49.369486000000002,0,49.369486000000002,1,1,39.380166000000003,9.9893199999999993,0,49.37,null,0,1,0,0,0,0,null,0,1,0,0,0,0,null,0,1,0,0,0,0,null,0,1,0,0,0,0,null,0,1,0,0,0,0,{"$f":"IF(ISERROR(VLOOKUP(A68,'7ª MEDIÇÃO'!$A$5:$J$1048576,8,0)),0,(VLOOKUP(A68,'7ª MEDIÇÃO'!$A$5:$J$1048576,8,0)))","v":0},0,1,0,0,0,0,{"$f":"IF(ISERROR(VLOOKUP(A68,'8ª MEDIÇÃO'!$A$5:$J$1048576,8,0)),0,(VLOOKUP(A68,'8ª MEDIÇÃO'!$A$5:$J$1048576,8,0)))","v":0},0,1,0,0,0,0,{"$f":"IF(ISERROR(VLOOKUP(A68,'9ª MEDIÇÃO'!$A$5:$J$1048576,8,0)),0,(VLOOKUP(A68,'9ª MEDIÇÃO'!$A$5:$J$1048576,8,0)))","v":0},0,1,0,0,0,0,{"$f":"IF(ISERROR(VLOOKUP(A68,#REF!,8,0)),0,(VLOOKUP(A68,#REF!,8,0)))","v":0},0,1,0,0,0,0,{"$f":"IF(ISERROR(VLOOKUP($A68,#REF!,8,0)),0,(VLOOKUP($A68,#REF!,8,0)))","v":0},0,1,0,0,0,0,{"$f":"IF(ISERROR(VLOOKUP($A68,#REF!,8,0)),0,(VLOOKUP($A68,#REF!,8,0)))","v":0},0,1,0,0,0,0,{"$f":"IF(ISERROR(VLOOKUP($A68,#REF!,8,0)),0,(VLOOKUP($A68,#REF!,8,0)))","v":0},0,1,0,0,0,0,{"$f":"IF(ISERROR(VLOOKUP($A68,#REF!,8,0)),0,(VLOOKUP($A68,#REF!,8,0)))","v":0},0,1,0,0,0,0,{"$f":"IF(ISERROR(VLOOKUP($A68,#REF!,8,0)),0,(VLOOKUP($A68,#REF!,8,0)))","v":0},0,1,0,0,0,0,{"$f":"IF(ISERROR(VLOOKUP($A68,#REF!,8,0)),0,(VLOOKUP($A68,#REF!,8,0)))","v":0},0,1,0,0,0,0,{"$f":"IF(ISERROR(VLOOKUP($A68,#REF!,8,0)),0,(VLOOKUP($A68,#REF!,8,0)))","v":0},0,1,0,0,0,0,{"$f":"IF(ISERROR(VLOOKUP($A68,#REF!,8,0)),0,(VLOOKUP($A68,#REF!,8,0)))","v":0},0,1,0,0,0,0,{"$f":"IF(ISERROR(VLOOKUP($A68,#REF!,8,0)),0,(VLOOKUP($A68,#REF!,8,0)))","v":0},0,1,0,0,0,0,{"$f":"IF(ISERROR(VLOOKUP($A68,#REF!,8,0)),0,(VLOOKUP($A68,#REF!,8,0)))","v":0},0,1,0,0,0,0,{"$f":"IF(ISERROR(VLOOKUP($A68,#REF!,8,0)),0,(VLOOKUP($A68,#REF!,8,0)))","v":0},0,1,0,0,0,0,{"$f":"IF(ISERROR(VLOOKUP($A68,#REF!,8,0)),0,(VLOOKUP($A68,#REF!,8,0)))","v":0},0,1,0,0,0,0,{"$f":"IF(ISERROR(VLOOKUP($A68,#REF!,8,0)),0,(VLOOKUP($A68,#REF!,8,0)))","v":0},0,1,0,0,0,0,{"$f":"IF(ISERROR(VLOOKUP($A68,#REF!,8,0)),0,(VLOOKUP($A68,#REF!,8,0)))","v":0},0,1,0,0,0,0,{"$f":"IF(ISERROR(VLOOKUP($A68,#REF!,8,0)),0,(VLOOKUP($A68,#REF!,8,0)))","v":0},0,1,0,0,0,0,{"$f":"IF(ISERROR(VLOOKUP($A68,#REF!,8,0)),0,(VLOOKUP($A68,#REF!,8,0)))","v":0},0,1,0,0,0,0,{"$f":"IF(ISERROR(VLOOKUP($A68,#REF!,8,0)),0,(VLOOKUP($A68,#REF!,8,0)))","v":0},0,1,0,0,0,0,{"$f":"IF(ISERROR(VLOOKUP($A68,#REF!,8,0)),0,(VLOOKUP($A68,#REF!,8,0)))","v":0},0,1,0,0,0,0,{"$f":"IF(ISERROR(VLOOKUP($A68,#REF!,8,0)),0,(VLOOKUP($A68,#REF!,8,0)))","v":0},0,1,0,0,0,0,{"$f":"IF(ISERROR(VLOOKUP($A68,#REF!,8,0)),0,(VLOOKUP($A68,#REF!,8,0)))","v":0},0,1,0,0,0,0,{"$f":"IF(ISERROR(VLOOKUP($A68,#REF!,8,0)),0,(VLOOKUP($A68,#REF!,8,0)))","v":0},0,1,0,0,0,0,{"$f":"IF(ISERROR(VLOOKUP($A68,#REF!,8,0)),0,(VLOOKUP($A68,#REF!,8,0)))","v":0},0,1,0,0,0,0,{"$f":"IF(ISERROR(VLOOKUP($A68,#REF!,8,0)),0,(VLOOKUP($A68,#REF!,8,0)))","v":0},0,1,0,0,0,0,{"$f":"IF(ISERROR(VLOOKUP($A68,#REF!,8,0)),0,(VLOOKUP($A68,#REF!,8,0)))","v":0},0,1,0,0,0,0,{"$f":"IF(ISERROR(VLOOKUP($A68,#REF!,8,0)),0,(VLOOKUP($A68,#REF!,8,0)))","v":0},0,1,0,0,0,0,{"$f":"IF(ISERROR(VLOOKUP($A68,#REF!,8,0)),0,(VLOOKUP($A68,#REF!,8,0)))","v":0},0,1,0,0,0,0,{"$f":"IF(ISERROR(VLOOKUP($A68,#REF!,8,0)),0,(VLOOKUP($A68,#REF!,8,0)))","v":0},0,1,0,0,0,0,{"$f":"IF(ISERROR(VLOOKUP($A68,#REF!,8,0)),0,(VLOOKUP($A68,#REF!,8,0)))","v":0},0,1,0,0,0,0,{"$f":"IF(ISERROR(VLOOKUP($A68,#REF!,8,0)),0,(VLOOKUP($A68,#REF!,8,0)))","v":0},0,1,0,0,0,0,{"$f":"IF(ISERROR(VLOOKUP($A68,#REF!,8,0)),0,(VLOOKUP($A68,#REF!,8,0)))","v":0},0,1,0,0,0,0,{"$f":"IF(ISERROR(VLOOKUP($A68,#REF!,8,0)),0,(VLOOKUP($A68,#REF!,8,0)))","v":0},0,1,0,0,0,0,{"$f":"IF(ISERROR(VLOOKUP($A68,#REF!,8,0)),0,(VLOOKUP($A68,#REF!,8,0)))","v":0},0,1,0,0,0,0,{"$f":"IF(ISERROR(VLOOKUP($A68,#REF!,8,0)),0,(VLOOKUP($A68,#REF!,8,0)))","v":0},0,1,0,0,0,0,{"$f":"IF(ISERROR(VLOOKUP($A68,#REF!,8,0)),0,(VLOOKUP($A68,#REF!,8,0)))","v":0},0,1,0,0,0,0,{"$f":"IF(ISERROR(VLOOKUP($A68,#REF!,8,0)),0,(VLOOKUP($A68,#REF!,8,0)))","v":0},0,1,0,0,0,0,{"$f":"IF(ISERROR(VLOOKUP($A68,#REF!,8,0)),0,(VLOOKUP($A68,#REF!,8,0)))","v":0},0,1,0,0,0,0,{"$f":"IF(ISERROR(VLOOKUP($A68,#REF!,8,0)),0,(VLOOKUP($A68,#REF!,8,0)))","v":0},0,1,0,0,0,0,{"$f":"IF(ISERROR(VLOOKUP($A68,#REF!,8,0)),0,(VLOOKUP($A68,#REF!,8,0)))","v":0},0,1,0,0,0,0,{"$f":"IF(ISERROR(VLOOKUP($A68,#REF!,8,0)),0,(VLOOKUP($A68,#REF!,8,0)))","v":0},0,1,0,0,0,0,{"$f":"IF(ISERROR(VLOOKUP($A68,#REF!,8,0)),0,(VLOOKUP($A68,#REF!,8,0)))","v":0},0,1,0,0,0,0,{"$f":"IF(ISERROR(VLOOKUP($A68,#REF!,8,0)),0,(VLOOKUP($A68,#REF!,8,0)))","v":0},0,1,0,0,0,0,{"$f":"IF(ISERROR(VLOOKUP($A68,#REF!,8,0)),0,(VLOOKUP($A68,#REF!,8,0)))","v":0},0,1,0,0,0,0,{"$f":"IF(ISERROR(VLOOKUP($A68,#REF!,8,0)),0,(VLOOKUP($A68,#REF!,8,0)))","v":0},0,1,0,0,0,0,{"$f":"IF(ISERROR(VLOOKUP($A68,#REF!,8,0)),0,(VLOOKUP($A68,#REF!,8,0)))","v":0},0,1,0,0,0,0,{"$f":"IF(ISERROR(VLOOKUP($A68,#REF!,8,0)),0,(VLOOKUP($A68,#REF!,8,0)))","v":0},0,1,0,0,0,0,49.369486000000002,49.369486000000002,1,0]
["1.57","Fornecimento e instalação de caixa para medição padrão celpe modelo f3, inclusive acessórios.","un",1,1,0,1292.8111040000001,1292.8111040000001,49.909279999999995,49.909279999999995,0,0,1342.7203840000002,0,1342.7203840000002,1,1,1292.8111040000001,49.909279999999995,0,1342.72,null,0,1,0,0,0,0,null,0,1,0,0,0,0,null,0,1,0,0,0,0,null,0,1,0,0,0,0,null,0,1,0,0,0,0,{"$f":"IF(ISERROR(VLOOKUP(A69,'7ª MEDIÇÃO'!$A$5:$J$1048576,8,0)),0,(VLOOKUP(A69,'7ª MEDIÇÃO'!$A$5:$J$1048576,8,0)))","v":0},0,1,0,0,0,0,{"$f":"IF(ISERROR(VLOOKUP(A69,'8ª MEDIÇÃO'!$A$5:$J$1048576,8,0)),0,(VLOOKUP(A69,'8ª MEDIÇÃO'!$A$5:$J$1048576,8,0)))","v":0},0,1,0,0,0,0,{"$f":"IF(ISERROR(VLOOKUP(A69,'9ª MEDIÇÃO'!$A$5:$J$1048576,8,0)),0,(VLOOKUP(A69,'9ª MEDIÇÃO'!$A$5:$J$1048576,8,0)))","v":0},0,1,0,0,0,0,{"$f":"IF(ISERROR(VLOOKUP(A69,#REF!,8,0)),0,(VLOOKUP(A69,#REF!,8,0)))","v":0},0,1,0,0,0,0,{"$f":"IF(ISERROR(VLOOKUP($A69,#REF!,8,0)),0,(VLOOKUP($A69,#REF!,8,0)))","v":0},0,1,0,0,0,0,{"$f":"IF(ISERROR(VLOOKUP($A69,#REF!,8,0)),0,(VLOOKUP($A69,#REF!,8,0)))","v":0},0,1,0,0,0,0,{"$f":"IF(ISERROR(VLOOKUP($A69,#REF!,8,0)),0,(VLOOKUP($A69,#REF!,8,0)))","v":0},0,1,0,0,0,0,{"$f":"IF(ISERROR(VLOOKUP($A69,#REF!,8,0)),0,(VLOOKUP($A69,#REF!,8,0)))","v":0},0,1,0,0,0,0,{"$f":"IF(ISERROR(VLOOKUP($A69,#REF!,8,0)),0,(VLOOKUP($A69,#REF!,8,0)))","v":0},0,1,0,0,0,0,{"$f":"IF(ISERROR(VLOOKUP($A69,#REF!,8,0)),0,(VLOOKUP($A69,#REF!,8,0)))","v":0},0,1,0,0,0,0,{"$f":"IF(ISERROR(VLOOKUP($A69,#REF!,8,0)),0,(VLOOKUP($A69,#REF!,8,0)))","v":0},0,1,0,0,0,0,{"$f":"IF(ISERROR(VLOOKUP($A69,#REF!,8,0)),0,(VLOOKUP($A69,#REF!,8,0)))","v":0},0,1,0,0,0,0,{"$f":"IF(ISERROR(VLOOKUP($A69,#REF!,8,0)),0,(VLOOKUP($A69,#REF!,8,0)))","v":0},0,1,0,0,0,0,{"$f":"IF(ISERROR(VLOOKUP($A69,#REF!,8,0)),0,(VLOOKUP($A69,#REF!,8,0)))","v":0},0,1,0,0,0,0,{"$f":"IF(ISERROR(VLOOKUP($A69,#REF!,8,0)),0,(VLOOKUP($A69,#REF!,8,0)))","v":0},0,1,0,0,0,0,{"$f":"IF(ISERROR(VLOOKUP($A69,#REF!,8,0)),0,(VLOOKUP($A69,#REF!,8,0)))","v":0},0,1,0,0,0,0,{"$f":"IF(ISERROR(VLOOKUP($A69,#REF!,8,0)),0,(VLOOKUP($A69,#REF!,8,0)))","v":0},0,1,0,0,0,0,{"$f":"IF(ISERROR(VLOOKUP($A69,#REF!,8,0)),0,(VLOOKUP($A69,#REF!,8,0)))","v":0},0,1,0,0,0,0,{"$f":"IF(ISERROR(VLOOKUP($A69,#REF!,8,0)),0,(VLOOKUP($A69,#REF!,8,0)))","v":0},0,1,0,0,0,0,{"$f":"IF(ISERROR(VLOOKUP($A69,#REF!,8,0)),0,(VLOOKUP($A69,#REF!,8,0)))","v":0},0,1,0,0,0,0,{"$f":"IF(ISERROR(VLOOKUP($A69,#REF!,8,0)),0,(VLOOKUP($A69,#REF!,8,0)))","v":0},0,1,0,0,0,0,{"$f":"IF(ISERROR(VLOOKUP($A69,#REF!,8,0)),0,(VLOOKUP($A69,#REF!,8,0)))","v":0},0,1,0,0,0,0,{"$f":"IF(ISERROR(VLOOKUP($A69,#REF!,8,0)),0,(VLOOKUP($A69,#REF!,8,0)))","v":0},0,1,0,0,0,0,{"$f":"IF(ISERROR(VLOOKUP($A69,#REF!,8,0)),0,(VLOOKUP($A69,#REF!,8,0)))","v":0},0,1,0,0,0,0,{"$f":"IF(ISERROR(VLOOKUP($A69,#REF!,8,0)),0,(VLOOKUP($A69,#REF!,8,0)))","v":0},0,1,0,0,0,0,{"$f":"IF(ISERROR(VLOOKUP($A69,#REF!,8,0)),0,(VLOOKUP($A69,#REF!,8,0)))","v":0},0,1,0,0,0,0,{"$f":"IF(ISERROR(VLOOKUP($A69,#REF!,8,0)),0,(VLOOKUP($A69,#REF!,8,0)))","v":0},0,1,0,0,0,0,{"$f":"IF(ISERROR(VLOOKUP($A69,#REF!,8,0)),0,(VLOOKUP($A69,#REF!,8,0)))","v":0},0,1,0,0,0,0,{"$f":"IF(ISERROR(VLOOKUP($A69,#REF!,8,0)),0,(VLOOKUP($A69,#REF!,8,0)))","v":0},0,1,0,0,0,0,{"$f":"IF(ISERROR(VLOOKUP($A69,#REF!,8,0)),0,(VLOOKUP($A69,#REF!,8,0)))","v":0},0,1,0,0,0,0,{"$f":"IF(ISERROR(VLOOKUP($A69,#REF!,8,0)),0,(VLOOKUP($A69,#REF!,8,0)))","v":0},0,1,0,0,0,0,{"$f":"IF(ISERROR(VLOOKUP($A69,#REF!,8,0)),0,(VLOOKUP($A69,#REF!,8,0)))","v":0},0,1,0,0,0,0,{"$f":"IF(ISERROR(VLOOKUP($A69,#REF!,8,0)),0,(VLOOKUP($A69,#REF!,8,0)))","v":0},0,1,0,0,0,0,{"$f":"IF(ISERROR(VLOOKUP($A69,#REF!,8,0)),0,(VLOOKUP($A69,#REF!,8,0)))","v":0},0,1,0,0,0,0,{"$f":"IF(ISERROR(VLOOKUP($A69,#REF!,8,0)),0,(VLOOKUP($A69,#REF!,8,0)))","v":0},0,1,0,0,0,0,{"$f":"IF(ISERROR(VLOOKUP($A69,#REF!,8,0)),0,(VLOOKUP($A69,#REF!,8,0)))","v":0},0,1,0,0,0,0,{"$f":"IF(ISERROR(VLOOKUP($A69,#REF!,8,0)),0,(VLOOKUP($A69,#REF!,8,0)))","v":0},0,1,0,0,0,0,{"$f":"IF(ISERROR(VLOOKUP($A69,#REF!,8,0)),0,(VLOOKUP($A69,#REF!,8,0)))","v":0},0,1,0,0,0,0,{"$f":"IF(ISERROR(VLOOKUP($A69,#REF!,8,0)),0,(VLOOKUP($A69,#REF!,8,0)))","v":0},0,1,0,0,0,0,{"$f":"IF(ISERROR(VLOOKUP($A69,#REF!,8,0)),0,(VLOOKUP($A69,#REF!,8,0)))","v":0},0,1,0,0,0,0,{"$f":"IF(ISERROR(VLOOKUP($A69,#REF!,8,0)),0,(VLOOKUP($A69,#REF!,8,0)))","v":0},0,1,0,0,0,0,{"$f":"IF(ISERROR(VLOOKUP($A69,#REF!,8,0)),0,(VLOOKUP($A69,#REF!,8,0)))","v":0},0,1,0,0,0,0,{"$f":"IF(ISERROR(VLOOKUP($A69,#REF!,8,0)),0,(VLOOKUP($A69,#REF!,8,0)))","v":0},0,1,0,0,0,0,{"$f":"IF(ISERROR(VLOOKUP($A69,#REF!,8,0)),0,(VLOOKUP($A69,#REF!,8,0)))","v":0},0,1,0,0,0,0,{"$f":"IF(ISERROR(VLOOKUP($A69,#REF!,8,0)),0,(VLOOKUP($A69,#REF!,8,0)))","v":0},0,1,0,0,0,0,{"$f":"IF(ISERROR(VLOOKUP($A69,#REF!,8,0)),0,(VLOOKUP($A69,#REF!,8,0)))","v":0},0,1,0,0,0,0,{"$f":"IF(ISERROR(VLOOKUP($A69,#REF!,8,0)),0,(VLOOKUP($A69,#REF!,8,0)))","v":0},0,1,0,0,0,0,{"$f":"IF(ISERROR(VLOOKUP($A69,#REF!,8,0)),0,(VLOOKUP($A69,#REF!,8,0)))","v":0},0,1,0,0,0,0,{"$f":"IF(ISERROR(VLOOKUP($A69,#REF!,8,0)),0,(VLOOKUP($A69,#REF!,8,0)))","v":0},0,1,0,0,0,0,1342.7203840000002,1342.7203840000002,1,0]
["1.58","Terminal ou conector de pressão - para cabo 95mm² - fornecimento e instalação","un",12,12,0,6.875902,82.510824,9.9893199999999993,119.87183999999999,0,0,16.865221999999999,0,202.38266399999998,12,1,82.510824,119.87183999999999,0,202.38,null,0,1,0,0,0,0,null,0,1,0,0,0,0,null,0,1,0,0,0,0,null,0,1,0,0,0,0,null,0,1,0,0,0,0,{"$f":"IF(ISERROR(VLOOKUP(A70,'7ª MEDIÇÃO'!$A$5:$J$1048576,8,0)),0,(VLOOKUP(A70,'7ª MEDIÇÃO'!$A$5:$J$1048576,8,0)))","v":0},0,1,0,0,0,0,{"$f":"IF(ISERROR(VLOOKUP(A70,'8ª MEDIÇÃO'!$A$5:$J$1048576,8,0)),0,(VLOOKUP(A70,'8ª MEDIÇÃO'!$A$5:$J$1048576,8,0)))","v":0},0,1,0,0,0,0,{"$f":"IF(ISERROR(VLOOKUP(A70,'9ª MEDIÇÃO'!$A$5:$J$1048576,8,0)),0,(VLOOKUP(A70,'9ª MEDIÇÃO'!$A$5:$J$1048576,8,0)))","v":0},0,1,0,0,0,0,{"$f":"IF(ISERROR(VLOOKUP(A70,#REF!,8,0)),0,(VLOOKUP(A70,#REF!,8,0)))","v":0},0,1,0,0,0,0,{"$f":"IF(ISERROR(VLOOKUP($A70,#REF!,8,0)),0,(VLOOKUP($A70,#REF!,8,0)))","v":0},0,1,0,0,0,0,{"$f":"IF(ISERROR(VLOOKUP($A70,#REF!,8,0)),0,(VLOOKUP($A70,#REF!,8,0)))","v":0},0,1,0,0,0,0,{"$f":"IF(ISERROR(VLOOKUP($A70,#REF!,8,0)),0,(VLOOKUP($A70,#REF!,8,0)))","v":0},0,1,0,0,0,0,{"$f":"IF(ISERROR(VLOOKUP($A70,#REF!,8,0)),0,(VLOOKUP($A70,#REF!,8,0)))","v":0},0,1,0,0,0,0,{"$f":"IF(ISERROR(VLOOKUP($A70,#REF!,8,0)),0,(VLOOKUP($A70,#REF!,8,0)))","v":0},0,1,0,0,0,0,{"$f":"IF(ISERROR(VLOOKUP($A70,#REF!,8,0)),0,(VLOOKUP($A70,#REF!,8,0)))","v":0},0,1,0,0,0,0,{"$f":"IF(ISERROR(VLOOKUP($A70,#REF!,8,0)),0,(VLOOKUP($A70,#REF!,8,0)))","v":0},0,1,0,0,0,0,{"$f":"IF(ISERROR(VLOOKUP($A70,#REF!,8,0)),0,(VLOOKUP($A70,#REF!,8,0)))","v":0},0,1,0,0,0,0,{"$f":"IF(ISERROR(VLOOKUP($A70,#REF!,8,0)),0,(VLOOKUP($A70,#REF!,8,0)))","v":0},0,1,0,0,0,0,{"$f":"IF(ISERROR(VLOOKUP($A70,#REF!,8,0)),0,(VLOOKUP($A70,#REF!,8,0)))","v":0},0,1,0,0,0,0,{"$f":"IF(ISERROR(VLOOKUP($A70,#REF!,8,0)),0,(VLOOKUP($A70,#REF!,8,0)))","v":0},0,1,0,0,0,0,{"$f":"IF(ISERROR(VLOOKUP($A70,#REF!,8,0)),0,(VLOOKUP($A70,#REF!,8,0)))","v":0},0,1,0,0,0,0,{"$f":"IF(ISERROR(VLOOKUP($A70,#REF!,8,0)),0,(VLOOKUP($A70,#REF!,8,0)))","v":0},0,1,0,0,0,0,{"$f":"IF(ISERROR(VLOOKUP($A70,#REF!,8,0)),0,(VLOOKUP($A70,#REF!,8,0)))","v":0},0,1,0,0,0,0,{"$f":"IF(ISERROR(VLOOKUP($A70,#REF!,8,0)),0,(VLOOKUP($A70,#REF!,8,0)))","v":0},0,1,0,0,0,0,{"$f":"IF(ISERROR(VLOOKUP($A70,#REF!,8,0)),0,(VLOOKUP($A70,#REF!,8,0)))","v":0},0,1,0,0,0,0,{"$f":"IF(ISERROR(VLOOKUP($A70,#REF!,8,0)),0,(VLOOKUP($A70,#REF!,8,0)))","v":0},0,1,0,0,0,0,{"$f":"IF(ISERROR(VLOOKUP($A70,#REF!,8,0)),0,(VLOOKUP($A70,#REF!,8,0)))","v":0},0,1,0,0,0,0,{"$f":"IF(ISERROR(VLOOKUP($A70,#REF!,8,0)),0,(VLOOKUP($A70,#REF!,8,0)))","v":0},0,1,0,0,0,0,{"$f":"IF(ISERROR(VLOOKUP($A70,#REF!,8,0)),0,(VLOOKUP($A70,#REF!,8,0)))","v":0},0,1,0,0,0,0,{"$f":"IF(ISERROR(VLOOKUP($A70,#REF!,8,0)),0,(VLOOKUP($A70,#REF!,8,0)))","v":0},0,1,0,0,0,0,{"$f":"IF(ISERROR(VLOOKUP($A70,#REF!,8,0)),0,(VLOOKUP($A70,#REF!,8,0)))","v":0},0,1,0,0,0,0,{"$f":"IF(ISERROR(VLOOKUP($A70,#REF!,8,0)),0,(VLOOKUP($A70,#REF!,8,0)))","v":0},0,1,0,0,0,0,{"$f":"IF(ISERROR(VLOOKUP($A70,#REF!,8,0)),0,(VLOOKUP($A70,#REF!,8,0)))","v":0},0,1,0,0,0,0,{"$f":"IF(ISERROR(VLOOKUP($A70,#REF!,8,0)),0,(VLOOKUP($A70,#REF!,8,0)))","v":0},0,1,0,0,0,0,{"$f":"IF(ISERROR(VLOOKUP($A70,#REF!,8,0)),0,(VLOOKUP($A70,#REF!,8,0)))","v":0},0,1,0,0,0,0,{"$f":"IF(ISERROR(VLOOKUP($A70,#REF!,8,0)),0,(VLOOKUP($A70,#REF!,8,0)))","v":0},0,1,0,0,0,0,{"$f":"IF(ISERROR(VLOOKUP($A70,#REF!,8,0)),0,(VLOOKUP($A70,#REF!,8,0)))","v":0},0,1,0,0,0,0,{"$f":"IF(ISERROR(VLOOKUP($A70,#REF!,8,0)),0,(VLOOKUP($A70,#REF!,8,0)))","v":0},0,1,0,0,0,0,{"$f":"IF(ISERROR(VLOOKUP($A70,#REF!,8,0)),0,(VLOOKUP($A70,#REF!,8,0)))","v":0},0,1,0,0,0,0,{"$f":"IF(ISERROR(VLOOKUP($A70,#REF!,8,0)),0,(VLOOKUP($A70,#REF!,8,0)))","v":0},0,1,0,0,0,0,{"$f":"IF(ISERROR(VLOOKUP($A70,#REF!,8,0)),0,(VLOOKUP($A70,#REF!,8,0)))","v":0},0,1,0,0,0,0,{"$f":"IF(ISERROR(VLOOKUP($A70,#REF!,8,0)),0,(VLOOKUP($A70,#REF!,8,0)))","v":0},0,1,0,0,0,0,{"$f":"IF(ISERROR(VLOOKUP($A70,#REF!,8,0)),0,(VLOOKUP($A70,#REF!,8,0)))","v":0},0,1,0,0,0,0,{"$f":"IF(ISERROR(VLOOKUP($A70,#REF!,8,0)),0,(VLOOKUP($A70,#REF!,8,0)))","v":0},0,1,0,0,0,0,{"$f":"IF(ISERROR(VLOOKUP($A70,#REF!,8,0)),0,(VLOOKUP($A70,#REF!,8,0)))","v":0},0,1,0,0,0,0,{"$f":"IF(ISERROR(VLOOKUP($A70,#REF!,8,0)),0,(VLOOKUP($A70,#REF!,8,0)))","v":0},0,1,0,0,0,0,{"$f":"IF(ISERROR(VLOOKUP($A70,#REF!,8,0)),0,(VLOOKUP($A70,#REF!,8,0)))","v":0},0,1,0,0,0,0,{"$f":"IF(ISERROR(VLOOKUP($A70,#REF!,8,0)),0,(VLOOKUP($A70,#REF!,8,0)))","v":0},0,1,0,0,0,0,{"$f":"IF(ISERROR(VLOOKUP($A70,#REF!,8,0)),0,(VLOOKUP($A70,#REF!,8,0)))","v":0},0,1,0,0,0,0,{"$f":"IF(ISERROR(VLOOKUP($A70,#REF!,8,0)),0,(VLOOKUP($A70,#REF!,8,0)))","v":0},0,1,0,0,0,0,{"$f":"IF(ISERROR(VLOOKUP($A70,#REF!,8,0)),0,(VLOOKUP($A70,#REF!,8,0)))","v":0},0,1,0,0,0,0,{"$f":"IF(ISERROR(VLOOKUP($A70,#REF!,8,0)),0,(VLOOKUP($A70,#REF!,8,0)))","v":0},0,1,0,0,0,0,{"$f":"IF(ISERROR(VLOOKUP($A70,#REF!,8,0)),0,(VLOOKUP($A70,#REF!,8,0)))","v":0},0,1,0,0,0,0,{"$f":"IF(ISERROR(VLOOKUP($A70,#REF!,8,0)),0,(VLOOKUP($A70,#REF!,8,0)))","v":0},0,1,0,0,0,0,202.38266399999998,202.38266399999998,1,0]
["1.59","Fornecimento e instalação de conector de pressão tipo split-bolt para cabo 50mm²","un",15,15,0,6.7815500000000002,101.72325000000001,5.0008799999999995,75.013199999999998,0,0,11.78243,0,176.73644999999999,15,1,101.72325000000001,75.013199999999998,0,176.74,null,0,1,0,0,0,0,null,0,1,0,0,0,0,null,0,1,0,0,0,0,null,0,1,0,0,0,0,null,0,1,0,0,0,0,{"$f":"IF(ISERROR(VLOOKUP(A71,'7ª MEDIÇÃO'!$A$5:$J$1048576,8,0)),0,(VLOOKUP(A71,'7ª MEDIÇÃO'!$A$5:$J$1048576,8,0)))","v":0},0,1,0,0,0,0,{"$f":"IF(ISERROR(VLOOKUP(A71,'8ª MEDIÇÃO'!$A$5:$J$1048576,8,0)),0,(VLOOKUP(A71,'8ª MEDIÇÃO'!$A$5:$J$1048576,8,0)))","v":0},0,1,0,0,0,0,{"$f":"IF(ISERROR(VLOOKUP(A71,'9ª MEDIÇÃO'!$A$5:$J$1048576,8,0)),0,(VLOOKUP(A71,'9ª MEDIÇÃO'!$A$5:$J$1048576,8,0)))","v":0},0,1,0,0,0,0,{"$f":"IF(ISERROR(VLOOKUP(A71,#REF!,8,0)),0,(VLOOKUP(A71,#REF!,8,0)))","v":0},0,1,0,0,0,0,{"$f":"IF(ISERROR(VLOOKUP($A71,#REF!,8,0)),0,(VLOOKUP($A71,#REF!,8,0)))","v":0},0,1,0,0,0,0,{"$f":"IF(ISERROR(VLOOKUP($A71,#REF!,8,0)),0,(VLOOKUP($A71,#REF!,8,0)))","v":0},0,1,0,0,0,0,{"$f":"IF(ISERROR(VLOOKUP($A71,#REF!,8,0)),0,(VLOOKUP($A71,#REF!,8,0)))","v":0},0,1,0,0,0,0,{"$f":"IF(ISERROR(VLOOKUP($A71,#REF!,8,0)),0,(VLOOKUP($A71,#REF!,8,0)))","v":0},0,1,0,0,0,0,{"$f":"IF(ISERROR(VLOOKUP($A71,#REF!,8,0)),0,(VLOOKUP($A71,#REF!,8,0)))","v":0},0,1,0,0,0,0,{"$f":"IF(ISERROR(VLOOKUP($A71,#REF!,8,0)),0,(VLOOKUP($A71,#REF!,8,0)))","v":0},0,1,0,0,0,0,{"$f":"IF(ISERROR(VLOOKUP($A71,#REF!,8,0)),0,(VLOOKUP($A71,#REF!,8,0)))","v":0},0,1,0,0,0,0,{"$f":"IF(ISERROR(VLOOKUP($A71,#REF!,8,0)),0,(VLOOKUP($A71,#REF!,8,0)))","v":0},0,1,0,0,0,0,{"$f":"IF(ISERROR(VLOOKUP($A71,#REF!,8,0)),0,(VLOOKUP($A71,#REF!,8,0)))","v":0},0,1,0,0,0,0,{"$f":"IF(ISERROR(VLOOKUP($A71,#REF!,8,0)),0,(VLOOKUP($A71,#REF!,8,0)))","v":0},0,1,0,0,0,0,{"$f":"IF(ISERROR(VLOOKUP($A71,#REF!,8,0)),0,(VLOOKUP($A71,#REF!,8,0)))","v":0},0,1,0,0,0,0,{"$f":"IF(ISERROR(VLOOKUP($A71,#REF!,8,0)),0,(VLOOKUP($A71,#REF!,8,0)))","v":0},0,1,0,0,0,0,{"$f":"IF(ISERROR(VLOOKUP($A71,#REF!,8,0)),0,(VLOOKUP($A71,#REF!,8,0)))","v":0},0,1,0,0,0,0,{"$f":"IF(ISERROR(VLOOKUP($A71,#REF!,8,0)),0,(VLOOKUP($A71,#REF!,8,0)))","v":0},0,1,0,0,0,0,{"$f":"IF(ISERROR(VLOOKUP($A71,#REF!,8,0)),0,(VLOOKUP($A71,#REF!,8,0)))","v":0},0,1,0,0,0,0,{"$f":"IF(ISERROR(VLOOKUP($A71,#REF!,8,0)),0,(VLOOKUP($A71,#REF!,8,0)))","v":0},0,1,0,0,0,0,{"$f":"IF(ISERROR(VLOOKUP($A71,#REF!,8,0)),0,(VLOOKUP($A71,#REF!,8,0)))","v":0},0,1,0,0,0,0,{"$f":"IF(ISERROR(VLOOKUP($A71,#REF!,8,0)),0,(VLOOKUP($A71,#REF!,8,0)))","v":0},0,1,0,0,0,0,{"$f":"IF(ISERROR(VLOOKUP($A71,#REF!,8,0)),0,(VLOOKUP($A71,#REF!,8,0)))","v":0},0,1,0,0,0,0,{"$f":"IF(ISERROR(VLOOKUP($A71,#REF!,8,0)),0,(VLOOKUP($A71,#REF!,8,0)))","v":0},0,1,0,0,0,0,{"$f":"IF(ISERROR(VLOOKUP($A71,#REF!,8,0)),0,(VLOOKUP($A71,#REF!,8,0)))","v":0},0,1,0,0,0,0,{"$f":"IF(ISERROR(VLOOKUP($A71,#REF!,8,0)),0,(VLOOKUP($A71,#REF!,8,0)))","v":0},0,1,0,0,0,0,{"$f":"IF(ISERROR(VLOOKUP($A71,#REF!,8,0)),0,(VLOOKUP($A71,#REF!,8,0)))","v":0},0,1,0,0,0,0,{"$f":"IF(ISERROR(VLOOKUP($A71,#REF!,8,0)),0,(VLOOKUP($A71,#REF!,8,0)))","v":0},0,1,0,0,0,0,{"$f":"IF(ISERROR(VLOOKUP($A71,#REF!,8,0)),0,(VLOOKUP($A71,#REF!,8,0)))","v":0},0,1,0,0,0,0,{"$f":"IF(ISERROR(VLOOKUP($A71,#REF!,8,0)),0,(VLOOKUP($A71,#REF!,8,0)))","v":0},0,1,0,0,0,0,{"$f":"IF(ISERROR(VLOOKUP($A71,#REF!,8,0)),0,(VLOOKUP($A71,#REF!,8,0)))","v":0},0,1,0,0,0,0,{"$f":"IF(ISERROR(VLOOKUP($A71,#REF!,8,0)),0,(VLOOKUP($A71,#REF!,8,0)))","v":0},0,1,0,0,0,0,{"$f":"IF(ISERROR(VLOOKUP($A71,#REF!,8,0)),0,(VLOOKUP($A71,#REF!,8,0)))","v":0},0,1,0,0,0,0,{"$f":"IF(ISERROR(VLOOKUP($A71,#REF!,8,0)),0,(VLOOKUP($A71,#REF!,8,0)))","v":0},0,1,0,0,0,0,{"$f":"IF(ISERROR(VLOOKUP($A71,#REF!,8,0)),0,(VLOOKUP($A71,#REF!,8,0)))","v":0},0,1,0,0,0,0,{"$f":"IF(ISERROR(VLOOKUP($A71,#REF!,8,0)),0,(VLOOKUP($A71,#REF!,8,0)))","v":0},0,1,0,0,0,0,{"$f":"IF(ISERROR(VLOOKUP($A71,#REF!,8,0)),0,(VLOOKUP($A71,#REF!,8,0)))","v":0},0,1,0,0,0,0,{"$f":"IF(ISERROR(VLOOKUP($A71,#REF!,8,0)),0,(VLOOKUP($A71,#REF!,8,0)))","v":0},0,1,0,0,0,0,{"$f":"IF(ISERROR(VLOOKUP($A71,#REF!,8,0)),0,(VLOOKUP($A71,#REF!,8,0)))","v":0},0,1,0,0,0,0,{"$f":"IF(ISERROR(VLOOKUP($A71,#REF!,8,0)),0,(VLOOKUP($A71,#REF!,8,0)))","v":0},0,1,0,0,0,0,{"$f":"IF(ISERROR(VLOOKUP($A71,#REF!,8,0)),0,(VLOOKUP($A71,#REF!,8,0)))","v":0},0,1,0,0,0,0,{"$f":"IF(ISERROR(VLOOKUP($A71,#REF!,8,0)),0,(VLOOKUP($A71,#REF!,8,0)))","v":0},0,1,0,0,0,0,{"$f":"IF(ISERROR(VLOOKUP($A71,#REF!,8,0)),0,(VLOOKUP($A71,#REF!,8,0)))","v":0},0,1,0,0,0,0,{"$f":"IF(ISERROR(VLOOKUP($A71,#REF!,8,0)),0,(VLOOKUP($A71,#REF!,8,0)))","v":0},0,1,0,0,0,0,{"$f":"IF(ISERROR(VLOOKUP($A71,#REF!,8,0)),0,(VLOOKUP($A71,#REF!,8,0)))","v":0},0,1,0,0,0,0,{"$f":"IF(ISERROR(VLOOKUP($A71,#REF!,8,0)),0,(VLOOKUP($A71,#REF!,8,0)))","v":0},0,1,0,0,0,0,{"$f":"IF(ISERROR(VLOOKUP($A71,#REF!,8,0)),0,(VLOOKUP($A71,#REF!,8,0)))","v":0},0,1,0,0,0,0,{"$f":"IF(ISERROR(VLOOKUP($A71,#REF!,8,0)),0,(VLOOKUP($A71,#REF!,8,0)))","v":0},0,1,0,0,0,0,{"$f":"IF(ISERROR(VLOOKUP($A71,#REF!,8,0)),0,(VLOOKUP($A71,#REF!,8,0)))","v":0},0,1,0,0,0,0,176.73644999999999,176.73644999999999,1,0]
["1.60","Conector parafuso fendido split-bolt - para cabo de 35mm² - fornecimento e instalação","un",2,2,0,4.8355399999999999,9.6710799999999999,5.0008799999999995,10.001759999999999,0,0,9.8364200000000004,0,19.672840000000001,2,1,9.6710799999999999,10.001759999999999,0,19.670000000000002,null,0,1,0,0,0,0,null,0,1,0,0,0,0,null,0,1,0,0,0,0,null,0,1,0,0,0,0,null,0,1,0,0,0,0,{"$f":"IF(ISERROR(VLOOKUP(A72,'7ª MEDIÇÃO'!$A$5:$J$1048576,8,0)),0,(VLOOKUP(A72,'7ª MEDIÇÃO'!$A$5:$J$1048576,8,0)))","v":0},0,1,0,0,0,0,{"$f":"IF(ISERROR(VLOOKUP(A72,'8ª MEDIÇÃO'!$A$5:$J$1048576,8,0)),0,(VLOOKUP(A72,'8ª MEDIÇÃO'!$A$5:$J$1048576,8,0)))","v":0},0,1,0,0,0,0,{"$f":"IF(ISERROR(VLOOKUP(A72,'9ª MEDIÇÃO'!$A$5:$J$1048576,8,0)),0,(VLOOKUP(A72,'9ª MEDIÇÃO'!$A$5:$J$1048576,8,0)))","v":0},0,1,0,0,0,0,{"$f":"IF(ISERROR(VLOOKUP(A72,#REF!,8,0)),0,(VLOOKUP(A72,#REF!,8,0)))","v":0},0,1,0,0,0,0,{"$f":"IF(ISERROR(VLOOKUP($A72,#REF!,8,0)),0,(VLOOKUP($A72,#REF!,8,0)))","v":0},0,1,0,0,0,0,{"$f":"IF(ISERROR(VLOOKUP($A72,#REF!,8,0)),0,(VLOOKUP($A72,#REF!,8,0)))","v":0},0,1,0,0,0,0,{"$f":"IF(ISERROR(VLOOKUP($A72,#REF!,8,0)),0,(VLOOKUP($A72,#REF!,8,0)))","v":0},0,1,0,0,0,0,{"$f":"IF(ISERROR(VLOOKUP($A72,#REF!,8,0)),0,(VLOOKUP($A72,#REF!,8,0)))","v":0},0,1,0,0,0,0,{"$f":"IF(ISERROR(VLOOKUP($A72,#REF!,8,0)),0,(VLOOKUP($A72,#REF!,8,0)))","v":0},0,1,0,0,0,0,{"$f":"IF(ISERROR(VLOOKUP($A72,#REF!,8,0)),0,(VLOOKUP($A72,#REF!,8,0)))","v":0},0,1,0,0,0,0,{"$f":"IF(ISERROR(VLOOKUP($A72,#REF!,8,0)),0,(VLOOKUP($A72,#REF!,8,0)))","v":0},0,1,0,0,0,0,{"$f":"IF(ISERROR(VLOOKUP($A72,#REF!,8,0)),0,(VLOOKUP($A72,#REF!,8,0)))","v":0},0,1,0,0,0,0,{"$f":"IF(ISERROR(VLOOKUP($A72,#REF!,8,0)),0,(VLOOKUP($A72,#REF!,8,0)))","v":0},0,1,0,0,0,0,{"$f":"IF(ISERROR(VLOOKUP($A72,#REF!,8,0)),0,(VLOOKUP($A72,#REF!,8,0)))","v":0},0,1,0,0,0,0,{"$f":"IF(ISERROR(VLOOKUP($A72,#REF!,8,0)),0,(VLOOKUP($A72,#REF!,8,0)))","v":0},0,1,0,0,0,0,{"$f":"IF(ISERROR(VLOOKUP($A72,#REF!,8,0)),0,(VLOOKUP($A72,#REF!,8,0)))","v":0},0,1,0,0,0,0,{"$f":"IF(ISERROR(VLOOKUP($A72,#REF!,8,0)),0,(VLOOKUP($A72,#REF!,8,0)))","v":0},0,1,0,0,0,0,{"$f":"IF(ISERROR(VLOOKUP($A72,#REF!,8,0)),0,(VLOOKUP($A72,#REF!,8,0)))","v":0},0,1,0,0,0,0,{"$f":"IF(ISERROR(VLOOKUP($A72,#REF!,8,0)),0,(VLOOKUP($A72,#REF!,8,0)))","v":0},0,1,0,0,0,0,{"$f":"IF(ISERROR(VLOOKUP($A72,#REF!,8,0)),0,(VLOOKUP($A72,#REF!,8,0)))","v":0},0,1,0,0,0,0,{"$f":"IF(ISERROR(VLOOKUP($A72,#REF!,8,0)),0,(VLOOKUP($A72,#REF!,8,0)))","v":0},0,1,0,0,0,0,{"$f":"IF(ISERROR(VLOOKUP($A72,#REF!,8,0)),0,(VLOOKUP($A72,#REF!,8,0)))","v":0},0,1,0,0,0,0,{"$f":"IF(ISERROR(VLOOKUP($A72,#REF!,8,0)),0,(VLOOKUP($A72,#REF!,8,0)))","v":0},0,1,0,0,0,0,{"$f":"IF(ISERROR(VLOOKUP($A72,#REF!,8,0)),0,(VLOOKUP($A72,#REF!,8,0)))","v":0},0,1,0,0,0,0,{"$f":"IF(ISERROR(VLOOKUP($A72,#REF!,8,0)),0,(VLOOKUP($A72,#REF!,8,0)))","v":0},0,1,0,0,0,0,{"$f":"IF(ISERROR(VLOOKUP($A72,#REF!,8,0)),0,(VLOOKUP($A72,#REF!,8,0)))","v":0},0,1,0,0,0,0,{"$f":"IF(ISERROR(VLOOKUP($A72,#REF!,8,0)),0,(VLOOKUP($A72,#REF!,8,0)))","v":0},0,1,0,0,0,0,{"$f":"IF(ISERROR(VLOOKUP($A72,#REF!,8,0)),0,(VLOOKUP($A72,#REF!,8,0)))","v":0},0,1,0,0,0,0,{"$f":"IF(ISERROR(VLOOKUP($A72,#REF!,8,0)),0,(VLOOKUP($A72,#REF!,8,0)))","v":0},0,1,0,0,0,0,{"$f":"IF(ISERROR(VLOOKUP($A72,#REF!,8,0)),0,(VLOOKUP($A72,#REF!,8,0)))","v":0},0,1,0,0,0,0,{"$f":"IF(ISERROR(VLOOKUP($A72,#REF!,8,0)),0,(VLOOKUP($A72,#REF!,8,0)))","v":0},0,1,0,0,0,0,{"$f":"IF(ISERROR(VLOOKUP($A72,#REF!,8,0)),0,(VLOOKUP($A72,#REF!,8,0)))","v":0},0,1,0,0,0,0,{"$f":"IF(ISERROR(VLOOKUP($A72,#REF!,8,0)),0,(VLOOKUP($A72,#REF!,8,0)))","v":0},0,1,0,0,0,0,{"$f":"IF(ISERROR(VLOOKUP($A72,#REF!,8,0)),0,(VLOOKUP($A72,#REF!,8,0)))","v":0},0,1,0,0,0,0,{"$f":"IF(ISERROR(VLOOKUP($A72,#REF!,8,0)),0,(VLOOKUP($A72,#REF!,8,0)))","v":0},0,1,0,0,0,0,{"$f":"IF(ISERROR(VLOOKUP($A72,#REF!,8,0)),0,(VLOOKUP($A72,#REF!,8,0)))","v":0},0,1,0,0,0,0,{"$f":"IF(ISERROR(VLOOKUP($A72,#REF!,8,0)),0,(VLOOKUP($A72,#REF!,8,0)))","v":0},0,1,0,0,0,0,{"$f":"IF(ISERROR(VLOOKUP($A72,#REF!,8,0)),0,(VLOOKUP($A72,#REF!,8,0)))","v":0},0,1,0,0,0,0,{"$f":"IF(ISERROR(VLOOKUP($A72,#REF!,8,0)),0,(VLOOKUP($A72,#REF!,8,0)))","v":0},0,1,0,0,0,0,{"$f":"IF(ISERROR(VLOOKUP($A72,#REF!,8,0)),0,(VLOOKUP($A72,#REF!,8,0)))","v":0},0,1,0,0,0,0,{"$f":"IF(ISERROR(VLOOKUP($A72,#REF!,8,0)),0,(VLOOKUP($A72,#REF!,8,0)))","v":0},0,1,0,0,0,0,{"$f":"IF(ISERROR(VLOOKUP($A72,#REF!,8,0)),0,(VLOOKUP($A72,#REF!,8,0)))","v":0},0,1,0,0,0,0,{"$f":"IF(ISERROR(VLOOKUP($A72,#REF!,8,0)),0,(VLOOKUP($A72,#REF!,8,0)))","v":0},0,1,0,0,0,0,{"$f":"IF(ISERROR(VLOOKUP($A72,#REF!,8,0)),0,(VLOOKUP($A72,#REF!,8,0)))","v":0},0,1,0,0,0,0,{"$f":"IF(ISERROR(VLOOKUP($A72,#REF!,8,0)),0,(VLOOKUP($A72,#REF!,8,0)))","v":0},0,1,0,0,0,0,{"$f":"IF(ISERROR(VLOOKUP($A72,#REF!,8,0)),0,(VLOOKUP($A72,#REF!,8,0)))","v":0},0,1,0,0,0,0,{"$f":"IF(ISERROR(VLOOKUP($A72,#REF!,8,0)),0,(VLOOKUP($A72,#REF!,8,0)))","v":0},0,1,0,0,0,0,{"$f":"IF(ISERROR(VLOOKUP($A72,#REF!,8,0)),0,(VLOOKUP($A72,#REF!,8,0)))","v":0},0,1,0,0,0,0,{"$f":"IF(ISERROR(VLOOKUP($A72,#REF!,8,0)),0,(VLOOKUP($A72,#REF!,8,0)))","v":0},0,1,0,0,0,0,19.672840000000001,19.672840000000001,1,0]
["1.61","Base em alvenaria com dimensões de (3,00x3,00x0,20)m, inclusive lastro de piso, espessura 10cm e piso cimentado com argamassa de cimento e areia no traço 1:3 espessura 2cm.","un",1,1,0,100.944846,100.944846,459.43407999999999,459.43407999999999,0,0,560.37892599999998,0,560.37892599999998,1,1,100.944846,459.43407999999999,0,560.38,null,0,1,0,0,0,0,null,0,1,0,0,0,0,null,0,1,0,0,0,0,null,0,1,0,0,0,0,null,0,1,0,0,0,0,{"$f":"IF(ISERROR(VLOOKUP(A73,'7ª MEDIÇÃO'!$A$5:$J$1048576,8,0)),0,(VLOOKUP(A73,'7ª MEDIÇÃO'!$A$5:$J$1048576,8,0)))","v":0},0,1,0,0,0,0,{"$f":"IF(ISERROR(VLOOKUP(A73,'8ª MEDIÇÃO'!$A$5:$J$1048576,8,0)),0,(VLOOKUP(A73,'8ª MEDIÇÃO'!$A$5:$J$1048576,8,0)))","v":0},0,1,0,0,0,0,{"$f":"IF(ISERROR(VLOOKUP(A73,'9ª MEDIÇÃO'!$A$5:$J$1048576,8,0)),0,(VLOOKUP(A73,'9ª MEDIÇÃO'!$A$5:$J$1048576,8,0)))","v":0},0,1,0,0,0,0,{"$f":"IF(ISERROR(VLOOKUP(A73,#REF!,8,0)),0,(VLOOKUP(A73,#REF!,8,0)))","v":0},0,1,0,0,0,0,{"$f":"IF(ISERROR(VLOOKUP($A73,#REF!,8,0)),0,(VLOOKUP($A73,#REF!,8,0)))","v":0},0,1,0,0,0,0,{"$f":"IF(ISERROR(VLOOKUP($A73,#REF!,8,0)),0,(VLOOKUP($A73,#REF!,8,0)))","v":0},0,1,0,0,0,0,{"$f":"IF(ISERROR(VLOOKUP($A73,#REF!,8,0)),0,(VLOOKUP($A73,#REF!,8,0)))","v":0},0,1,0,0,0,0,{"$f":"IF(ISERROR(VLOOKUP($A73,#REF!,8,0)),0,(VLOOKUP($A73,#REF!,8,0)))","v":0},0,1,0,0,0,0,{"$f":"IF(ISERROR(VLOOKUP($A73,#REF!,8,0)),0,(VLOOKUP($A73,#REF!,8,0)))","v":0},0,1,0,0,0,0,{"$f":"IF(ISERROR(VLOOKUP($A73,#REF!,8,0)),0,(VLOOKUP($A73,#REF!,8,0)))","v":0},0,1,0,0,0,0,{"$f":"IF(ISERROR(VLOOKUP($A73,#REF!,8,0)),0,(VLOOKUP($A73,#REF!,8,0)))","v":0},0,1,0,0,0,0,{"$f":"IF(ISERROR(VLOOKUP($A73,#REF!,8,0)),0,(VLOOKUP($A73,#REF!,8,0)))","v":0},0,1,0,0,0,0,{"$f":"IF(ISERROR(VLOOKUP($A73,#REF!,8,0)),0,(VLOOKUP($A73,#REF!,8,0)))","v":0},0,1,0,0,0,0,{"$f":"IF(ISERROR(VLOOKUP($A73,#REF!,8,0)),0,(VLOOKUP($A73,#REF!,8,0)))","v":0},0,1,0,0,0,0,{"$f":"IF(ISERROR(VLOOKUP($A73,#REF!,8,0)),0,(VLOOKUP($A73,#REF!,8,0)))","v":0},0,1,0,0,0,0,{"$f":"IF(ISERROR(VLOOKUP($A73,#REF!,8,0)),0,(VLOOKUP($A73,#REF!,8,0)))","v":0},0,1,0,0,0,0,{"$f":"IF(ISERROR(VLOOKUP($A73,#REF!,8,0)),0,(VLOOKUP($A73,#REF!,8,0)))","v":0},0,1,0,0,0,0,{"$f":"IF(ISERROR(VLOOKUP($A73,#REF!,8,0)),0,(VLOOKUP($A73,#REF!,8,0)))","v":0},0,1,0,0,0,0,{"$f":"IF(ISERROR(VLOOKUP($A73,#REF!,8,0)),0,(VLOOKUP($A73,#REF!,8,0)))","v":0},0,1,0,0,0,0,{"$f":"IF(ISERROR(VLOOKUP($A73,#REF!,8,0)),0,(VLOOKUP($A73,#REF!,8,0)))","v":0},0,1,0,0,0,0,{"$f":"IF(ISERROR(VLOOKUP($A73,#REF!,8,0)),0,(VLOOKUP($A73,#REF!,8,0)))","v":0},0,1,0,0,0,0,{"$f":"IF(ISERROR(VLOOKUP($A73,#REF!,8,0)),0,(VLOOKUP($A73,#REF!,8,0)))","v":0},0,1,0,0,0,0,{"$f":"IF(ISERROR(VLOOKUP($A73,#REF!,8,0)),0,(VLOOKUP($A73,#REF!,8,0)))","v":0},0,1,0,0,0,0,{"$f":"IF(ISERROR(VLOOKUP($A73,#REF!,8,0)),0,(VLOOKUP($A73,#REF!,8,0)))","v":0},0,1,0,0,0,0,{"$f":"IF(ISERROR(VLOOKUP($A73,#REF!,8,0)),0,(VLOOKUP($A73,#REF!,8,0)))","v":0},0,1,0,0,0,0,{"$f":"IF(ISERROR(VLOOKUP($A73,#REF!,8,0)),0,(VLOOKUP($A73,#REF!,8,0)))","v":0},0,1,0,0,0,0,{"$f":"IF(ISERROR(VLOOKUP($A73,#REF!,8,0)),0,(VLOOKUP($A73,#REF!,8,0)))","v":0},0,1,0,0,0,0,{"$f":"IF(ISERROR(VLOOKUP($A73,#REF!,8,0)),0,(VLOOKUP($A73,#REF!,8,0)))","v":0},0,1,0,0,0,0,{"$f":"IF(ISERROR(VLOOKUP($A73,#REF!,8,0)),0,(VLOOKUP($A73,#REF!,8,0)))","v":0},0,1,0,0,0,0,{"$f":"IF(ISERROR(VLOOKUP($A73,#REF!,8,0)),0,(VLOOKUP($A73,#REF!,8,0)))","v":0},0,1,0,0,0,0,{"$f":"IF(ISERROR(VLOOKUP($A73,#REF!,8,0)),0,(VLOOKUP($A73,#REF!,8,0)))","v":0},0,1,0,0,0,0,{"$f":"IF(ISERROR(VLOOKUP($A73,#REF!,8,0)),0,(VLOOKUP($A73,#REF!,8,0)))","v":0},0,1,0,0,0,0,{"$f":"IF(ISERROR(VLOOKUP($A73,#REF!,8,0)),0,(VLOOKUP($A73,#REF!,8,0)))","v":0},0,1,0,0,0,0,{"$f":"IF(ISERROR(VLOOKUP($A73,#REF!,8,0)),0,(VLOOKUP($A73,#REF!,8,0)))","v":0},0,1,0,0,0,0,{"$f":"IF(ISERROR(VLOOKUP($A73,#REF!,8,0)),0,(VLOOKUP($A73,#REF!,8,0)))","v":0},0,1,0,0,0,0,{"$f":"IF(ISERROR(VLOOKUP($A73,#REF!,8,0)),0,(VLOOKUP($A73,#REF!,8,0)))","v":0},0,1,0,0,0,0,{"$f":"IF(ISERROR(VLOOKUP($A73,#REF!,8,0)),0,(VLOOKUP($A73,#REF!,8,0)))","v":0},0,1,0,0,0,0,{"$f":"IF(ISERROR(VLOOKUP($A73,#REF!,8,0)),0,(VLOOKUP($A73,#REF!,8,0)))","v":0},0,1,0,0,0,0,{"$f":"IF(ISERROR(VLOOKUP($A73,#REF!,8,0)),0,(VLOOKUP($A73,#REF!,8,0)))","v":0},0,1,0,0,0,0,{"$f":"IF(ISERROR(VLOOKUP($A73,#REF!,8,0)),0,(VLOOKUP($A73,#REF!,8,0)))","v":0},0,1,0,0,0,0,{"$f":"IF(ISERROR(VLOOKUP($A73,#REF!,8,0)),0,(VLOOKUP($A73,#REF!,8,0)))","v":0},0,1,0,0,0,0,{"$f":"IF(ISERROR(VLOOKUP($A73,#REF!,8,0)),0,(VLOOKUP($A73,#REF!,8,0)))","v":0},0,1,0,0,0,0,{"$f":"IF(ISERROR(VLOOKUP($A73,#REF!,8,0)),0,(VLOOKUP($A73,#REF!,8,0)))","v":0},0,1,0,0,0,0,{"$f":"IF(ISERROR(VLOOKUP($A73,#REF!,8,0)),0,(VLOOKUP($A73,#REF!,8,0)))","v":0},0,1,0,0,0,0,{"$f":"IF(ISERROR(VLOOKUP($A73,#REF!,8,0)),0,(VLOOKUP($A73,#REF!,8,0)))","v":0},0,1,0,0,0,0,{"$f":"IF(ISERROR(VLOOKUP($A73,#REF!,8,0)),0,(VLOOKUP($A73,#REF!,8,0)))","v":0},0,1,0,0,0,0,{"$f":"IF(ISERROR(VLOOKUP($A73,#REF!,8,0)),0,(VLOOKUP($A73,#REF!,8,0)))","v":0},0,1,0,0,0,0,{"$f":"IF(ISERROR(VLOOKUP($A73,#REF!,8,0)),0,(VLOOKUP($A73,#REF!,8,0)))","v":0},0,1,0,0,0,0,{"$f":"IF(ISERROR(VLOOKUP($A73,#REF!,8,0)),0,(VLOOKUP($A73,#REF!,8,0)))","v":0},0,1,0,0,0,0,560.37892599999998,560.37892599999998,1,0]
["1.62","Caixa de passagem 30x30x40 com tampa e dreno brita","un",4,4,0,39.002758,156.011032,71.965400000000002,287.86160000000001,0,0,110.968158,0,443.87263200000001,4,1,156.011032,287.86160000000001,0,443.87,null,0,1,0,0,0,0,null,0,1,0,0,0,0,null,0,1,0,0,0,0,null,0,1,0,0,0,0,null,0,1,0,0,0,0,{"$f":"IF(ISERROR(VLOOKUP(A74,'7ª MEDIÇÃO'!$A$5:$J$1048576,8,0)),0,(VLOOKUP(A74,'7ª MEDIÇÃO'!$A$5:$J$1048576,8,0)))","v":0},0,1,0,0,0,0,{"$f":"IF(ISERROR(VLOOKUP(A74,'8ª MEDIÇÃO'!$A$5:$J$1048576,8,0)),0,(VLOOKUP(A74,'8ª MEDIÇÃO'!$A$5:$J$1048576,8,0)))","v":0},0,1,0,0,0,0,{"$f":"IF(ISERROR(VLOOKUP(A74,'9ª MEDIÇÃO'!$A$5:$J$1048576,8,0)),0,(VLOOKUP(A74,'9ª MEDIÇÃO'!$A$5:$J$1048576,8,0)))","v":0},0,1,0,0,0,0,{"$f":"IF(ISERROR(VLOOKUP(A74,#REF!,8,0)),0,(VLOOKUP(A74,#REF!,8,0)))","v":0},0,1,0,0,0,0,{"$f":"IF(ISERROR(VLOOKUP($A74,#REF!,8,0)),0,(VLOOKUP($A74,#REF!,8,0)))","v":0},0,1,0,0,0,0,{"$f":"IF(ISERROR(VLOOKUP($A74,#REF!,8,0)),0,(VLOOKUP($A74,#REF!,8,0)))","v":0},0,1,0,0,0,0,{"$f":"IF(ISERROR(VLOOKUP($A74,#REF!,8,0)),0,(VLOOKUP($A74,#REF!,8,0)))","v":0},0,1,0,0,0,0,{"$f":"IF(ISERROR(VLOOKUP($A74,#REF!,8,0)),0,(VLOOKUP($A74,#REF!,8,0)))","v":0},0,1,0,0,0,0,{"$f":"IF(ISERROR(VLOOKUP($A74,#REF!,8,0)),0,(VLOOKUP($A74,#REF!,8,0)))","v":0},0,1,0,0,0,0,{"$f":"IF(ISERROR(VLOOKUP($A74,#REF!,8,0)),0,(VLOOKUP($A74,#REF!,8,0)))","v":0},0,1,0,0,0,0,{"$f":"IF(ISERROR(VLOOKUP($A74,#REF!,8,0)),0,(VLOOKUP($A74,#REF!,8,0)))","v":0},0,1,0,0,0,0,{"$f":"IF(ISERROR(VLOOKUP($A74,#REF!,8,0)),0,(VLOOKUP($A74,#REF!,8,0)))","v":0},0,1,0,0,0,0,{"$f":"IF(ISERROR(VLOOKUP($A74,#REF!,8,0)),0,(VLOOKUP($A74,#REF!,8,0)))","v":0},0,1,0,0,0,0,{"$f":"IF(ISERROR(VLOOKUP($A74,#REF!,8,0)),0,(VLOOKUP($A74,#REF!,8,0)))","v":0},0,1,0,0,0,0,{"$f":"IF(ISERROR(VLOOKUP($A74,#REF!,8,0)),0,(VLOOKUP($A74,#REF!,8,0)))","v":0},0,1,0,0,0,0,{"$f":"IF(ISERROR(VLOOKUP($A74,#REF!,8,0)),0,(VLOOKUP($A74,#REF!,8,0)))","v":0},0,1,0,0,0,0,{"$f":"IF(ISERROR(VLOOKUP($A74,#REF!,8,0)),0,(VLOOKUP($A74,#REF!,8,0)))","v":0},0,1,0,0,0,0,{"$f":"IF(ISERROR(VLOOKUP($A74,#REF!,8,0)),0,(VLOOKUP($A74,#REF!,8,0)))","v":0},0,1,0,0,0,0,{"$f":"IF(ISERROR(VLOOKUP($A74,#REF!,8,0)),0,(VLOOKUP($A74,#REF!,8,0)))","v":0},0,1,0,0,0,0,{"$f":"IF(ISERROR(VLOOKUP($A74,#REF!,8,0)),0,(VLOOKUP($A74,#REF!,8,0)))","v":0},0,1,{"$f":"GH74*$G74","v":0},{"$f":"$I74*GH74","v":0},{"$f":"$K74*GH74","v":0},0,{"$f":"IF(ISERROR(VLOOKUP($A74,#REF!,8,0)),0,(VLOOKUP($A74,#REF!,8,0)))","v":0},0,1,{"$f":"GO74*$G74","v":0},{"$f":"$I74*GO74","v":0},{"$f":"$K74*GO74","v":0},0,{"$f":"IF(ISERROR(VLOOKUP($A74,#REF!,8,0)),0,(VLOOKUP($A74,#REF!,8,0)))","v":0},0,1,{"$f":"GV74*$G74","v":0},{"$f":"$I74*GV74","v":0},{"$f":"$K74*GV74","v":0},0,{"$f":"IF(ISERROR(VLOOKUP($A74,#REF!,8,0)),0,(VLOOKUP($A74,#REF!,8,0)))","v":0},0,1,{"$f":"HC74*$G74","v":0},{"$f":"$I74*HC74","v":0},{"$f":"$K74*HC74","v":0},0,{"$f":"IF(ISERROR(VLOOKUP($A74,#REF!,8,0)),0,(VLOOKUP($A74,#REF!,8,0)))","v":0},0,1,{"$f":"HJ74*$G74","v":0},{"$f":"$I74*HJ74","v":0},{"$f":"$K74*HJ74","v":0},0,{"$f":"IF(ISERROR(VLOOKUP($A74,#REF!,8,0)),0,(VLOOKUP($A74,#REF!,8,0)))","v":0},0,1,{"$f":"HQ74*$G74","v":0},{"$f":"$I74*HQ74","v":0},{"$f":"$K74*HQ74","v":0},0,{"$f":"IF(ISERROR(VLOOKUP($A74,#REF!,8,0)),0,(VLOOKUP($A74,#REF!,8,0)))","v":0},0,1,{"$f":"HX74*$G74","v":0},{"$f":"$I74*HX74","v":0},{"$f":"$K74*HX74","v":0},0,{"$f":"IF(ISERROR(VLOOKUP($A74,#REF!,8,0)),0,(VLOOKUP($A74,#REF!,8,0)))","v":0},0,1,{"$f":"IE74*$G74","v":0},{"$f":"$I74*IE74","v":0},{"$f":"$K74*IE74","v":0},0,{"$f":"IF(ISERROR(VLOOKUP($A74,#REF!,8,0)),0,(VLOOKUP($A74,#REF!,8,0)))","v":0},0,1,{"$f":"IL74*$G74","v":0},{"$f":"$I74*IL74","v":0},{"$f":"$K74*IL74","v":0},0,{"$f":"IF(ISERROR(VLOOKUP($A74,#REF!,8,0)),0,(VLOOKUP($A74,#REF!,8,0)))","v":0},0,1,{"$f":"IS74*$G74","v":0},{"$f":"$I74*IS74","v":0},{"$f":"$K74*IS74","v":0},0,{"$f":"IF(ISERROR(VLOOKUP($A74,#REF!,8,0)),0,(VLOOKUP($A74,#REF!,8,0)))","v":0},0,1,{"$f":"IZ74*$G74","v":0},{"$f":"$I74*IZ74","v":0},{"$f":"$K74*IZ74","v":0},0,{"$f":"IF(ISERROR(VLOOKUP($A74,#REF!,8,0)),0,(VLOOKUP($A74,#REF!,8,0)))","v":0},0,1,{"$f":"JG74*$G74","v":0},{"$f":"$I74*JG74","v":0},{"$f":"$K74*JG74","v":0},0,{"$f":"IF(ISERROR(VLOOKUP($A74,#REF!,8,0)),0,(VLOOKUP($A74,#REF!,8,0)))","v":0},0,1,{"$f":"JN74*$G74","v":0},{"$f":"$I74*JN74","v":0},{"$f":"$K74*JN74","v":0},0,{"$f":"IF(ISERROR(VLOOKUP($A74,#REF!,8,0)),0,(VLOOKUP($A74,#REF!,8,0)))","v":0},0,1,{"$f":"JU74*$G74","v":0},{"$f":"$I74*JU74","v":0},{"$f":"$K74*JU74","v":0},0,{"$f":"IF(ISERROR(VLOOKUP($A74,#REF!,8,0)),0,(VLOOKUP($A74,#REF!,8,0)))","v":0},0,1,{"$f":"KB74*$G74","v":0},{"$f":"$I74*KB74","v":0},{"$f":"$K74*KB74","v":0},0,{"$f":"IF(ISERROR(VLOOKUP($A74,#REF!,8,0)),0,(VLOOKUP($A74,#REF!,8,0)))","v":0},0,1,{"$f":"KI74*$G74","v":0},{"$f":"$I74*KI74","v":0},{"$f":"$K74*KI74","v":0},0,{"$f":"IF(ISERROR(VLOOKUP($A74,#REF!,8,0)),0,(VLOOKUP($A74,#REF!,8,0)))","v":0},0,1,{"$f":"KP74*$G74","v":0},{"$f":"$I74*KP74","v":0},{"$f":"$K74*KP74","v":0},0,{"$f":"IF(ISERROR(VLOOKUP($A74,#REF!,8,0)),0,(VLOOKUP($A74,#REF!,8,0)))","v":0},0,1,{"$f":"KW74*$G74","v":0},{"$f":"$I74*KW74","v":0},{"$f":"$K74*KW74","v":0},0,{"$f":"IF(ISERROR(VLOOKUP($A74,#REF!,8,0)),0,(VLOOKUP($A74,#REF!,8,0)))","v":0},0,1,{"$f":"LD74*$G74","v":0},{"$f":"$I74*LD74","v":0},{"$f":"$K74*LD74","v":0},0,{"$f":"IF(ISERROR(VLOOKUP($A74,#REF!,8,0)),0,(VLOOKUP($A74,#REF!,8,0)))","v":0},0,1,{"$f":"LK74*$G74","v":0},{"$f":"$I74*LK74","v":0},{"$f":"$K74*LK74","v":0},0,{"$f":"IF(ISERROR(VLOOKUP($A74,#REF!,8,0)),0,(VLOOKUP($A74,#REF!,8,0)))","v":0},0,1,{"$f":"LR74*$G74","v":0},{"$f":"$I74*LR74","v":0},{"$f":"$K74*LR74","v":0},0,{"$f":"IF(ISERROR(VLOOKUP($A74,#REF!,8,0)),0,(VLOOKUP($A74,#REF!,8,0)))","v":0},0,1,{"$f":"LY74*$G74","v":0},{"$f":"$I74*LY74","v":0},{"$f":"$K74*LY74","v":0},0,{"$f":"IF(ISERROR(VLOOKUP($A74,#REF!,8,0)),0,(VLOOKUP($A74,#REF!,8,0)))","v":0},0,1,{"$f":"MF74*$G74","v":0},{"$f":"$I74*MF74","v":0},{"$f":"$K74*MF74","v":0},0,{"$f":"IF(ISERROR(VLOOKUP($A74,#REF!,8,0)),0,(VLOOKUP($A74,#REF!,8,0)))","v":0},0,1,{"$f":"MM74*$G74","v":0},{"$f":"$I74*MM74","v":0},{"$f":"$K74*MM74","v":0},0,{"$f":"IF(ISERROR(VLOOKUP($A74,#REF!,8,0)),0,(VLOOKUP($A74,#REF!,8,0)))","v":0},0,1,{"$f":"MT74*$G74","v":0},{"$f":"$I74*MT74","v":0},{"$f":"$K74*MT74","v":0},0,{"$f":"IF(ISERROR(VLOOKUP($A74,#REF!,8,0)),0,(VLOOKUP($A74,#REF!,8,0)))","v":0},0,1,{"$f":"NA74*$G74","v":0},{"$f":"$I74*NA74","v":0},{"$f":"$K74*NA74","v":0},0,{"$f":"IF(ISERROR(VLOOKUP($A74,#REF!,8,0)),0,(VLOOKUP($A74,#REF!,8,0)))","v":0},0,1,{"$f":"NH74*$G74","v":0},{"$f":"$I74*NH74","v":0},{"$f":"$K74*NH74","v":0},0,{"$f":"IF(ISERROR(VLOOKUP($A74,#REF!,8,0)),0,(VLOOKUP($A74,#REF!,8,0)))","v":0},0,1,{"$f":"NO74*$G74","v":0},{"$f":"$I74*NO74","v":0},{"$f":"$K74*NO74","v":0},0,{"$f":"IF(ISERROR(VLOOKUP($A74,#REF!,8,0)),0,(VLOOKUP($A74,#REF!,8,0)))","v":0},0,1,{"$f":"NV74*$G74","v":0},{"$f":"$I74*NV74","v":0},{"$f":"$K74*NV74","v":0},0,{"$f":"IF(ISERROR(VLOOKUP($A74,#REF!,8,0)),0,(VLOOKUP($A74,#REF!,8,0)))","v":0},0,1,{"$f":"OC74*$G74","v":0},{"$f":"$I74*OC74","v":0},{"$f":"$K74*OC74","v":0},0,443.87263200000001,443.87263200000001,1,0]
["1.63","Jogo de bucha e arruela de alumínio de 3 pol., inclusive fixação.","un",3,3,0,6.7343739999999999,20.203122,4.4908399999999995,13.472519999999999,0,0,11.225213999999999,0,33.675641999999996,3,1,20.203122,13.472519999999999,0,33.68,null,0,1,0,0,0,0,null,0,1,0,0,0,0,null,0,1,0,0,0,0,null,0,1,0,0,0,0,null,0,1,0,0,0,0,{"$f":"IF(ISERROR(VLOOKUP(A75,'7ª MEDIÇÃO'!$A$5:$J$1048576,8,0)),0,(VLOOKUP(A75,'7ª MEDIÇÃO'!$A$5:$J$1048576,8,0)))","v":0},0,1,0,0,0,0,{"$f":"IF(ISERROR(VLOOKUP(A75,'8ª MEDIÇÃO'!$A$5:$J$1048576,8,0)),0,(VLOOKUP(A75,'8ª MEDIÇÃO'!$A$5:$J$1048576,8,0)))","v":0},0,1,0,0,0,0,{"$f":"IF(ISERROR(VLOOKUP(A75,'9ª MEDIÇÃO'!$A$5:$J$1048576,8,0)),0,(VLOOKUP(A75,'9ª MEDIÇÃO'!$A$5:$J$1048576,8,0)))","v":0},0,1,0,0,0,0,{"$f":"IF(ISERROR(VLOOKUP(A75,#REF!,8,0)),0,(VLOOKUP(A75,#REF!,8,0)))","v":0},0,1,0,0,0,0,{"$f":"IF(ISERROR(VLOOKUP($A75,#REF!,8,0)),0,(VLOOKUP($A75,#REF!,8,0)))","v":0},0,1,0,0,0,0,{"$f":"IF(ISERROR(VLOOKUP($A75,#REF!,8,0)),0,(VLOOKUP($A75,#REF!,8,0)))","v":0},0,1,0,0,0,0,{"$f":"IF(ISERROR(VLOOKUP($A75,#REF!,8,0)),0,(VLOOKUP($A75,#REF!,8,0)))","v":0},0,1,0,0,0,0,{"$f":"IF(ISERROR(VLOOKUP($A75,#REF!,8,0)),0,(VLOOKUP($A75,#REF!,8,0)))","v":0},0,1,0,0,0,0,{"$f":"IF(ISERROR(VLOOKUP($A75,#REF!,8,0)),0,(VLOOKUP($A75,#REF!,8,0)))","v":0},0,1,0,0,0,0,{"$f":"IF(ISERROR(VLOOKUP($A75,#REF!,8,0)),0,(VLOOKUP($A75,#REF!,8,0)))","v":0},0,1,0,0,0,0,{"$f":"IF(ISERROR(VLOOKUP($A75,#REF!,8,0)),0,(VLOOKUP($A75,#REF!,8,0)))","v":0},0,1,0,0,0,0,{"$f":"IF(ISERROR(VLOOKUP($A75,#REF!,8,0)),0,(VLOOKUP($A75,#REF!,8,0)))","v":0},0,1,0,0,0,0,{"$f":"IF(ISERROR(VLOOKUP($A75,#REF!,8,0)),0,(VLOOKUP($A75,#REF!,8,0)))","v":0},0,1,0,0,0,0,{"$f":"IF(ISERROR(VLOOKUP($A75,#REF!,8,0)),0,(VLOOKUP($A75,#REF!,8,0)))","v":0},0,1,0,0,0,0,{"$f":"IF(ISERROR(VLOOKUP($A75,#REF!,8,0)),0,(VLOOKUP($A75,#REF!,8,0)))","v":0},0,1,0,0,0,0,{"$f":"IF(ISERROR(VLOOKUP($A75,#REF!,8,0)),0,(VLOOKUP($A75,#REF!,8,0)))","v":0},0,1,0,0,0,0,{"$f":"IF(ISERROR(VLOOKUP($A75,#REF!,8,0)),0,(VLOOKUP($A75,#REF!,8,0)))","v":0},0,1,0,0,0,0,{"$f":"IF(ISERROR(VLOOKUP($A75,#REF!,8,0)),0,(VLOOKUP($A75,#REF!,8,0)))","v":0},0,1,0,0,0,0,{"$f":"IF(ISERROR(VLOOKUP($A75,#REF!,8,0)),0,(VLOOKUP($A75,#REF!,8,0)))","v":0},0,1,0,0,0,0,{"$f":"IF(ISERROR(VLOOKUP($A75,#REF!,8,0)),0,(VLOOKUP($A75,#REF!,8,0)))","v":0},{"$f":"IF($D75>0,GH75/$D75,0)","v":0},1,0,0,0,{"$f":"ROUND($M75*GH75,2)","v":0},{"$f":"IF(ISERROR(VLOOKUP($A75,#REF!,8,0)),0,(VLOOKUP($A75,#REF!,8,0)))","v":0},{"$f":"IF($D75>0,GO75/$D75,0)","v":0},1,0,0,0,{"$f":"ROUND($M75*GO75,2)","v":0},{"$f":"IF(ISERROR(VLOOKUP($A75,#REF!,8,0)),0,(VLOOKUP($A75,#REF!,8,0)))","v":0},{"$f":"IF($D75>0,GV75/$D75,0)","v":0},1,0,0,0,{"$f":"ROUND($M75*GV75,2)","v":0},{"$f":"IF(ISERROR(VLOOKUP($A75,#REF!,8,0)),0,(VLOOKUP($A75,#REF!,8,0)))","v":0},{"$f":"IF($D75>0,HC75/$D75,0)","v":0},1,0,0,0,{"$f":"ROUND($M75*HC75,2)","v":0},{"$f":"IF(ISERROR(VLOOKUP($A75,#REF!,8,0)),0,(VLOOKUP($A75,#REF!,8,0)))","v":0},{"$f":"IF($D75>0,HJ75/$D75,0)","v":0},1,0,0,0,{"$f":"ROUND($M75*HJ75,2)","v":0},{"$f":"IF(ISERROR(VLOOKUP($A75,#REF!,8,0)),0,(VLOOKUP($A75,#REF!,8,0)))","v":0},{"$f":"IF($D75>0,HQ75/$D75,0)","v":0},1,0,0,0,{"$f":"ROUND($M75*HQ75,2)","v":0},{"$f":"IF(ISERROR(VLOOKUP($A75,#REF!,8,0)),0,(VLOOKUP($A75,#REF!,8,0)))","v":0},{"$f":"IF($D75>0,HX75/$D75,0)","v":0},1,0,0,0,{"$f":"ROUND($M75*HX75,2)","v":0},{"$f":"IF(ISERROR(VLOOKUP($A75,#REF!,8,0)),0,(VLOOKUP($A75,#REF!,8,0)))","v":0},{"$f":"IF($D75>0,IE75/$D75,0)","v":0},1,0,0,0,{"$f":"ROUND($M75*IE75,2)","v":0},{"$f":"IF(ISERROR(VLOOKUP($A75,#REF!,8,0)),0,(VLOOKUP($A75,#REF!,8,0)))","v":0},{"$f":"IF($D75>0,IL75/$D75,0)","v":0},1,0,0,0,{"$f":"ROUND($M75*IL75,2)","v":0},{"$f":"IF(ISERROR(VLOOKUP($A75,#REF!,8,0)),0,(VLOOKUP($A75,#REF!,8,0)))","v":0},{"$f":"IF($D75>0,IS75/$D75,0)","v":0},1,0,0,0,{"$f":"ROUND($M75*IS75,2)","v":0},{"$f":"IF(ISERROR(VLOOKUP($A75,#REF!,8,0)),0,(VLOOKUP($A75,#REF!,8,0)))","v":0},{"$f":"IF($D75>0,IZ75/$D75,0)","v":0},1,0,0,0,{"$f":"ROUND($M75*IZ75,2)","v":0},{"$f":"IF(ISERROR(VLOOKUP($A75,#REF!,8,0)),0,(VLOOKUP($A75,#REF!,8,0)))","v":0},{"$f":"IF($D75>0,JG75/$D75,0)","v":0},1,0,0,0,{"$f":"ROUND($M75*JG75,2)","v":0},{"$f":"IF(ISERROR(VLOOKUP($A75,#REF!,8,0)),0,(VLOOKUP($A75,#REF!,8,0)))","v":0},{"$f":"IF($D75>0,JN75/$D75,0)","v":0},1,0,0,0,{"$f":"ROUND($M75*JN75,2)","v":0},{"$f":"IF(ISERROR(VLOOKUP($A75,#REF!,8,0)),0,(VLOOKUP($A75,#REF!,8,0)))","v":0},{"$f":"IF($D75>0,JU75/$D75,0)","v":0},1,0,0,0,{"$f":"ROUND($M75*JU75,2)","v":0},{"$f":"IF(ISERROR(VLOOKUP($A75,#REF!,8,0)),0,(VLOOKUP($A75,#REF!,8,0)))","v":0},{"$f":"IF($D75>0,KB75/$D75,0)","v":0},1,0,0,0,{"$f":"ROUND($M75*KB75,2)","v":0},{"$f":"IF(ISERROR(VLOOKUP($A75,#REF!,8,0)),0,(VLOOKUP($A75,#REF!,8,0)))","v":0},{"$f":"IF($D75>0,KI75/$D75,0)","v":0},1,0,0,0,{"$f":"ROUND($M75*KI75,2)","v":0},{"$f":"IF(ISERROR(VLOOKUP($A75,#REF!,8,0)),0,(VLOOKUP($A75,#REF!,8,0)))","v":0},{"$f":"IF($D75>0,KP75/$D75,0)","v":0},1,0,0,0,{"$f":"ROUND($M75*KP75,2)","v":0},{"$f":"IF(ISERROR(VLOOKUP($A75,#REF!,8,0)),0,(VLOOKUP($A75,#REF!,8,0)))","v":0},{"$f":"IF($D75>0,KW75/$D75,0)","v":0},1,0,0,0,{"$f":"ROUND($M75*KW75,2)","v":0},{"$f":"IF(ISERROR(VLOOKUP($A75,#REF!,8,0)),0,(VLOOKUP($A75,#REF!,8,0)))","v":0},{"$f":"IF($D75>0,LD75/$D75,0)","v":0},1,0,0,0,{"$f":"ROUND($M75*LD75,2)","v":0},{"$f":"IF(ISERROR(VLOOKUP($A75,#REF!,8,0)),0,(VLOOKUP($A75,#REF!,8,0)))","v":0},{"$f":"IF($D75>0,LK75/$D75,0)","v":0},1,0,0,0,{"$f":"ROUND($M75*LK75,2)","v":0},{"$f":"IF(ISERROR(VLOOKUP($A75,#REF!,8,0)),0,(VLOOKUP($A75,#REF!,8,0)))","v":0},{"$f":"IF($D75>0,LR75/$D75,0)","v":0},1,0,0,0,{"$f":"ROUND($M75*LR75,2)","v":0},{"$f":"IF(ISERROR(VLOOKUP($A75,#REF!,8,0)),0,(VLOOKUP($A75,#REF!,8,0)))","v":0},{"$f":"IF($D75>0,LY75/$D75,0)","v":0},1,0,0,0,{"$f":"ROUND($M75*LY75,2)","v":0},{"$f":"IF(ISERROR(VLOOKUP($A75,#REF!,8,0)),0,(VLOOKUP($A75,#REF!,8,0)))","v":0},{"$f":"IF($D75>0,MF75/$D75,0)","v":0},1,0,0,0,{"$f":"ROUND($M75*MF75,2)","v":0},{"$f":"IF(ISERROR(VLOOKUP($A75,#REF!,8,0)),0,(VLOOKUP($A75,#REF!,8,0)))","v":0},{"$f":"IF($D75>0,MM75/$D75,0)","v":0},1,0,0,0,{"$f":"ROUND($M75*MM75,2)","v":0},{"$f":"IF(ISERROR(VLOOKUP($A75,#REF!,8,0)),0,(VLOOKUP($A75,#REF!,8,0)))","v":0},{"$f":"IF($D75>0,MT75/$D75,0)","v":0},1,0,0,0,{"$f":"ROUND($M75*MT75,2)","v":0},{"$f":"IF(ISERROR(VLOOKUP($A75,#REF!,8,0)),0,(VLOOKUP($A75,#REF!,8,0)))","v":0},{"$f":"IF($D75>0,NA75/$D75,0)","v":0},1,0,0,0,{"$f":"ROUND($M75*NA75,2)","v":0},{"$f":"IF(ISERROR(VLOOKUP($A75,#REF!,8,0)),0,(VLOOKUP($A75,#REF!,8,0)))","v":0},{"$f":"IF($D75>0,NH75/$D75,0)","v":0},1,0,0,0,{"$f":"ROUND($M75*NH75,2)","v":0},{"$f":"IF(ISERROR(VLOOKUP($A75,#REF!,8,0)),0,(VLOOKUP($A75,#REF!,8,0)))","v":0},{"$f":"IF($D75>0,NO75/$D75,0)","v":0},1,0,0,0,{"$f":"ROUND($M75*NO75,2)","v":0},{"$f":"IF(ISERROR(VLOOKUP($A75,#REF!,8,0)),0,(VLOOKUP($A75,#REF!,8,0)))","v":0},{"$f":"IF($D75>0,NV75/$D75,0)","v":0},1,0,0,0,{"$f":"ROUND($M75*NV75,2)","v":0},{"$f":"IF(ISERROR(VLOOKUP($A75,#REF!,8,0)),0,(VLOOKUP($A75,#REF!,8,0)))","v":0},{"$f":"IF($D75>0,OC75/$D75,0)","v":0},1,0,0,0,{"$f":"ROUND($M75*OC75,2)","v":0},{"$f":"E75*M75","v":33.675641999999996},{"$f":"O75","v":33.675641999999996},{"$f":"OJ75/OK75","v":1},0]
["1.64","Fornecimento e instalação de disjuntor tripolar de 200a-380v-22ka em caixa moldada.","un",1,1,0,270.37745000000001,270.37745000000001,9.9893199999999993,9.9893199999999993,0,0,280.36677000000003,0,280.36677000000003,1,1,270.37745000000001,9.9893199999999993,0,280.37,null,0,1,0,0,0,0,null,0,1,0,0,0,0,null,0,1,0,0,0,0,null,0,1,0,0,0,0,null,0,1,0,0,0,0,{"$f":"IF(ISERROR(VLOOKUP(A76,'7ª MEDIÇÃO'!$A$5:$J$1048576,8,0)),0,(VLOOKUP(A76,'7ª MEDIÇÃO'!$A$5:$J$1048576,8,0)))","v":0},0,1,0,0,0,0,{"$f":"IF(ISERROR(VLOOKUP(A76,'8ª MEDIÇÃO'!$A$5:$J$1048576,8,0)),0,(VLOOKUP(A76,'8ª MEDIÇÃO'!$A$5:$J$1048576,8,0)))","v":0},0,1,0,0,0,0,{"$f":"IF(ISERROR(VLOOKUP(A76,'9ª MEDIÇÃO'!$A$5:$J$1048576,8,0)),0,(VLOOKUP(A76,'9ª MEDIÇÃO'!$A$5:$J$1048576,8,0)))","v":0},0,1,0,0,0,0,{"$f":"IF(ISERROR(VLOOKUP(A76,#REF!,8,0)),0,(VLOOKUP(A76,#REF!,8,0)))","v":0},0,1,0,0,0,0,{"$f":"IF(ISERROR(VLOOKUP($A76,#REF!,8,0)),0,(VLOOKUP($A76,#REF!,8,0)))","v":0},0,1,0,0,0,0,{"$f":"IF(ISERROR(VLOOKUP($A76,#REF!,8,0)),0,(VLOOKUP($A76,#REF!,8,0)))","v":0},0,1,0,0,0,0,{"$f":"IF(ISERROR(VLOOKUP($A76,#REF!,8,0)),0,(VLOOKUP($A76,#REF!,8,0)))","v":0},0,1,0,0,0,0,{"$f":"IF(ISERROR(VLOOKUP($A76,#REF!,8,0)),0,(VLOOKUP($A76,#REF!,8,0)))","v":0},0,1,0,0,0,0,{"$f":"IF(ISERROR(VLOOKUP($A76,#REF!,8,0)),0,(VLOOKUP($A76,#REF!,8,0)))","v":0},0,1,0,0,0,0,{"$f":"IF(ISERROR(VLOOKUP($A76,#REF!,8,0)),0,(VLOOKUP($A76,#REF!,8,0)))","v":0},0,1,0,0,0,0,{"$f":"IF(ISERROR(VLOOKUP($A76,#REF!,8,0)),0,(VLOOKUP($A76,#REF!,8,0)))","v":0},0,1,0,0,0,0,{"$f":"IF(ISERROR(VLOOKUP($A76,#REF!,8,0)),0,(VLOOKUP($A76,#REF!,8,0)))","v":0},0,1,0,0,0,0,{"$f":"IF(ISERROR(VLOOKUP($A76,#REF!,8,0)),0,(VLOOKUP($A76,#REF!,8,0)))","v":0},0,1,0,0,0,0,{"$f":"IF(ISERROR(VLOOKUP($A76,#REF!,8,0)),0,(VLOOKUP($A76,#REF!,8,0)))","v":0},0,1,0,0,0,0,{"$f":"IF(ISERROR(VLOOKUP($A76,#REF!,8,0)),0,(VLOOKUP($A76,#REF!,8,0)))","v":0},0,1,0,0,0,0,{"$f":"IF(ISERROR(VLOOKUP($A76,#REF!,8,0)),0,(VLOOKUP($A76,#REF!,8,0)))","v":0},0,1,0,0,0,0,{"$f":"IF(ISERROR(VLOOKUP($A76,#REF!,8,0)),0,(VLOOKUP($A76,#REF!,8,0)))","v":0},0,1,0,0,0,0,{"$f":"IF(ISERROR(VLOOKUP($A76,#REF!,8,0)),0,(VLOOKUP($A76,#REF!,8,0)))","v":0},0,1,0,0,0,0,{"$f":"IF(ISERROR(VLOOKUP($A76,#REF!,8,0)),0,(VLOOKUP($A76,#REF!,8,0)))","v":0},0,1,0,0,0,0,{"$f":"IF(ISERROR(VLOOKUP($A76,#REF!,8,0)),0,(VLOOKUP($A76,#REF!,8,0)))","v":0},0,1,0,0,0,0,{"$f":"IF(ISERROR(VLOOKUP($A76,#REF!,8,0)),0,(VLOOKUP($A76,#REF!,8,0)))","v":0},0,1,0,0,0,0,{"$f":"IF(ISERROR(VLOOKUP($A76,#REF!,8,0)),0,(VLOOKUP($A76,#REF!,8,0)))","v":0},0,1,0,0,0,0,{"$f":"IF(ISERROR(VLOOKUP($A76,#REF!,8,0)),0,(VLOOKUP($A76,#REF!,8,0)))","v":0},0,1,0,0,0,0,{"$f":"IF(ISERROR(VLOOKUP($A76,#REF!,8,0)),0,(VLOOKUP($A76,#REF!,8,0)))","v":0},0,1,0,0,0,0,{"$f":"IF(ISERROR(VLOOKUP($A76,#REF!,8,0)),0,(VLOOKUP($A76,#REF!,8,0)))","v":0},0,1,0,0,0,0,{"$f":"IF(ISERROR(VLOOKUP($A76,#REF!,8,0)),0,(VLOOKUP($A76,#REF!,8,0)))","v":0},0,1,0,0,0,0,{"$f":"IF(ISERROR(VLOOKUP($A76,#REF!,8,0)),0,(VLOOKUP($A76,#REF!,8,0)))","v":0},0,1,0,0,0,0,{"$f":"IF(ISERROR(VLOOKUP($A76,#REF!,8,0)),0,(VLOOKUP($A76,#REF!,8,0)))","v":0},0,1,0,0,0,0,{"$f":"IF(ISERROR(VLOOKUP($A76,#REF!,8,0)),0,(VLOOKUP($A76,#REF!,8,0)))","v":0},0,1,0,0,0,0,{"$f":"IF(ISERROR(VLOOKUP($A76,#REF!,8,0)),0,(VLOOKUP($A76,#REF!,8,0)))","v":0},0,1,0,0,0,0,{"$f":"IF(ISERROR(VLOOKUP($A76,#REF!,8,0)),0,(VLOOKUP($A76,#REF!,8,0)))","v":0},0,1,0,0,0,0,{"$f":"IF(ISERROR(VLOOKUP($A76,#REF!,8,0)),0,(VLOOKUP($A76,#REF!,8,0)))","v":0},0,1,0,0,0,0,{"$f":"IF(ISERROR(VLOOKUP($A76,#REF!,8,0)),0,(VLOOKUP($A76,#REF!,8,0)))","v":0},0,1,0,0,0,0,{"$f":"IF(ISERROR(VLOOKUP($A76,#REF!,8,0)),0,(VLOOKUP($A76,#REF!,8,0)))","v":0},0,1,0,0,0,0,{"$f":"IF(ISERROR(VLOOKUP($A76,#REF!,8,0)),0,(VLOOKUP($A76,#REF!,8,0)))","v":0},0,1,0,0,0,0,{"$f":"IF(ISERROR(VLOOKUP($A76,#REF!,8,0)),0,(VLOOKUP($A76,#REF!,8,0)))","v":0},0,1,0,0,0,0,{"$f":"IF(ISERROR(VLOOKUP($A76,#REF!,8,0)),0,(VLOOKUP($A76,#REF!,8,0)))","v":0},0,1,0,0,0,0,{"$f":"IF(ISERROR(VLOOKUP($A76,#REF!,8,0)),0,(VLOOKUP($A76,#REF!,8,0)))","v":0},0,1,0,0,0,0,{"$f":"IF(ISERROR(VLOOKUP($A76,#REF!,8,0)),0,(VLOOKUP($A76,#REF!,8,0)))","v":0},0,1,0,0,0,0,{"$f":"IF(ISERROR(VLOOKUP($A76,#REF!,8,0)),0,(VLOOKUP($A76,#REF!,8,0)))","v":0},0,1,0,0,0,0,{"$f":"IF(ISERROR(VLOOKUP($A76,#REF!,8,0)),0,(VLOOKUP($A76,#REF!,8,0)))","v":0},0,1,0,0,0,0,{"$f":"IF(ISERROR(VLOOKUP($A76,#REF!,8,0)),0,(VLOOKUP($A76,#REF!,8,0)))","v":0},0,1,0,0,0,0,{"$f":"IF(ISERROR(VLOOKUP($A76,#REF!,8,0)),0,(VLOOKUP($A76,#REF!,8,0)))","v":0},0,1,0,0,0,0,{"$f":"IF(ISERROR(VLOOKUP($A76,#REF!,8,0)),0,(VLOOKUP($A76,#REF!,8,0)))","v":0},0,1,0,0,0,0,{"$f":"IF(ISERROR(VLOOKUP($A76,#REF!,8,0)),0,(VLOOKUP($A76,#REF!,8,0)))","v":0},0,1,0,0,0,0,{"$f":"IF(ISERROR(VLOOKUP($A76,#REF!,8,0)),0,(VLOOKUP($A76,#REF!,8,0)))","v":0},0,1,0,0,0,0,{"$f":"IF(ISERROR(VLOOKUP($A76,#REF!,8,0)),0,(VLOOKUP($A76,#REF!,8,0)))","v":0},0,1,0,0,0,0,{"$f":"IF(ISERROR(VLOOKUP($A76,#REF!,8,0)),0,(VLOOKUP($A76,#REF!,8,0)))","v":0},0,1,0,0,0,0,{"$f":"IF(ISERROR(VLOOKUP($A76,#REF!,8,0)),0,(VLOOKUP($A76,#REF!,8,0)))","v":0},0,1,0,0,0,0,280.36677000000003,280.36677000000003,1,{"$f":"OK76-OJ76","v":0}]
["1.65","Cabo de cobre (1condutor), tempera mole, encordoamento classe 2, isolamento de pvc, flame resistant - 70°c, isolação 0,6/1kv, de 95mm² sintenax flex ou equivalente, inclusive instalação em eletroduto/ eletrocalha.","m",40,40,0,52.730974000000003,2109.2389600000001,7.4888799999999991,299.55519999999996,0,0,60.219854000000005,0,2408.7941600000004,40,1,2109.2389600000001,299.55519999999996,0,2408.79,null,0,1,0,0,0,0,null,0,1,0,0,0,0,null,0,1,0,0,0,0,null,0,1,0,0,0,0,null,0,1,0,0,0,0,{"$f":"IF(ISERROR(VLOOKUP(A77,'7ª MEDIÇÃO'!$A$5:$J$1048576,8,0)),0,(VLOOKUP(A77,'7ª MEDIÇÃO'!$A$5:$J$1048576,8,0)))","v":0},0,1,0,0,0,0,{"$f":"IF(ISERROR(VLOOKUP(A77,'8ª MEDIÇÃO'!$A$5:$J$1048576,8,0)),0,(VLOOKUP(A77,'8ª MEDIÇÃO'!$A$5:$J$1048576,8,0)))","v":0},0,1,0,0,0,0,{"$f":"IF(ISERROR(VLOOKUP(A77,'9ª MEDIÇÃO'!$A$5:$J$1048576,8,0)),0,(VLOOKUP(A77,'9ª MEDIÇÃO'!$A$5:$J$1048576,8,0)))","v":0},0,1,0,0,0,0,{"$f":"IF(ISERROR(VLOOKUP(A77,#REF!,8,0)),0,(VLOOKUP(A77,#REF!,8,0)))","v":0},0,1,0,0,0,0,{"$f":"IF(ISERROR(VLOOKUP($A77,#REF!,8,0)),0,(VLOOKUP($A77,#REF!,8,0)))","v":0},0,1,0,0,0,0,{"$f":"IF(ISERROR(VLOOKUP($A77,#REF!,8,0)),0,(VLOOKUP($A77,#REF!,8,0)))","v":0},0,1,0,0,0,0,{"$f":"IF(ISERROR(VLOOKUP($A77,#REF!,8,0)),0,(VLOOKUP($A77,#REF!,8,0)))","v":0},0,1,0,0,0,0,{"$f":"IF(ISERROR(VLOOKUP($A77,#REF!,8,0)),0,(VLOOKUP($A77,#REF!,8,0)))","v":0},0,1,0,0,0,0,{"$f":"IF(ISERROR(VLOOKUP($A77,#REF!,8,0)),0,(VLOOKUP($A77,#REF!,8,0)))","v":0},0,1,0,0,0,0,{"$f":"IF(ISERROR(VLOOKUP($A77,#REF!,8,0)),0,(VLOOKUP($A77,#REF!,8,0)))","v":0},0,1,0,0,0,0,{"$f":"IF(ISERROR(VLOOKUP($A77,#REF!,8,0)),0,(VLOOKUP($A77,#REF!,8,0)))","v":0},0,1,0,0,0,0,{"$f":"IF(ISERROR(VLOOKUP($A77,#REF!,8,0)),0,(VLOOKUP($A77,#REF!,8,0)))","v":0},0,1,0,0,0,0,{"$f":"IF(ISERROR(VLOOKUP($A77,#REF!,8,0)),0,(VLOOKUP($A77,#REF!,8,0)))","v":0},0,1,0,0,0,0,{"$f":"IF(ISERROR(VLOOKUP($A77,#REF!,8,0)),0,(VLOOKUP($A77,#REF!,8,0)))","v":0},0,1,0,0,0,0,{"$f":"IF(ISERROR(VLOOKUP($A77,#REF!,8,0)),0,(VLOOKUP($A77,#REF!,8,0)))","v":0},0,1,0,0,0,0,{"$f":"IF(ISERROR(VLOOKUP($A77,#REF!,8,0)),0,(VLOOKUP($A77,#REF!,8,0)))","v":0},0,1,0,0,0,0,{"$f":"IF(ISERROR(VLOOKUP($A77,#REF!,8,0)),0,(VLOOKUP($A77,#REF!,8,0)))","v":0},0,1,0,0,0,0,{"$f":"IF(ISERROR(VLOOKUP($A77,#REF!,8,0)),0,(VLOOKUP($A77,#REF!,8,0)))","v":0},0,1,0,0,0,0,{"$f":"IF(ISERROR(VLOOKUP($A77,#REF!,8,0)),0,(VLOOKUP($A77,#REF!,8,0)))","v":0},0,1,0,0,0,0,{"$f":"IF(ISERROR(VLOOKUP($A77,#REF!,8,0)),0,(VLOOKUP($A77,#REF!,8,0)))","v":0},0,1,0,0,0,0,{"$f":"IF(ISERROR(VLOOKUP($A77,#REF!,8,0)),0,(VLOOKUP($A77,#REF!,8,0)))","v":0},0,1,0,0,0,0,{"$f":"IF(ISERROR(VLOOKUP($A77,#REF!,8,0)),0,(VLOOKUP($A77,#REF!,8,0)))","v":0},0,1,0,0,0,0,{"$f":"IF(ISERROR(VLOOKUP($A77,#REF!,8,0)),0,(VLOOKUP($A77,#REF!,8,0)))","v":0},0,1,0,0,0,0,{"$f":"IF(ISERROR(VLOOKUP($A77,#REF!,8,0)),0,(VLOOKUP($A77,#REF!,8,0)))","v":0},0,1,0,0,0,0,{"$f":"IF(ISERROR(VLOOKUP($A77,#REF!,8,0)),0,(VLOOKUP($A77,#REF!,8,0)))","v":0},0,1,0,0,0,0,{"$f":"IF(ISERROR(VLOOKUP($A77,#REF!,8,0)),0,(VLOOKUP($A77,#REF!,8,0)))","v":0},0,1,0,0,0,0,{"$f":"IF(ISERROR(VLOOKUP($A77,#REF!,8,0)),0,(VLOOKUP($A77,#REF!,8,0)))","v":0},0,1,0,0,0,0,{"$f":"IF(ISERROR(VLOOKUP($A77,#REF!,8,0)),0,(VLOOKUP($A77,#REF!,8,0)))","v":0},0,1,0,0,0,0,{"$f":"IF(ISERROR(VLOOKUP($A77,#REF!,8,0)),0,(VLOOKUP($A77,#REF!,8,0)))","v":0},0,1,0,0,0,0,{"$f":"IF(ISERROR(VLOOKUP($A77,#REF!,8,0)),0,(VLOOKUP($A77,#REF!,8,0)))","v":0},0,1,0,0,0,0,{"$f":"IF(ISERROR(VLOOKUP($A77,#REF!,8,0)),0,(VLOOKUP($A77,#REF!,8,0)))","v":0},0,1,0,0,0,0,{"$f":"IF(ISERROR(VLOOKUP($A77,#REF!,8,0)),0,(VLOOKUP($A77,#REF!,8,0)))","v":0},0,1,0,0,0,0,{"$f":"IF(ISERROR(VLOOKUP($A77,#REF!,8,0)),0,(VLOOKUP($A77,#REF!,8,0)))","v":0},0,1,0,0,0,0,{"$f":"IF(ISERROR(VLOOKUP($A77,#REF!,8,0)),0,(VLOOKUP($A77,#REF!,8,0)))","v":0},0,1,0,0,0,0,{"$f":"IF(ISERROR(VLOOKUP($A77,#REF!,8,0)),0,(VLOOKUP($A77,#REF!,8,0)))","v":0},0,1,0,0,0,0,{"$f":"IF(ISERROR(VLOOKUP($A77,#REF!,8,0)),0,(VLOOKUP($A77,#REF!,8,0)))","v":0},0,1,0,0,0,0,{"$f":"IF(ISERROR(VLOOKUP($A77,#REF!,8,0)),0,(VLOOKUP($A77,#REF!,8,0)))","v":0},0,1,0,0,0,0,{"$f":"IF(ISERROR(VLOOKUP($A77,#REF!,8,0)),0,(VLOOKUP($A77,#REF!,8,0)))","v":0},0,1,0,0,0,0,{"$f":"IF(ISERROR(VLOOKUP($A77,#REF!,8,0)),0,(VLOOKUP($A77,#REF!,8,0)))","v":0},0,1,0,0,0,0,{"$f":"IF(ISERROR(VLOOKUP($A77,#REF!,8,0)),0,(VLOOKUP($A77,#REF!,8,0)))","v":0},0,1,0,0,0,0,{"$f":"IF(ISERROR(VLOOKUP($A77,#REF!,8,0)),0,(VLOOKUP($A77,#REF!,8,0)))","v":0},0,1,0,0,0,0,{"$f":"IF(ISERROR(VLOOKUP($A77,#REF!,8,0)),0,(VLOOKUP($A77,#REF!,8,0)))","v":0},0,1,0,0,0,0,{"$f":"IF(ISERROR(VLOOKUP($A77,#REF!,8,0)),0,(VLOOKUP($A77,#REF!,8,0)))","v":0},0,1,0,0,0,0,{"$f":"IF(ISERROR(VLOOKUP($A77,#REF!,8,0)),0,(VLOOKUP($A77,#REF!,8,0)))","v":0},0,1,0,0,0,0,{"$f":"IF(ISERROR(VLOOKUP($A77,#REF!,8,0)),0,(VLOOKUP($A77,#REF!,8,0)))","v":0},0,1,0,0,0,0,{"$f":"IF(ISERROR(VLOOKUP($A77,#REF!,8,0)),0,(VLOOKUP($A77,#REF!,8,0)))","v":0},0,1,0,0,0,0,{"$f":"IF(ISERROR(VLOOKUP($A77,#REF!,8,0)),0,(VLOOKUP($A77,#REF!,8,0)))","v":0},0,1,0,0,0,0,{"$f":"IF(ISERROR(VLOOKUP($A77,#REF!,8,0)),0,(VLOOKUP($A77,#REF!,8,0)))","v":0},0,1,0,0,0,0,{"$f":"IF(ISERROR(VLOOKUP($A77,#REF!,8,0)),0,(VLOOKUP($A77,#REF!,8,0)))","v":0},0,1,0,0,0,0,2408.7941600000004,2408.7941600000004,1,0]
["1.66","Cabo de cobre nu 35mm² - fornecimento e instalação","m",10,10,0,18.776047999999999,187.76048,5.2372399999999999,52.372399999999999,0,0,24.013287999999999,0,240.13288,10,1,187.76048,52.372399999999999,0,240.13,null,0,1,0,0,0,0,null,0,1,0,0,0,0,null,0,1,0,0,0,0,null,0,1,0,0,0,0,null,0,1,0,0,0,0,{"$f":"IF(ISERROR(VLOOKUP(A78,'7ª MEDIÇÃO'!$A$5:$J$1048576,8,0)),0,(VLOOKUP(A78,'7ª MEDIÇÃO'!$A$5:$J$1048576,8,0)))","v":0},0,1,0,0,0,0,{"$f":"IF(ISERROR(VLOOKUP(A78,'8ª MEDIÇÃO'!$A$5:$J$1048576,8,0)),0,(VLOOKUP(A78,'8ª MEDIÇÃO'!$A$5:$J$1048576,8,0)))","v":0},0,1,0,0,0,0,{"$f":"IF(ISERROR(VLOOKUP(A78,'9ª MEDIÇÃO'!$A$5:$J$1048576,8,0)),0,(VLOOKUP(A78,'9ª MEDIÇÃO'!$A$5:$J$1048576,8,0)))","v":0},0,1,0,0,0,0,{"$f":"IF(ISERROR(VLOOKUP(A78,#REF!,8,0)),0,(VLOOKUP(A78,#REF!,8,0)))","v":0},0,1,0,0,0,0,{"$f":"IF(ISERROR(VLOOKUP($A78,#REF!,8,0)),0,(VLOOKUP($A78,#REF!,8,0)))","v":0},0,1,0,0,0,0,{"$f":"IF(ISERROR(VLOOKUP($A78,#REF!,8,0)),0,(VLOOKUP($A78,#REF!,8,0)))","v":0},0,1,0,0,0,0,{"$f":"IF(ISERROR(VLOOKUP($A78,#REF!,8,0)),0,(VLOOKUP($A78,#REF!,8,0)))","v":0},0,1,0,0,0,0,{"$f":"IF(ISERROR(VLOOKUP($A78,#REF!,8,0)),0,(VLOOKUP($A78,#REF!,8,0)))","v":0},0,1,0,0,0,0,{"$f":"IF(ISERROR(VLOOKUP($A78,#REF!,8,0)),0,(VLOOKUP($A78,#REF!,8,0)))","v":0},0,1,0,0,0,0,{"$f":"IF(ISERROR(VLOOKUP($A78,#REF!,8,0)),0,(VLOOKUP($A78,#REF!,8,0)))","v":0},0,1,0,0,0,0,{"$f":"IF(ISERROR(VLOOKUP($A78,#REF!,8,0)),0,(VLOOKUP($A78,#REF!,8,0)))","v":0},0,1,0,0,0,0,{"$f":"IF(ISERROR(VLOOKUP($A78,#REF!,8,0)),0,(VLOOKUP($A78,#REF!,8,0)))","v":0},0,1,0,0,0,0,{"$f":"IF(ISERROR(VLOOKUP($A78,#REF!,8,0)),0,(VLOOKUP($A78,#REF!,8,0)))","v":0},0,1,0,0,0,0,{"$f":"IF(ISERROR(VLOOKUP($A78,#REF!,8,0)),0,(VLOOKUP($A78,#REF!,8,0)))","v":0},0,1,0,0,0,0,{"$f":"IF(ISERROR(VLOOKUP($A78,#REF!,8,0)),0,(VLOOKUP($A78,#REF!,8,0)))","v":0},0,1,0,0,0,0,{"$f":"IF(ISERROR(VLOOKUP($A78,#REF!,8,0)),0,(VLOOKUP($A78,#REF!,8,0)))","v":0},0,1,0,0,0,0,{"$f":"IF(ISERROR(VLOOKUP($A78,#REF!,8,0)),0,(VLOOKUP($A78,#REF!,8,0)))","v":0},0,1,0,0,0,0,{"$f":"IF(ISERROR(VLOOKUP($A78,#REF!,8,0)),0,(VLOOKUP($A78,#REF!,8,0)))","v":0},0,1,0,0,0,0,{"$f":"IF(ISERROR(VLOOKUP($A78,#REF!,8,0)),0,(VLOOKUP($A78,#REF!,8,0)))","v":0},0,1,0,0,0,0,{"$f":"IF(ISERROR(VLOOKUP($A78,#REF!,8,0)),0,(VLOOKUP($A78,#REF!,8,0)))","v":0},0,1,0,0,0,0,{"$f":"IF(ISERROR(VLOOKUP($A78,#REF!,8,0)),0,(VLOOKUP($A78,#REF!,8,0)))","v":0},0,1,0,0,0,0,{"$f":"IF(ISERROR(VLOOKUP($A78,#REF!,8,0)),0,(VLOOKUP($A78,#REF!,8,0)))","v":0},0,1,0,0,0,0,{"$f":"IF(ISERROR(VLOOKUP($A78,#REF!,8,0)),0,(VLOOKUP($A78,#REF!,8,0)))","v":0},0,1,0,0,0,0,{"$f":"IF(ISERROR(VLOOKUP($A78,#REF!,8,0)),0,(VLOOKUP($A78,#REF!,8,0)))","v":0},0,1,0,0,0,0,{"$f":"IF(ISERROR(VLOOKUP($A78,#REF!,8,0)),0,(VLOOKUP($A78,#REF!,8,0)))","v":0},0,1,0,0,0,0,{"$f":"IF(ISERROR(VLOOKUP($A78,#REF!,8,0)),0,(VLOOKUP($A78,#REF!,8,0)))","v":0},0,1,0,0,0,0,{"$f":"IF(ISERROR(VLOOKUP($A78,#REF!,8,0)),0,(VLOOKUP($A78,#REF!,8,0)))","v":0},0,1,0,0,0,0,{"$f":"IF(ISERROR(VLOOKUP($A78,#REF!,8,0)),0,(VLOOKUP($A78,#REF!,8,0)))","v":0},0,1,0,0,0,0,{"$f":"IF(ISERROR(VLOOKUP($A78,#REF!,8,0)),0,(VLOOKUP($A78,#REF!,8,0)))","v":0},0,1,0,0,0,0,{"$f":"IF(ISERROR(VLOOKUP($A78,#REF!,8,0)),0,(VLOOKUP($A78,#REF!,8,0)))","v":0},0,1,0,0,0,0,{"$f":"IF(ISERROR(VLOOKUP($A78,#REF!,8,0)),0,(VLOOKUP($A78,#REF!,8,0)))","v":0},0,1,0,0,0,0,{"$f":"IF(ISERROR(VLOOKUP($A78,#REF!,8,0)),0,(VLOOKUP($A78,#REF!,8,0)))","v":0},0,1,0,0,0,0,{"$f":"IF(ISERROR(VLOOKUP($A78,#REF!,8,0)),0,(VLOOKUP($A78,#REF!,8,0)))","v":0},0,1,0,0,0,0,{"$f":"IF(ISERROR(VLOOKUP($A78,#REF!,8,0)),0,(VLOOKUP($A78,#REF!,8,0)))","v":0},0,1,0,0,0,0,{"$f":"IF(ISERROR(VLOOKUP($A78,#REF!,8,0)),0,(VLOOKUP($A78,#REF!,8,0)))","v":0},0,1,0,0,0,0,{"$f":"IF(ISERROR(VLOOKUP($A78,#REF!,8,0)),0,(VLOOKUP($A78,#REF!,8,0)))","v":0},0,1,0,0,0,0,{"$f":"IF(ISERROR(VLOOKUP($A78,#REF!,8,0)),0,(VLOOKUP($A78,#REF!,8,0)))","v":0},0,1,0,0,0,0,{"$f":"IF(ISERROR(VLOOKUP($A78,#REF!,8,0)),0,(VLOOKUP($A78,#REF!,8,0)))","v":0},0,1,0,0,0,0,{"$f":"IF(ISERROR(VLOOKUP($A78,#REF!,8,0)),0,(VLOOKUP($A78,#REF!,8,0)))","v":0},0,1,0,0,0,0,{"$f":"IF(ISERROR(VLOOKUP($A78,#REF!,8,0)),0,(VLOOKUP($A78,#REF!,8,0)))","v":0},0,1,0,0,0,0,{"$f":"IF(ISERROR(VLOOKUP($A78,#REF!,8,0)),0,(VLOOKUP($A78,#REF!,8,0)))","v":0},0,1,0,0,0,0,{"$f":"IF(ISERROR(VLOOKUP($A78,#REF!,8,0)),0,(VLOOKUP($A78,#REF!,8,0)))","v":0},0,1,0,0,0,0,{"$f":"IF(ISERROR(VLOOKUP($A78,#REF!,8,0)),0,(VLOOKUP($A78,#REF!,8,0)))","v":0},0,1,0,0,0,0,{"$f":"IF(ISERROR(VLOOKUP($A78,#REF!,8,0)),0,(VLOOKUP($A78,#REF!,8,0)))","v":0},0,1,0,0,0,0,{"$f":"IF(ISERROR(VLOOKUP($A78,#REF!,8,0)),0,(VLOOKUP($A78,#REF!,8,0)))","v":0},0,1,0,0,0,0,{"$f":"IF(ISERROR(VLOOKUP($A78,#REF!,8,0)),0,(VLOOKUP($A78,#REF!,8,0)))","v":0},0,1,0,0,0,0,{"$f":"IF(ISERROR(VLOOKUP($A78,#REF!,8,0)),0,(VLOOKUP($A78,#REF!,8,0)))","v":0},0,1,0,0,0,0,{"$f":"IF(ISERROR(VLOOKUP($A78,#REF!,8,0)),0,(VLOOKUP($A78,#REF!,8,0)))","v":0},0,1,0,0,0,0,{"$f":"IF(ISERROR(VLOOKUP($A78,#REF!,8,0)),0,(VLOOKUP($A78,#REF!,8,0)))","v":0},0,1,0,0,0,0,240.13288,240.13288,1,0]
["1.67","Cabo de cobre nu 50mm² - fornecimento e instalação","m",55,55,0,26.159092000000001,1438.7500600000001,7.7376799999999992,425.57239999999996,0,0,33.896771999999999,0,1864.3224599999999,55,1,1438.7500600000001,425.57239999999996,0,1864.32,null,0,1,0,0,0,0,null,0,1,0,0,0,0,null,0,1,0,0,0,0,null,0,1,0,0,0,0,null,0,1,0,0,0,0,{"$f":"IF(ISERROR(VLOOKUP(A79,'7ª MEDIÇÃO'!$A$5:$J$1048576,8,0)),0,(VLOOKUP(A79,'7ª MEDIÇÃO'!$A$5:$J$1048576,8,0)))","v":0},0,1,0,0,0,0,{"$f":"IF(ISERROR(VLOOKUP(A79,'8ª MEDIÇÃO'!$A$5:$J$1048576,8,0)),0,(VLOOKUP(A79,'8ª MEDIÇÃO'!$A$5:$J$1048576,8,0)))","v":0},0,1,0,0,0,0,{"$f":"IF(ISERROR(VLOOKUP(A79,'9ª MEDIÇÃO'!$A$5:$J$1048576,8,0)),0,(VLOOKUP(A79,'9ª MEDIÇÃO'!$A$5:$J$1048576,8,0)))","v":0},0,1,0,0,0,0,{"$f":"IF(ISERROR(VLOOKUP(A79,#REF!,8,0)),0,(VLOOKUP(A79,#REF!,8,0)))","v":0},0,1,0,0,0,0,{"$f":"IF(ISERROR(VLOOKUP($A79,#REF!,8,0)),0,(VLOOKUP($A79,#REF!,8,0)))","v":0},0,1,0,0,0,0,{"$f":"IF(ISERROR(VLOOKUP($A79,#REF!,8,0)),0,(VLOOKUP($A79,#REF!,8,0)))","v":0},0,1,0,0,0,0,{"$f":"IF(ISERROR(VLOOKUP($A79,#REF!,8,0)),0,(VLOOKUP($A79,#REF!,8,0)))","v":0},0,1,0,0,0,0,{"$f":"IF(ISERROR(VLOOKUP($A79,#REF!,8,0)),0,(VLOOKUP($A79,#REF!,8,0)))","v":0},0,1,0,0,0,0,{"$f":"IF(ISERROR(VLOOKUP($A79,#REF!,8,0)),0,(VLOOKUP($A79,#REF!,8,0)))","v":0},0,1,0,0,0,0,{"$f":"IF(ISERROR(VLOOKUP($A79,#REF!,8,0)),0,(VLOOKUP($A79,#REF!,8,0)))","v":0},0,1,0,0,0,0,{"$f":"IF(ISERROR(VLOOKUP($A79,#REF!,8,0)),0,(VLOOKUP($A79,#REF!,8,0)))","v":0},0,1,0,0,0,0,{"$f":"IF(ISERROR(VLOOKUP($A79,#REF!,8,0)),0,(VLOOKUP($A79,#REF!,8,0)))","v":0},0,1,0,0,0,0,{"$f":"IF(ISERROR(VLOOKUP($A79,#REF!,8,0)),0,(VLOOKUP($A79,#REF!,8,0)))","v":0},0,1,0,0,0,0,{"$f":"IF(ISERROR(VLOOKUP($A79,#REF!,8,0)),0,(VLOOKUP($A79,#REF!,8,0)))","v":0},0,1,0,0,0,0,{"$f":"IF(ISERROR(VLOOKUP($A79,#REF!,8,0)),0,(VLOOKUP($A79,#REF!,8,0)))","v":0},0,1,0,0,0,0,{"$f":"IF(ISERROR(VLOOKUP($A79,#REF!,8,0)),0,(VLOOKUP($A79,#REF!,8,0)))","v":0},0,1,0,0,0,0,{"$f":"IF(ISERROR(VLOOKUP($A79,#REF!,8,0)),0,(VLOOKUP($A79,#REF!,8,0)))","v":0},0,1,0,0,0,0,{"$f":"IF(ISERROR(VLOOKUP($A79,#REF!,8,0)),0,(VLOOKUP($A79,#REF!,8,0)))","v":0},0,1,0,0,0,0,{"$f":"IF(ISERROR(VLOOKUP($A79,#REF!,8,0)),0,(VLOOKUP($A79,#REF!,8,0)))","v":0},0,1,0,0,0,0,{"$f":"IF(ISERROR(VLOOKUP($A79,#REF!,8,0)),0,(VLOOKUP($A79,#REF!,8,0)))","v":0},0,1,0,0,0,0,{"$f":"IF(ISERROR(VLOOKUP($A79,#REF!,8,0)),0,(VLOOKUP($A79,#REF!,8,0)))","v":0},0,1,0,0,0,0,{"$f":"IF(ISERROR(VLOOKUP($A79,#REF!,8,0)),0,(VLOOKUP($A79,#REF!,8,0)))","v":0},0,1,0,0,0,0,{"$f":"IF(ISERROR(VLOOKUP($A79,#REF!,8,0)),0,(VLOOKUP($A79,#REF!,8,0)))","v":0},0,1,0,0,0,0,{"$f":"IF(ISERROR(VLOOKUP($A79,#REF!,8,0)),0,(VLOOKUP($A79,#REF!,8,0)))","v":0},0,1,0,0,0,0,{"$f":"IF(ISERROR(VLOOKUP($A79,#REF!,8,0)),0,(VLOOKUP($A79,#REF!,8,0)))","v":0},0,1,0,0,0,0,{"$f":"IF(ISERROR(VLOOKUP($A79,#REF!,8,0)),0,(VLOOKUP($A79,#REF!,8,0)))","v":0},0,1,0,0,0,0,{"$f":"IF(ISERROR(VLOOKUP($A79,#REF!,8,0)),0,(VLOOKUP($A79,#REF!,8,0)))","v":0},0,1,0,0,0,0,{"$f":"IF(ISERROR(VLOOKUP($A79,#REF!,8,0)),0,(VLOOKUP($A79,#REF!,8,0)))","v":0},0,1,0,0,0,0,{"$f":"IF(ISERROR(VLOOKUP($A79,#REF!,8,0)),0,(VLOOKUP($A79,#REF!,8,0)))","v":0},0,1,0,0,0,0,{"$f":"IF(ISERROR(VLOOKUP($A79,#REF!,8,0)),0,(VLOOKUP($A79,#REF!,8,0)))","v":0},0,1,0,0,0,0,{"$f":"IF(ISERROR(VLOOKUP($A79,#REF!,8,0)),0,(VLOOKUP($A79,#REF!,8,0)))","v":0},0,1,0,0,0,0,{"$f":"IF(ISERROR(VLOOKUP($A79,#REF!,8,0)),0,(VLOOKUP($A79,#REF!,8,0)))","v":0},0,1,0,0,0,0,{"$f":"IF(ISERROR(VLOOKUP($A79,#REF!,8,0)),0,(VLOOKUP($A79,#REF!,8,0)))","v":0},0,1,0,0,0,0,{"$f":"IF(ISERROR(VLOOKUP($A79,#REF!,8,0)),0,(VLOOKUP($A79,#REF!,8,0)))","v":0},0,1,0,0,0,0,{"$f":"IF(ISERROR(VLOOKUP($A79,#REF!,8,0)),0,(VLOOKUP($A79,#REF!,8,0)))","v":0},0,1,0,0,0,0,{"$f":"IF(ISERROR(VLOOKUP($A79,#REF!,8,0)),0,(VLOOKUP($A79,#REF!,8,0)))","v":0},0,1,0,0,0,0,{"$f":"IF(ISERROR(VLOOKUP($A79,#REF!,8,0)),0,(VLOOKUP($A79,#REF!,8,0)))","v":0},0,1,0,0,0,0,{"$f":"IF(ISERROR(VLOOKUP($A79,#REF!,8,0)),0,(VLOOKUP($A79,#REF!,8,0)))","v":0},0,1,0,0,0,0,{"$f":"IF(ISERROR(VLOOKUP($A79,#REF!,8,0)),0,(VLOOKUP($A79,#REF!,8,0)))","v":0},0,1,0,0,0,0,{"$f":"IF(ISERROR(VLOOKUP($A79,#REF!,8,0)),0,(VLOOKUP($A79,#REF!,8,0)))","v":0},0,1,0,0,0,0,{"$f":"IF(ISERROR(VLOOKUP($A79,#REF!,8,0)),0,(VLOOKUP($A79,#REF!,8,0)))","v":0},0,1,0,0,0,0,{"$f":"IF(ISERROR(VLOOKUP($A79,#REF!,8,0)),0,(VLOOKUP($A79,#REF!,8,0)))","v":0},0,1,0,0,0,0,{"$f":"IF(ISERROR(VLOOKUP($A79,#REF!,8,0)),0,(VLOOKUP($A79,#REF!,8,0)))","v":0},0,1,0,0,0,0,{"$f":"IF(ISERROR(VLOOKUP($A79,#REF!,8,0)),0,(VLOOKUP($A79,#REF!,8,0)))","v":0},0,1,0,0,0,0,{"$f":"IF(ISERROR(VLOOKUP($A79,#REF!,8,0)),0,(VLOOKUP($A79,#REF!,8,0)))","v":0},0,1,0,0,0,0,{"$f":"IF(ISERROR(VLOOKUP($A79,#REF!,8,0)),0,(VLOOKUP($A79,#REF!,8,0)))","v":0},0,1,0,0,0,0,{"$f":"IF(ISERROR(VLOOKUP($A79,#REF!,8,0)),0,(VLOOKUP($A79,#REF!,8,0)))","v":0},0,1,0,0,0,0,{"$f":"IF(ISERROR(VLOOKUP($A79,#REF!,8,0)),0,(VLOOKUP($A79,#REF!,8,0)))","v":0},0,1,0,0,0,0,{"$f":"IF(ISERROR(VLOOKUP($A79,#REF!,8,0)),0,(VLOOKUP($A79,#REF!,8,0)))","v":0},0,1,0,0,0,0,1864.3224599999999,1864.3224599999999,1,0]
["1.68","Fornecimento e instalação de cabo de alumínio caa 4awg","m",60,60,0,17.431532000000001,1045.89192,2.7368000000000001,164.208,0,0,20.168331999999999,0,1210.0999199999999,60,1,1045.89192,164.208,0,1210.0999999999999,null,0,1,0,0,0,0,null,0,1,0,0,0,0,null,0,1,0,0,0,0,null,0,1,0,0,0,0,null,0,1,0,0,0,0,{"$f":"IF(ISERROR(VLOOKUP(A80,'7ª MEDIÇÃO'!$A$5:$J$1048576,8,0)),0,(VLOOKUP(A80,'7ª MEDIÇÃO'!$A$5:$J$1048576,8,0)))","v":0},0,1,0,0,0,0,{"$f":"IF(ISERROR(VLOOKUP(A80,'8ª MEDIÇÃO'!$A$5:$J$1048576,8,0)),0,(VLOOKUP(A80,'8ª MEDIÇÃO'!$A$5:$J$1048576,8,0)))","v":0},0,1,0,0,0,0,{"$f":"IF(ISERROR(VLOOKUP(A80,'9ª MEDIÇÃO'!$A$5:$J$1048576,8,0)),0,(VLOOKUP(A80,'9ª MEDIÇÃO'!$A$5:$J$1048576,8,0)))","v":0},0,1,0,0,0,0,{"$f":"IF(ISERROR(VLOOKUP(A80,#REF!,8,0)),0,(VLOOKUP(A80,#REF!,8,0)))","v":0},0,1,0,0,0,0,{"$f":"IF(ISERROR(VLOOKUP($A80,#REF!,8,0)),0,(VLOOKUP($A80,#REF!,8,0)))","v":0},0,1,0,0,0,0,{"$f":"IF(ISERROR(VLOOKUP($A80,#REF!,8,0)),0,(VLOOKUP($A80,#REF!,8,0)))","v":0},0,1,0,0,0,0,{"$f":"IF(ISERROR(VLOOKUP($A80,#REF!,8,0)),0,(VLOOKUP($A80,#REF!,8,0)))","v":0},0,1,0,0,0,0,{"$f":"IF(ISERROR(VLOOKUP($A80,#REF!,8,0)),0,(VLOOKUP($A80,#REF!,8,0)))","v":0},0,1,0,0,0,0,{"$f":"IF(ISERROR(VLOOKUP($A80,#REF!,8,0)),0,(VLOOKUP($A80,#REF!,8,0)))","v":0},0,1,0,0,0,0,{"$f":"IF(ISERROR(VLOOKUP($A80,#REF!,8,0)),0,(VLOOKUP($A80,#REF!,8,0)))","v":0},0,1,0,0,0,0,{"$f":"IF(ISERROR(VLOOKUP($A80,#REF!,8,0)),0,(VLOOKUP($A80,#REF!,8,0)))","v":0},0,1,0,0,0,0,{"$f":"IF(ISERROR(VLOOKUP($A80,#REF!,8,0)),0,(VLOOKUP($A80,#REF!,8,0)))","v":0},0,1,0,0,0,0,{"$f":"IF(ISERROR(VLOOKUP($A80,#REF!,8,0)),0,(VLOOKUP($A80,#REF!,8,0)))","v":0},0,1,0,0,0,0,{"$f":"IF(ISERROR(VLOOKUP($A80,#REF!,8,0)),0,(VLOOKUP($A80,#REF!,8,0)))","v":0},0,1,0,0,0,0,{"$f":"IF(ISERROR(VLOOKUP($A80,#REF!,8,0)),0,(VLOOKUP($A80,#REF!,8,0)))","v":0},0,1,0,0,0,0,{"$f":"IF(ISERROR(VLOOKUP($A80,#REF!,8,0)),0,(VLOOKUP($A80,#REF!,8,0)))","v":0},0,1,0,0,0,0,{"$f":"IF(ISERROR(VLOOKUP($A80,#REF!,8,0)),0,(VLOOKUP($A80,#REF!,8,0)))","v":0},0,1,0,0,0,0,{"$f":"IF(ISERROR(VLOOKUP($A80,#REF!,8,0)),0,(VLOOKUP($A80,#REF!,8,0)))","v":0},0,1,0,0,0,0,{"$f":"IF(ISERROR(VLOOKUP($A80,#REF!,8,0)),0,(VLOOKUP($A80,#REF!,8,0)))","v":0},0,1,0,0,0,0,{"$f":"IF(ISERROR(VLOOKUP($A80,#REF!,8,0)),0,(VLOOKUP($A80,#REF!,8,0)))","v":0},0,1,0,0,0,0,{"$f":"IF(ISERROR(VLOOKUP($A80,#REF!,8,0)),0,(VLOOKUP($A80,#REF!,8,0)))","v":0},0,1,0,0,0,0,{"$f":"IF(ISERROR(VLOOKUP($A80,#REF!,8,0)),0,(VLOOKUP($A80,#REF!,8,0)))","v":0},0,1,0,0,0,0,{"$f":"IF(ISERROR(VLOOKUP($A80,#REF!,8,0)),0,(VLOOKUP($A80,#REF!,8,0)))","v":0},0,1,0,0,0,0,{"$f":"IF(ISERROR(VLOOKUP($A80,#REF!,8,0)),0,(VLOOKUP($A80,#REF!,8,0)))","v":0},0,1,0,0,0,0,{"$f":"IF(ISERROR(VLOOKUP($A80,#REF!,8,0)),0,(VLOOKUP($A80,#REF!,8,0)))","v":0},0,1,0,0,0,0,{"$f":"IF(ISERROR(VLOOKUP($A80,#REF!,8,0)),0,(VLOOKUP($A80,#REF!,8,0)))","v":0},0,1,0,0,0,0,{"$f":"IF(ISERROR(VLOOKUP($A80,#REF!,8,0)),0,(VLOOKUP($A80,#REF!,8,0)))","v":0},0,1,0,0,0,0,{"$f":"IF(ISERROR(VLOOKUP($A80,#REF!,8,0)),0,(VLOOKUP($A80,#REF!,8,0)))","v":0},0,1,0,0,0,0,{"$f":"IF(ISERROR(VLOOKUP($A80,#REF!,8,0)),0,(VLOOKUP($A80,#REF!,8,0)))","v":0},0,1,0,0,0,0,{"$f":"IF(ISERROR(VLOOKUP($A80,#REF!,8,0)),0,(VLOOKUP($A80,#REF!,8,0)))","v":0},0,1,0,0,0,0,{"$f":"IF(ISERROR(VLOOKUP($A80,#REF!,8,0)),0,(VLOOKUP($A80,#REF!,8,0)))","v":0},0,1,0,0,0,0,{"$f":"IF(ISERROR(VLOOKUP($A80,#REF!,8,0)),0,(VLOOKUP($A80,#REF!,8,0)))","v":0},0,1,0,0,0,0,{"$f":"IF(ISERROR(VLOOKUP($A80,#REF!,8,0)),0,(VLOOKUP($A80,#REF!,8,0)))","v":0},0,1,0,0,0,0,{"$f":"IF(ISERROR(VLOOKUP($A80,#REF!,8,0)),0,(VLOOKUP($A80,#REF!,8,0)))","v":0},0,1,0,0,0,0,{"$f":"IF(ISERROR(VLOOKUP($A80,#REF!,8,0)),0,(VLOOKUP($A80,#REF!,8,0)))","v":0},0,1,0,0,0,0,{"$f":"IF(ISERROR(VLOOKUP($A80,#REF!,8,0)),0,(VLOOKUP($A80,#REF!,8,0)))","v":0},0,1,0,0,0,0,{"$f":"IF(ISERROR(VLOOKUP($A80,#REF!,8,0)),0,(VLOOKUP($A80,#REF!,8,0)))","v":0},0,1,0,0,0,0,{"$f":"IF(ISERROR(VLOOKUP($A80,#REF!,8,0)),0,(VLOOKUP($A80,#REF!,8,0)))","v":0},0,1,0,0,0,0,{"$f":"IF(ISERROR(VLOOKUP($A80,#REF!,8,0)),0,(VLOOKUP($A80,#REF!,8,0)))","v":0},0,1,0,0,0,0,{"$f":"IF(ISERROR(VLOOKUP($A80,#REF!,8,0)),0,(VLOOKUP($A80,#REF!,8,0)))","v":0},0,1,0,0,0,0,{"$f":"IF(ISERROR(VLOOKUP($A80,#REF!,8,0)),0,(VLOOKUP($A80,#REF!,8,0)))","v":0},0,1,0,0,0,0,{"$f":"IF(ISERROR(VLOOKUP($A80,#REF!,8,0)),0,(VLOOKUP($A80,#REF!,8,0)))","v":0},0,1,0,0,0,0,{"$f":"IF(ISERROR(VLOOKUP($A80,#REF!,8,0)),0,(VLOOKUP($A80,#REF!,8,0)))","v":0},0,1,0,0,0,0,{"$f":"IF(ISERROR(VLOOKUP($A80,#REF!,8,0)),0,(VLOOKUP($A80,#REF!,8,0)))","v":0},0,1,0,0,0,0,{"$f":"IF(ISERROR(VLOOKUP($A80,#REF!,8,0)),0,(VLOOKUP($A80,#REF!,8,0)))","v":0},0,1,0,0,0,0,{"$f":"IF(ISERROR(VLOOKUP($A80,#REF!,8,0)),0,(VLOOKUP($A80,#REF!,8,0)))","v":0},0,1,0,0,0,0,{"$f":"IF(ISERROR(VLOOKUP($A80,#REF!,8,0)),0,(VLOOKUP($A80,#REF!,8,0)))","v":0},0,1,0,0,0,0,{"$f":"IF(ISERROR(VLOOKUP($A80,#REF!,8,0)),0,(VLOOKUP($A80,#REF!,8,0)))","v":0},0,1,0,0,0,0,{"$f":"IF(ISERROR(VLOOKUP($A80,#REF!,8,0)),0,(VLOOKUP($A80,#REF!,8,0)))","v":0},0,1,0,0,0,0,1210.0999199999999,1210.0999199999999,1,0]
["1.69","Cabo de cobre (1condutor), tempera mole, encordoamento classe 2, isolamento de pvc, flame resistant - 70°c, isolação 0,6/1kv, de 95mm² sintenax flex ou equivalente, inclusive instalação em eletroduto/ eletrocalha.","m",100,36,64,52.730974000000003,5273.0974000000006,7.4888799999999991,748.88799999999992,0,0,60.219854000000005,3854.0706560000003,2167.9147440000002,null,0,0,0,0,0,36,0.36,0.36,1898.3150640000001,269.59967999999998,0,2167.91,null,0,0.36,0,0,0,0,null,0,0.36,0,0,0,0,null,0,0.36,0,0,0,0,null,0,0.36,0,0,0,0,{"$f":"IF(ISERROR(VLOOKUP(A81,'7ª MEDIÇÃO'!$A$5:$J$1048576,8,0)),0,(VLOOKUP(A81,'7ª MEDIÇÃO'!$A$5:$J$1048576,8,0)))","v":0},0,0.36,0,0,0,0,{"$f":"IF(ISERROR(VLOOKUP(A81,'8ª MEDIÇÃO'!$A$5:$J$1048576,8,0)),0,(VLOOKUP(A81,'8ª MEDIÇÃO'!$A$5:$J$1048576,8,0)))","v":0},0,0.36,0,0,0,0,{"$f":"IF(ISERROR(VLOOKUP(A81,'9ª MEDIÇÃO'!$A$5:$J$1048576,8,0)),0,(VLOOKUP(A81,'9ª MEDIÇÃO'!$A$5:$J$1048576,8,0)))","v":0},0,0.36,0,0,0,0,{"$f":"IF(ISERROR(VLOOKUP(A81,#REF!,8,0)),0,(VLOOKUP(A81,#REF!,8,0)))","v":0},0,0.36,0,0,0,0,{"$f":"IF(ISERROR(VLOOKUP($A81,#REF!,8,0)),0,(VLOOKUP($A81,#REF!,8,0)))","v":0},0,0.36,0,0,0,0,{"$f":"IF(ISERROR(VLOOKUP($A81,#REF!,8,0)),0,(VLOOKUP($A81,#REF!,8,0)))","v":0},0,0.36,0,0,0,0,{"$f":"IF(ISERROR(VLOOKUP($A81,#REF!,8,0)),0,(VLOOKUP($A81,#REF!,8,0)))","v":0},0,0.36,0,0,0,0,{"$f":"IF(ISERROR(VLOOKUP($A81,#REF!,8,0)),0,(VLOOKUP($A81,#REF!,8,0)))","v":0},0,0.36,0,0,0,0,{"$f":"IF(ISERROR(VLOOKUP($A81,#REF!,8,0)),0,(VLOOKUP($A81,#REF!,8,0)))","v":0},0,0.36,0,0,0,0,{"$f":"IF(ISERROR(VLOOKUP($A81,#REF!,8,0)),0,(VLOOKUP($A81,#REF!,8,0)))","v":0},0,0.36,0,0,0,0,{"$f":"IF(ISERROR(VLOOKUP($A81,#REF!,8,0)),0,(VLOOKUP($A81,#REF!,8,0)))","v":0},0,0.36,0,0,0,0,{"$f":"IF(ISERROR(VLOOKUP($A81,#REF!,8,0)),0,(VLOOKUP($A81,#REF!,8,0)))","v":0},0,0.36,0,0,0,0,{"$f":"IF(ISERROR(VLOOKUP($A81,#REF!,8,0)),0,(VLOOKUP($A81,#REF!,8,0)))","v":0},0,0.36,0,0,0,0,{"$f":"IF(ISERROR(VLOOKUP($A81,#REF!,8,0)),0,(VLOOKUP($A81,#REF!,8,0)))","v":0},0,0.36,0,0,0,0,{"$f":"IF(ISERROR(VLOOKUP($A81,#REF!,8,0)),0,(VLOOKUP($A81,#REF!,8,0)))","v":0},0,0.36,0,0,0,0,{"$f":"IF(ISERROR(VLOOKUP($A81,#REF!,8,0)),0,(VLOOKUP($A81,#REF!,8,0)))","v":0},0,0.36,0,0,0,0,{"$f":"IF(ISERROR(VLOOKUP($A81,#REF!,8,0)),0,(VLOOKUP($A81,#REF!,8,0)))","v":0},0,0.36,0,0,0,0,{"$f":"IF(ISERROR(VLOOKUP($A81,#REF!,8,0)),0,(VLOOKUP($A81,#REF!,8,0)))","v":0},0,0.36,0,0,0,0,{"$f":"IF(ISERROR(VLOOKUP($A81,#REF!,8,0)),0,(VLOOKUP($A81,#REF!,8,0)))","v":0},0,0.36,0,0,0,0,{"$f":"IF(ISERROR(VLOOKUP($A81,#REF!,8,0)),0,(VLOOKUP($A81,#REF!,8,0)))","v":0},0,0.36,0,0,0,0,{"$f":"IF(ISERROR(VLOOKUP($A81,#REF!,8,0)),0,(VLOOKUP($A81,#REF!,8,0)))","v":0},0,0.36,0,0,0,0,{"$f":"IF(ISERROR(VLOOKUP($A81,#REF!,8,0)),0,(VLOOKUP($A81,#REF!,8,0)))","v":0},0,0.36,0,0,0,0,{"$f":"IF(ISERROR(VLOOKUP($A81,#REF!,8,0)),0,(VLOOKUP($A81,#REF!,8,0)))","v":0},0,0.36,0,0,0,0,{"$f":"IF(ISERROR(VLOOKUP($A81,#REF!,8,0)),0,(VLOOKUP($A81,#REF!,8,0)))","v":0},0,0.36,0,0,0,0,{"$f":"IF(ISERROR(VLOOKUP($A81,#REF!,8,0)),0,(VLOOKUP($A81,#REF!,8,0)))","v":0},0,0.36,0,0,0,0,{"$f":"IF(ISERROR(VLOOKUP($A81,#REF!,8,0)),0,(VLOOKUP($A81,#REF!,8,0)))","v":0},0,0.36,0,0,0,0,{"$f":"IF(ISERROR(VLOOKUP($A81,#REF!,8,0)),0,(VLOOKUP($A81,#REF!,8,0)))","v":0},0,0.36,0,0,0,0,{"$f":"IF(ISERROR(VLOOKUP($A81,#REF!,8,0)),0,(VLOOKUP($A81,#REF!,8,0)))","v":0},0,0.36,0,0,0,0,{"$f":"IF(ISERROR(VLOOKUP($A81,#REF!,8,0)),0,(VLOOKUP($A81,#REF!,8,0)))","v":0},0,0.36,0,0,0,0,{"$f":"IF(ISERROR(VLOOKUP($A81,#REF!,8,0)),0,(VLOOKUP($A81,#REF!,8,0)))","v":0},0,0.36,0,0,0,0,{"$f":"IF(ISERROR(VLOOKUP($A81,#REF!,8,0)),0,(VLOOKUP($A81,#REF!,8,0)))","v":0},0,0.36,0,0,0,0,{"$f":"IF(ISERROR(VLOOKUP($A81,#REF!,8,0)),0,(VLOOKUP($A81,#REF!,8,0)))","v":0},0,0.36,0,0,0,0,{"$f":"IF(ISERROR(VLOOKUP($A81,#REF!,8,0)),0,(VLOOKUP($A81,#REF!,8,0)))","v":0},0,0.36,0,0,0,0,{"$f":"IF(ISERROR(VLOOKUP($A81,#REF!,8,0)),0,(VLOOKUP($A81,#REF!,8,0)))","v":0},0,0.36,0,0,0,0,{"$f":"IF(ISERROR(VLOOKUP($A81,#REF!,8,0)),0,(VLOOKUP($A81,#REF!,8,0)))","v":0},0,0.36,0,0,0,0,{"$f":"IF(ISERROR(VLOOKUP($A81,#REF!,8,0)),0,(VLOOKUP($A81,#REF!,8,0)))","v":0},0,0.36,0,0,0,0,{"$f":"IF(ISERROR(VLOOKUP($A81,#REF!,8,0)),0,(VLOOKUP($A81,#REF!,8,0)))","v":0},0,0.36,0,0,0,0,{"$f":"IF(ISERROR(VLOOKUP($A81,#REF!,8,0)),0,(VLOOKUP($A81,#REF!,8,0)))","v":0},0,0.36,0,0,0,0,{"$f":"IF(ISERROR(VLOOKUP($A81,#REF!,8,0)),0,(VLOOKUP($A81,#REF!,8,0)))","v":0},0,0.36,0,0,0,0,{"$f":"IF(ISERROR(VLOOKUP($A81,#REF!,8,0)),0,(VLOOKUP($A81,#REF!,8,0)))","v":0},0,0.36,0,0,0,0,{"$f":"IF(ISERROR(VLOOKUP($A81,#REF!,8,0)),0,(VLOOKUP($A81,#REF!,8,0)))","v":0},0,0.36,0,0,0,0,{"$f":"IF(ISERROR(VLOOKUP($A81,#REF!,8,0)),0,(VLOOKUP($A81,#REF!,8,0)))","v":0},0,0.36,0,0,0,0,{"$f":"IF(ISERROR(VLOOKUP($A81,#REF!,8,0)),0,(VLOOKUP($A81,#REF!,8,0)))","v":0},0,0.36,0,0,0,0,{"$f":"IF(ISERROR(VLOOKUP($A81,#REF!,8,0)),0,(VLOOKUP($A81,#REF!,8,0)))","v":0},0,0.36,0,0,0,0,{"$f":"IF(ISERROR(VLOOKUP($A81,#REF!,8,0)),0,(VLOOKUP($A81,#REF!,8,0)))","v":0},0,0.36,0,0,0,0,{"$f":"IF(ISERROR(VLOOKUP($A81,#REF!,8,0)),0,(VLOOKUP($A81,#REF!,8,0)))","v":0},0,0.36,0,0,0,0,{"$f":"IF(ISERROR(VLOOKUP($A81,#REF!,8,0)),0,(VLOOKUP($A81,#REF!,8,0)))","v":0},0,0.36,0,0,0,0,{"$f":"IF(ISERROR(VLOOKUP($A81,#REF!,8,0)),0,(VLOOKUP($A81,#REF!,8,0)))","v":0},0,0.36,0,0,0,0,{"$f":"IF(ISERROR(VLOOKUP($A81,#REF!,8,0)),0,(VLOOKUP($A81,#REF!,8,0)))","v":0},0,0.36,0,0,0,0,2167.9147440000002,2167.9147440000002,1,0]
["1.70","Fornecimento e assentamento de eletroduto de pvc rígido de 3\" com luva de rosca interna, curvas e demais acessórios de fixação.","m",30,30,0,23.977201999999998,719.31605999999999,14.965319999999998,448.95959999999997,0,0,38.942521999999997,0,1168.2756599999998,30,1,719.31605999999999,448.95959999999997,0,1168.28,null,0,1,0,0,0,0,null,0,1,0,0,0,0,null,0,1,0,0,0,0,null,0,1,0,0,0,0,null,0,1,0,0,0,0,{"$f":"IF(ISERROR(VLOOKUP(A82,'7ª MEDIÇÃO'!$A$5:$J$1048576,8,0)),0,(VLOOKUP(A82,'7ª MEDIÇÃO'!$A$5:$J$1048576,8,0)))","v":0},0,1,0,0,0,0,{"$f":"IF(ISERROR(VLOOKUP(A82,'8ª MEDIÇÃO'!$A$5:$J$1048576,8,0)),0,(VLOOKUP(A82,'8ª MEDIÇÃO'!$A$5:$J$1048576,8,0)))","v":0},0,1,0,0,0,0,{"$f":"IF(ISERROR(VLOOKUP(A82,'9ª MEDIÇÃO'!$A$5:$J$1048576,8,0)),0,(VLOOKUP(A82,'9ª MEDIÇÃO'!$A$5:$J$1048576,8,0)))","v":0},0,1,0,0,0,0,{"$f":"IF(ISERROR(VLOOKUP(A82,#REF!,8,0)),0,(VLOOKUP(A82,#REF!,8,0)))","v":0},0,1,0,0,0,0,{"$f":"IF(ISERROR(VLOOKUP($A82,#REF!,8,0)),0,(VLOOKUP($A82,#REF!,8,0)))","v":0},0,1,0,0,0,0,{"$f":"IF(ISERROR(VLOOKUP($A82,#REF!,8,0)),0,(VLOOKUP($A82,#REF!,8,0)))","v":0},0,1,0,0,0,0,{"$f":"IF(ISERROR(VLOOKUP($A82,#REF!,8,0)),0,(VLOOKUP($A82,#REF!,8,0)))","v":0},0,1,0,0,0,0,{"$f":"IF(ISERROR(VLOOKUP($A82,#REF!,8,0)),0,(VLOOKUP($A82,#REF!,8,0)))","v":0},0,1,0,0,0,0,{"$f":"IF(ISERROR(VLOOKUP($A82,#REF!,8,0)),0,(VLOOKUP($A82,#REF!,8,0)))","v":0},0,1,0,0,0,0,{"$f":"IF(ISERROR(VLOOKUP($A82,#REF!,8,0)),0,(VLOOKUP($A82,#REF!,8,0)))","v":0},0,1,0,0,0,0,{"$f":"IF(ISERROR(VLOOKUP($A82,#REF!,8,0)),0,(VLOOKUP($A82,#REF!,8,0)))","v":0},0,1,0,0,0,0,{"$f":"IF(ISERROR(VLOOKUP($A82,#REF!,8,0)),0,(VLOOKUP($A82,#REF!,8,0)))","v":0},0,1,0,0,0,0,{"$f":"IF(ISERROR(VLOOKUP($A82,#REF!,8,0)),0,(VLOOKUP($A82,#REF!,8,0)))","v":0},0,1,0,0,0,0,{"$f":"IF(ISERROR(VLOOKUP($A82,#REF!,8,0)),0,(VLOOKUP($A82,#REF!,8,0)))","v":0},0,1,0,0,0,0,{"$f":"IF(ISERROR(VLOOKUP($A82,#REF!,8,0)),0,(VLOOKUP($A82,#REF!,8,0)))","v":0},0,1,0,0,0,0,{"$f":"IF(ISERROR(VLOOKUP($A82,#REF!,8,0)),0,(VLOOKUP($A82,#REF!,8,0)))","v":0},0,1,0,0,0,0,{"$f":"IF(ISERROR(VLOOKUP($A82,#REF!,8,0)),0,(VLOOKUP($A82,#REF!,8,0)))","v":0},0,1,0,0,0,0,{"$f":"IF(ISERROR(VLOOKUP($A82,#REF!,8,0)),0,(VLOOKUP($A82,#REF!,8,0)))","v":0},0,1,0,0,0,0,{"$f":"IF(ISERROR(VLOOKUP($A82,#REF!,8,0)),0,(VLOOKUP($A82,#REF!,8,0)))","v":0},0,1,0,0,0,0,{"$f":"IF(ISERROR(VLOOKUP($A82,#REF!,8,0)),0,(VLOOKUP($A82,#REF!,8,0)))","v":0},0,1,0,0,0,0,{"$f":"IF(ISERROR(VLOOKUP($A82,#REF!,8,0)),0,(VLOOKUP($A82,#REF!,8,0)))","v":0},0,1,0,0,0,0,{"$f":"IF(ISERROR(VLOOKUP($A82,#REF!,8,0)),0,(VLOOKUP($A82,#REF!,8,0)))","v":0},0,1,0,0,0,0,{"$f":"IF(ISERROR(VLOOKUP($A82,#REF!,8,0)),0,(VLOOKUP($A82,#REF!,8,0)))","v":0},0,1,0,0,0,0,{"$f":"IF(ISERROR(VLOOKUP($A82,#REF!,8,0)),0,(VLOOKUP($A82,#REF!,8,0)))","v":0},0,1,0,0,0,0,{"$f":"IF(ISERROR(VLOOKUP($A82,#REF!,8,0)),0,(VLOOKUP($A82,#REF!,8,0)))","v":0},0,1,0,0,0,0,{"$f":"IF(ISERROR(VLOOKUP($A82,#REF!,8,0)),0,(VLOOKUP($A82,#REF!,8,0)))","v":0},0,1,0,0,0,0,{"$f":"IF(ISERROR(VLOOKUP($A82,#REF!,8,0)),0,(VLOOKUP($A82,#REF!,8,0)))","v":0},0,1,0,0,0,0,{"$f":"IF(ISERROR(VLOOKUP($A82,#REF!,8,0)),0,(VLOOKUP($A82,#REF!,8,0)))","v":0},0,1,0,0,0,0,{"$f":"IF(ISERROR(VLOOKUP($A82,#REF!,8,0)),0,(VLOOKUP($A82,#REF!,8,0)))","v":0},0,1,0,0,0,0,{"$f":"IF(ISERROR(VLOOKUP($A82,#REF!,8,0)),0,(VLOOKUP($A82,#REF!,8,0)))","v":0},0,1,0,0,0,0,{"$f":"IF(ISERROR(VLOOKUP($A82,#REF!,8,0)),0,(VLOOKUP($A82,#REF!,8,0)))","v":0},0,1,0,0,0,0,{"$f":"IF(ISERROR(VLOOKUP($A82,#REF!,8,0)),0,(VLOOKUP($A82,#REF!,8,0)))","v":0},0,1,0,0,0,0,{"$f":"IF(ISERROR(VLOOKUP($A82,#REF!,8,0)),0,(VLOOKUP($A82,#REF!,8,0)))","v":0},0,1,0,0,0,0,{"$f":"IF(ISERROR(VLOOKUP($A82,#REF!,8,0)),0,(VLOOKUP($A82,#REF!,8,0)))","v":0},0,1,0,0,0,0,{"$f":"IF(ISERROR(VLOOKUP($A82,#REF!,8,0)),0,(VLOOKUP($A82,#REF!,8,0)))","v":0},0,1,0,0,0,0,{"$f":"IF(ISERROR(VLOOKUP($A82,#REF!,8,0)),0,(VLOOKUP($A82,#REF!,8,0)))","v":0},0,1,0,0,0,0,{"$f":"IF(ISERROR(VLOOKUP($A82,#REF!,8,0)),0,(VLOOKUP($A82,#REF!,8,0)))","v":0},0,1,0,0,0,0,{"$f":"IF(ISERROR(VLOOKUP($A82,#REF!,8,0)),0,(VLOOKUP($A82,#REF!,8,0)))","v":0},0,1,0,0,0,0,{"$f":"IF(ISERROR(VLOOKUP($A82,#REF!,8,0)),0,(VLOOKUP($A82,#REF!,8,0)))","v":0},0,1,0,0,0,0,{"$f":"IF(ISERROR(VLOOKUP($A82,#REF!,8,0)),0,(VLOOKUP($A82,#REF!,8,0)))","v":0},0,1,0,0,0,0,{"$f":"IF(ISERROR(VLOOKUP($A82,#REF!,8,0)),0,(VLOOKUP($A82,#REF!,8,0)))","v":0},0,1,0,0,0,0,{"$f":"IF(ISERROR(VLOOKUP($A82,#REF!,8,0)),0,(VLOOKUP($A82,#REF!,8,0)))","v":0},0,1,0,0,0,0,{"$f":"IF(ISERROR(VLOOKUP($A82,#REF!,8,0)),0,(VLOOKUP($A82,#REF!,8,0)))","v":0},0,1,0,0,0,0,{"$f":"IF(ISERROR(VLOOKUP($A82,#REF!,8,0)),0,(VLOOKUP($A82,#REF!,8,0)))","v":0},0,1,0,0,0,0,{"$f":"IF(ISERROR(VLOOKUP($A82,#REF!,8,0)),0,(VLOOKUP($A82,#REF!,8,0)))","v":0},0,1,0,0,0,0,{"$f":"IF(ISERROR(VLOOKUP($A82,#REF!,8,0)),0,(VLOOKUP($A82,#REF!,8,0)))","v":0},0,1,0,0,0,0,{"$f":"IF(ISERROR(VLOOKUP($A82,#REF!,8,0)),0,(VLOOKUP($A82,#REF!,8,0)))","v":0},0,1,0,0,0,0,{"$f":"IF(ISERROR(VLOOKUP($A82,#REF!,8,0)),0,(VLOOKUP($A82,#REF!,8,0)))","v":0},0,1,0,0,0,0,{"$f":"IF(ISERROR(VLOOKUP($A82,#REF!,8,0)),0,(VLOOKUP($A82,#REF!,8,0)))","v":0},0,1,0,0,0,0,1168.2756599999998,1168.2756599999998,1,0]
["2.0","INFRAESTRUTURA",null,null,0,0,null,0,null,0,null,0,0,0,0,null,0,0,0,0,0,null,0,0,0,0,0,0,null,0,0,0,0,0,0,null,0,0,0,0,0,0,null,0,0,0,0,0,0,null,0,0,0,0,0,0,{"$f":"IF(ISERROR(VLOOKUP(A83,'7ª MEDIÇÃO'!$A$5:$J$1048576,8,0)),0,(VLOOKUP(A83,'7ª MEDIÇÃO'!$A$5:$J$1048576,8,0)))","v":0},0,0,0,0,0,0,{"$f":"IF(ISERROR(VLOOKUP(A83,'8ª MEDIÇÃO'!$A$5:$J$1048576,8,0)),0,(VLOOKUP(A83,'8ª MEDIÇÃO'!$A$5:$J$1048576,8,0)))","v":0},0,0,0,0,0,0,{"$f":"IF(ISERROR(VLOOKUP(A83,'9ª MEDIÇÃO'!$A$5:$J$1048576,8,0)),0,(VLOOKUP(A83,'9ª MEDIÇÃO'!$A$5:$J$1048576,8,0)))","v":0},0,0,0,0,0,0,{"$f":"IF(ISERROR(VLOOKUP(A83,#REF!,8,0)),0,(VLOOKUP(A83,#REF!,8,0)))","v":0},0,0,0,0,0,0,{"$f":"IF(ISERROR(VLOOKUP($A83,#REF!,8,0)),0,(VLOOKUP($A83,#REF!,8,0)))","v":0},0,0,0,0,0,0,{"$f":"IF(ISERROR(VLOOKUP($A83,#REF!,8,0)),0,(VLOOKUP($A83,#REF!,8,0)))","v":0},0,0,0,0,0,0,{"$f":"IF(ISERROR(VLOOKUP($A83,#REF!,8,0)),0,(VLOOKUP($A83,#REF!,8,0)))","v":0},0,0,0,0,0,0,{"$f":"IF(ISERROR(VLOOKUP($A83,#REF!,8,0)),0,(VLOOKUP($A83,#REF!,8,0)))","v":0},0,0,0,0,0,0,{"$f":"IF(ISERROR(VLOOKUP($A83,#REF!,8,0)),0,(VLOOKUP($A83,#REF!,8,0)))","v":0},0,0,0,0,0,0,{"$f":"IF(ISERROR(VLOOKUP($A83,#REF!,8,0)),0,(VLOOKUP($A83,#REF!,8,0)))","v":0},0,0,0,0,0,0,{"$f":"IF(ISERROR(VLOOKUP($A83,#REF!,8,0)),0,(VLOOKUP($A83,#REF!,8,0)))","v":0},0,0,0,0,0,0,{"$f":"IF(ISERROR(VLOOKUP($A83,#REF!,8,0)),0,(VLOOKUP($A83,#REF!,8,0)))","v":0},0,0,0,0,0,0,{"$f":"IF(ISERROR(VLOOKUP($A83,#REF!,8,0)),0,(VLOOKUP($A83,#REF!,8,0)))","v":0},0,0,0,0,0,0,{"$f":"IF(ISERROR(VLOOKUP($A83,#REF!,8,0)),0,(VLOOKUP($A83,#REF!,8,0)))","v":0},0,0,0,0,0,0,{"$f":"IF(ISERROR(VLOOKUP($A83,#REF!,8,0)),0,(VLOOKUP($A83,#REF!,8,0)))","v":0},0,0,0,0,0,0,{"$f":"IF(ISERROR(VLOOKUP($A83,#REF!,8,0)),0,(VLOOKUP($A83,#REF!,8,0)))","v":0},0,0,0,0,0,0,{"$f":"IF(ISERROR(VLOOKUP($A83,#REF!,8,0)),0,(VLOOKUP($A83,#REF!,8,0)))","v":0},0,0,0,0,0,0,{"$f":"IF(ISERROR(VLOOKUP($A83,#REF!,8,0)),0,(VLOOKUP($A83,#REF!,8,0)))","v":0},0,0,0,0,0,0,{"$f":"IF(ISERROR(VLOOKUP($A83,#REF!,8,0)),0,(VLOOKUP($A83,#REF!,8,0)))","v":0},0,0,0,0,0,0,{"$f":"IF(ISERROR(VLOOKUP($A83,#REF!,8,0)),0,(VLOOKUP($A83,#REF!,8,0)))","v":0},0,0,0,0,0,0,{"$f":"IF(ISERROR(VLOOKUP($A83,#REF!,8,0)),0,(VLOOKUP($A83,#REF!,8,0)))","v":0},0,0,0,0,0,0,{"$f":"IF(ISERROR(VLOOKUP($A83,#REF!,8,0)),0,(VLOOKUP($A83,#REF!,8,0)))","v":0},0,0,0,0,0,0,{"$f":"IF(ISERROR(VLOOKUP($A83,#REF!,8,0)),0,(VLOOKUP($A83,#REF!,8,0)))","v":0},0,0,0,0,0,0,{"$f":"IF(ISERROR(VLOOKUP($A83,#REF!,8,0)),0,(VLOOKUP($A83,#REF!,8,0)))","v":0},0,0,0,0,0,0,{"$f":"IF(ISERROR(VLOOKUP($A83,#REF!,8,0)),0,(VLOOKUP($A83,#REF!,8,0)))","v":0},0,0,0,0,0,0,{"$f":"IF(ISERROR(VLOOKUP($A83,#REF!,8,0)),0,(VLOOKUP($A83,#REF!,8,0)))","v":0},0,0,0,0,0,0,{"$f":"IF(ISERROR(VLOOKUP($A83,#REF!,8,0)),0,(VLOOKUP($A83,#REF!,8,0)))","v":0},0,0,0,0,0,0,{"$f":"IF(ISERROR(VLOOKUP($A83,#REF!,8,0)),0,(VLOOKUP($A83,#REF!,8,0)))","v":0},0,0,0,0,0,0,{"$f":"IF(ISERROR(VLOOKUP($A83,#REF!,8,0)),0,(VLOOKUP($A83,#REF!,8,0)))","v":0},0,0,0,0,0,0,{"$f":"IF(ISERROR(VLOOKUP($A83,#REF!,8,0)),0,(VLOOKUP($A83,#REF!,8,0)))","v":0},0,0,0,0,0,0,{"$f":"IF(ISERROR(VLOOKUP($A83,#REF!,8,0)),0,(VLOOKUP($A83,#REF!,8,0)))","v":0},0,0,0,0,0,0,{"$f":"IF(ISERROR(VLOOKUP($A83,#REF!,8,0)),0,(VLOOKUP($A83,#REF!,8,0)))","v":0},0,0,0,0,0,0,{"$f":"IF(ISERROR(VLOOKUP($A83,#REF!,8,0)),0,(VLOOKUP($A83,#REF!,8,0)))","v":0},0,0,0,0,0,0,{"$f":"IF(ISERROR(VLOOKUP($A83,#REF!,8,0)),0,(VLOOKUP($A83,#REF!,8,0)))","v":0},0,0,0,0,0,0,{"$f":"IF(ISERROR(VLOOKUP($A83,#REF!,8,0)),0,(VLOOKUP($A83,#REF!,8,0)))","v":0},0,0,0,0,0,0,{"$f":"IF(ISERROR(VLOOKUP($A83,#REF!,8,0)),0,(VLOOKUP($A83,#REF!,8,0)))","v":0},0,0,0,0,0,0,{"$f":"IF(ISERROR(VLOOKUP($A83,#REF!,8,0)),0,(VLOOKUP($A83,#REF!,8,0)))","v":0},0,0,0,0,0,0,{"$f":"IF(ISERROR(VLOOKUP($A83,#REF!,8,0)),0,(VLOOKUP($A83,#REF!,8,0)))","v":0},0,0,0,0,0,0,{"$f":"IF(ISERROR(VLOOKUP($A83,#REF!,8,0)),0,(VLOOKUP($A83,#REF!,8,0)))","v":0},0,0,0,0,0,0,{"$f":"IF(ISERROR(VLOOKUP($A83,#REF!,8,0)),0,(VLOOKUP($A83,#REF!,8,0)))","v":0},0,0,0,0,0,0,{"$f":"IF(ISERROR(VLOOKUP($A83,#REF!,8,0)),0,(VLOOKUP($A83,#REF!,8,0)))","v":0},0,0,0,0,0,0,{"$f":"IF(ISERROR(VLOOKUP($A83,#REF!,8,0)),0,(VLOOKUP($A83,#REF!,8,0)))","v":0},0,0,0,0,0,0,{"$f":"IF(ISERROR(VLOOKUP($A83,#REF!,8,0)),0,(VLOOKUP($A83,#REF!,8,0)))","v":0},0,0,0,0,0,0,{"$f":"IF(ISERROR(VLOOKUP($A83,#REF!,8,0)),0,(VLOOKUP($A83,#REF!,8,0)))","v":0},0,0,0,0,0,0,{"$f":"IF(ISERROR(VLOOKUP($A83,#REF!,8,0)),0,(VLOOKUP($A83,#REF!,8,0)))","v":0},0,0,0,0,0,0,{"$f":"IF(ISERROR(VLOOKUP($A83,#REF!,8,0)),0,(VLOOKUP($A83,#REF!,8,0)))","v":0},0,0,0,0,0,0,{"$f":"IF(ISERROR(VLOOKUP($A83,#REF!,8,0)),0,(VLOOKUP($A83,#REF!,8,0)))","v":0},0,0,0,0,0,0,{"$f":"IF(ISERROR(VLOOKUP($A83,#REF!,8,0)),0,(VLOOKUP($A83,#REF!,8,0)))","v":0},0,0,0,0,0,0,{"$f":"IF(ISERROR(VLOOKUP($A83,#REF!,8,0)),0,(VLOOKUP($A83,#REF!,8,0)))","v":0},0,0,0,0,0,0,{"$f":"SUM(OJ84:OJ106)","v":564160.44673891948},{"$f":"SUM(OK84:OK106)","v":564160.44673891948},1,0]
["2.1","Escavação manual em terra até 1,50 m de profundidade, sem escoramento.","m³",56.900000000000006,56.890000000000008,9.9999999999980105E-3,0,0,23.58624,1342.0570560000001,0,0,23.58624,0.23586239999995307,1341.8211936000002,null,0,0,0,0,0,2.06,3.6203866432337431E-2,0.99982425307557121,0,48.587654399999998,0,48.59,2.65,4.6572934973637958E-2,0.99982425307557121,0,62.503535999999997,0,62.5,3.5,6.1511423550087867E-2,0.99982425307557121,0,82.551839999999999,0,82.55,1.2,2.1089630931458696E-2,0.99982425307557121,0,28.303487999999998,0,28.3,34.35,0.60369068541300519,0.99982425307557121,0,810.18734400000005,0,810.19,13.13,0.23075571177504392,0.99982425307557121,0,309.68733120000002,0,309.69,{"$f":"IF(ISERROR(VLOOKUP(A84,'8ª MEDIÇÃO'!$A$5:$J$1048576,8,0)),0,(VLOOKUP(A84,'8ª MEDIÇÃO'!$A$5:$J$1048576,8,0)))","v":0},0,0.99982425307557121,0,0,0,0,{"$f":"IF(ISERROR(VLOOKUP(A84,'9ª MEDIÇÃO'!$A$5:$J$1048576,8,0)),0,(VLOOKUP(A84,'9ª MEDIÇÃO'!$A$5:$J$1048576,8,0)))","v":0},0,0.99982425307557121,0,0,0,0,{"$f":"IF(ISERROR(VLOOKUP(A84,#REF!,8,0)),0,(VLOOKUP(A84,#REF!,8,0)))","v":0},0,0.99982425307557121,0,0,0,0,{"$f":"IF(ISERROR(VLOOKUP($A84,#REF!,8,0)),0,(VLOOKUP($A84,#REF!,8,0)))","v":0},0,0.99982425307557121,0,0,0,0,{"$f":"IF(ISERROR(VLOOKUP($A84,#REF!,8,0)),0,(VLOOKUP($A84,#REF!,8,0)))","v":0},0,0.99982425307557121,0,0,0,0,{"$f":"IF(ISERROR(VLOOKUP($A84,#REF!,8,0)),0,(VLOOKUP($A84,#REF!,8,0)))","v":0},0,0.99982425307557121,0,0,0,0,{"$f":"IF(ISERROR(VLOOKUP($A84,#REF!,8,0)),0,(VLOOKUP($A84,#REF!,8,0)))","v":0},0,0.99982425307557121,0,0,0,0,{"$f":"IF(ISERROR(VLOOKUP($A84,#REF!,8,0)),0,(VLOOKUP($A84,#REF!,8,0)))","v":0},0,0.99982425307557121,0,0,0,0,{"$f":"IF(ISERROR(VLOOKUP($A84,#REF!,8,0)),0,(VLOOKUP($A84,#REF!,8,0)))","v":0},0,0.99982425307557121,0,0,0,0,{"$f":"IF(ISERROR(VLOOKUP($A84,#REF!,8,0)),0,(VLOOKUP($A84,#REF!,8,0)))","v":0},0,0.99982425307557121,0,0,0,0,{"$f":"IF(ISERROR(VLOOKUP($A84,#REF!,8,0)),0,(VLOOKUP($A84,#REF!,8,0)))","v":0},0,0.99982425307557121,0,0,0,0,{"$f":"IF(ISERROR(VLOOKUP($A84,#REF!,8,0)),0,(VLOOKUP($A84,#REF!,8,0)))","v":0},0,0.99982425307557121,0,0,0,0,{"$f":"IF(ISERROR(VLOOKUP($A84,#REF!,8,0)),0,(VLOOKUP($A84,#REF!,8,0)))","v":0},0,0.99982425307557121,0,0,0,0,{"$f":"IF(ISERROR(VLOOKUP($A84,#REF!,8,0)),0,(VLOOKUP($A84,#REF!,8,0)))","v":0},0,0.99982425307557121,0,0,0,0,{"$f":"IF(ISERROR(VLOOKUP($A84,#REF!,8,0)),0,(VLOOKUP($A84,#REF!,8,0)))","v":0},0,0.99982425307557121,0,0,0,0,{"$f":"IF(ISERROR(VLOOKUP($A84,#REF!,8,0)),0,(VLOOKUP($A84,#REF!,8,0)))","v":0},0,0.99982425307557121,0,0,0,0,{"$f":"IF(ISERROR(VLOOKUP($A84,#REF!,8,0)),0,(VLOOKUP($A84,#REF!,8,0)))","v":0},0,0.99982425307557121,0,0,0,0,{"$f":"IF(ISERROR(VLOOKUP($A84,#REF!,8,0)),0,(VLOOKUP($A84,#REF!,8,0)))","v":0},0,0.99982425307557121,0,0,0,0,{"$f":"IF(ISERROR(VLOOKUP($A84,#REF!,8,0)),0,(VLOOKUP($A84,#REF!,8,0)))","v":0},0,0.99982425307557121,0,0,0,0,{"$f":"IF(ISERROR(VLOOKUP($A84,#REF!,8,0)),0,(VLOOKUP($A84,#REF!,8,0)))","v":0},0,0.99982425307557121,0,0,0,0,{"$f":"IF(ISERROR(VLOOKUP($A84,#REF!,8,0)),0,(VLOOKUP($A84,#REF!,8,0)))","v":0},0,0.99982425307557121,0,0,0,0,{"$f":"IF(ISERROR(VLOOKUP($A84,#REF!,8,0)),0,(VLOOKUP($A84,#REF!,8,0)))","v":0},0,0.99982425307557121,0,0,0,0,{"$f":"IF(ISERROR(VLOOKUP($A84,#REF!,8,0)),0,(VLOOKUP($A84,#REF!,8,0)))","v":0},0,0.99982425307557121,0,0,0,0,{"$f":"IF(ISERROR(VLOOKUP($A84,#REF!,8,0)),0,(VLOOKUP($A84,#REF!,8,0)))","v":0},0,0.99982425307557121,0,0,0,0,{"$f":"IF(ISERROR(VLOOKUP($A84,#REF!,8,0)),0,(VLOOKUP($A84,#REF!,8,0)))","v":0},0,0.99982425307557121,0,0,0,0,{"$f":"IF(ISERROR(VLOOKUP($A84,#REF!,8,0)),0,(VLOOKUP($A84,#REF!,8,0)))","v":0},0,0.99982425307557121,0,0,0,0,{"$f":"IF(ISERROR(VLOOKUP($A84,#REF!,8,0)),0,(VLOOKUP($A84,#REF!,8,0)))","v":0},0,0.99982425307557121,0,0,0,0,{"$f":"IF(ISERROR(VLOOKUP($A84,#REF!,8,0)),0,(VLOOKUP($A84,#REF!,8,0)))","v":0},0,0.99982425307557121,0,0,0,0,{"$f":"IF(ISERROR(VLOOKUP($A84,#REF!,8,0)),0,(VLOOKUP($A84,#REF!,8,0)))","v":0},0,0.99982425307557121,0,0,0,0,{"$f":"IF(ISERROR(VLOOKUP($A84,#REF!,8,0)),0,(VLOOKUP($A84,#REF!,8,0)))","v":0},0,0.99982425307557121,0,0,0,0,{"$f":"IF(ISERROR(VLOOKUP($A84,#REF!,8,0)),0,(VLOOKUP($A84,#REF!,8,0)))","v":0},0,0.99982425307557121,0,0,0,0,{"$f":"IF(ISERROR(VLOOKUP($A84,#REF!,8,0)),0,(VLOOKUP($A84,#REF!,8,0)))","v":0},0,0.99982425307557121,0,0,0,0,{"$f":"IF(ISERROR(VLOOKUP($A84,#REF!,8,0)),0,(VLOOKUP($A84,#REF!,8,0)))","v":0},0,0.99982425307557121,0,0,0,0,{"$f":"IF(ISERROR(VLOOKUP($A84,#REF!,8,0)),0,(VLOOKUP($A84,#REF!,8,0)))","v":0},0,0.99982425307557121,0,0,0,0,{"$f":"IF(ISERROR(VLOOKUP($A84,#REF!,8,0)),0,(VLOOKUP($A84,#REF!,8,0)))","v":0},0,0.99982425307557121,0,0,0,0,{"$f":"IF(ISERROR(VLOOKUP($A84,#REF!,8,0)),0,(VLOOKUP($A84,#REF!,8,0)))","v":0},0,0.99982425307557121,0,0,0,0,{"$f":"IF(ISERROR(VLOOKUP($A84,#REF!,8,0)),0,(VLOOKUP($A84,#REF!,8,0)))","v":0},0,0.99982425307557121,0,0,0,0,{"$f":"IF(ISERROR(VLOOKUP($A84,#REF!,8,0)),0,(VLOOKUP($A84,#REF!,8,0)))","v":0},0,0.99982425307557121,0,0,0,0,{"$f":"IF(ISERROR(VLOOKUP($A84,#REF!,8,0)),0,(VLOOKUP($A84,#REF!,8,0)))","v":0},0,0.99982425307557121,0,0,0,0,{"$f":"IF(ISERROR(VLOOKUP($A84,#REF!,8,0)),0,(VLOOKUP($A84,#REF!,8,0)))","v":0},0,0.99982425307557121,0,0,0,0,{"$f":"IF(ISERROR(VLOOKUP($A84,#REF!,8,0)),0,(VLOOKUP($A84,#REF!,8,0)))","v":0},0,0.99982425307557121,0,0,0,0,{"$f":"IF(ISERROR(VLOOKUP($A84,#REF!,8,0)),0,(VLOOKUP($A84,#REF!,8,0)))","v":0},0,0.99982425307557121,0,0,0,0,{"$f":"IF(ISERROR(VLOOKUP($A84,#REF!,8,0)),0,(VLOOKUP($A84,#REF!,8,0)))","v":0},0,0.99982425307557121,0,0,0,0,{"$f":"IF(ISERROR(VLOOKUP($A84,#REF!,8,0)),0,(VLOOKUP($A84,#REF!,8,0)))","v":0},0,0.99982425307557121,0,0,0,0,{"$f":"IF(ISERROR(VLOOKUP($A84,#REF!,8,0)),0,(VLOOKUP($A84,#REF!,8,0)))","v":0},0,0.99982425307557121,0,0,0,0,{"$f":"IF(ISERROR(VLOOKUP($A84,#REF!,8,0)),0,(VLOOKUP($A84,#REF!,8,0)))","v":0},0,0.99982425307557121,0,0,0,0,{"$f":"IF(ISERROR(VLOOKUP($A84,#REF!,8,0)),0,(VLOOKUP($A84,#REF!,8,0)))","v":0},0,0.99982425307557121,0,0,0,0,{"$f":"IF(ISERROR(VLOOKUP($A84,#REF!,8,0)),0,(VLOOKUP($A84,#REF!,8,0)))","v":0},0,0.99982425307557121,0,0,0,0,{"$f":"E84*M84","v":1341.8211936000002},{"$f":"O84","v":1341.8211936000002},1,0]
["2.2","Escavação mecânica valas em qualquer tipo de solo exceto rocha, prof. 0<h<4m.","m³",1081.0999999999999,1081.0999999999999,0,0,0,8.2352799999999995,8903.1612079999995,0,0,8.2352799999999995,0,8903.1612079999995,null,{"$f":"IF($D85>0,P85/$D85,0)","v":0},{"$f":"P85*$G85","v":0},{"$f":"$I85*P85","v":0},{"$f":"$K85*P85","v":0},{"$f":"ROUND($M85*P85,2)","v":0},443.37,{"$f":"IF($D85>0,V85/$D85,0)","v":0.41011007307372127},1,{"$f":"V85*$G85","v":0},{"$f":"$I85*V85","v":3651.2760936},{"$f":"$K85*V85","v":0},{"$f":"ROUND($M85*V85,2)","v":3651.28},276.81,{"$f":"IF($D85>0,AC85/$D85,0)","v":0.25604476921653874},1,{"$f":"AC85*$G85","v":0},{"$f":"$I85*AC85","v":2279.6078567999998},{"$f":"$K85*AC85","v":0},{"$f":"ROUND($M85*AC85,2)","v":2279.61},81.52,{"$f":"IF($D85>0,AJ85/$D85,0)","v":7.5404680418092687E-2},1,{"$f":"AJ85*$G85","v":0},{"$f":"$I85*AJ85","v":671.34002559999988},{"$f":"$K85*AJ85","v":0},{"$f":"ROUND($M85*AJ85,2)","v":671.34},279.39999999999998,{"$f":"IF($D85>0,AQ85/$D85,0)","v":0.25844047729164737},1,{"$f":"AQ85*$G85","v":0},{"$f":"$I85*AQ85","v":2300.9372319999998},{"$f":"$K85*AQ85","v":0},{"$f":"ROUND($M85*AQ85,2)","v":2300.94},null,{"$f":"IF($D85>0,AX85/$D85,0)","v":0},1,{"$f":"AX85*$G85","v":0},{"$f":"$I85*AX85","v":0},{"$f":"$K85*AX85","v":0},{"$f":"ROUND($M85*AX85,2)","v":0},{"$f":"IF(ISERROR(VLOOKUP(A85,'7ª MEDIÇÃO'!$A$5:$J$1048576,8,0)),0,(VLOOKUP(A85,'7ª MEDIÇÃO'!$A$5:$J$1048576,8,0)))","v":0},{"$f":"IF($D85>0,BE85/$D85,0)","v":0},1,{"$f":"BE85*$G85","v":0},{"$f":"$I85*BE85","v":0},{"$f":"$K85*BE85","v":0},{"$f":"ROUND($M85*BE85,2)","v":0},{"$f":"IF(ISERROR(VLOOKUP(A85,'8ª MEDIÇÃO'!$A$5:$J$1048576,8,0)),0,(VLOOKUP(A85,'8ª MEDIÇÃO'!$A$5:$J$1048576,8,0)))","v":0},{"$f":"IF($D85>0,BL85/$D85,0)","v":0},1,{"$f":"BL85*$G85","v":0},{"$f":"$I85*BL85","v":0},{"$f":"$K85*BL85","v":0},{"$f":"ROUND($M85*BL85,2)","v":0},{"$f":"IF(ISERROR(VLOOKUP(A85,'9ª MEDIÇÃO'!$A$5:$J$1048576,8,0)),0,(VLOOKUP(A85,'9ª MEDIÇÃO'!$A$5:$J$1048576,8,0)))","v":0},{"$f":"IF($D85>0,BS85/$D85,0)","v":0},1,{"$f":"BS85*$G85","v":0},{"$f":"$I85*BS85","v":0},{"$f":"$K85*BS85","v":0},{"$f":"ROUND($M85*BS85,2)","v":0},{"$f":"IF(ISERROR(VLOOKUP(A85,#REF!,8,0)),0,(VLOOKUP(A85,#REF!,8,0)))","v":0},{"$f":"IF($D85>0,BZ85/$D85,0)","v":0},1,{"$f":"BZ85*$G85","v":0},{"$f":"$I85*BZ85","v":0},{"$f":"$K85*BZ85","v":0},{"$f":"ROUND($M85*BZ85,2)","v":0},{"$f":"IF(ISERROR(VLOOKUP($A85,#REF!,8,0)),0,(VLOOKUP($A85,#REF!,8,0)))","v":0},{"$f":"IF($D85>0,CG85/$D85,0)","v":0},1,{"$f":"CG85*$G85","v":0},{"$f":"$I85*CG85","v":0},{"$f":"$K85*CG85","v":0},{"$f":"ROUND($M85*CG85,2)","v":0},{"$f":"IF(ISERROR(VLOOKUP($A85,#REF!,8,0)),0,(VLOOKUP($A85,#REF!,8,0)))","v":0},{"$f":"IF($D85>0,CN85/$D85,0)","v":0},1,{"$f":"CN85*$G85","v":0},{"$f":"$I85*CN85","v":0},{"$f":"$K85*CN85","v":0},{"$f":"ROUND($M85*CN85,2)","v":0},{"$f":"IF(ISERROR(VLOOKUP($A85,#REF!,8,0)),0,(VLOOKUP($A85,#REF!,8,0)))","v":0},{"$f":"IF($D85>0,CU85/$D85,0)","v":0},1,{"$f":"CU85*$G85","v":0},{"$f":"$I85*CU85","v":0},{"$f":"$K85*CU85","v":0},{"$f":"ROUND($M85*CU85,2)","v":0},{"$f":"IF(ISERROR(VLOOKUP($A85,#REF!,8,0)),0,(VLOOKUP($A85,#REF!,8,0)))","v":0},{"$f":"IF($D85>0,DB85/$D85,0)","v":0},1,{"$f":"DB85*$G85","v":0},{"$f":"$I85*DB85","v":0},{"$f":"$K85*DB85","v":0},{"$f":"ROUND($M85*DB85,2)","v":0},{"$f":"IF(ISERROR(VLOOKUP($A85,#REF!,8,0)),0,(VLOOKUP($A85,#REF!,8,0)))","v":0},{"$f":"IF($D85>0,DI85/$D85,0)","v":0},1,{"$f":"DI85*$G85","v":0},{"$f":"$I85*DI85","v":0},{"$f":"$K85*DI85","v":0},{"$f":"ROUND($M85*DI85,2)","v":0},{"$f":"IF(ISERROR(VLOOKUP($A85,#REF!,8,0)),0,(VLOOKUP($A85,#REF!,8,0)))","v":0},{"$f":"IF($D85>0,DP85/$D85,0)","v":0},1,{"$f":"DP85*$G85","v":0},{"$f":"$I85*DP85","v":0},{"$f":"$K85*DP85","v":0},{"$f":"ROUND($M85*DP85,2)","v":0},{"$f":"IF(ISERROR(VLOOKUP($A85,#REF!,8,0)),0,(VLOOKUP($A85,#REF!,8,0)))","v":0},{"$f":"IF($D85>0,DW85/$D85,0)","v":0},1,{"$f":"DW85*$G85","v":0},{"$f":"$I85*DW85","v":0},{"$f":"$K85*DW85","v":0},{"$f":"ROUND($M85*DW85,2)","v":0},{"$f":"IF(ISERROR(VLOOKUP($A85,#REF!,8,0)),0,(VLOOKUP($A85,#REF!,8,0)))","v":0},{"$f":"IF($D85>0,ED85/$D85,0)","v":0},1,{"$f":"ED85*$G85","v":0},{"$f":"$I85*ED85","v":0},{"$f":"$K85*ED85","v":0},{"$f":"ROUND($M85*ED85,2)","v":0},{"$f":"IF(ISERROR(VLOOKUP($A85,#REF!,8,0)),0,(VLOOKUP($A85,#REF!,8,0)))","v":0},{"$f":"IF($D85>0,EK85/$D85,0)","v":0},1,{"$f":"EK85*$G85","v":0},{"$f":"$I85*EK85","v":0},{"$f":"$K85*EK85","v":0},{"$f":"ROUND($M85*EK85,2)","v":0},{"$f":"IF(ISERROR(VLOOKUP($A85,#REF!,8,0)),0,(VLOOKUP($A85,#REF!,8,0)))","v":0},{"$f":"IF($D85>0,ER85/$D85,0)","v":0},1,{"$f":"ER85*$G85","v":0},{"$f":"$I85*ER85","v":0},{"$f":"$K85*ER85","v":0},{"$f":"ROUND($M85*ER85,2)","v":0},{"$f":"IF(ISERROR(VLOOKUP($A85,#REF!,8,0)),0,(VLOOKUP($A85,#REF!,8,0)))","v":0},{"$f":"IF($D85>0,EY85/$D85,0)","v":0},1,{"$f":"EY85*$G85","v":0},{"$f":"$I85*EY85","v":0},{"$f":"$K85*EY85","v":0},{"$f":"ROUND($M85*EY85,2)","v":0},{"$f":"IF(ISERROR(VLOOKUP($A85,#REF!,8,0)),0,(VLOOKUP($A85,#REF!,8,0)))","v":0},{"$f":"IF($D85>0,FF85/$D85,0)","v":0},1,{"$f":"FF85*$G85","v":0},{"$f":"$I85*FF85","v":0},{"$f":"$K85*FF85","v":0},{"$f":"ROUND($M85*FF85,2)","v":0},{"$f":"IF(ISERROR(VLOOKUP($A85,#REF!,8,0)),0,(VLOOKUP($A85,#REF!,8,0)))","v":0},{"$f":"IF($D85>0,FM85/$D85,0)","v":0},1,{"$f":"FM85*$G85","v":0},{"$f":"$I85*FM85","v":0},{"$f":"$K85*FM85","v":0},{"$f":"ROUND($M85*FM85,2)","v":0},{"$f":"IF(ISERROR(VLOOKUP($A85,#REF!,8,0)),0,(VLOOKUP($A85,#REF!,8,0)))","v":0},{"$f":"IF($D85>0,FT85/$D85,0)","v":0},1,{"$f":"FT85*$G85","v":0},{"$f":"$I85*FT85","v":0},{"$f":"$K85*FT85","v":0},{"$f":"ROUND($M85*FT85,2)","v":0},{"$f":"IF(ISERROR(VLOOKUP($A85,#REF!,8,0)),0,(VLOOKUP($A85,#REF!,8,0)))","v":0},{"$f":"IF($D85>0,GA85/$D85,0)","v":0},1,{"$f":"GA85*$G85","v":0},{"$f":"$I85*GA85","v":0},{"$f":"$K85*GA85","v":0},{"$f":"ROUND($M85*GA85,2)","v":0},{"$f":"IF(ISERROR(VLOOKUP($A85,#REF!,8,0)),0,(VLOOKUP($A85,#REF!,8,0)))","v":0},0,1,0,0,0,0,{"$f":"IF(ISERROR(VLOOKUP($A85,#REF!,8,0)),0,(VLOOKUP($A85,#REF!,8,0)))","v":0},0,1,0,0,0,0,{"$f":"IF(ISERROR(VLOOKUP($A85,#REF!,8,0)),0,(VLOOKUP($A85,#REF!,8,0)))","v":0},0,1,0,0,0,0,{"$f":"IF(ISERROR(VLOOKUP($A85,#REF!,8,0)),0,(VLOOKUP($A85,#REF!,8,0)))","v":0},0,1,0,0,0,0,{"$f":"IF(ISERROR(VLOOKUP($A85,#REF!,8,0)),0,(VLOOKUP($A85,#REF!,8,0)))","v":0},0,1,0,0,0,0,{"$f":"IF(ISERROR(VLOOKUP($A85,#REF!,8,0)),0,(VLOOKUP($A85,#REF!,8,0)))","v":0},0,1,0,0,0,0,{"$f":"IF(ISERROR(VLOOKUP($A85,#REF!,8,0)),0,(VLOOKUP($A85,#REF!,8,0)))","v":0},0,1,0,0,0,0,{"$f":"IF(ISERROR(VLOOKUP($A85,#REF!,8,0)),0,(VLOOKUP($A85,#REF!,8,0)))","v":0},0,1,0,0,0,0,{"$f":"IF(ISERROR(VLOOKUP($A85,#REF!,8,0)),0,(VLOOKUP($A85,#REF!,8,0)))","v":0},0,1,0,0,0,0,{"$f":"IF(ISERROR(VLOOKUP($A85,#REF!,8,0)),0,(VLOOKUP($A85,#REF!,8,0)))","v":0},0,1,0,0,0,0,{"$f":"IF(ISERROR(VLOOKUP($A85,#REF!,8,0)),0,(VLOOKUP($A85,#REF!,8,0)))","v":0},0,1,0,0,0,0,{"$f":"IF(ISERROR(VLOOKUP($A85,#REF!,8,0)),0,(VLOOKUP($A85,#REF!,8,0)))","v":0},0,1,0,0,0,0,{"$f":"IF(ISERROR(VLOOKUP($A85,#REF!,8,0)),0,(VLOOKUP($A85,#REF!,8,0)))","v":0},0,1,0,0,0,0,{"$f":"IF(ISERROR(VLOOKUP($A85,#REF!,8,0)),0,(VLOOKUP($A85,#REF!,8,0)))","v":0},0,1,0,0,0,0,{"$f":"IF(ISERROR(VLOOKUP($A85,#REF!,8,0)),0,(VLOOKUP($A85,#REF!,8,0)))","v":0},0,1,0,0,0,0,{"$f":"IF(ISERROR(VLOOKUP($A85,#REF!,8,0)),0,(VLOOKUP($A85,#REF!,8,0)))","v":0},0,1,0,0,0,0,{"$f":"IF(ISERROR(VLOOKUP($A85,#REF!,8,0)),0,(VLOOKUP($A85,#REF!,8,0)))","v":0},0,1,0,0,0,0,{"$f":"IF(ISERROR(VLOOKUP($A85,#REF!,8,0)),0,(VLOOKUP($A85,#REF!,8,0)))","v":0},0,1,0,0,0,0,{"$f":"IF(ISERROR(VLOOKUP($A85,#REF!,8,0)),0,(VLOOKUP($A85,#REF!,8,0)))","v":0},0,1,0,0,0,0,{"$f":"IF(ISERROR(VLOOKUP($A85,#REF!,8,0)),0,(VLOOKUP($A85,#REF!,8,0)))","v":0},0,1,0,0,0,0,{"$f":"IF(ISERROR(VLOOKUP($A85,#REF!,8,0)),0,(VLOOKUP($A85,#REF!,8,0)))","v":0},0,1,0,0,0,0,{"$f":"IF(ISERROR(VLOOKUP($A85,#REF!,8,0)),0,(VLOOKUP($A85,#REF!,8,0)))","v":0},0,1,0,0,0,0,{"$f":"IF(ISERROR(VLOOKUP($A85,#REF!,8,0)),0,(VLOOKUP($A85,#REF!,8,0)))","v":0},0,1,0,0,0,0,{"$f":"IF(ISERROR(VLOOKUP($A85,#REF!,8,0)),0,(VLOOKUP($A85,#REF!,8,0)))","v":0},0,1,0,0,0,0,{"$f":"IF(ISERROR(VLOOKUP($A85,#REF!,8,0)),0,(VLOOKUP($A85,#REF!,8,0)))","v":0},0,1,0,0,0,0,{"$f":"IF(ISERROR(VLOOKUP($A85,#REF!,8,0)),0,(VLOOKUP($A85,#REF!,8,0)))","v":0},0,1,0,0,0,0,{"$f":"IF(ISERROR(VLOOKUP($A85,#REF!,8,0)),0,(VLOOKUP($A85,#REF!,8,0)))","v":0},0,1,0,0,0,0,{"$f":"IF(ISERROR(VLOOKUP($A85,#REF!,8,0)),0,(VLOOKUP($A85,#REF!,8,0)))","v":0},0,1,0,0,0,0,{"$f":"IF(ISERROR(VLOOKUP($A85,#REF!,8,0)),0,(VLOOKUP($A85,#REF!,8,0)))","v":0},0,1,0,0,0,0,{"$f":"IF(ISERROR(VLOOKUP($A85,#REF!,8,0)),0,(VLOOKUP($A85,#REF!,8,0)))","v":0},0,1,0,0,0,0,8903.1612079999995,8903.1612079999995,1,0]
["2.3","Escavação manual de vala ou cava em material de 3ª categoria, profundidade até 2,00 m, com uso de explosivos e perfuração manual. ","m³",208.5,6.84,201.66,11.039183999999999,2301.669864,246.21247999999997,51335.302079999994,0,0,257.25166399999995,51877.370562239987,1759.6013817599996,null,0,0,0,0,0,null,0,3.280575539568345E-2,0,0,0,0,null,0,3.280575539568345E-2,0,0,0,0,null,0,3.280575539568345E-2,0,0,0,0,null,0,3.280575539568345E-2,0,0,0,0,6.84,3.280575539568345E-2,3.280575539568345E-2,75.508018559999996,1684.0933631999997,0,1759.6,{"$f":"IF(ISERROR(VLOOKUP(A86,'7ª MEDIÇÃO'!$A$5:$J$1048576,8,0)),0,(VLOOKUP(A86,'7ª MEDIÇÃO'!$A$5:$J$1048576,8,0)))","v":0},0,3.280575539568345E-2,0,0,0,0,{"$f":"IF(ISERROR(VLOOKUP(A86,'8ª MEDIÇÃO'!$A$5:$J$1048576,8,0)),0,(VLOOKUP(A86,'8ª MEDIÇÃO'!$A$5:$J$1048576,8,0)))","v":0},0,3.280575539568345E-2,0,0,0,0,{"$f":"IF(ISERROR(VLOOKUP(A86,'9ª MEDIÇÃO'!$A$5:$J$1048576,8,0)),0,(VLOOKUP(A86,'9ª MEDIÇÃO'!$A$5:$J$1048576,8,0)))","v":0},0,3.280575539568345E-2,0,0,0,0,{"$f":"IF(ISERROR(VLOOKUP(A86,#REF!,8,0)),0,(VLOOKUP(A86,#REF!,8,0)))","v":0},0,3.280575539568345E-2,0,0,0,0,{"$f":"IF(ISERROR(VLOOKUP($A86,#REF!,8,0)),0,(VLOOKUP($A86,#REF!,8,0)))","v":0},0,3.280575539568345E-2,0,0,0,0,{"$f":"IF(ISERROR(VLOOKUP($A86,#REF!,8,0)),0,(VLOOKUP($A86,#REF!,8,0)))","v":0},0,3.280575539568345E-2,0,0,0,0,{"$f":"IF(ISERROR(VLOOKUP($A86,#REF!,8,0)),0,(VLOOKUP($A86,#REF!,8,0)))","v":0},0,3.280575539568345E-2,0,0,0,0,{"$f":"IF(ISERROR(VLOOKUP($A86,#REF!,8,0)),0,(VLOOKUP($A86,#REF!,8,0)))","v":0},0,3.280575539568345E-2,0,0,0,0,{"$f":"IF(ISERROR(VLOOKUP($A86,#REF!,8,0)),0,(VLOOKUP($A86,#REF!,8,0)))","v":0},0,3.280575539568345E-2,0,0,0,0,{"$f":"IF(ISERROR(VLOOKUP($A86,#REF!,8,0)),0,(VLOOKUP($A86,#REF!,8,0)))","v":0},0,3.280575539568345E-2,0,0,0,0,{"$f":"IF(ISERROR(VLOOKUP($A86,#REF!,8,0)),0,(VLOOKUP($A86,#REF!,8,0)))","v":0},0,3.280575539568345E-2,0,0,0,0,{"$f":"IF(ISERROR(VLOOKUP($A86,#REF!,8,0)),0,(VLOOKUP($A86,#REF!,8,0)))","v":0},0,3.280575539568345E-2,0,0,0,0,{"$f":"IF(ISERROR(VLOOKUP($A86,#REF!,8,0)),0,(VLOOKUP($A86,#REF!,8,0)))","v":0},0,3.280575539568345E-2,0,0,0,0,{"$f":"IF(ISERROR(VLOOKUP($A86,#REF!,8,0)),0,(VLOOKUP($A86,#REF!,8,0)))","v":0},0,3.280575539568345E-2,0,0,0,0,{"$f":"IF(ISERROR(VLOOKUP($A86,#REF!,8,0)),0,(VLOOKUP($A86,#REF!,8,0)))","v":0},0,3.280575539568345E-2,0,0,0,0,{"$f":"IF(ISERROR(VLOOKUP($A86,#REF!,8,0)),0,(VLOOKUP($A86,#REF!,8,0)))","v":0},0,3.280575539568345E-2,0,0,0,0,{"$f":"IF(ISERROR(VLOOKUP($A86,#REF!,8,0)),0,(VLOOKUP($A86,#REF!,8,0)))","v":0},0,3.280575539568345E-2,0,0,0,0,{"$f":"IF(ISERROR(VLOOKUP($A86,#REF!,8,0)),0,(VLOOKUP($A86,#REF!,8,0)))","v":0},0,3.280575539568345E-2,0,0,0,0,{"$f":"IF(ISERROR(VLOOKUP($A86,#REF!,8,0)),0,(VLOOKUP($A86,#REF!,8,0)))","v":0},0,3.280575539568345E-2,0,0,0,0,{"$f":"IF(ISERROR(VLOOKUP($A86,#REF!,8,0)),0,(VLOOKUP($A86,#REF!,8,0)))","v":0},0,3.280575539568345E-2,0,0,0,0,{"$f":"IF(ISERROR(VLOOKUP($A86,#REF!,8,0)),0,(VLOOKUP($A86,#REF!,8,0)))","v":0},0,3.280575539568345E-2,0,0,0,0,{"$f":"IF(ISERROR(VLOOKUP($A86,#REF!,8,0)),0,(VLOOKUP($A86,#REF!,8,0)))","v":0},0,3.280575539568345E-2,0,0,0,0,{"$f":"IF(ISERROR(VLOOKUP($A86,#REF!,8,0)),0,(VLOOKUP($A86,#REF!,8,0)))","v":0},0,3.280575539568345E-2,0,0,0,0,{"$f":"IF(ISERROR(VLOOKUP($A86,#REF!,8,0)),0,(VLOOKUP($A86,#REF!,8,0)))","v":0},0,3.280575539568345E-2,0,0,0,0,{"$f":"IF(ISERROR(VLOOKUP($A86,#REF!,8,0)),0,(VLOOKUP($A86,#REF!,8,0)))","v":0},0,3.280575539568345E-2,0,0,0,0,{"$f":"IF(ISERROR(VLOOKUP($A86,#REF!,8,0)),0,(VLOOKUP($A86,#REF!,8,0)))","v":0},0,3.280575539568345E-2,0,0,0,0,{"$f":"IF(ISERROR(VLOOKUP($A86,#REF!,8,0)),0,(VLOOKUP($A86,#REF!,8,0)))","v":0},0,3.280575539568345E-2,0,0,0,0,{"$f":"IF(ISERROR(VLOOKUP($A86,#REF!,8,0)),0,(VLOOKUP($A86,#REF!,8,0)))","v":0},0,3.280575539568345E-2,0,0,0,0,{"$f":"IF(ISERROR(VLOOKUP($A86,#REF!,8,0)),0,(VLOOKUP($A86,#REF!,8,0)))","v":0},0,3.280575539568345E-2,0,0,0,0,{"$f":"IF(ISERROR(VLOOKUP($A86,#REF!,8,0)),0,(VLOOKUP($A86,#REF!,8,0)))","v":0},0,3.280575539568345E-2,0,0,0,0,{"$f":"IF(ISERROR(VLOOKUP($A86,#REF!,8,0)),0,(VLOOKUP($A86,#REF!,8,0)))","v":0},0,3.280575539568345E-2,0,0,0,0,{"$f":"IF(ISERROR(VLOOKUP($A86,#REF!,8,0)),0,(VLOOKUP($A86,#REF!,8,0)))","v":0},0,3.280575539568345E-2,0,0,0,0,{"$f":"IF(ISERROR(VLOOKUP($A86,#REF!,8,0)),0,(VLOOKUP($A86,#REF!,8,0)))","v":0},0,3.280575539568345E-2,0,0,0,0,{"$f":"IF(ISERROR(VLOOKUP($A86,#REF!,8,0)),0,(VLOOKUP($A86,#REF!,8,0)))","v":0},0,3.280575539568345E-2,0,0,0,0,{"$f":"IF(ISERROR(VLOOKUP($A86,#REF!,8,0)),0,(VLOOKUP($A86,#REF!,8,0)))","v":0},0,3.280575539568345E-2,0,0,0,0,{"$f":"IF(ISERROR(VLOOKUP($A86,#REF!,8,0)),0,(VLOOKUP($A86,#REF!,8,0)))","v":0},0,3.280575539568345E-2,0,0,0,0,{"$f":"IF(ISERROR(VLOOKUP($A86,#REF!,8,0)),0,(VLOOKUP($A86,#REF!,8,0)))","v":0},0,3.280575539568345E-2,0,0,0,0,{"$f":"IF(ISERROR(VLOOKUP($A86,#REF!,8,0)),0,(VLOOKUP($A86,#REF!,8,0)))","v":0},0,3.280575539568345E-2,0,0,0,0,{"$f":"IF(ISERROR(VLOOKUP($A86,#REF!,8,0)),0,(VLOOKUP($A86,#REF!,8,0)))","v":0},0,3.280575539568345E-2,0,0,0,0,{"$f":"IF(ISERROR(VLOOKUP($A86,#REF!,8,0)),0,(VLOOKUP($A86,#REF!,8,0)))","v":0},0,3.280575539568345E-2,0,0,0,0,{"$f":"IF(ISERROR(VLOOKUP($A86,#REF!,8,0)),0,(VLOOKUP($A86,#REF!,8,0)))","v":0},0,3.280575539568345E-2,0,0,0,0,{"$f":"IF(ISERROR(VLOOKUP($A86,#REF!,8,0)),0,(VLOOKUP($A86,#REF!,8,0)))","v":0},0,3.280575539568345E-2,0,0,0,0,{"$f":"IF(ISERROR(VLOOKUP($A86,#REF!,8,0)),0,(VLOOKUP($A86,#REF!,8,0)))","v":0},0,3.280575539568345E-2,0,0,0,0,{"$f":"IF(ISERROR(VLOOKUP($A86,#REF!,8,0)),0,(VLOOKUP($A86,#REF!,8,0)))","v":0},0,3.280575539568345E-2,0,0,0,0,{"$f":"IF(ISERROR(VLOOKUP($A86,#REF!,8,0)),0,(VLOOKUP($A86,#REF!,8,0)))","v":0},0,3.280575539568345E-2,0,0,0,0,{"$f":"IF(ISERROR(VLOOKUP($A86,#REF!,8,0)),0,(VLOOKUP($A86,#REF!,8,0)))","v":0},0,3.280575539568345E-2,0,0,0,0,{"$f":"IF(ISERROR(VLOOKUP($A86,#REF!,8,0)),0,(VLOOKUP($A86,#REF!,8,0)))","v":0},0,3.280575539568345E-2,0,0,0,0,{"$f":"IF(ISERROR(VLOOKUP($A86,#REF!,8,0)),0,(VLOOKUP($A86,#REF!,8,0)))","v":0},0,3.280575539568345E-2,0,0,0,0,{"$f":"IF(ISERROR(VLOOKUP($A86,#REF!,8,0)),0,(VLOOKUP($A86,#REF!,8,0)))","v":0},0,3.280575539568345E-2,0,0,0,0,1759.6013817599996,1759.6013817599996,1,0]
["2.4","Demolição de rocha com martelete pneumático.","m³",486.5,0,486.5,0,0,147.26471999999998,71644.286279999986,0,0,147.26471999999998,71644.286279999986,0,null,0,0,0,0,0,null,0,0,0,0,0,0,null,0,0,0,0,0,0,null,0,0,0,0,0,0,null,0,0,0,0,0,0,null,0,0,0,0,0,0,{"$f":"IF(ISERROR(VLOOKUP(A87,'7ª MEDIÇÃO'!$A$5:$J$1048576,8,0)),0,(VLOOKUP(A87,'7ª MEDIÇÃO'!$A$5:$J$1048576,8,0)))","v":0},0,0,0,0,0,0,{"$f":"IF(ISERROR(VLOOKUP(A87,'8ª MEDIÇÃO'!$A$5:$J$1048576,8,0)),0,(VLOOKUP(A87,'8ª MEDIÇÃO'!$A$5:$J$1048576,8,0)))","v":0},0,0,0,0,0,0,{"$f":"IF(ISERROR(VLOOKUP(A87,'9ª MEDIÇÃO'!$A$5:$J$1048576,8,0)),0,(VLOOKUP(A87,'9ª MEDIÇÃO'!$A$5:$J$1048576,8,0)))","v":0},0,0,0,0,0,0,{"$f":"IF(ISERROR(VLOOKUP(A87,#REF!,8,0)),0,(VLOOKUP(A87,#REF!,8,0)))","v":0},0,0,0,0,0,0,{"$f":"IF(ISERROR(VLOOKUP($A87,#REF!,8,0)),0,(VLOOKUP($A87,#REF!,8,0)))","v":0},0,0,0,0,0,0,{"$f":"IF(ISERROR(VLOOKUP($A87,#REF!,8,0)),0,(VLOOKUP($A87,#REF!,8,0)))","v":0},0,0,0,0,0,0,{"$f":"IF(ISERROR(VLOOKUP($A87,#REF!,8,0)),0,(VLOOKUP($A87,#REF!,8,0)))","v":0},0,0,0,0,0,0,{"$f":"IF(ISERROR(VLOOKUP($A87,#REF!,8,0)),0,(VLOOKUP($A87,#REF!,8,0)))","v":0},0,0,0,0,0,0,{"$f":"IF(ISERROR(VLOOKUP($A87,#REF!,8,0)),0,(VLOOKUP($A87,#REF!,8,0)))","v":0},0,0,0,0,0,0,{"$f":"IF(ISERROR(VLOOKUP($A87,#REF!,8,0)),0,(VLOOKUP($A87,#REF!,8,0)))","v":0},0,0,0,0,0,0,{"$f":"IF(ISERROR(VLOOKUP($A87,#REF!,8,0)),0,(VLOOKUP($A87,#REF!,8,0)))","v":0},0,0,0,0,0,0,{"$f":"IF(ISERROR(VLOOKUP($A87,#REF!,8,0)),0,(VLOOKUP($A87,#REF!,8,0)))","v":0},0,0,0,0,0,0,{"$f":"IF(ISERROR(VLOOKUP($A87,#REF!,8,0)),0,(VLOOKUP($A87,#REF!,8,0)))","v":0},0,0,0,0,0,0,{"$f":"IF(ISERROR(VLOOKUP($A87,#REF!,8,0)),0,(VLOOKUP($A87,#REF!,8,0)))","v":0},0,0,0,0,0,0,{"$f":"IF(ISERROR(VLOOKUP($A87,#REF!,8,0)),0,(VLOOKUP($A87,#REF!,8,0)))","v":0},0,0,0,0,0,0,{"$f":"IF(ISERROR(VLOOKUP($A87,#REF!,8,0)),0,(VLOOKUP($A87,#REF!,8,0)))","v":0},0,0,0,0,0,0,{"$f":"IF(ISERROR(VLOOKUP($A87,#REF!,8,0)),0,(VLOOKUP($A87,#REF!,8,0)))","v":0},0,0,0,0,0,0,{"$f":"IF(ISERROR(VLOOKUP($A87,#REF!,8,0)),0,(VLOOKUP($A87,#REF!,8,0)))","v":0},0,0,0,0,0,0,{"$f":"IF(ISERROR(VLOOKUP($A87,#REF!,8,0)),0,(VLOOKUP($A87,#REF!,8,0)))","v":0},0,0,0,0,0,0,{"$f":"IF(ISERROR(VLOOKUP($A87,#REF!,8,0)),0,(VLOOKUP($A87,#REF!,8,0)))","v":0},0,0,0,0,0,0,{"$f":"IF(ISERROR(VLOOKUP($A87,#REF!,8,0)),0,(VLOOKUP($A87,#REF!,8,0)))","v":0},0,0,0,0,0,0,{"$f":"IF(ISERROR(VLOOKUP($A87,#REF!,8,0)),0,(VLOOKUP($A87,#REF!,8,0)))","v":0},0,0,0,0,0,0,{"$f":"IF(ISERROR(VLOOKUP($A87,#REF!,8,0)),0,(VLOOKUP($A87,#REF!,8,0)))","v":0},0,0,0,0,0,0,{"$f":"IF(ISERROR(VLOOKUP($A87,#REF!,8,0)),0,(VLOOKUP($A87,#REF!,8,0)))","v":0},0,0,0,0,0,0,{"$f":"IF(ISERROR(VLOOKUP($A87,#REF!,8,0)),0,(VLOOKUP($A87,#REF!,8,0)))","v":0},0,0,0,0,0,0,{"$f":"IF(ISERROR(VLOOKUP($A87,#REF!,8,0)),0,(VLOOKUP($A87,#REF!,8,0)))","v":0},0,0,0,0,0,0,{"$f":"IF(ISERROR(VLOOKUP($A87,#REF!,8,0)),0,(VLOOKUP($A87,#REF!,8,0)))","v":0},0,0,0,0,0,0,{"$f":"IF(ISERROR(VLOOKUP($A87,#REF!,8,0)),0,(VLOOKUP($A87,#REF!,8,0)))","v":0},0,0,0,0,0,0,{"$f":"IF(ISERROR(VLOOKUP($A87,#REF!,8,0)),0,(VLOOKUP($A87,#REF!,8,0)))","v":0},0,0,0,0,0,0,{"$f":"IF(ISERROR(VLOOKUP($A87,#REF!,8,0)),0,(VLOOKUP($A87,#REF!,8,0)))","v":0},0,0,0,0,0,0,{"$f":"IF(ISERROR(VLOOKUP($A87,#REF!,8,0)),0,(VLOOKUP($A87,#REF!,8,0)))","v":0},0,0,0,0,0,0,{"$f":"IF(ISERROR(VLOOKUP($A87,#REF!,8,0)),0,(VLOOKUP($A87,#REF!,8,0)))","v":0},0,0,0,0,0,0,{"$f":"IF(ISERROR(VLOOKUP($A87,#REF!,8,0)),0,(VLOOKUP($A87,#REF!,8,0)))","v":0},0,0,0,0,0,0,{"$f":"IF(ISERROR(VLOOKUP($A87,#REF!,8,0)),0,(VLOOKUP($A87,#REF!,8,0)))","v":0},0,0,0,0,0,0,{"$f":"IF(ISERROR(VLOOKUP($A87,#REF!,8,0)),0,(VLOOKUP($A87,#REF!,8,0)))","v":0},0,0,0,0,0,0,{"$f":"IF(ISERROR(VLOOKUP($A87,#REF!,8,0)),0,(VLOOKUP($A87,#REF!,8,0)))","v":0},0,0,0,0,0,0,{"$f":"IF(ISERROR(VLOOKUP($A87,#REF!,8,0)),0,(VLOOKUP($A87,#REF!,8,0)))","v":0},0,0,0,0,0,0,{"$f":"IF(ISERROR(VLOOKUP($A87,#REF!,8,0)),0,(VLOOKUP($A87,#REF!,8,0)))","v":0},0,0,0,0,0,0,{"$f":"IF(ISERROR(VLOOKUP($A87,#REF!,8,0)),0,(VLOOKUP($A87,#REF!,8,0)))","v":0},0,0,0,0,0,0,{"$f":"IF(ISERROR(VLOOKUP($A87,#REF!,8,0)),0,(VLOOKUP($A87,#REF!,8,0)))","v":0},0,0,0,0,0,0,{"$f":"IF(ISERROR(VLOOKUP($A87,#REF!,8,0)),0,(VLOOKUP($A87,#REF!,8,0)))","v":0},0,0,0,0,0,0,{"$f":"IF(ISERROR(VLOOKUP($A87,#REF!,8,0)),0,(VLOOKUP($A87,#REF!,8,0)))","v":0},0,0,0,0,0,0,{"$f":"IF(ISERROR(VLOOKUP($A87,#REF!,8,0)),0,(VLOOKUP($A87,#REF!,8,0)))","v":0},0,0,0,0,0,0,{"$f":"IF(ISERROR(VLOOKUP($A87,#REF!,8,0)),0,(VLOOKUP($A87,#REF!,8,0)))","v":0},0,0,0,0,0,0,{"$f":"IF(ISERROR(VLOOKUP($A87,#REF!,8,0)),0,(VLOOKUP($A87,#REF!,8,0)))","v":0},0,0,0,0,0,0,{"$f":"IF(ISERROR(VLOOKUP($A87,#REF!,8,0)),0,(VLOOKUP($A87,#REF!,8,0)))","v":0},0,0,0,0,0,0,{"$f":"IF(ISERROR(VLOOKUP($A87,#REF!,8,0)),0,(VLOOKUP($A87,#REF!,8,0)))","v":0},0,0,0,0,0,0,{"$f":"IF(ISERROR(VLOOKUP($A87,#REF!,8,0)),0,(VLOOKUP($A87,#REF!,8,0)))","v":0},0,0,0,0,0,0,{"$f":"IF(ISERROR(VLOOKUP($A87,#REF!,8,0)),0,(VLOOKUP($A87,#REF!,8,0)))","v":0},0,0,0,0,0,0,0,0,{"$error":"#DIV/0!"},0]
["2.5","Transporte horizontal, massa/granel, jerica 90L, 30m.","m³",786,783.6798,2.3201999999999998,0,0,18.597799999999999,14617.870799999999,0,0,18.597799999999999,43.150615559999999,14574.720184439999,null,0,0,0,0,0,null,0,0.99704809160305341,0,0,0,0,null,0,0.99704809160305341,0,0,0,0,null,0,0.99704809160305341,0,0,0,0,null,0,0.99704809160305341,0,0,0,0,null,0,0.99704809160305341,0,0,0,0,{"$f":"IF(ISERROR(VLOOKUP(A88,'7ª MEDIÇÃO'!$A$5:$J$1048576,8,0)),0,(VLOOKUP(A88,'7ª MEDIÇÃO'!$A$5:$J$1048576,8,0)))","v":0},0,0.99704809160305341,0,0,0,0,{"$f":"IF(ISERROR(VLOOKUP(A88,'8ª MEDIÇÃO'!$A$5:$J$1048576,8,0)),0,(VLOOKUP(A88,'8ª MEDIÇÃO'!$A$5:$J$1048576,8,0)))","v":0},0,0.99704809160305341,0,0,0,0,{"$f":"IF(ISERROR(VLOOKUP(A88,'9ª MEDIÇÃO'!$A$5:$J$1048576,8,0)),0,(VLOOKUP(A88,'9ª MEDIÇÃO'!$A$5:$J$1048576,8,0)))","v":0},0,0.99704809160305341,0,0,0,0,{"$f":"IF(ISERROR(VLOOKUP(A88,#REF!,8,0)),0,(VLOOKUP(A88,#REF!,8,0)))","v":0},0,0.99704809160305341,0,0,0,0,{"$f":"IF(ISERROR(VLOOKUP($A88,#REF!,8,0)),0,(VLOOKUP($A88,#REF!,8,0)))","v":0},0,0.99704809160305341,0,0,0,0,{"$f":"IF(ISERROR(VLOOKUP($A88,#REF!,8,0)),0,(VLOOKUP($A88,#REF!,8,0)))","v":0},0,0.99704809160305341,0,0,0,0,{"$f":"IF(ISERROR(VLOOKUP($A88,#REF!,8,0)),0,(VLOOKUP($A88,#REF!,8,0)))","v":0},0,0.99704809160305341,0,0,0,0,{"$f":"IF(ISERROR(VLOOKUP($A88,#REF!,8,0)),0,(VLOOKUP($A88,#REF!,8,0)))","v":0},0,0.99704809160305341,0,0,0,0,{"$f":"IF(ISERROR(VLOOKUP($A88,#REF!,8,0)),0,(VLOOKUP($A88,#REF!,8,0)))","v":0},0,0.99704809160305341,0,0,0,0,{"$f":"IF(ISERROR(VLOOKUP($A88,#REF!,8,0)),0,(VLOOKUP($A88,#REF!,8,0)))","v":0},0,0.99704809160305341,0,0,0,0,{"$f":"IF(ISERROR(VLOOKUP($A88,#REF!,8,0)),0,(VLOOKUP($A88,#REF!,8,0)))","v":0},0,0.99704809160305341,0,0,0,0,{"$f":"IF(ISERROR(VLOOKUP($A88,#REF!,8,0)),0,(VLOOKUP($A88,#REF!,8,0)))","v":0},0,0.99704809160305341,0,0,0,0,{"$f":"IF(ISERROR(VLOOKUP($A88,#REF!,8,0)),0,(VLOOKUP($A88,#REF!,8,0)))","v":0},0,0.99704809160305341,0,0,0,0,{"$f":"IF(ISERROR(VLOOKUP($A88,#REF!,8,0)),0,(VLOOKUP($A88,#REF!,8,0)))","v":0},0,0.99704809160305341,0,0,0,0,{"$f":"IF(ISERROR(VLOOKUP($A88,#REF!,8,0)),0,(VLOOKUP($A88,#REF!,8,0)))","v":0},0,0.99704809160305341,0,0,0,0,{"$f":"IF(ISERROR(VLOOKUP($A88,#REF!,8,0)),0,(VLOOKUP($A88,#REF!,8,0)))","v":0},0,0.99704809160305341,0,0,0,0,{"$f":"IF(ISERROR(VLOOKUP($A88,#REF!,8,0)),0,(VLOOKUP($A88,#REF!,8,0)))","v":0},0,0.99704809160305341,0,0,0,0,{"$f":"IF(ISERROR(VLOOKUP($A88,#REF!,8,0)),0,(VLOOKUP($A88,#REF!,8,0)))","v":0},0,0.99704809160305341,0,0,0,0,{"$f":"IF(ISERROR(VLOOKUP($A88,#REF!,8,0)),0,(VLOOKUP($A88,#REF!,8,0)))","v":0},0,0.99704809160305341,0,0,0,0,{"$f":"IF(ISERROR(VLOOKUP($A88,#REF!,8,0)),0,(VLOOKUP($A88,#REF!,8,0)))","v":0},0,0.99704809160305341,0,0,0,0,{"$f":"IF(ISERROR(VLOOKUP($A88,#REF!,8,0)),0,(VLOOKUP($A88,#REF!,8,0)))","v":0},0,0.99704809160305341,0,0,0,0,{"$f":"IF(ISERROR(VLOOKUP($A88,#REF!,8,0)),0,(VLOOKUP($A88,#REF!,8,0)))","v":0},0,0.99704809160305341,0,0,0,0,{"$f":"IF(ISERROR(VLOOKUP($A88,#REF!,8,0)),0,(VLOOKUP($A88,#REF!,8,0)))","v":0},0,0.99704809160305341,0,0,0,0,{"$f":"IF(ISERROR(VLOOKUP($A88,#REF!,8,0)),0,(VLOOKUP($A88,#REF!,8,0)))","v":0},0,0.99704809160305341,0,0,0,0,{"$f":"IF(ISERROR(VLOOKUP($A88,#REF!,8,0)),0,(VLOOKUP($A88,#REF!,8,0)))","v":0},0,0.99704809160305341,0,0,0,0,{"$f":"IF(ISERROR(VLOOKUP($A88,#REF!,8,0)),0,(VLOOKUP($A88,#REF!,8,0)))","v":0},0,0.99704809160305341,0,0,0,0,{"$f":"IF(ISERROR(VLOOKUP($A88,#REF!,8,0)),0,(VLOOKUP($A88,#REF!,8,0)))","v":0},0,0.99704809160305341,0,0,0,0,{"$f":"IF(ISERROR(VLOOKUP($A88,#REF!,8,0)),0,(VLOOKUP($A88,#REF!,8,0)))","v":0},0,0.99704809160305341,0,0,0,0,{"$f":"IF(ISERROR(VLOOKUP($A88,#REF!,8,0)),0,(VLOOKUP($A88,#REF!,8,0)))","v":0},0,0.99704809160305341,0,0,0,0,{"$f":"IF(ISERROR(VLOOKUP($A88,#REF!,8,0)),0,(VLOOKUP($A88,#REF!,8,0)))","v":0},0,0.99704809160305341,0,0,0,0,{"$f":"IF(ISERROR(VLOOKUP($A88,#REF!,8,0)),0,(VLOOKUP($A88,#REF!,8,0)))","v":0},0,0.99704809160305341,0,0,0,0,{"$f":"IF(ISERROR(VLOOKUP($A88,#REF!,8,0)),0,(VLOOKUP($A88,#REF!,8,0)))","v":0},0,0.99704809160305341,0,0,0,0,{"$f":"IF(ISERROR(VLOOKUP($A88,#REF!,8,0)),0,(VLOOKUP($A88,#REF!,8,0)))","v":0},0,0.99704809160305341,0,0,0,0,{"$f":"IF(ISERROR(VLOOKUP($A88,#REF!,8,0)),0,(VLOOKUP($A88,#REF!,8,0)))","v":0},0,0.99704809160305341,0,0,0,0,{"$f":"IF(ISERROR(VLOOKUP($A88,#REF!,8,0)),0,(VLOOKUP($A88,#REF!,8,0)))","v":0},0,0.99704809160305341,0,0,0,0,{"$f":"IF(ISERROR(VLOOKUP($A88,#REF!,8,0)),0,(VLOOKUP($A88,#REF!,8,0)))","v":0},0,0.99704809160305341,0,0,0,0,{"$f":"IF(ISERROR(VLOOKUP($A88,#REF!,8,0)),0,(VLOOKUP($A88,#REF!,8,0)))","v":0},0,0.99704809160305341,0,0,0,0,{"$f":"IF(ISERROR(VLOOKUP($A88,#REF!,8,0)),0,(VLOOKUP($A88,#REF!,8,0)))","v":0},0,0.99704809160305341,0,0,0,0,{"$f":"IF(ISERROR(VLOOKUP($A88,#REF!,8,0)),0,(VLOOKUP($A88,#REF!,8,0)))","v":0},0,0.99704809160305341,0,0,0,0,{"$f":"IF(ISERROR(VLOOKUP($A88,#REF!,8,0)),0,(VLOOKUP($A88,#REF!,8,0)))","v":0},0,0.99704809160305341,0,0,0,0,{"$f":"IF(ISERROR(VLOOKUP($A88,#REF!,8,0)),0,(VLOOKUP($A88,#REF!,8,0)))","v":0},0,0.99704809160305341,0,0,0,0,{"$f":"IF(ISERROR(VLOOKUP($A88,#REF!,8,0)),0,(VLOOKUP($A88,#REF!,8,0)))","v":0},0,0.99704809160305341,0,0,0,0,{"$f":"IF(ISERROR(VLOOKUP($A88,#REF!,8,0)),0,(VLOOKUP($A88,#REF!,8,0)))","v":0},0,0.99704809160305341,0,0,0,0,{"$f":"IF(ISERROR(VLOOKUP($A88,#REF!,8,0)),0,(VLOOKUP($A88,#REF!,8,0)))","v":0},0,0.99704809160305341,0,0,0,0,{"$f":"IF(ISERROR(VLOOKUP($A88,#REF!,8,0)),0,(VLOOKUP($A88,#REF!,8,0)))","v":0},0,0.99704809160305341,0,0,0,0,{"$f":"IF(ISERROR(VLOOKUP($A88,#REF!,8,0)),0,(VLOOKUP($A88,#REF!,8,0)))","v":0},0,0.99704809160305341,0,0,0,0,{"$f":"IF(ISERROR(VLOOKUP($A88,#REF!,8,0)),0,(VLOOKUP($A88,#REF!,8,0)))","v":0},0,0.99704809160305341,0,0,0,0,{"$f":"IF(ISERROR(VLOOKUP($A88,#REF!,8,0)),0,(VLOOKUP($A88,#REF!,8,0)))","v":0},0,0.99704809160305341,0,0,0,0,{"$f":"IF(ISERROR(VLOOKUP($A88,#REF!,8,0)),0,(VLOOKUP($A88,#REF!,8,0)))","v":0},0,0.99704809160305341,0,0,0,0,14574.720184439999,14574.720184439999,1,0]
["2.6","Remoção de material de primeira categoria em caminhão basculante, D.M.T. 12KM, inclusive carga e descarga mecânica.","m³",1572,0,1572,0,0,19.56812,30761.084640000001,0,0,19.56812,30761.084640000001,0,null,0,0,0,0,0,null,0,0,0,0,0,0,null,0,0,0,0,0,0,null,0,0,0,0,0,0,null,0,0,0,0,0,0,null,0,0,0,0,0,0,{"$f":"IF(ISERROR(VLOOKUP(A89,'7ª MEDIÇÃO'!$A$5:$J$1048576,8,0)),0,(VLOOKUP(A89,'7ª MEDIÇÃO'!$A$5:$J$1048576,8,0)))","v":0},0,0,0,0,0,0,{"$f":"IF(ISERROR(VLOOKUP(A89,'8ª MEDIÇÃO'!$A$5:$J$1048576,8,0)),0,(VLOOKUP(A89,'8ª MEDIÇÃO'!$A$5:$J$1048576,8,0)))","v":0},0,0,0,0,0,0,{"$f":"IF(ISERROR(VLOOKUP(A89,'9ª MEDIÇÃO'!$A$5:$J$1048576,8,0)),0,(VLOOKUP(A89,'9ª MEDIÇÃO'!$A$5:$J$1048576,8,0)))","v":0},0,0,0,0,0,0,{"$f":"IF(ISERROR(VLOOKUP(A89,#REF!,8,0)),0,(VLOOKUP(A89,#REF!,8,0)))","v":0},0,0,0,0,0,0,{"$f":"IF(ISERROR(VLOOKUP($A89,#REF!,8,0)),0,(VLOOKUP($A89,#REF!,8,0)))","v":0},0,0,0,0,0,0,{"$f":"IF(ISERROR(VLOOKUP($A89,#REF!,8,0)),0,(VLOOKUP($A89,#REF!,8,0)))","v":0},0,0,0,0,0,0,{"$f":"IF(ISERROR(VLOOKUP($A89,#REF!,8,0)),0,(VLOOKUP($A89,#REF!,8,0)))","v":0},0,0,0,0,0,0,{"$f":"IF(ISERROR(VLOOKUP($A89,#REF!,8,0)),0,(VLOOKUP($A89,#REF!,8,0)))","v":0},0,0,0,0,0,0,{"$f":"IF(ISERROR(VLOOKUP($A89,#REF!,8,0)),0,(VLOOKUP($A89,#REF!,8,0)))","v":0},0,0,0,0,0,0,{"$f":"IF(ISERROR(VLOOKUP($A89,#REF!,8,0)),0,(VLOOKUP($A89,#REF!,8,0)))","v":0},0,0,0,0,0,0,{"$f":"IF(ISERROR(VLOOKUP($A89,#REF!,8,0)),0,(VLOOKUP($A89,#REF!,8,0)))","v":0},0,0,0,0,0,0,{"$f":"IF(ISERROR(VLOOKUP($A89,#REF!,8,0)),0,(VLOOKUP($A89,#REF!,8,0)))","v":0},0,0,0,0,0,0,{"$f":"IF(ISERROR(VLOOKUP($A89,#REF!,8,0)),0,(VLOOKUP($A89,#REF!,8,0)))","v":0},0,0,0,0,0,0,{"$f":"IF(ISERROR(VLOOKUP($A89,#REF!,8,0)),0,(VLOOKUP($A89,#REF!,8,0)))","v":0},0,0,0,0,0,0,{"$f":"IF(ISERROR(VLOOKUP($A89,#REF!,8,0)),0,(VLOOKUP($A89,#REF!,8,0)))","v":0},0,0,0,0,0,0,{"$f":"IF(ISERROR(VLOOKUP($A89,#REF!,8,0)),0,(VLOOKUP($A89,#REF!,8,0)))","v":0},0,0,0,0,0,0,{"$f":"IF(ISERROR(VLOOKUP($A89,#REF!,8,0)),0,(VLOOKUP($A89,#REF!,8,0)))","v":0},0,0,0,0,0,0,{"$f":"IF(ISERROR(VLOOKUP($A89,#REF!,8,0)),0,(VLOOKUP($A89,#REF!,8,0)))","v":0},0,0,0,0,0,0,{"$f":"IF(ISERROR(VLOOKUP($A89,#REF!,8,0)),0,(VLOOKUP($A89,#REF!,8,0)))","v":0},0,0,0,0,0,0,{"$f":"IF(ISERROR(VLOOKUP($A89,#REF!,8,0)),0,(VLOOKUP($A89,#REF!,8,0)))","v":0},0,0,0,0,0,0,{"$f":"IF(ISERROR(VLOOKUP($A89,#REF!,8,0)),0,(VLOOKUP($A89,#REF!,8,0)))","v":0},0,0,0,0,0,0,{"$f":"IF(ISERROR(VLOOKUP($A89,#REF!,8,0)),0,(VLOOKUP($A89,#REF!,8,0)))","v":0},0,0,0,0,0,0,{"$f":"IF(ISERROR(VLOOKUP($A89,#REF!,8,0)),0,(VLOOKUP($A89,#REF!,8,0)))","v":0},0,0,0,0,0,0,{"$f":"IF(ISERROR(VLOOKUP($A89,#REF!,8,0)),0,(VLOOKUP($A89,#REF!,8,0)))","v":0},0,0,0,0,0,0,{"$f":"IF(ISERROR(VLOOKUP($A89,#REF!,8,0)),0,(VLOOKUP($A89,#REF!,8,0)))","v":0},0,0,0,0,0,0,{"$f":"IF(ISERROR(VLOOKUP($A89,#REF!,8,0)),0,(VLOOKUP($A89,#REF!,8,0)))","v":0},0,0,0,0,0,0,{"$f":"IF(ISERROR(VLOOKUP($A89,#REF!,8,0)),0,(VLOOKUP($A89,#REF!,8,0)))","v":0},0,0,0,0,0,0,{"$f":"IF(ISERROR(VLOOKUP($A89,#REF!,8,0)),0,(VLOOKUP($A89,#REF!,8,0)))","v":0},0,0,0,0,0,0,{"$f":"IF(ISERROR(VLOOKUP($A89,#REF!,8,0)),0,(VLOOKUP($A89,#REF!,8,0)))","v":0},0,0,0,0,0,0,{"$f":"IF(ISERROR(VLOOKUP($A89,#REF!,8,0)),0,(VLOOKUP($A89,#REF!,8,0)))","v":0},0,0,0,0,0,0,{"$f":"IF(ISERROR(VLOOKUP($A89,#REF!,8,0)),0,(VLOOKUP($A89,#REF!,8,0)))","v":0},0,0,0,0,0,0,{"$f":"IF(ISERROR(VLOOKUP($A89,#REF!,8,0)),0,(VLOOKUP($A89,#REF!,8,0)))","v":0},0,0,0,0,0,0,{"$f":"IF(ISERROR(VLOOKUP($A89,#REF!,8,0)),0,(VLOOKUP($A89,#REF!,8,0)))","v":0},0,0,0,0,0,0,{"$f":"IF(ISERROR(VLOOKUP($A89,#REF!,8,0)),0,(VLOOKUP($A89,#REF!,8,0)))","v":0},0,0,0,0,0,0,{"$f":"IF(ISERROR(VLOOKUP($A89,#REF!,8,0)),0,(VLOOKUP($A89,#REF!,8,0)))","v":0},0,0,0,0,0,0,{"$f":"IF(ISERROR(VLOOKUP($A89,#REF!,8,0)),0,(VLOOKUP($A89,#REF!,8,0)))","v":0},0,0,0,0,0,0,{"$f":"IF(ISERROR(VLOOKUP($A89,#REF!,8,0)),0,(VLOOKUP($A89,#REF!,8,0)))","v":0},0,0,0,0,0,0,{"$f":"IF(ISERROR(VLOOKUP($A89,#REF!,8,0)),0,(VLOOKUP($A89,#REF!,8,0)))","v":0},0,0,0,0,0,0,{"$f":"IF(ISERROR(VLOOKUP($A89,#REF!,8,0)),0,(VLOOKUP($A89,#REF!,8,0)))","v":0},0,0,0,0,0,0,{"$f":"IF(ISERROR(VLOOKUP($A89,#REF!,8,0)),0,(VLOOKUP($A89,#REF!,8,0)))","v":0},0,0,0,0,0,0,{"$f":"IF(ISERROR(VLOOKUP($A89,#REF!,8,0)),0,(VLOOKUP($A89,#REF!,8,0)))","v":0},0,0,0,0,0,0,{"$f":"IF(ISERROR(VLOOKUP($A89,#REF!,8,0)),0,(VLOOKUP($A89,#REF!,8,0)))","v":0},0,0,0,0,0,0,{"$f":"IF(ISERROR(VLOOKUP($A89,#REF!,8,0)),0,(VLOOKUP($A89,#REF!,8,0)))","v":0},0,0,0,0,0,0,{"$f":"IF(ISERROR(VLOOKUP($A89,#REF!,8,0)),0,(VLOOKUP($A89,#REF!,8,0)))","v":0},0,0,0,0,0,0,{"$f":"IF(ISERROR(VLOOKUP($A89,#REF!,8,0)),0,(VLOOKUP($A89,#REF!,8,0)))","v":0},0,0,0,0,0,0,{"$f":"IF(ISERROR(VLOOKUP($A89,#REF!,8,0)),0,(VLOOKUP($A89,#REF!,8,0)))","v":0},0,0,0,0,0,0,{"$f":"IF(ISERROR(VLOOKUP($A89,#REF!,8,0)),0,(VLOOKUP($A89,#REF!,8,0)))","v":0},0,0,0,0,0,0,{"$f":"IF(ISERROR(VLOOKUP($A89,#REF!,8,0)),0,(VLOOKUP($A89,#REF!,8,0)))","v":0},0,0,0,0,0,0,{"$f":"IF(ISERROR(VLOOKUP($A89,#REF!,8,0)),0,(VLOOKUP($A89,#REF!,8,0)))","v":0},0,0,0,0,0,0,0,0,{"$error":"#DIV/0!"},0]
["2.7","Reaterro de vala com compactação manual.","m³",624,624,0,0,0,32.169840000000001,20073.980159999999,0,0,32.169840000000001,0,20073.980159999999,null,0,0,0,0,0,107.03,0.1715224358974359,1,0,3443.1379752000003,0,3443.14,46.69,7.4823717948717949E-2,1,0,1502.0098295999999,0,1502.01,null,0,1,0,0,0,0,339.18,0.54355769230769235,1,0,10911.366331200001,0,10911.37,null,0,1,0,0,0,0,131.1,0.21009615384615385,1,0,4217.4660240000003,0,4217.47,{"$f":"IF(ISERROR(VLOOKUP(A90,'8ª MEDIÇÃO'!$A$5:$J$1048576,8,0)),0,(VLOOKUP(A90,'8ª MEDIÇÃO'!$A$5:$J$1048576,8,0)))","v":0},0,1,0,0,0,0,{"$f":"IF(ISERROR(VLOOKUP(A90,'9ª MEDIÇÃO'!$A$5:$J$1048576,8,0)),0,(VLOOKUP(A90,'9ª MEDIÇÃO'!$A$5:$J$1048576,8,0)))","v":0},0,1,0,0,0,0,{"$f":"IF(ISERROR(VLOOKUP(A90,#REF!,8,0)),0,(VLOOKUP(A90,#REF!,8,0)))","v":0},0,1,0,0,0,0,{"$f":"IF(ISERROR(VLOOKUP($A90,#REF!,8,0)),0,(VLOOKUP($A90,#REF!,8,0)))","v":0},0,1,0,0,0,0,{"$f":"IF(ISERROR(VLOOKUP($A90,#REF!,8,0)),0,(VLOOKUP($A90,#REF!,8,0)))","v":0},0,1,0,0,0,0,{"$f":"IF(ISERROR(VLOOKUP($A90,#REF!,8,0)),0,(VLOOKUP($A90,#REF!,8,0)))","v":0},0,1,0,0,0,0,{"$f":"IF(ISERROR(VLOOKUP($A90,#REF!,8,0)),0,(VLOOKUP($A90,#REF!,8,0)))","v":0},0,1,0,0,0,0,{"$f":"IF(ISERROR(VLOOKUP($A90,#REF!,8,0)),0,(VLOOKUP($A90,#REF!,8,0)))","v":0},0,1,0,0,0,0,{"$f":"IF(ISERROR(VLOOKUP($A90,#REF!,8,0)),0,(VLOOKUP($A90,#REF!,8,0)))","v":0},0,1,0,0,0,0,{"$f":"IF(ISERROR(VLOOKUP($A90,#REF!,8,0)),0,(VLOOKUP($A90,#REF!,8,0)))","v":0},0,1,0,0,0,0,{"$f":"IF(ISERROR(VLOOKUP($A90,#REF!,8,0)),0,(VLOOKUP($A90,#REF!,8,0)))","v":0},0,1,0,0,0,0,{"$f":"IF(ISERROR(VLOOKUP($A90,#REF!,8,0)),0,(VLOOKUP($A90,#REF!,8,0)))","v":0},0,1,0,0,0,0,{"$f":"IF(ISERROR(VLOOKUP($A90,#REF!,8,0)),0,(VLOOKUP($A90,#REF!,8,0)))","v":0},0,1,0,0,0,0,{"$f":"IF(ISERROR(VLOOKUP($A90,#REF!,8,0)),0,(VLOOKUP($A90,#REF!,8,0)))","v":0},0,1,0,0,0,0,{"$f":"IF(ISERROR(VLOOKUP($A90,#REF!,8,0)),0,(VLOOKUP($A90,#REF!,8,0)))","v":0},0,1,0,0,0,0,{"$f":"IF(ISERROR(VLOOKUP($A90,#REF!,8,0)),0,(VLOOKUP($A90,#REF!,8,0)))","v":0},0,1,0,0,0,0,{"$f":"IF(ISERROR(VLOOKUP($A90,#REF!,8,0)),0,(VLOOKUP($A90,#REF!,8,0)))","v":0},0,1,0,0,0,0,{"$f":"IF(ISERROR(VLOOKUP($A90,#REF!,8,0)),0,(VLOOKUP($A90,#REF!,8,0)))","v":0},0,1,0,0,0,0,{"$f":"IF(ISERROR(VLOOKUP($A90,#REF!,8,0)),0,(VLOOKUP($A90,#REF!,8,0)))","v":0},0,1,0,0,0,0,{"$f":"IF(ISERROR(VLOOKUP($A90,#REF!,8,0)),0,(VLOOKUP($A90,#REF!,8,0)))","v":0},0,1,0,0,0,0,{"$f":"IF(ISERROR(VLOOKUP($A90,#REF!,8,0)),0,(VLOOKUP($A90,#REF!,8,0)))","v":0},0,1,0,0,0,0,{"$f":"IF(ISERROR(VLOOKUP($A90,#REF!,8,0)),0,(VLOOKUP($A90,#REF!,8,0)))","v":0},0,1,0,0,0,0,{"$f":"IF(ISERROR(VLOOKUP($A90,#REF!,8,0)),0,(VLOOKUP($A90,#REF!,8,0)))","v":0},0,1,0,0,0,0,{"$f":"IF(ISERROR(VLOOKUP($A90,#REF!,8,0)),0,(VLOOKUP($A90,#REF!,8,0)))","v":0},0,1,0,0,0,0,{"$f":"IF(ISERROR(VLOOKUP($A90,#REF!,8,0)),0,(VLOOKUP($A90,#REF!,8,0)))","v":0},0,1,0,0,0,0,{"$f":"IF(ISERROR(VLOOKUP($A90,#REF!,8,0)),0,(VLOOKUP($A90,#REF!,8,0)))","v":0},0,1,0,0,0,0,{"$f":"IF(ISERROR(VLOOKUP($A90,#REF!,8,0)),0,(VLOOKUP($A90,#REF!,8,0)))","v":0},0,1,0,0,0,0,{"$f":"IF(ISERROR(VLOOKUP($A90,#REF!,8,0)),0,(VLOOKUP($A90,#REF!,8,0)))","v":0},0,1,0,0,0,0,{"$f":"IF(ISERROR(VLOOKUP($A90,#REF!,8,0)),0,(VLOOKUP($A90,#REF!,8,0)))","v":0},0,1,0,0,0,0,{"$f":"IF(ISERROR(VLOOKUP($A90,#REF!,8,0)),0,(VLOOKUP($A90,#REF!,8,0)))","v":0},0,1,0,0,0,0,{"$f":"IF(ISERROR(VLOOKUP($A90,#REF!,8,0)),0,(VLOOKUP($A90,#REF!,8,0)))","v":0},0,1,0,0,0,0,{"$f":"IF(ISERROR(VLOOKUP($A90,#REF!,8,0)),0,(VLOOKUP($A90,#REF!,8,0)))","v":0},0,1,0,0,0,0,{"$f":"IF(ISERROR(VLOOKUP($A90,#REF!,8,0)),0,(VLOOKUP($A90,#REF!,8,0)))","v":0},0,1,0,0,0,0,{"$f":"IF(ISERROR(VLOOKUP($A90,#REF!,8,0)),0,(VLOOKUP($A90,#REF!,8,0)))","v":0},0,1,0,0,0,0,{"$f":"IF(ISERROR(VLOOKUP($A90,#REF!,8,0)),0,(VLOOKUP($A90,#REF!,8,0)))","v":0},0,1,0,0,0,0,{"$f":"IF(ISERROR(VLOOKUP($A90,#REF!,8,0)),0,(VLOOKUP($A90,#REF!,8,0)))","v":0},0,1,0,0,0,0,{"$f":"IF(ISERROR(VLOOKUP($A90,#REF!,8,0)),0,(VLOOKUP($A90,#REF!,8,0)))","v":0},0,1,0,0,0,0,{"$f":"IF(ISERROR(VLOOKUP($A90,#REF!,8,0)),0,(VLOOKUP($A90,#REF!,8,0)))","v":0},0,1,0,0,0,0,{"$f":"IF(ISERROR(VLOOKUP($A90,#REF!,8,0)),0,(VLOOKUP($A90,#REF!,8,0)))","v":0},0,1,0,0,0,0,{"$f":"IF(ISERROR(VLOOKUP($A90,#REF!,8,0)),0,(VLOOKUP($A90,#REF!,8,0)))","v":0},0,1,0,0,0,0,{"$f":"IF(ISERROR(VLOOKUP($A90,#REF!,8,0)),0,(VLOOKUP($A90,#REF!,8,0)))","v":0},0,1,0,0,0,0,{"$f":"IF(ISERROR(VLOOKUP($A90,#REF!,8,0)),0,(VLOOKUP($A90,#REF!,8,0)))","v":0},0,1,0,0,0,0,{"$f":"IF(ISERROR(VLOOKUP($A90,#REF!,8,0)),0,(VLOOKUP($A90,#REF!,8,0)))","v":0},0,1,0,0,0,0,{"$f":"IF(ISERROR(VLOOKUP($A90,#REF!,8,0)),0,(VLOOKUP($A90,#REF!,8,0)))","v":0},0,1,0,0,0,0,{"$f":"IF(ISERROR(VLOOKUP($A90,#REF!,8,0)),0,(VLOOKUP($A90,#REF!,8,0)))","v":0},0,1,0,0,0,0,{"$f":"IF(ISERROR(VLOOKUP($A90,#REF!,8,0)),0,(VLOOKUP($A90,#REF!,8,0)))","v":0},0,1,0,0,0,0,{"$f":"IF(ISERROR(VLOOKUP($A90,#REF!,8,0)),0,(VLOOKUP($A90,#REF!,8,0)))","v":0},0,1,0,0,0,0,{"$f":"IF(ISERROR(VLOOKUP($A90,#REF!,8,0)),0,(VLOOKUP($A90,#REF!,8,0)))","v":0},0,1,0,0,0,0,20073.980159999999,20073.980159999999,1,0]
["2.8","Escoramento de valas com pranchões metálicos, área não cravada.","m²",980,0,980,5.7908540000000004,5675.0369200000005,25.290519999999997,24784.709599999998,0,0,31.081373999999997,30459.746519999997,0,null,0,0,0,0,0,null,0,0,0,0,0,0,null,0,0,0,0,0,0,null,0,0,0,0,0,0,null,0,0,0,0,0,0,null,0,0,0,0,0,0,{"$f":"IF(ISERROR(VLOOKUP(A91,'7ª MEDIÇÃO'!$A$5:$J$1048576,8,0)),0,(VLOOKUP(A91,'7ª MEDIÇÃO'!$A$5:$J$1048576,8,0)))","v":0},0,0,0,0,0,0,{"$f":"IF(ISERROR(VLOOKUP(A91,'8ª MEDIÇÃO'!$A$5:$J$1048576,8,0)),0,(VLOOKUP(A91,'8ª MEDIÇÃO'!$A$5:$J$1048576,8,0)))","v":0},0,0,0,0,0,0,{"$f":"IF(ISERROR(VLOOKUP(A91,'9ª MEDIÇÃO'!$A$5:$J$1048576,8,0)),0,(VLOOKUP(A91,'9ª MEDIÇÃO'!$A$5:$J$1048576,8,0)))","v":0},0,0,0,0,0,0,{"$f":"IF(ISERROR(VLOOKUP(A91,#REF!,8,0)),0,(VLOOKUP(A91,#REF!,8,0)))","v":0},0,0,0,0,0,0,{"$f":"IF(ISERROR(VLOOKUP($A91,#REF!,8,0)),0,(VLOOKUP($A91,#REF!,8,0)))","v":0},0,0,0,0,0,0,{"$f":"IF(ISERROR(VLOOKUP($A91,#REF!,8,0)),0,(VLOOKUP($A91,#REF!,8,0)))","v":0},0,0,0,0,0,0,{"$f":"IF(ISERROR(VLOOKUP($A91,#REF!,8,0)),0,(VLOOKUP($A91,#REF!,8,0)))","v":0},0,0,0,0,0,0,{"$f":"IF(ISERROR(VLOOKUP($A91,#REF!,8,0)),0,(VLOOKUP($A91,#REF!,8,0)))","v":0},0,0,0,0,0,0,{"$f":"IF(ISERROR(VLOOKUP($A91,#REF!,8,0)),0,(VLOOKUP($A91,#REF!,8,0)))","v":0},0,0,0,0,0,0,{"$f":"IF(ISERROR(VLOOKUP($A91,#REF!,8,0)),0,(VLOOKUP($A91,#REF!,8,0)))","v":0},0,0,0,0,0,0,{"$f":"IF(ISERROR(VLOOKUP($A91,#REF!,8,0)),0,(VLOOKUP($A91,#REF!,8,0)))","v":0},0,0,0,0,0,0,{"$f":"IF(ISERROR(VLOOKUP($A91,#REF!,8,0)),0,(VLOOKUP($A91,#REF!,8,0)))","v":0},0,0,0,0,0,0,{"$f":"IF(ISERROR(VLOOKUP($A91,#REF!,8,0)),0,(VLOOKUP($A91,#REF!,8,0)))","v":0},0,0,0,0,0,0,{"$f":"IF(ISERROR(VLOOKUP($A91,#REF!,8,0)),0,(VLOOKUP($A91,#REF!,8,0)))","v":0},0,0,0,0,0,0,{"$f":"IF(ISERROR(VLOOKUP($A91,#REF!,8,0)),0,(VLOOKUP($A91,#REF!,8,0)))","v":0},0,0,0,0,0,0,{"$f":"IF(ISERROR(VLOOKUP($A91,#REF!,8,0)),0,(VLOOKUP($A91,#REF!,8,0)))","v":0},0,0,0,0,0,0,{"$f":"IF(ISERROR(VLOOKUP($A91,#REF!,8,0)),0,(VLOOKUP($A91,#REF!,8,0)))","v":0},0,0,0,0,0,0,{"$f":"IF(ISERROR(VLOOKUP($A91,#REF!,8,0)),0,(VLOOKUP($A91,#REF!,8,0)))","v":0},0,0,0,0,0,0,{"$f":"IF(ISERROR(VLOOKUP($A91,#REF!,8,0)),0,(VLOOKUP($A91,#REF!,8,0)))","v":0},0,0,0,0,0,0,{"$f":"IF(ISERROR(VLOOKUP($A91,#REF!,8,0)),0,(VLOOKUP($A91,#REF!,8,0)))","v":0},0,0,0,0,0,0,{"$f":"IF(ISERROR(VLOOKUP($A91,#REF!,8,0)),0,(VLOOKUP($A91,#REF!,8,0)))","v":0},0,0,0,0,0,0,{"$f":"IF(ISERROR(VLOOKUP($A91,#REF!,8,0)),0,(VLOOKUP($A91,#REF!,8,0)))","v":0},0,0,0,0,0,0,{"$f":"IF(ISERROR(VLOOKUP($A91,#REF!,8,0)),0,(VLOOKUP($A91,#REF!,8,0)))","v":0},0,0,0,0,0,0,{"$f":"IF(ISERROR(VLOOKUP($A91,#REF!,8,0)),0,(VLOOKUP($A91,#REF!,8,0)))","v":0},0,0,0,0,0,0,{"$f":"IF(ISERROR(VLOOKUP($A91,#REF!,8,0)),0,(VLOOKUP($A91,#REF!,8,0)))","v":0},0,0,0,0,0,0,{"$f":"IF(ISERROR(VLOOKUP($A91,#REF!,8,0)),0,(VLOOKUP($A91,#REF!,8,0)))","v":0},0,0,0,0,0,0,{"$f":"IF(ISERROR(VLOOKUP($A91,#REF!,8,0)),0,(VLOOKUP($A91,#REF!,8,0)))","v":0},0,0,0,0,0,0,{"$f":"IF(ISERROR(VLOOKUP($A91,#REF!,8,0)),0,(VLOOKUP($A91,#REF!,8,0)))","v":0},0,0,0,0,0,0,{"$f":"IF(ISERROR(VLOOKUP($A91,#REF!,8,0)),0,(VLOOKUP($A91,#REF!,8,0)))","v":0},0,0,0,0,0,0,{"$f":"IF(ISERROR(VLOOKUP($A91,#REF!,8,0)),0,(VLOOKUP($A91,#REF!,8,0)))","v":0},0,0,0,0,0,0,{"$f":"IF(ISERROR(VLOOKUP($A91,#REF!,8,0)),0,(VLOOKUP($A91,#REF!,8,0)))","v":0},0,0,0,0,0,0,{"$f":"IF(ISERROR(VLOOKUP($A91,#REF!,8,0)),0,(VLOOKUP($A91,#REF!,8,0)))","v":0},0,0,0,0,0,0,{"$f":"IF(ISERROR(VLOOKUP($A91,#REF!,8,0)),0,(VLOOKUP($A91,#REF!,8,0)))","v":0},0,0,0,0,0,0,{"$f":"IF(ISERROR(VLOOKUP($A91,#REF!,8,0)),0,(VLOOKUP($A91,#REF!,8,0)))","v":0},0,0,0,0,0,0,{"$f":"IF(ISERROR(VLOOKUP($A91,#REF!,8,0)),0,(VLOOKUP($A91,#REF!,8,0)))","v":0},0,0,0,0,0,0,{"$f":"IF(ISERROR(VLOOKUP($A91,#REF!,8,0)),0,(VLOOKUP($A91,#REF!,8,0)))","v":0},0,0,0,0,0,0,{"$f":"IF(ISERROR(VLOOKUP($A91,#REF!,8,0)),0,(VLOOKUP($A91,#REF!,8,0)))","v":0},0,0,0,0,0,0,{"$f":"IF(ISERROR(VLOOKUP($A91,#REF!,8,0)),0,(VLOOKUP($A91,#REF!,8,0)))","v":0},0,0,0,0,0,0,{"$f":"IF(ISERROR(VLOOKUP($A91,#REF!,8,0)),0,(VLOOKUP($A91,#REF!,8,0)))","v":0},0,0,0,0,0,0,{"$f":"IF(ISERROR(VLOOKUP($A91,#REF!,8,0)),0,(VLOOKUP($A91,#REF!,8,0)))","v":0},0,0,0,0,0,0,{"$f":"IF(ISERROR(VLOOKUP($A91,#REF!,8,0)),0,(VLOOKUP($A91,#REF!,8,0)))","v":0},0,0,0,0,0,0,{"$f":"IF(ISERROR(VLOOKUP($A91,#REF!,8,0)),0,(VLOOKUP($A91,#REF!,8,0)))","v":0},0,0,0,0,0,0,{"$f":"IF(ISERROR(VLOOKUP($A91,#REF!,8,0)),0,(VLOOKUP($A91,#REF!,8,0)))","v":0},0,0,0,0,0,0,{"$f":"IF(ISERROR(VLOOKUP($A91,#REF!,8,0)),0,(VLOOKUP($A91,#REF!,8,0)))","v":0},0,0,0,0,0,0,{"$f":"IF(ISERROR(VLOOKUP($A91,#REF!,8,0)),0,(VLOOKUP($A91,#REF!,8,0)))","v":0},0,0,0,0,0,0,{"$f":"IF(ISERROR(VLOOKUP($A91,#REF!,8,0)),0,(VLOOKUP($A91,#REF!,8,0)))","v":0},0,0,0,0,0,0,{"$f":"IF(ISERROR(VLOOKUP($A91,#REF!,8,0)),0,(VLOOKUP($A91,#REF!,8,0)))","v":0},0,0,0,0,0,0,{"$f":"IF(ISERROR(VLOOKUP($A91,#REF!,8,0)),0,(VLOOKUP($A91,#REF!,8,0)))","v":0},0,0,0,0,0,0,{"$f":"IF(ISERROR(VLOOKUP($A91,#REF!,8,0)),0,(VLOOKUP($A91,#REF!,8,0)))","v":0},0,0,0,0,0,0,0,0,{"$error":"#DIV/0!"},0]
["2.9","Execução de aterro abrangendo espalhamento homogeneização, umedecimento e compactação mecânica em camadas de 20cm de espessura, inclusive o fornecimento do barro proveniente de jazida a uma distância máxima de 12Km.","m³",3602,1038.5,2563.5,25.191983999999998,90741.526367999992,25.85032,93112.852639999997,0,0,51.042304000000001,130846.946304,53007.432703999999,null,0,0,0,0,0,null,0,0.2883120488617435,0,0,0,0,null,0,0.2883120488617435,0,0,0,0,null,0,0.2883120488617435,0,0,0,0,null,0,0.2883120488617435,0,0,0,0,null,0,0.2883120488617435,0,0,0,0,{"$f":"IF(ISERROR(VLOOKUP(A92,'7ª MEDIÇÃO'!$A$5:$J$1048576,8,0)),0,(VLOOKUP(A92,'7ª MEDIÇÃO'!$A$5:$J$1048576,8,0)))","v":0},0,0.2883120488617435,0,0,0,0,91.42,2.5380344253192671E-2,0.2883120488617435,2303.05117728,2363.2362544000002,0,4666.29,{"$f":"IF(ISERROR(VLOOKUP(A92,'9ª MEDIÇÃO'!$A$5:$J$1048576,8,0)),0,(VLOOKUP(A92,'9ª MEDIÇÃO'!$A$5:$J$1048576,8,0)))","v":0},0,0.2883120488617435,0,0,0,0,{"$f":"IF(ISERROR(VLOOKUP(A92,#REF!,8,0)),0,(VLOOKUP(A92,#REF!,8,0)))","v":0},0,0.2883120488617435,0,0,0,0,{"$f":"IF(ISERROR(VLOOKUP($A92,#REF!,8,0)),0,(VLOOKUP($A92,#REF!,8,0)))","v":0},0,0.2883120488617435,0,0,0,0,{"$f":"IF(ISERROR(VLOOKUP($A92,#REF!,8,0)),0,(VLOOKUP($A92,#REF!,8,0)))","v":0},0,0.2883120488617435,0,0,0,0,{"$f":"IF(ISERROR(VLOOKUP($A92,#REF!,8,0)),0,(VLOOKUP($A92,#REF!,8,0)))","v":0},0,0.2883120488617435,0,0,0,0,{"$f":"IF(ISERROR(VLOOKUP($A92,#REF!,8,0)),0,(VLOOKUP($A92,#REF!,8,0)))","v":0},0,0.2883120488617435,0,0,0,0,{"$f":"IF(ISERROR(VLOOKUP($A92,#REF!,8,0)),0,(VLOOKUP($A92,#REF!,8,0)))","v":0},0,0.2883120488617435,0,0,0,0,{"$f":"IF(ISERROR(VLOOKUP($A92,#REF!,8,0)),0,(VLOOKUP($A92,#REF!,8,0)))","v":0},0,0.2883120488617435,0,0,0,0,{"$f":"IF(ISERROR(VLOOKUP($A92,#REF!,8,0)),0,(VLOOKUP($A92,#REF!,8,0)))","v":0},0,0.2883120488617435,0,0,0,0,{"$f":"IF(ISERROR(VLOOKUP($A92,#REF!,8,0)),0,(VLOOKUP($A92,#REF!,8,0)))","v":0},0,0.2883120488617435,0,0,0,0,{"$f":"IF(ISERROR(VLOOKUP($A92,#REF!,8,0)),0,(VLOOKUP($A92,#REF!,8,0)))","v":0},0,0.2883120488617435,0,0,0,0,{"$f":"IF(ISERROR(VLOOKUP($A92,#REF!,8,0)),0,(VLOOKUP($A92,#REF!,8,0)))","v":0},0,0.2883120488617435,0,0,0,0,{"$f":"IF(ISERROR(VLOOKUP($A92,#REF!,8,0)),0,(VLOOKUP($A92,#REF!,8,0)))","v":0},0,0.2883120488617435,0,0,0,0,{"$f":"IF(ISERROR(VLOOKUP($A92,#REF!,8,0)),0,(VLOOKUP($A92,#REF!,8,0)))","v":0},0,0.2883120488617435,0,0,0,0,{"$f":"IF(ISERROR(VLOOKUP($A92,#REF!,8,0)),0,(VLOOKUP($A92,#REF!,8,0)))","v":0},0,0.2883120488617435,0,0,0,0,{"$f":"IF(ISERROR(VLOOKUP($A92,#REF!,8,0)),0,(VLOOKUP($A92,#REF!,8,0)))","v":0},0,0.2883120488617435,0,0,0,0,{"$f":"IF(ISERROR(VLOOKUP($A92,#REF!,8,0)),0,(VLOOKUP($A92,#REF!,8,0)))","v":0},0,0.2883120488617435,0,0,0,0,{"$f":"IF(ISERROR(VLOOKUP($A92,#REF!,8,0)),0,(VLOOKUP($A92,#REF!,8,0)))","v":0},0,0.2883120488617435,0,0,0,0,{"$f":"IF(ISERROR(VLOOKUP($A92,#REF!,8,0)),0,(VLOOKUP($A92,#REF!,8,0)))","v":0},0,0.2883120488617435,0,0,0,0,{"$f":"IF(ISERROR(VLOOKUP($A92,#REF!,8,0)),0,(VLOOKUP($A92,#REF!,8,0)))","v":0},0,0.2883120488617435,0,0,0,0,{"$f":"IF(ISERROR(VLOOKUP($A92,#REF!,8,0)),0,(VLOOKUP($A92,#REF!,8,0)))","v":0},0,0.2883120488617435,0,0,0,0,{"$f":"IF(ISERROR(VLOOKUP($A92,#REF!,8,0)),0,(VLOOKUP($A92,#REF!,8,0)))","v":0},0,0.2883120488617435,0,0,0,0,{"$f":"IF(ISERROR(VLOOKUP($A92,#REF!,8,0)),0,(VLOOKUP($A92,#REF!,8,0)))","v":0},0,0.2883120488617435,0,0,0,0,{"$f":"IF(ISERROR(VLOOKUP($A92,#REF!,8,0)),0,(VLOOKUP($A92,#REF!,8,0)))","v":0},0,0.2883120488617435,0,0,0,0,{"$f":"IF(ISERROR(VLOOKUP($A92,#REF!,8,0)),0,(VLOOKUP($A92,#REF!,8,0)))","v":0},0,0.2883120488617435,0,0,0,0,{"$f":"IF(ISERROR(VLOOKUP($A92,#REF!,8,0)),0,(VLOOKUP($A92,#REF!,8,0)))","v":0},0,0.2883120488617435,0,0,0,0,{"$f":"IF(ISERROR(VLOOKUP($A92,#REF!,8,0)),0,(VLOOKUP($A92,#REF!,8,0)))","v":0},0,0.2883120488617435,0,0,0,0,{"$f":"IF(ISERROR(VLOOKUP($A92,#REF!,8,0)),0,(VLOOKUP($A92,#REF!,8,0)))","v":0},0,0.2883120488617435,0,0,0,0,{"$f":"IF(ISERROR(VLOOKUP($A92,#REF!,8,0)),0,(VLOOKUP($A92,#REF!,8,0)))","v":0},0,0.2883120488617435,0,0,0,0,{"$f":"IF(ISERROR(VLOOKUP($A92,#REF!,8,0)),0,(VLOOKUP($A92,#REF!,8,0)))","v":0},0,0.2883120488617435,0,0,0,0,{"$f":"IF(ISERROR(VLOOKUP($A92,#REF!,8,0)),0,(VLOOKUP($A92,#REF!,8,0)))","v":0},0,0.2883120488617435,0,0,0,0,{"$f":"IF(ISERROR(VLOOKUP($A92,#REF!,8,0)),0,(VLOOKUP($A92,#REF!,8,0)))","v":0},0,0.2883120488617435,0,0,0,0,{"$f":"IF(ISERROR(VLOOKUP($A92,#REF!,8,0)),0,(VLOOKUP($A92,#REF!,8,0)))","v":0},0,0.2883120488617435,0,0,0,0,{"$f":"IF(ISERROR(VLOOKUP($A92,#REF!,8,0)),0,(VLOOKUP($A92,#REF!,8,0)))","v":0},0,0.2883120488617435,0,0,0,0,{"$f":"IF(ISERROR(VLOOKUP($A92,#REF!,8,0)),0,(VLOOKUP($A92,#REF!,8,0)))","v":0},0,0.2883120488617435,0,0,0,0,{"$f":"IF(ISERROR(VLOOKUP($A92,#REF!,8,0)),0,(VLOOKUP($A92,#REF!,8,0)))","v":0},0,0.2883120488617435,0,0,0,0,{"$f":"IF(ISERROR(VLOOKUP($A92,#REF!,8,0)),0,(VLOOKUP($A92,#REF!,8,0)))","v":0},0,0.2883120488617435,0,0,0,0,{"$f":"IF(ISERROR(VLOOKUP($A92,#REF!,8,0)),0,(VLOOKUP($A92,#REF!,8,0)))","v":0},0,0.2883120488617435,0,0,0,0,{"$f":"IF(ISERROR(VLOOKUP($A92,#REF!,8,0)),0,(VLOOKUP($A92,#REF!,8,0)))","v":0},0,0.2883120488617435,0,0,0,0,{"$f":"IF(ISERROR(VLOOKUP($A92,#REF!,8,0)),0,(VLOOKUP($A92,#REF!,8,0)))","v":0},0,0.2883120488617435,0,0,0,0,{"$f":"IF(ISERROR(VLOOKUP($A92,#REF!,8,0)),0,(VLOOKUP($A92,#REF!,8,0)))","v":0},0,0.2883120488617435,0,0,0,0,{"$f":"IF(ISERROR(VLOOKUP($A92,#REF!,8,0)),0,(VLOOKUP($A92,#REF!,8,0)))","v":0},0,0.2883120488617435,0,0,0,0,{"$f":"IF(ISERROR(VLOOKUP($A92,#REF!,8,0)),0,(VLOOKUP($A92,#REF!,8,0)))","v":0},0,0.2883120488617435,0,0,0,0,{"$f":"IF(ISERROR(VLOOKUP($A92,#REF!,8,0)),0,(VLOOKUP($A92,#REF!,8,0)))","v":0},0,0.2883120488617435,0,0,0,0,{"$f":"IF(ISERROR(VLOOKUP($A92,#REF!,8,0)),0,(VLOOKUP($A92,#REF!,8,0)))","v":0},0,0.2883120488617435,0,0,0,0,{"$f":"IF(ISERROR(VLOOKUP($A92,#REF!,8,0)),0,(VLOOKUP($A92,#REF!,8,0)))","v":0},0,0.2883120488617435,0,0,0,0,{"$f":"IF(ISERROR(VLOOKUP($A92,#REF!,8,0)),0,(VLOOKUP($A92,#REF!,8,0)))","v":0},0,0.2883120488617435,0,0,0,0,53007.432703999999,53007.432703999999,1,0]
["2.10","Escavação e carga mecânicas de material de primeira categoria, proveniente de corte de terreno natural para obras civis.","m³",537,0,537,0,0,3.9186000000000001,2104.2882,0,0,3.9186000000000001,2104.2882,0,null,0,0,0,0,0,null,0,0,0,0,0,0,null,0,0,0,0,0,0,null,0,0,0,0,0,0,null,0,0,0,0,0,0,null,0,0,0,0,0,0,{"$f":"IF(ISERROR(VLOOKUP(A93,'7ª MEDIÇÃO'!$A$5:$J$1048576,8,0)),0,(VLOOKUP(A93,'7ª MEDIÇÃO'!$A$5:$J$1048576,8,0)))","v":0},0,0,0,0,0,0,{"$f":"IF(ISERROR(VLOOKUP(A93,'8ª MEDIÇÃO'!$A$5:$J$1048576,8,0)),0,(VLOOKUP(A93,'8ª MEDIÇÃO'!$A$5:$J$1048576,8,0)))","v":0},0,0,0,0,0,0,{"$f":"IF(ISERROR(VLOOKUP(A93,'9ª MEDIÇÃO'!$A$5:$J$1048576,8,0)),0,(VLOOKUP(A93,'9ª MEDIÇÃO'!$A$5:$J$1048576,8,0)))","v":0},0,0,0,0,0,0,{"$f":"IF(ISERROR(VLOOKUP(A93,#REF!,8,0)),0,(VLOOKUP(A93,#REF!,8,0)))","v":0},0,0,0,0,0,0,{"$f":"IF(ISERROR(VLOOKUP($A93,#REF!,8,0)),0,(VLOOKUP($A93,#REF!,8,0)))","v":0},0,0,0,0,0,0,{"$f":"IF(ISERROR(VLOOKUP($A93,#REF!,8,0)),0,(VLOOKUP($A93,#REF!,8,0)))","v":0},0,0,0,0,0,0,{"$f":"IF(ISERROR(VLOOKUP($A93,#REF!,8,0)),0,(VLOOKUP($A93,#REF!,8,0)))","v":0},0,0,0,0,0,0,{"$f":"IF(ISERROR(VLOOKUP($A93,#REF!,8,0)),0,(VLOOKUP($A93,#REF!,8,0)))","v":0},0,0,0,0,0,0,{"$f":"IF(ISERROR(VLOOKUP($A93,#REF!,8,0)),0,(VLOOKUP($A93,#REF!,8,0)))","v":0},0,0,0,0,0,0,{"$f":"IF(ISERROR(VLOOKUP($A93,#REF!,8,0)),0,(VLOOKUP($A93,#REF!,8,0)))","v":0},0,0,0,0,0,0,{"$f":"IF(ISERROR(VLOOKUP($A93,#REF!,8,0)),0,(VLOOKUP($A93,#REF!,8,0)))","v":0},0,0,0,0,0,0,{"$f":"IF(ISERROR(VLOOKUP($A93,#REF!,8,0)),0,(VLOOKUP($A93,#REF!,8,0)))","v":0},0,0,0,0,0,0,{"$f":"IF(ISERROR(VLOOKUP($A93,#REF!,8,0)),0,(VLOOKUP($A93,#REF!,8,0)))","v":0},0,0,0,0,0,0,{"$f":"IF(ISERROR(VLOOKUP($A93,#REF!,8,0)),0,(VLOOKUP($A93,#REF!,8,0)))","v":0},0,0,0,0,0,0,{"$f":"IF(ISERROR(VLOOKUP($A93,#REF!,8,0)),0,(VLOOKUP($A93,#REF!,8,0)))","v":0},0,0,0,0,0,0,{"$f":"IF(ISERROR(VLOOKUP($A93,#REF!,8,0)),0,(VLOOKUP($A93,#REF!,8,0)))","v":0},0,0,0,0,0,0,{"$f":"IF(ISERROR(VLOOKUP($A93,#REF!,8,0)),0,(VLOOKUP($A93,#REF!,8,0)))","v":0},0,0,0,0,0,0,{"$f":"IF(ISERROR(VLOOKUP($A93,#REF!,8,0)),0,(VLOOKUP($A93,#REF!,8,0)))","v":0},0,0,0,0,0,0,{"$f":"IF(ISERROR(VLOOKUP($A93,#REF!,8,0)),0,(VLOOKUP($A93,#REF!,8,0)))","v":0},0,0,0,0,0,0,{"$f":"IF(ISERROR(VLOOKUP($A93,#REF!,8,0)),0,(VLOOKUP($A93,#REF!,8,0)))","v":0},0,0,0,0,0,0,{"$f":"IF(ISERROR(VLOOKUP($A93,#REF!,8,0)),0,(VLOOKUP($A93,#REF!,8,0)))","v":0},0,0,0,0,0,0,{"$f":"IF(ISERROR(VLOOKUP($A93,#REF!,8,0)),0,(VLOOKUP($A93,#REF!,8,0)))","v":0},0,0,0,0,0,0,{"$f":"IF(ISERROR(VLOOKUP($A93,#REF!,8,0)),0,(VLOOKUP($A93,#REF!,8,0)))","v":0},0,0,0,0,0,0,{"$f":"IF(ISERROR(VLOOKUP($A93,#REF!,8,0)),0,(VLOOKUP($A93,#REF!,8,0)))","v":0},0,0,0,0,0,0,{"$f":"IF(ISERROR(VLOOKUP($A93,#REF!,8,0)),0,(VLOOKUP($A93,#REF!,8,0)))","v":0},0,0,0,0,0,0,{"$f":"IF(ISERROR(VLOOKUP($A93,#REF!,8,0)),0,(VLOOKUP($A93,#REF!,8,0)))","v":0},0,0,0,0,0,0,{"$f":"IF(ISERROR(VLOOKUP($A93,#REF!,8,0)),0,(VLOOKUP($A93,#REF!,8,0)))","v":0},0,0,0,0,0,0,{"$f":"IF(ISERROR(VLOOKUP($A93,#REF!,8,0)),0,(VLOOKUP($A93,#REF!,8,0)))","v":0},0,0,0,0,0,0,{"$f":"IF(ISERROR(VLOOKUP($A93,#REF!,8,0)),0,(VLOOKUP($A93,#REF!,8,0)))","v":0},0,0,0,0,0,0,{"$f":"IF(ISERROR(VLOOKUP($A93,#REF!,8,0)),0,(VLOOKUP($A93,#REF!,8,0)))","v":0},0,0,0,0,0,0,{"$f":"IF(ISERROR(VLOOKUP($A93,#REF!,8,0)),0,(VLOOKUP($A93,#REF!,8,0)))","v":0},0,0,0,0,0,0,{"$f":"IF(ISERROR(VLOOKUP($A93,#REF!,8,0)),0,(VLOOKUP($A93,#REF!,8,0)))","v":0},0,0,0,0,0,0,{"$f":"IF(ISERROR(VLOOKUP($A93,#REF!,8,0)),0,(VLOOKUP($A93,#REF!,8,0)))","v":0},0,0,0,0,0,0,{"$f":"IF(ISERROR(VLOOKUP($A93,#REF!,8,0)),0,(VLOOKUP($A93,#REF!,8,0)))","v":0},0,0,0,0,0,0,{"$f":"IF(ISERROR(VLOOKUP($A93,#REF!,8,0)),0,(VLOOKUP($A93,#REF!,8,0)))","v":0},0,0,0,0,0,0,{"$f":"IF(ISERROR(VLOOKUP($A93,#REF!,8,0)),0,(VLOOKUP($A93,#REF!,8,0)))","v":0},0,0,0,0,0,0,{"$f":"IF(ISERROR(VLOOKUP($A93,#REF!,8,0)),0,(VLOOKUP($A93,#REF!,8,0)))","v":0},0,0,0,0,0,0,{"$f":"IF(ISERROR(VLOOKUP($A93,#REF!,8,0)),0,(VLOOKUP($A93,#REF!,8,0)))","v":0},0,0,0,0,0,0,{"$f":"IF(ISERROR(VLOOKUP($A93,#REF!,8,0)),0,(VLOOKUP($A93,#REF!,8,0)))","v":0},0,0,0,0,0,0,{"$f":"IF(ISERROR(VLOOKUP($A93,#REF!,8,0)),0,(VLOOKUP($A93,#REF!,8,0)))","v":0},0,0,0,0,0,0,{"$f":"IF(ISERROR(VLOOKUP($A93,#REF!,8,0)),0,(VLOOKUP($A93,#REF!,8,0)))","v":0},0,0,0,0,0,0,{"$f":"IF(ISERROR(VLOOKUP($A93,#REF!,8,0)),0,(VLOOKUP($A93,#REF!,8,0)))","v":0},0,0,0,0,0,0,{"$f":"IF(ISERROR(VLOOKUP($A93,#REF!,8,0)),0,(VLOOKUP($A93,#REF!,8,0)))","v":0},0,0,0,0,0,0,{"$f":"IF(ISERROR(VLOOKUP($A93,#REF!,8,0)),0,(VLOOKUP($A93,#REF!,8,0)))","v":0},0,0,0,0,0,0,{"$f":"IF(ISERROR(VLOOKUP($A93,#REF!,8,0)),0,(VLOOKUP($A93,#REF!,8,0)))","v":0},0,0,0,0,0,0,{"$f":"IF(ISERROR(VLOOKUP($A93,#REF!,8,0)),0,(VLOOKUP($A93,#REF!,8,0)))","v":0},0,0,0,0,0,0,{"$f":"IF(ISERROR(VLOOKUP($A93,#REF!,8,0)),0,(VLOOKUP($A93,#REF!,8,0)))","v":0},0,0,0,0,0,0,{"$f":"IF(ISERROR(VLOOKUP($A93,#REF!,8,0)),0,(VLOOKUP($A93,#REF!,8,0)))","v":0},0,0,0,0,0,0,{"$f":"IF(ISERROR(VLOOKUP($A93,#REF!,8,0)),0,(VLOOKUP($A93,#REF!,8,0)))","v":0},0,0,0,0,0,0,0,0,{"$error":"#DIV/0!"},0]
["2.11","Concreto magro para lastro, traço 1:4,5:4,5 (cimento/ areia média/ brita 1)  - preparo mecânico com betoneira 400 L. ","m³",35,35,0,137.506246,4812.7186099999999,45.66724,1598.3534,0,0,183.173486,0,6411.0720099999999,null,0,0,0,0,0,14.8,0.42285714285714288,1,2035.0924408000001,675.87515200000007,0,2710.97,8.48,0.2422857142857143,1,1166.05296608,387.25819519999999,0,1553.31,4.1900000000000004,0.11971428571428573,1,576.15117074000011,191.34573560000001,0,767.5,7.53,0.21514285714285716,1,1035.42203238,343.87431720000001,0,1379.3,null,0,1,0,0,0,0,{"$f":"IF(ISERROR(VLOOKUP(A94,'7ª MEDIÇÃO'!$A$5:$J$1048576,8,0)),0,(VLOOKUP(A94,'7ª MEDIÇÃO'!$A$5:$J$1048576,8,0)))","v":0},0,1,0,0,0,0,{"$f":"IF(ISERROR(VLOOKUP(A94,'8ª MEDIÇÃO'!$A$5:$J$1048576,8,0)),0,(VLOOKUP(A94,'8ª MEDIÇÃO'!$A$5:$J$1048576,8,0)))","v":0},0,1,0,0,0,0,{"$f":"IF(ISERROR(VLOOKUP(A94,'9ª MEDIÇÃO'!$A$5:$J$1048576,8,0)),0,(VLOOKUP(A94,'9ª MEDIÇÃO'!$A$5:$J$1048576,8,0)))","v":0},0,1,0,0,0,0,{"$f":"IF(ISERROR(VLOOKUP(A94,#REF!,8,0)),0,(VLOOKUP(A94,#REF!,8,0)))","v":0},0,1,0,0,0,0,{"$f":"IF(ISERROR(VLOOKUP($A94,#REF!,8,0)),0,(VLOOKUP($A94,#REF!,8,0)))","v":0},0,1,0,0,0,0,{"$f":"IF(ISERROR(VLOOKUP($A94,#REF!,8,0)),0,(VLOOKUP($A94,#REF!,8,0)))","v":0},0,1,0,0,0,0,{"$f":"IF(ISERROR(VLOOKUP($A94,#REF!,8,0)),0,(VLOOKUP($A94,#REF!,8,0)))","v":0},0,1,0,0,0,0,{"$f":"IF(ISERROR(VLOOKUP($A94,#REF!,8,0)),0,(VLOOKUP($A94,#REF!,8,0)))","v":0},0,1,0,0,0,0,{"$f":"IF(ISERROR(VLOOKUP($A94,#REF!,8,0)),0,(VLOOKUP($A94,#REF!,8,0)))","v":0},0,1,0,0,0,0,{"$f":"IF(ISERROR(VLOOKUP($A94,#REF!,8,0)),0,(VLOOKUP($A94,#REF!,8,0)))","v":0},0,1,0,0,0,0,{"$f":"IF(ISERROR(VLOOKUP($A94,#REF!,8,0)),0,(VLOOKUP($A94,#REF!,8,0)))","v":0},0,1,0,0,0,0,{"$f":"IF(ISERROR(VLOOKUP($A94,#REF!,8,0)),0,(VLOOKUP($A94,#REF!,8,0)))","v":0},0,1,0,0,0,0,{"$f":"IF(ISERROR(VLOOKUP($A94,#REF!,8,0)),0,(VLOOKUP($A94,#REF!,8,0)))","v":0},0,1,0,0,0,0,{"$f":"IF(ISERROR(VLOOKUP($A94,#REF!,8,0)),0,(VLOOKUP($A94,#REF!,8,0)))","v":0},0,1,0,0,0,0,{"$f":"IF(ISERROR(VLOOKUP($A94,#REF!,8,0)),0,(VLOOKUP($A94,#REF!,8,0)))","v":0},0,1,0,0,0,0,{"$f":"IF(ISERROR(VLOOKUP($A94,#REF!,8,0)),0,(VLOOKUP($A94,#REF!,8,0)))","v":0},0,1,0,0,0,0,{"$f":"IF(ISERROR(VLOOKUP($A94,#REF!,8,0)),0,(VLOOKUP($A94,#REF!,8,0)))","v":0},0,1,0,0,0,0,{"$f":"IF(ISERROR(VLOOKUP($A94,#REF!,8,0)),0,(VLOOKUP($A94,#REF!,8,0)))","v":0},0,1,0,0,0,0,{"$f":"IF(ISERROR(VLOOKUP($A94,#REF!,8,0)),0,(VLOOKUP($A94,#REF!,8,0)))","v":0},0,1,0,0,0,0,{"$f":"IF(ISERROR(VLOOKUP($A94,#REF!,8,0)),0,(VLOOKUP($A94,#REF!,8,0)))","v":0},0,1,0,0,0,0,{"$f":"IF(ISERROR(VLOOKUP($A94,#REF!,8,0)),0,(VLOOKUP($A94,#REF!,8,0)))","v":0},0,1,0,0,0,0,{"$f":"IF(ISERROR(VLOOKUP($A94,#REF!,8,0)),0,(VLOOKUP($A94,#REF!,8,0)))","v":0},0,1,0,0,0,0,{"$f":"IF(ISERROR(VLOOKUP($A94,#REF!,8,0)),0,(VLOOKUP($A94,#REF!,8,0)))","v":0},0,1,0,0,0,0,{"$f":"IF(ISERROR(VLOOKUP($A94,#REF!,8,0)),0,(VLOOKUP($A94,#REF!,8,0)))","v":0},0,1,0,0,0,0,{"$f":"IF(ISERROR(VLOOKUP($A94,#REF!,8,0)),0,(VLOOKUP($A94,#REF!,8,0)))","v":0},0,1,0,0,0,0,{"$f":"IF(ISERROR(VLOOKUP($A94,#REF!,8,0)),0,(VLOOKUP($A94,#REF!,8,0)))","v":0},0,1,0,0,0,0,{"$f":"IF(ISERROR(VLOOKUP($A94,#REF!,8,0)),0,(VLOOKUP($A94,#REF!,8,0)))","v":0},0,1,0,0,0,0,{"$f":"IF(ISERROR(VLOOKUP($A94,#REF!,8,0)),0,(VLOOKUP($A94,#REF!,8,0)))","v":0},0,1,0,0,0,0,{"$f":"IF(ISERROR(VLOOKUP($A94,#REF!,8,0)),0,(VLOOKUP($A94,#REF!,8,0)))","v":0},0,1,0,0,0,0,{"$f":"IF(ISERROR(VLOOKUP($A94,#REF!,8,0)),0,(VLOOKUP($A94,#REF!,8,0)))","v":0},0,1,0,0,0,0,{"$f":"IF(ISERROR(VLOOKUP($A94,#REF!,8,0)),0,(VLOOKUP($A94,#REF!,8,0)))","v":0},0,1,0,0,0,0,{"$f":"IF(ISERROR(VLOOKUP($A94,#REF!,8,0)),0,(VLOOKUP($A94,#REF!,8,0)))","v":0},0,1,0,0,0,0,{"$f":"IF(ISERROR(VLOOKUP($A94,#REF!,8,0)),0,(VLOOKUP($A94,#REF!,8,0)))","v":0},0,1,0,0,0,0,{"$f":"IF(ISERROR(VLOOKUP($A94,#REF!,8,0)),0,(VLOOKUP($A94,#REF!,8,0)))","v":0},0,1,0,0,0,0,{"$f":"IF(ISERROR(VLOOKUP($A94,#REF!,8,0)),0,(VLOOKUP($A94,#REF!,8,0)))","v":0},0,1,0,0,0,0,{"$f":"IF(ISERROR(VLOOKUP($A94,#REF!,8,0)),0,(VLOOKUP($A94,#REF!,8,0)))","v":0},0,1,0,0,0,0,{"$f":"IF(ISERROR(VLOOKUP($A94,#REF!,8,0)),0,(VLOOKUP($A94,#REF!,8,0)))","v":0},0,1,0,0,0,0,{"$f":"IF(ISERROR(VLOOKUP($A94,#REF!,8,0)),0,(VLOOKUP($A94,#REF!,8,0)))","v":0},0,1,0,0,0,0,{"$f":"IF(ISERROR(VLOOKUP($A94,#REF!,8,0)),0,(VLOOKUP($A94,#REF!,8,0)))","v":0},0,1,0,0,0,0,{"$f":"IF(ISERROR(VLOOKUP($A94,#REF!,8,0)),0,(VLOOKUP($A94,#REF!,8,0)))","v":0},0,1,0,0,0,0,{"$f":"IF(ISERROR(VLOOKUP($A94,#REF!,8,0)),0,(VLOOKUP($A94,#REF!,8,0)))","v":0},0,1,0,0,0,0,{"$f":"IF(ISERROR(VLOOKUP($A94,#REF!,8,0)),0,(VLOOKUP($A94,#REF!,8,0)))","v":0},0,1,0,0,0,0,{"$f":"IF(ISERROR(VLOOKUP($A94,#REF!,8,0)),0,(VLOOKUP($A94,#REF!,8,0)))","v":0},0,1,0,0,0,0,{"$f":"IF(ISERROR(VLOOKUP($A94,#REF!,8,0)),0,(VLOOKUP($A94,#REF!,8,0)))","v":0},0,1,0,0,0,0,{"$f":"IF(ISERROR(VLOOKUP($A94,#REF!,8,0)),0,(VLOOKUP($A94,#REF!,8,0)))","v":0},0,1,0,0,0,0,{"$f":"IF(ISERROR(VLOOKUP($A94,#REF!,8,0)),0,(VLOOKUP($A94,#REF!,8,0)))","v":0},0,1,0,0,0,0,{"$f":"IF(ISERROR(VLOOKUP($A94,#REF!,8,0)),0,(VLOOKUP($A94,#REF!,8,0)))","v":0},0,1,0,0,0,0,{"$f":"IF(ISERROR(VLOOKUP($A94,#REF!,8,0)),0,(VLOOKUP($A94,#REF!,8,0)))","v":0},0,1,0,0,0,0,{"$f":"IF(ISERROR(VLOOKUP($A94,#REF!,8,0)),0,(VLOOKUP($A94,#REF!,8,0)))","v":0},0,1,0,0,0,0,6411.0720099999999,6411.0720099999999,1,0]
["2.12","Concreto usinado bombeado Fck=40Mpa, inclusive colocação, espalhamento e acabamento. Incluso Aditivo Metacaulin.","m³",480,479.96210000000002,3.7899999999979173E-2,342.27367399999997,164291.36351999998,17.988240000000001,8634.3552,0,0,360.26191399999999,13.653926540592495,172912.0647934594,null,0,0,0,0,0,65.959999999999994,0.13741666666666666,0.99992104166666673,22576.371537039995,1186.5043103999999,0,23762.880000000001,58.07,0.12097916666666667,0.99992104166666673,19875.832249179999,1044.5770968000002,0,20920.41,58.33,0.12152083333333333,0.99992104166666673,19964.823404419996,1049.2540392000001,0,21014.080000000002,66.13,0.13777083333333331,0.99992104166666673,22634.558061619995,1189.5623112000001,0,23824.12,134.51,0.28022916666666664,0.99992104166666673,46039.231889739996,2419.5981624000001,0,48458.83,84.08,0.17516666666666666,0.99992104166666673,28778.370509919998,1512.4512192,0,30290.82,{"$f":"IF(ISERROR(VLOOKUP(A95,'8ª MEDIÇÃO'!$A$5:$J$1048576,8,0)),0,(VLOOKUP(A95,'8ª MEDIÇÃO'!$A$5:$J$1048576,8,0)))","v":0},0,0.99992104166666673,0,0,0,0,{"$f":"IF(ISERROR(VLOOKUP(A95,'9ª MEDIÇÃO'!$A$5:$J$1048576,8,0)),0,(VLOOKUP(A95,'9ª MEDIÇÃO'!$A$5:$J$1048576,8,0)))","v":0},0,0.99992104166666673,0,0,0,0,{"$f":"IF(ISERROR(VLOOKUP(A95,#REF!,8,0)),0,(VLOOKUP(A95,#REF!,8,0)))","v":0},0,0.99992104166666673,0,0,0,0,{"$f":"IF(ISERROR(VLOOKUP($A95,#REF!,8,0)),0,(VLOOKUP($A95,#REF!,8,0)))","v":0},0,0.99992104166666673,0,0,0,0,{"$f":"IF(ISERROR(VLOOKUP($A95,#REF!,8,0)),0,(VLOOKUP($A95,#REF!,8,0)))","v":0},0,0.99992104166666673,0,0,0,0,{"$f":"IF(ISERROR(VLOOKUP($A95,#REF!,8,0)),0,(VLOOKUP($A95,#REF!,8,0)))","v":0},0,0.99992104166666673,0,0,0,0,{"$f":"IF(ISERROR(VLOOKUP($A95,#REF!,8,0)),0,(VLOOKUP($A95,#REF!,8,0)))","v":0},0,0.99992104166666673,0,0,0,0,{"$f":"IF(ISERROR(VLOOKUP($A95,#REF!,8,0)),0,(VLOOKUP($A95,#REF!,8,0)))","v":0},0,0.99992104166666673,0,0,0,0,{"$f":"IF(ISERROR(VLOOKUP($A95,#REF!,8,0)),0,(VLOOKUP($A95,#REF!,8,0)))","v":0},0,0.99992104166666673,0,0,0,0,{"$f":"IF(ISERROR(VLOOKUP($A95,#REF!,8,0)),0,(VLOOKUP($A95,#REF!,8,0)))","v":0},0,0.99992104166666673,0,0,0,0,{"$f":"IF(ISERROR(VLOOKUP($A95,#REF!,8,0)),0,(VLOOKUP($A95,#REF!,8,0)))","v":0},0,0.99992104166666673,0,0,0,0,{"$f":"IF(ISERROR(VLOOKUP($A95,#REF!,8,0)),0,(VLOOKUP($A95,#REF!,8,0)))","v":0},0,0.99992104166666673,0,0,0,0,{"$f":"IF(ISERROR(VLOOKUP($A95,#REF!,8,0)),0,(VLOOKUP($A95,#REF!,8,0)))","v":0},0,0.99992104166666673,0,0,0,0,{"$f":"IF(ISERROR(VLOOKUP($A95,#REF!,8,0)),0,(VLOOKUP($A95,#REF!,8,0)))","v":0},0,0.99992104166666673,0,0,0,0,{"$f":"IF(ISERROR(VLOOKUP($A95,#REF!,8,0)),0,(VLOOKUP($A95,#REF!,8,0)))","v":0},0,0.99992104166666673,0,0,0,0,{"$f":"IF(ISERROR(VLOOKUP($A95,#REF!,8,0)),0,(VLOOKUP($A95,#REF!,8,0)))","v":0},0,0.99992104166666673,0,0,0,0,{"$f":"IF(ISERROR(VLOOKUP($A95,#REF!,8,0)),0,(VLOOKUP($A95,#REF!,8,0)))","v":0},0,0.99992104166666673,0,0,0,0,{"$f":"IF(ISERROR(VLOOKUP($A95,#REF!,8,0)),0,(VLOOKUP($A95,#REF!,8,0)))","v":0},0,0.99992104166666673,0,0,0,0,{"$f":"IF(ISERROR(VLOOKUP($A95,#REF!,8,0)),0,(VLOOKUP($A95,#REF!,8,0)))","v":0},0,0.99992104166666673,0,0,0,0,{"$f":"IF(ISERROR(VLOOKUP($A95,#REF!,8,0)),0,(VLOOKUP($A95,#REF!,8,0)))","v":0},0,0.99992104166666673,0,0,0,0,{"$f":"IF(ISERROR(VLOOKUP($A95,#REF!,8,0)),0,(VLOOKUP($A95,#REF!,8,0)))","v":0},0,0.99992104166666673,0,0,0,0,{"$f":"IF(ISERROR(VLOOKUP($A95,#REF!,8,0)),0,(VLOOKUP($A95,#REF!,8,0)))","v":0},0,0.99992104166666673,0,0,0,0,{"$f":"IF(ISERROR(VLOOKUP($A95,#REF!,8,0)),0,(VLOOKUP($A95,#REF!,8,0)))","v":0},0,0.99992104166666673,0,0,0,0,{"$f":"IF(ISERROR(VLOOKUP($A95,#REF!,8,0)),0,(VLOOKUP($A95,#REF!,8,0)))","v":0},0,0.99992104166666673,0,0,0,0,{"$f":"IF(ISERROR(VLOOKUP($A95,#REF!,8,0)),0,(VLOOKUP($A95,#REF!,8,0)))","v":0},0,0.99992104166666673,0,0,0,0,{"$f":"IF(ISERROR(VLOOKUP($A95,#REF!,8,0)),0,(VLOOKUP($A95,#REF!,8,0)))","v":0},0,0.99992104166666673,0,0,0,0,{"$f":"IF(ISERROR(VLOOKUP($A95,#REF!,8,0)),0,(VLOOKUP($A95,#REF!,8,0)))","v":0},0,0.99992104166666673,0,0,0,0,{"$f":"IF(ISERROR(VLOOKUP($A95,#REF!,8,0)),0,(VLOOKUP($A95,#REF!,8,0)))","v":0},0,0.99992104166666673,0,0,0,0,{"$f":"IF(ISERROR(VLOOKUP($A95,#REF!,8,0)),0,(VLOOKUP($A95,#REF!,8,0)))","v":0},0,0.99992104166666673,0,0,0,0,{"$f":"IF(ISERROR(VLOOKUP($A95,#REF!,8,0)),0,(VLOOKUP($A95,#REF!,8,0)))","v":0},0,0.99992104166666673,0,0,0,0,{"$f":"IF(ISERROR(VLOOKUP($A95,#REF!,8,0)),0,(VLOOKUP($A95,#REF!,8,0)))","v":0},0,0.99992104166666673,0,0,0,0,{"$f":"IF(ISERROR(VLOOKUP($A95,#REF!,8,0)),0,(VLOOKUP($A95,#REF!,8,0)))","v":0},0,0.99992104166666673,0,0,0,0,{"$f":"IF(ISERROR(VLOOKUP($A95,#REF!,8,0)),0,(VLOOKUP($A95,#REF!,8,0)))","v":0},0,0.99992104166666673,0,0,0,0,{"$f":"IF(ISERROR(VLOOKUP($A95,#REF!,8,0)),0,(VLOOKUP($A95,#REF!,8,0)))","v":0},0,0.99992104166666673,0,0,0,0,{"$f":"IF(ISERROR(VLOOKUP($A95,#REF!,8,0)),0,(VLOOKUP($A95,#REF!,8,0)))","v":0},0,0.99992104166666673,0,0,0,0,{"$f":"IF(ISERROR(VLOOKUP($A95,#REF!,8,0)),0,(VLOOKUP($A95,#REF!,8,0)))","v":0},0,0.99992104166666673,0,0,0,0,{"$f":"IF(ISERROR(VLOOKUP($A95,#REF!,8,0)),0,(VLOOKUP($A95,#REF!,8,0)))","v":0},0,0.99992104166666673,0,0,0,0,{"$f":"IF(ISERROR(VLOOKUP($A95,#REF!,8,0)),0,(VLOOKUP($A95,#REF!,8,0)))","v":0},0,0.99992104166666673,0,0,0,0,{"$f":"IF(ISERROR(VLOOKUP($A95,#REF!,8,0)),0,(VLOOKUP($A95,#REF!,8,0)))","v":0},0,0.99992104166666673,0,0,0,0,{"$f":"IF(ISERROR(VLOOKUP($A95,#REF!,8,0)),0,(VLOOKUP($A95,#REF!,8,0)))","v":0},0,0.99992104166666673,0,0,0,0,{"$f":"IF(ISERROR(VLOOKUP($A95,#REF!,8,0)),0,(VLOOKUP($A95,#REF!,8,0)))","v":0},0,0.99992104166666673,0,0,0,0,{"$f":"IF(ISERROR(VLOOKUP($A95,#REF!,8,0)),0,(VLOOKUP($A95,#REF!,8,0)))","v":0},0,0.99992104166666673,0,0,0,0,{"$f":"IF(ISERROR(VLOOKUP($A95,#REF!,8,0)),0,(VLOOKUP($A95,#REF!,8,0)))","v":0},0,0.99992104166666673,0,0,0,0,{"$f":"IF(ISERROR(VLOOKUP($A95,#REF!,8,0)),0,(VLOOKUP($A95,#REF!,8,0)))","v":0},0,0.99992104166666673,0,0,0,0,{"$f":"IF(ISERROR(VLOOKUP($A95,#REF!,8,0)),0,(VLOOKUP($A95,#REF!,8,0)))","v":0},0,0.99992104166666673,0,0,0,0,{"$f":"IF(ISERROR(VLOOKUP($A95,#REF!,8,0)),0,(VLOOKUP($A95,#REF!,8,0)))","v":0},0,0.99992104166666673,0,0,0,0,{"$f":"IF(ISERROR(VLOOKUP($A95,#REF!,8,0)),0,(VLOOKUP($A95,#REF!,8,0)))","v":0},0,0.99992104166666673,0,0,0,0,{"$f":"IF(ISERROR(VLOOKUP($A95,#REF!,8,0)),0,(VLOOKUP($A95,#REF!,8,0)))","v":0},0,0.99992104166666673,0,0,0,0,172912.0647934594,172912.0647934594,1,0]
["2.13","Alvenaria de tijolos de 8 furos, assentados e rejuntados com argamassa de cimento e areia no traço 1:6  -  1 vez.","m²",455,443.86999999999995,11.130000000000052,26.371383999999999,11998.979719999999,40.106560000000002,18248.484800000002,0,0,66.477944000000008,739.89951672000359,29507.56500328,null,0,0,0,0,0,null,0,0.97553846153846147,0,0,0,0,null,0,0.97553846153846147,0,0,0,0,null,0,0.97553846153846147,0,0,0,0,null,0,0.97553846153846147,0,0,0,0,null,0,0.97553846153846147,0,0,0,0,8.36,1.8373626373626373E-2,0.97553846153846147,220.46477023999998,335.29084159999996,0,555.76,39.22,8.6197802197802195E-2,0.97553846153846147,1034.2856804799999,1572.9792832000001,0,2607.2600000000002,{"$f":"IF(ISERROR(VLOOKUP(A96,'9ª MEDIÇÃO'!$A$5:$J$1048576,8,0)),0,(VLOOKUP(A96,'9ª MEDIÇÃO'!$A$5:$J$1048576,8,0)))","v":0},0,0.97553846153846147,0,0,0,0,{"$f":"IF(ISERROR(VLOOKUP(A96,#REF!,8,0)),0,(VLOOKUP(A96,#REF!,8,0)))","v":0},0,0.97553846153846147,0,0,0,0,{"$f":"IF(ISERROR(VLOOKUP($A96,#REF!,8,0)),0,(VLOOKUP($A96,#REF!,8,0)))","v":0},0,0.97553846153846147,0,0,0,0,{"$f":"IF(ISERROR(VLOOKUP($A96,#REF!,8,0)),0,(VLOOKUP($A96,#REF!,8,0)))","v":0},0,0.97553846153846147,0,0,0,0,{"$f":"IF(ISERROR(VLOOKUP($A96,#REF!,8,0)),0,(VLOOKUP($A96,#REF!,8,0)))","v":0},0,0.97553846153846147,0,0,0,0,{"$f":"IF(ISERROR(VLOOKUP($A96,#REF!,8,0)),0,(VLOOKUP($A96,#REF!,8,0)))","v":0},0,0.97553846153846147,0,0,0,0,{"$f":"IF(ISERROR(VLOOKUP($A96,#REF!,8,0)),0,(VLOOKUP($A96,#REF!,8,0)))","v":0},0,0.97553846153846147,0,0,0,0,{"$f":"IF(ISERROR(VLOOKUP($A96,#REF!,8,0)),0,(VLOOKUP($A96,#REF!,8,0)))","v":0},0,0.97553846153846147,0,0,0,0,{"$f":"IF(ISERROR(VLOOKUP($A96,#REF!,8,0)),0,(VLOOKUP($A96,#REF!,8,0)))","v":0},0,0.97553846153846147,0,0,0,0,{"$f":"IF(ISERROR(VLOOKUP($A96,#REF!,8,0)),0,(VLOOKUP($A96,#REF!,8,0)))","v":0},0,0.97553846153846147,0,0,0,0,{"$f":"IF(ISERROR(VLOOKUP($A96,#REF!,8,0)),0,(VLOOKUP($A96,#REF!,8,0)))","v":0},{"$f":"IF($D96>0,EK96/$D96,0)","v":0},{"$f":"IF($E96>0,$E96/$D96,0)","v":0.97553846153846147},{"$f":"EK96*$G96","v":0},{"$f":"$I96*EK96","v":0},{"$f":"$K96*EK96","v":0},{"$f":"ROUND($M96*EK96,2)","v":0},{"$f":"IF(ISERROR(VLOOKUP($A96,#REF!,8,0)),0,(VLOOKUP($A96,#REF!,8,0)))","v":0},0,0.97553846153846147,0,0,0,0,{"$f":"IF(ISERROR(VLOOKUP($A96,#REF!,8,0)),0,(VLOOKUP($A96,#REF!,8,0)))","v":0},0,0.97553846153846147,0,0,0,0,{"$f":"IF(ISERROR(VLOOKUP($A96,#REF!,8,0)),0,(VLOOKUP($A96,#REF!,8,0)))","v":0},0,0.97553846153846147,0,0,0,0,{"$f":"IF(ISERROR(VLOOKUP($A96,#REF!,8,0)),0,(VLOOKUP($A96,#REF!,8,0)))","v":0},0,0.97553846153846147,0,0,0,0,{"$f":"IF(ISERROR(VLOOKUP($A96,#REF!,8,0)),0,(VLOOKUP($A96,#REF!,8,0)))","v":0},0,0.97553846153846147,0,0,0,0,{"$f":"IF(ISERROR(VLOOKUP($A96,#REF!,8,0)),0,(VLOOKUP($A96,#REF!,8,0)))","v":0},0,0.97553846153846147,0,0,0,0,{"$f":"IF(ISERROR(VLOOKUP($A96,#REF!,8,0)),0,(VLOOKUP($A96,#REF!,8,0)))","v":0},0,0.97553846153846147,0,0,0,0,{"$f":"IF(ISERROR(VLOOKUP($A96,#REF!,8,0)),0,(VLOOKUP($A96,#REF!,8,0)))","v":0},0,0.97553846153846147,0,0,0,0,{"$f":"IF(ISERROR(VLOOKUP($A96,#REF!,8,0)),0,(VLOOKUP($A96,#REF!,8,0)))","v":0},0,0.97553846153846147,0,0,0,0,{"$f":"IF(ISERROR(VLOOKUP($A96,#REF!,8,0)),0,(VLOOKUP($A96,#REF!,8,0)))","v":0},0,0.97553846153846147,0,0,0,0,{"$f":"IF(ISERROR(VLOOKUP($A96,#REF!,8,0)),0,(VLOOKUP($A96,#REF!,8,0)))","v":0},0,0.97553846153846147,0,0,0,0,{"$f":"IF(ISERROR(VLOOKUP($A96,#REF!,8,0)),0,(VLOOKUP($A96,#REF!,8,0)))","v":0},0,0.97553846153846147,0,0,0,0,{"$f":"IF(ISERROR(VLOOKUP($A96,#REF!,8,0)),0,(VLOOKUP($A96,#REF!,8,0)))","v":0},0,0.97553846153846147,0,0,0,0,{"$f":"IF(ISERROR(VLOOKUP($A96,#REF!,8,0)),0,(VLOOKUP($A96,#REF!,8,0)))","v":0},0,0.97553846153846147,0,0,0,0,{"$f":"IF(ISERROR(VLOOKUP($A96,#REF!,8,0)),0,(VLOOKUP($A96,#REF!,8,0)))","v":0},0,0.97553846153846147,0,0,0,0,{"$f":"IF(ISERROR(VLOOKUP($A96,#REF!,8,0)),0,(VLOOKUP($A96,#REF!,8,0)))","v":0},0,0.97553846153846147,0,0,0,0,{"$f":"IF(ISERROR(VLOOKUP($A96,#REF!,8,0)),0,(VLOOKUP($A96,#REF!,8,0)))","v":0},0,0.97553846153846147,0,0,0,0,{"$f":"IF(ISERROR(VLOOKUP($A96,#REF!,8,0)),0,(VLOOKUP($A96,#REF!,8,0)))","v":0},0,0.97553846153846147,0,0,0,0,{"$f":"IF(ISERROR(VLOOKUP($A96,#REF!,8,0)),0,(VLOOKUP($A96,#REF!,8,0)))","v":0},0,0.97553846153846147,0,0,0,0,{"$f":"IF(ISERROR(VLOOKUP($A96,#REF!,8,0)),0,(VLOOKUP($A96,#REF!,8,0)))","v":0},0,0.97553846153846147,0,0,0,0,{"$f":"IF(ISERROR(VLOOKUP($A96,#REF!,8,0)),0,(VLOOKUP($A96,#REF!,8,0)))","v":0},0,0.97553846153846147,0,0,0,0,{"$f":"IF(ISERROR(VLOOKUP($A96,#REF!,8,0)),0,(VLOOKUP($A96,#REF!,8,0)))","v":0},0,0.97553846153846147,0,0,0,0,{"$f":"IF(ISERROR(VLOOKUP($A96,#REF!,8,0)),0,(VLOOKUP($A96,#REF!,8,0)))","v":0},0,0.97553846153846147,0,0,0,0,{"$f":"IF(ISERROR(VLOOKUP($A96,#REF!,8,0)),0,(VLOOKUP($A96,#REF!,8,0)))","v":0},0,0.97553846153846147,0,0,0,0,{"$f":"IF(ISERROR(VLOOKUP($A96,#REF!,8,0)),0,(VLOOKUP($A96,#REF!,8,0)))","v":0},0,0.97553846153846147,0,0,0,0,{"$f":"IF(ISERROR(VLOOKUP($A96,#REF!,8,0)),0,(VLOOKUP($A96,#REF!,8,0)))","v":0},0,0.97553846153846147,0,0,0,0,{"$f":"IF(ISERROR(VLOOKUP($A96,#REF!,8,0)),0,(VLOOKUP($A96,#REF!,8,0)))","v":0},0,0.97553846153846147,0,0,0,0,{"$f":"IF(ISERROR(VLOOKUP($A96,#REF!,8,0)),0,(VLOOKUP($A96,#REF!,8,0)))","v":0},0,0.97553846153846147,0,0,0,0,{"$f":"IF(ISERROR(VLOOKUP($A96,#REF!,8,0)),0,(VLOOKUP($A96,#REF!,8,0)))","v":0},0,0.97553846153846147,0,0,0,0,{"$f":"IF(ISERROR(VLOOKUP($A96,#REF!,8,0)),0,(VLOOKUP($A96,#REF!,8,0)))","v":0},0,0.97553846153846147,0,0,0,0,{"$f":"IF(ISERROR(VLOOKUP($A96,#REF!,8,0)),0,(VLOOKUP($A96,#REF!,8,0)))","v":0},0,0.97553846153846147,0,0,0,0,{"$f":"IF(ISERROR(VLOOKUP($A96,#REF!,8,0)),0,(VLOOKUP($A96,#REF!,8,0)))","v":0},0,0.97553846153846147,0,0,0,0,{"$f":"IF(ISERROR(VLOOKUP($A96,#REF!,8,0)),0,(VLOOKUP($A96,#REF!,8,0)))","v":0},0,0.97553846153846147,0,0,0,0,{"$f":"IF(ISERROR(VLOOKUP($A96,#REF!,8,0)),0,(VLOOKUP($A96,#REF!,8,0)))","v":0},0,0.97553846153846147,0,0,0,0,{"$f":"IF(ISERROR(VLOOKUP($A96,#REF!,8,0)),0,(VLOOKUP($A96,#REF!,8,0)))","v":0},0,0.97553846153846147,0,0,0,0,{"$f":"IF(ISERROR(VLOOKUP($A96,#REF!,8,0)),0,(VLOOKUP($A96,#REF!,8,0)))","v":0},0,0.97553846153846147,0,0,0,0,29507.56500328,29507.56500328,1,0]
["2.14","Montagem e desmontagem de forma de pilares retangulares e estruturas similares com área média das seções menor ou igual a 0,25 m², pé-direito simples, em chapa de madeira compensada resinada, 4 utilizações. ","m²",62,61.89,0.10999999999999943,18.57555,1151.6840999999999,25.377599999999997,1573.4111999999998,0,0,43.953149999999994,4.8348464999999745,2720.2604534999996,null,0,0,0,0,0,8.14,0.13129032258064516,0.99822580645161296,151.20497700000001,206.57366400000001,0,357.78,2.67,4.3064516129032254E-2,0.99822580645161296,49.596718500000001,67.758191999999994,0,117.35,null,0,0.99822580645161296,0,0,0,0,51.08,0.82387096774193547,0.99822580645161296,948.83909399999993,1296.2878079999998,0,2245.13,null,0,0.99822580645161296,0,0,0,0,{"$f":"IF(ISERROR(VLOOKUP(A97,'7ª MEDIÇÃO'!$A$5:$J$1048576,8,0)),0,(VLOOKUP(A97,'7ª MEDIÇÃO'!$A$5:$J$1048576,8,0)))","v":0},0,0.99822580645161296,0,0,0,0,{"$f":"IF(ISERROR(VLOOKUP(A97,'8ª MEDIÇÃO'!$A$5:$J$1048576,8,0)),0,(VLOOKUP(A97,'8ª MEDIÇÃO'!$A$5:$J$1048576,8,0)))","v":0},0,0.99822580645161296,0,0,0,0,{"$f":"IF(ISERROR(VLOOKUP(A97,'9ª MEDIÇÃO'!$A$5:$J$1048576,8,0)),0,(VLOOKUP(A97,'9ª MEDIÇÃO'!$A$5:$J$1048576,8,0)))","v":0},0,0.99822580645161296,0,0,0,0,{"$f":"IF(ISERROR(VLOOKUP(A97,#REF!,8,0)),0,(VLOOKUP(A97,#REF!,8,0)))","v":0},0,0.99822580645161296,0,0,0,0,{"$f":"IF(ISERROR(VLOOKUP($A97,#REF!,8,0)),0,(VLOOKUP($A97,#REF!,8,0)))","v":0},0,0.99822580645161296,0,0,0,0,{"$f":"IF(ISERROR(VLOOKUP($A97,#REF!,8,0)),0,(VLOOKUP($A97,#REF!,8,0)))","v":0},0,0.99822580645161296,0,0,0,0,{"$f":"IF(ISERROR(VLOOKUP($A97,#REF!,8,0)),0,(VLOOKUP($A97,#REF!,8,0)))","v":0},0,0.99822580645161296,0,0,0,0,{"$f":"IF(ISERROR(VLOOKUP($A97,#REF!,8,0)),0,(VLOOKUP($A97,#REF!,8,0)))","v":0},0,0.99822580645161296,0,0,0,0,{"$f":"IF(ISERROR(VLOOKUP($A97,#REF!,8,0)),0,(VLOOKUP($A97,#REF!,8,0)))","v":0},0,0.99822580645161296,0,0,0,0,{"$f":"IF(ISERROR(VLOOKUP($A97,#REF!,8,0)),0,(VLOOKUP($A97,#REF!,8,0)))","v":0},0,0.99822580645161296,0,0,0,0,{"$f":"IF(ISERROR(VLOOKUP($A97,#REF!,8,0)),0,(VLOOKUP($A97,#REF!,8,0)))","v":0},0,0.99822580645161296,0,0,0,0,{"$f":"IF(ISERROR(VLOOKUP($A97,#REF!,8,0)),0,(VLOOKUP($A97,#REF!,8,0)))","v":0},0,0.99822580645161296,0,0,0,0,{"$f":"IF(ISERROR(VLOOKUP($A97,#REF!,8,0)),0,(VLOOKUP($A97,#REF!,8,0)))","v":0},0,0.99822580645161296,0,0,0,0,{"$f":"IF(ISERROR(VLOOKUP($A97,#REF!,8,0)),0,(VLOOKUP($A97,#REF!,8,0)))","v":0},0,0.99822580645161296,0,0,0,0,{"$f":"IF(ISERROR(VLOOKUP($A97,#REF!,8,0)),0,(VLOOKUP($A97,#REF!,8,0)))","v":0},0,0.99822580645161296,0,0,0,0,{"$f":"IF(ISERROR(VLOOKUP($A97,#REF!,8,0)),0,(VLOOKUP($A97,#REF!,8,0)))","v":0},0,0.99822580645161296,0,0,0,0,{"$f":"IF(ISERROR(VLOOKUP($A97,#REF!,8,0)),0,(VLOOKUP($A97,#REF!,8,0)))","v":0},0,0.99822580645161296,0,0,0,0,{"$f":"IF(ISERROR(VLOOKUP($A97,#REF!,8,0)),0,(VLOOKUP($A97,#REF!,8,0)))","v":0},0,0.99822580645161296,0,0,0,0,{"$f":"IF(ISERROR(VLOOKUP($A97,#REF!,8,0)),0,(VLOOKUP($A97,#REF!,8,0)))","v":0},0,0.99822580645161296,0,0,0,0,{"$f":"IF(ISERROR(VLOOKUP($A97,#REF!,8,0)),0,(VLOOKUP($A97,#REF!,8,0)))","v":0},0,0.99822580645161296,0,0,0,0,{"$f":"IF(ISERROR(VLOOKUP($A97,#REF!,8,0)),0,(VLOOKUP($A97,#REF!,8,0)))","v":0},0,0.99822580645161296,0,0,0,0,{"$f":"IF(ISERROR(VLOOKUP($A97,#REF!,8,0)),0,(VLOOKUP($A97,#REF!,8,0)))","v":0},0,0.99822580645161296,0,0,0,0,{"$f":"IF(ISERROR(VLOOKUP($A97,#REF!,8,0)),0,(VLOOKUP($A97,#REF!,8,0)))","v":0},0,0.99822580645161296,0,0,0,0,{"$f":"IF(ISERROR(VLOOKUP($A97,#REF!,8,0)),0,(VLOOKUP($A97,#REF!,8,0)))","v":0},0,0.99822580645161296,0,0,0,0,{"$f":"IF(ISERROR(VLOOKUP($A97,#REF!,8,0)),0,(VLOOKUP($A97,#REF!,8,0)))","v":0},0,0.99822580645161296,0,0,0,0,{"$f":"IF(ISERROR(VLOOKUP($A97,#REF!,8,0)),0,(VLOOKUP($A97,#REF!,8,0)))","v":0},0,0.99822580645161296,0,0,0,0,{"$f":"IF(ISERROR(VLOOKUP($A97,#REF!,8,0)),0,(VLOOKUP($A97,#REF!,8,0)))","v":0},0,0.99822580645161296,0,0,0,0,{"$f":"IF(ISERROR(VLOOKUP($A97,#REF!,8,0)),0,(VLOOKUP($A97,#REF!,8,0)))","v":0},0,0.99822580645161296,0,0,0,0,{"$f":"IF(ISERROR(VLOOKUP($A97,#REF!,8,0)),0,(VLOOKUP($A97,#REF!,8,0)))","v":0},0,0.99822580645161296,0,0,0,0,{"$f":"IF(ISERROR(VLOOKUP($A97,#REF!,8,0)),0,(VLOOKUP($A97,#REF!,8,0)))","v":0},0,0.99822580645161296,0,0,0,0,{"$f":"IF(ISERROR(VLOOKUP($A97,#REF!,8,0)),0,(VLOOKUP($A97,#REF!,8,0)))","v":0},0,0.99822580645161296,0,0,0,0,{"$f":"IF(ISERROR(VLOOKUP($A97,#REF!,8,0)),0,(VLOOKUP($A97,#REF!,8,0)))","v":0},0,0.99822580645161296,0,0,0,0,{"$f":"IF(ISERROR(VLOOKUP($A97,#REF!,8,0)),0,(VLOOKUP($A97,#REF!,8,0)))","v":0},0,0.99822580645161296,0,0,0,0,{"$f":"IF(ISERROR(VLOOKUP($A97,#REF!,8,0)),0,(VLOOKUP($A97,#REF!,8,0)))","v":0},0,0.99822580645161296,0,0,0,0,{"$f":"IF(ISERROR(VLOOKUP($A97,#REF!,8,0)),0,(VLOOKUP($A97,#REF!,8,0)))","v":0},0,0.99822580645161296,0,0,0,0,{"$f":"IF(ISERROR(VLOOKUP($A97,#REF!,8,0)),0,(VLOOKUP($A97,#REF!,8,0)))","v":0},0,0.99822580645161296,0,0,0,0,{"$f":"IF(ISERROR(VLOOKUP($A97,#REF!,8,0)),0,(VLOOKUP($A97,#REF!,8,0)))","v":0},0,0.99822580645161296,0,0,0,0,{"$f":"IF(ISERROR(VLOOKUP($A97,#REF!,8,0)),0,(VLOOKUP($A97,#REF!,8,0)))","v":0},0,0.99822580645161296,0,0,0,0,{"$f":"IF(ISERROR(VLOOKUP($A97,#REF!,8,0)),0,(VLOOKUP($A97,#REF!,8,0)))","v":0},0,0.99822580645161296,0,0,0,0,{"$f":"IF(ISERROR(VLOOKUP($A97,#REF!,8,0)),0,(VLOOKUP($A97,#REF!,8,0)))","v":0},0,0.99822580645161296,0,0,0,0,{"$f":"IF(ISERROR(VLOOKUP($A97,#REF!,8,0)),0,(VLOOKUP($A97,#REF!,8,0)))","v":0},0,0.99822580645161296,0,0,0,0,{"$f":"IF(ISERROR(VLOOKUP($A97,#REF!,8,0)),0,(VLOOKUP($A97,#REF!,8,0)))","v":0},0,0.99822580645161296,0,0,0,0,{"$f":"IF(ISERROR(VLOOKUP($A97,#REF!,8,0)),0,(VLOOKUP($A97,#REF!,8,0)))","v":0},0,0.99822580645161296,0,0,0,0,{"$f":"IF(ISERROR(VLOOKUP($A97,#REF!,8,0)),0,(VLOOKUP($A97,#REF!,8,0)))","v":0},0,0.99822580645161296,0,0,0,0,{"$f":"IF(ISERROR(VLOOKUP($A97,#REF!,8,0)),0,(VLOOKUP($A97,#REF!,8,0)))","v":0},0,0.99822580645161296,0,0,0,0,{"$f":"IF(ISERROR(VLOOKUP($A97,#REF!,8,0)),0,(VLOOKUP($A97,#REF!,8,0)))","v":0},0,0.99822580645161296,0,0,0,0,{"$f":"IF(ISERROR(VLOOKUP($A97,#REF!,8,0)),0,(VLOOKUP($A97,#REF!,8,0)))","v":0},0,0.99822580645161296,0,0,0,0,{"$f":"IF(ISERROR(VLOOKUP($A97,#REF!,8,0)),0,(VLOOKUP($A97,#REF!,8,0)))","v":0},0,0.99822580645161296,0,0,0,0,{"$f":"IF(ISERROR(VLOOKUP($A97,#REF!,8,0)),0,(VLOOKUP($A97,#REF!,8,0)))","v":0},0,0.99822580645161296,0,0,0,0,2720.2604534999996,2720.2604534999996,1,0]
["2.15","Montagem e desmontagem de forma de Viga, escoramento com pontalete de madeira, pé-direito simples, em madeira serrada, 4 utilizações. ","m²",946,945.38000000000011,0.61999999999989086,27.751282,26252.712771999999,33.214799999999997,31421.200799999999,0,0,60.966082,37.798970839993345,57636.114601160007,null,0,0,0,0,0,67.430000000000007,7.1279069767441874E-2,0.99934460887949272,1871.2689452600002,2239.6739640000001,0,4110.9399999999996,54.37,5.7473572938689217E-2,0.99934460887949272,1508.83720234,1805.8886759999998,0,3314.73,131.87,0.13939746300211417,0.99934460887949272,3659.56155734,4380.0356759999995,0,8039.6,63.16,6.6765327695560248E-2,0.99934460887949272,1752.7709711199998,2097.8467679999999,0,3850.62,192.92,0.20393234672304439,0.99934460887949272,5353.7773234399992,6407.7992159999985,0,11761.58,274.41000000000003,0.2900739957716702,0.99934460887949272,7615.229293620001,9114.4732679999997,0,16729.7,70.5,7.4524312896405917E-2,0.99934460887949272,1956.465381,2341.6433999999999,0,4298.1099999999997,90.72,9.5898520084566591E-2,0.99934460887949272,2517.5963030399998,3013.2466559999998,0,5530.84,{"$f":"IF(ISERROR(VLOOKUP(A98,#REF!,8,0)),0,(VLOOKUP(A98,#REF!,8,0)))","v":0},0,0.99934460887949272,0,0,0,0,{"$f":"IF(ISERROR(VLOOKUP($A98,#REF!,8,0)),0,(VLOOKUP($A98,#REF!,8,0)))","v":0},0,0.99934460887949272,0,0,0,0,{"$f":"IF(ISERROR(VLOOKUP($A98,#REF!,8,0)),0,(VLOOKUP($A98,#REF!,8,0)))","v":0},0,0.99934460887949272,0,0,0,0,{"$f":"IF(ISERROR(VLOOKUP($A98,#REF!,8,0)),0,(VLOOKUP($A98,#REF!,8,0)))","v":0},0,0.99934460887949272,0,0,0,0,{"$f":"IF(ISERROR(VLOOKUP($A98,#REF!,8,0)),0,(VLOOKUP($A98,#REF!,8,0)))","v":0},0,0.99934460887949272,0,0,0,0,{"$f":"IF(ISERROR(VLOOKUP($A98,#REF!,8,0)),0,(VLOOKUP($A98,#REF!,8,0)))","v":0},0,0.99934460887949272,0,0,0,0,{"$f":"IF(ISERROR(VLOOKUP($A98,#REF!,8,0)),0,(VLOOKUP($A98,#REF!,8,0)))","v":0},0,0.99934460887949272,0,0,0,0,{"$f":"IF(ISERROR(VLOOKUP($A98,#REF!,8,0)),0,(VLOOKUP($A98,#REF!,8,0)))","v":0},0,0.99934460887949272,0,0,0,0,{"$f":"IF(ISERROR(VLOOKUP($A98,#REF!,8,0)),0,(VLOOKUP($A98,#REF!,8,0)))","v":0},0,0.99934460887949272,0,0,0,0,{"$f":"IF(ISERROR(VLOOKUP($A98,#REF!,8,0)),0,(VLOOKUP($A98,#REF!,8,0)))","v":0},0,0.99934460887949272,0,0,0,0,{"$f":"IF(ISERROR(VLOOKUP($A98,#REF!,8,0)),0,(VLOOKUP($A98,#REF!,8,0)))","v":0},0,0.99934460887949272,0,0,0,0,{"$f":"IF(ISERROR(VLOOKUP($A98,#REF!,8,0)),0,(VLOOKUP($A98,#REF!,8,0)))","v":0},0,0.99934460887949272,0,0,0,0,{"$f":"IF(ISERROR(VLOOKUP($A98,#REF!,8,0)),0,(VLOOKUP($A98,#REF!,8,0)))","v":0},0,0.99934460887949272,0,0,0,0,{"$f":"IF(ISERROR(VLOOKUP($A98,#REF!,8,0)),0,(VLOOKUP($A98,#REF!,8,0)))","v":0},0,0.99934460887949272,0,0,0,0,{"$f":"IF(ISERROR(VLOOKUP($A98,#REF!,8,0)),0,(VLOOKUP($A98,#REF!,8,0)))","v":0},0,0.99934460887949272,0,0,0,0,{"$f":"IF(ISERROR(VLOOKUP($A98,#REF!,8,0)),0,(VLOOKUP($A98,#REF!,8,0)))","v":0},0,0.99934460887949272,0,0,0,0,{"$f":"IF(ISERROR(VLOOKUP($A98,#REF!,8,0)),0,(VLOOKUP($A98,#REF!,8,0)))","v":0},0,0.99934460887949272,0,0,0,0,{"$f":"IF(ISERROR(VLOOKUP($A98,#REF!,8,0)),0,(VLOOKUP($A98,#REF!,8,0)))","v":0},0,0.99934460887949272,0,0,0,0,{"$f":"IF(ISERROR(VLOOKUP($A98,#REF!,8,0)),0,(VLOOKUP($A98,#REF!,8,0)))","v":0},0,0.99934460887949272,0,0,0,0,{"$f":"IF(ISERROR(VLOOKUP($A98,#REF!,8,0)),0,(VLOOKUP($A98,#REF!,8,0)))","v":0},0,0.99934460887949272,0,0,0,0,{"$f":"IF(ISERROR(VLOOKUP($A98,#REF!,8,0)),0,(VLOOKUP($A98,#REF!,8,0)))","v":0},0,0.99934460887949272,0,0,0,0,{"$f":"IF(ISERROR(VLOOKUP($A98,#REF!,8,0)),0,(VLOOKUP($A98,#REF!,8,0)))","v":0},0,0.99934460887949272,0,0,0,0,{"$f":"IF(ISERROR(VLOOKUP($A98,#REF!,8,0)),0,(VLOOKUP($A98,#REF!,8,0)))","v":0},0,0.99934460887949272,0,0,0,0,{"$f":"IF(ISERROR(VLOOKUP($A98,#REF!,8,0)),0,(VLOOKUP($A98,#REF!,8,0)))","v":0},0,0.99934460887949272,0,0,0,0,{"$f":"IF(ISERROR(VLOOKUP($A98,#REF!,8,0)),0,(VLOOKUP($A98,#REF!,8,0)))","v":0},0,0.99934460887949272,0,0,0,0,{"$f":"IF(ISERROR(VLOOKUP($A98,#REF!,8,0)),0,(VLOOKUP($A98,#REF!,8,0)))","v":0},0,0.99934460887949272,0,0,0,0,{"$f":"IF(ISERROR(VLOOKUP($A98,#REF!,8,0)),0,(VLOOKUP($A98,#REF!,8,0)))","v":0},0,0.99934460887949272,0,0,0,0,{"$f":"IF(ISERROR(VLOOKUP($A98,#REF!,8,0)),0,(VLOOKUP($A98,#REF!,8,0)))","v":0},0,0.99934460887949272,0,0,0,0,{"$f":"IF(ISERROR(VLOOKUP($A98,#REF!,8,0)),0,(VLOOKUP($A98,#REF!,8,0)))","v":0},0,0.99934460887949272,0,0,0,0,{"$f":"IF(ISERROR(VLOOKUP($A98,#REF!,8,0)),0,(VLOOKUP($A98,#REF!,8,0)))","v":0},0,0.99934460887949272,0,0,0,0,{"$f":"IF(ISERROR(VLOOKUP($A98,#REF!,8,0)),0,(VLOOKUP($A98,#REF!,8,0)))","v":0},0,0.99934460887949272,0,0,0,0,{"$f":"IF(ISERROR(VLOOKUP($A98,#REF!,8,0)),0,(VLOOKUP($A98,#REF!,8,0)))","v":0},0,0.99934460887949272,0,0,0,0,{"$f":"IF(ISERROR(VLOOKUP($A98,#REF!,8,0)),0,(VLOOKUP($A98,#REF!,8,0)))","v":0},0,0.99934460887949272,0,0,0,0,{"$f":"IF(ISERROR(VLOOKUP($A98,#REF!,8,0)),0,(VLOOKUP($A98,#REF!,8,0)))","v":0},0,0.99934460887949272,0,0,0,0,{"$f":"IF(ISERROR(VLOOKUP($A98,#REF!,8,0)),0,(VLOOKUP($A98,#REF!,8,0)))","v":0},0,0.99934460887949272,0,0,0,0,{"$f":"IF(ISERROR(VLOOKUP($A98,#REF!,8,0)),0,(VLOOKUP($A98,#REF!,8,0)))","v":0},0,0.99934460887949272,0,0,0,0,{"$f":"IF(ISERROR(VLOOKUP($A98,#REF!,8,0)),0,(VLOOKUP($A98,#REF!,8,0)))","v":0},0,0.99934460887949272,0,0,0,0,{"$f":"IF(ISERROR(VLOOKUP($A98,#REF!,8,0)),0,(VLOOKUP($A98,#REF!,8,0)))","v":0},0,0.99934460887949272,0,0,0,0,{"$f":"IF(ISERROR(VLOOKUP($A98,#REF!,8,0)),0,(VLOOKUP($A98,#REF!,8,0)))","v":0},0,0.99934460887949272,0,0,0,0,{"$f":"IF(ISERROR(VLOOKUP($A98,#REF!,8,0)),0,(VLOOKUP($A98,#REF!,8,0)))","v":0},0,0.99934460887949272,0,0,0,0,{"$f":"IF(ISERROR(VLOOKUP($A98,#REF!,8,0)),0,(VLOOKUP($A98,#REF!,8,0)))","v":0},0,0.99934460887949272,0,0,0,0,{"$f":"IF(ISERROR(VLOOKUP($A98,#REF!,8,0)),0,(VLOOKUP($A98,#REF!,8,0)))","v":0},0,0.99934460887949272,0,0,0,0,{"$f":"IF(ISERROR(VLOOKUP($A98,#REF!,8,0)),0,(VLOOKUP($A98,#REF!,8,0)))","v":0},0,0.99934460887949272,0,0,0,0,{"$f":"IF(ISERROR(VLOOKUP($A98,#REF!,8,0)),0,(VLOOKUP($A98,#REF!,8,0)))","v":0},0,0.99934460887949272,0,0,0,0,{"$f":"IF(ISERROR(VLOOKUP($A98,#REF!,8,0)),0,(VLOOKUP($A98,#REF!,8,0)))","v":0},0,0.99934460887949272,0,0,0,0,{"$f":"IF(ISERROR(VLOOKUP($A98,#REF!,8,0)),0,(VLOOKUP($A98,#REF!,8,0)))","v":0},0,0.99934460887949272,0,0,0,0,57636.114601160007,57636.114601160007,1,0]
["2.16","Armação de fundações e estruturas de concreto armado, exceto vigas, pilares e lajes (de edifícios de múltiplos pavimentos, edificação térrea ou sobrado), utilizando aço CA-60 de 5.0 mm - Montagem.","kg",980,980.00000000000011,0,4.0925180000000001,4010.6676400000001,5.7348400000000002,5620.1432000000004,0,0,9.8273580000000003,0,9630.8108400000019,null,0,0,0,0,0,156.19,0.15937755102040815,1.0000000000000002,639.21038641999996,895.7246596,0,1534.94,105.29,0.10743877551020409,1.0000000000000002,430.90122022000003,603.82130360000008,0,1034.72,634.82000000000005,0.64777551020408164,1.0000000000000002,2598.0122767600001,3640.5911288000002,0,6238.6,41.58,4.2428571428571427E-2,1.0000000000000002,170.16689844000001,238.45464720000001,0,408.62,42.12,4.2979591836734693E-2,1.0000000000000002,172.37685815999998,241.5514608,0,413.93,{"$f":"IF(ISERROR(VLOOKUP(A99,'7ª MEDIÇÃO'!$A$5:$J$1048576,8,0)),0,(VLOOKUP(A99,'7ª MEDIÇÃO'!$A$5:$J$1048576,8,0)))","v":0},0,1.0000000000000002,0,0,0,0,{"$f":"IF(ISERROR(VLOOKUP(A99,'8ª MEDIÇÃO'!$A$5:$J$1048576,8,0)),0,(VLOOKUP(A99,'8ª MEDIÇÃO'!$A$5:$J$1048576,8,0)))","v":0},0,1.0000000000000002,0,0,0,0,{"$f":"IF(ISERROR(VLOOKUP(A99,'9ª MEDIÇÃO'!$A$5:$J$1048576,8,0)),0,(VLOOKUP(A99,'9ª MEDIÇÃO'!$A$5:$J$1048576,8,0)))","v":0},0,1.0000000000000002,0,0,0,0,{"$f":"IF(ISERROR(VLOOKUP(A99,#REF!,8,0)),0,(VLOOKUP(A99,#REF!,8,0)))","v":0},0,1.0000000000000002,0,0,0,0,{"$f":"IF(ISERROR(VLOOKUP($A99,#REF!,8,0)),0,(VLOOKUP($A99,#REF!,8,0)))","v":0},0,1.0000000000000002,0,0,0,0,{"$f":"IF(ISERROR(VLOOKUP($A99,#REF!,8,0)),0,(VLOOKUP($A99,#REF!,8,0)))","v":0},0,1.0000000000000002,0,0,0,0,{"$f":"IF(ISERROR(VLOOKUP($A99,#REF!,8,0)),0,(VLOOKUP($A99,#REF!,8,0)))","v":0},0,1.0000000000000002,0,0,0,0,{"$f":"IF(ISERROR(VLOOKUP($A99,#REF!,8,0)),0,(VLOOKUP($A99,#REF!,8,0)))","v":0},0,1.0000000000000002,0,0,0,0,{"$f":"IF(ISERROR(VLOOKUP($A99,#REF!,8,0)),0,(VLOOKUP($A99,#REF!,8,0)))","v":0},0,1.0000000000000002,0,0,0,0,{"$f":"IF(ISERROR(VLOOKUP($A99,#REF!,8,0)),0,(VLOOKUP($A99,#REF!,8,0)))","v":0},0,1.0000000000000002,0,0,0,0,{"$f":"IF(ISERROR(VLOOKUP($A99,#REF!,8,0)),0,(VLOOKUP($A99,#REF!,8,0)))","v":0},0,1.0000000000000002,0,0,0,0,{"$f":"IF(ISERROR(VLOOKUP($A99,#REF!,8,0)),0,(VLOOKUP($A99,#REF!,8,0)))","v":0},0,1.0000000000000002,0,0,0,0,{"$f":"IF(ISERROR(VLOOKUP($A99,#REF!,8,0)),0,(VLOOKUP($A99,#REF!,8,0)))","v":0},0,1.0000000000000002,0,0,0,0,{"$f":"IF(ISERROR(VLOOKUP($A99,#REF!,8,0)),0,(VLOOKUP($A99,#REF!,8,0)))","v":0},0,1.0000000000000002,0,0,0,0,{"$f":"IF(ISERROR(VLOOKUP($A99,#REF!,8,0)),0,(VLOOKUP($A99,#REF!,8,0)))","v":0},0,1.0000000000000002,0,0,0,0,{"$f":"IF(ISERROR(VLOOKUP($A99,#REF!,8,0)),0,(VLOOKUP($A99,#REF!,8,0)))","v":0},0,1.0000000000000002,0,0,0,0,{"$f":"IF(ISERROR(VLOOKUP($A99,#REF!,8,0)),0,(VLOOKUP($A99,#REF!,8,0)))","v":0},0,1.0000000000000002,0,0,0,0,{"$f":"IF(ISERROR(VLOOKUP($A99,#REF!,8,0)),0,(VLOOKUP($A99,#REF!,8,0)))","v":0},0,1.0000000000000002,0,0,0,0,{"$f":"IF(ISERROR(VLOOKUP($A99,#REF!,8,0)),0,(VLOOKUP($A99,#REF!,8,0)))","v":0},0,1.0000000000000002,0,0,0,0,{"$f":"IF(ISERROR(VLOOKUP($A99,#REF!,8,0)),0,(VLOOKUP($A99,#REF!,8,0)))","v":0},0,1.0000000000000002,0,0,0,0,{"$f":"IF(ISERROR(VLOOKUP($A99,#REF!,8,0)),0,(VLOOKUP($A99,#REF!,8,0)))","v":0},0,1.0000000000000002,0,0,0,0,{"$f":"IF(ISERROR(VLOOKUP($A99,#REF!,8,0)),0,(VLOOKUP($A99,#REF!,8,0)))","v":0},0,1.0000000000000002,0,0,0,0,{"$f":"IF(ISERROR(VLOOKUP($A99,#REF!,8,0)),0,(VLOOKUP($A99,#REF!,8,0)))","v":0},0,1.0000000000000002,0,0,0,0,{"$f":"IF(ISERROR(VLOOKUP($A99,#REF!,8,0)),0,(VLOOKUP($A99,#REF!,8,0)))","v":0},0,1.0000000000000002,0,0,0,0,{"$f":"IF(ISERROR(VLOOKUP($A99,#REF!,8,0)),0,(VLOOKUP($A99,#REF!,8,0)))","v":0},0,1.0000000000000002,0,0,0,0,{"$f":"IF(ISERROR(VLOOKUP($A99,#REF!,8,0)),0,(VLOOKUP($A99,#REF!,8,0)))","v":0},0,1.0000000000000002,0,0,0,0,{"$f":"IF(ISERROR(VLOOKUP($A99,#REF!,8,0)),0,(VLOOKUP($A99,#REF!,8,0)))","v":0},0,1.0000000000000002,0,0,0,0,{"$f":"IF(ISERROR(VLOOKUP($A99,#REF!,8,0)),0,(VLOOKUP($A99,#REF!,8,0)))","v":0},0,1.0000000000000002,0,0,0,0,{"$f":"IF(ISERROR(VLOOKUP($A99,#REF!,8,0)),0,(VLOOKUP($A99,#REF!,8,0)))","v":0},0,1.0000000000000002,0,0,0,0,{"$f":"IF(ISERROR(VLOOKUP($A99,#REF!,8,0)),0,(VLOOKUP($A99,#REF!,8,0)))","v":0},0,1.0000000000000002,0,0,0,0,{"$f":"IF(ISERROR(VLOOKUP($A99,#REF!,8,0)),0,(VLOOKUP($A99,#REF!,8,0)))","v":0},0,1.0000000000000002,0,0,0,0,{"$f":"IF(ISERROR(VLOOKUP($A99,#REF!,8,0)),0,(VLOOKUP($A99,#REF!,8,0)))","v":0},0,1.0000000000000002,0,0,0,0,{"$f":"IF(ISERROR(VLOOKUP($A99,#REF!,8,0)),0,(VLOOKUP($A99,#REF!,8,0)))","v":0},0,1.0000000000000002,0,0,0,0,{"$f":"IF(ISERROR(VLOOKUP($A99,#REF!,8,0)),0,(VLOOKUP($A99,#REF!,8,0)))","v":0},0,1.0000000000000002,0,0,0,0,{"$f":"IF(ISERROR(VLOOKUP($A99,#REF!,8,0)),0,(VLOOKUP($A99,#REF!,8,0)))","v":0},0,1.0000000000000002,0,0,0,0,{"$f":"IF(ISERROR(VLOOKUP($A99,#REF!,8,0)),0,(VLOOKUP($A99,#REF!,8,0)))","v":0},0,1.0000000000000002,0,0,0,0,{"$f":"IF(ISERROR(VLOOKUP($A99,#REF!,8,0)),0,(VLOOKUP($A99,#REF!,8,0)))","v":0},0,1.0000000000000002,0,0,0,0,{"$f":"IF(ISERROR(VLOOKUP($A99,#REF!,8,0)),0,(VLOOKUP($A99,#REF!,8,0)))","v":0},0,1.0000000000000002,0,0,0,0,{"$f":"IF(ISERROR(VLOOKUP($A99,#REF!,8,0)),0,(VLOOKUP($A99,#REF!,8,0)))","v":0},0,1.0000000000000002,0,0,0,0,{"$f":"IF(ISERROR(VLOOKUP($A99,#REF!,8,0)),0,(VLOOKUP($A99,#REF!,8,0)))","v":0},0,1.0000000000000002,0,0,0,0,{"$f":"IF(ISERROR(VLOOKUP($A99,#REF!,8,0)),0,(VLOOKUP($A99,#REF!,8,0)))","v":0},0,1.0000000000000002,0,0,0,0,{"$f":"IF(ISERROR(VLOOKUP($A99,#REF!,8,0)),0,(VLOOKUP($A99,#REF!,8,0)))","v":0},0,1.0000000000000002,0,0,0,0,{"$f":"IF(ISERROR(VLOOKUP($A99,#REF!,8,0)),0,(VLOOKUP($A99,#REF!,8,0)))","v":0},0,1.0000000000000002,0,0,0,0,{"$f":"IF(ISERROR(VLOOKUP($A99,#REF!,8,0)),0,(VLOOKUP($A99,#REF!,8,0)))","v":0},0,1.0000000000000002,0,0,0,0,{"$f":"IF(ISERROR(VLOOKUP($A99,#REF!,8,0)),0,(VLOOKUP($A99,#REF!,8,0)))","v":0},0,1.0000000000000002,0,0,0,0,{"$f":"IF(ISERROR(VLOOKUP($A99,#REF!,8,0)),0,(VLOOKUP($A99,#REF!,8,0)))","v":0},0,1.0000000000000002,0,0,0,0,{"$f":"IF(ISERROR(VLOOKUP($A99,#REF!,8,0)),0,(VLOOKUP($A99,#REF!,8,0)))","v":0},0,1.0000000000000002,0,0,0,0,{"$f":"IF(ISERROR(VLOOKUP($A99,#REF!,8,0)),0,(VLOOKUP($A99,#REF!,8,0)))","v":0},0,1.0000000000000002,0,0,0,0,{"$f":"IF(ISERROR(VLOOKUP($A99,#REF!,8,0)),0,(VLOOKUP($A99,#REF!,8,0)))","v":0},0,1.0000000000000002,0,0,0,0,9630.8108400000019,9630.8108400000019,1,0]
["2.17","Armação de fundações e estruturas de concreto armado, exceto vigas, pilares e lajes (de edifícios de múltiplos pavimentos, edificação térrea ou sobrado), utilizando aço CA-50 de 6.3 mm - Montagem. ","kg",875,874.99999999999989,0,4.2340460000000002,3704.79025,4.7520799999999994,4158.07,0,0,8.9861259999999987,0,7862.8602499999979,null,0,0,0,0,0,176.01,0.2011542857142857,0.99999999999999989,745.23443645999998,836.41360079999981,0,1581.65,311,0.35542857142857143,0.99999999999999989,1316.7883060000001,1477.8968799999998,0,2794.69,165.92,0.18962285714285712,0.99999999999999989,702.51291231999994,788.46511359999988,0,1490.98,88.33,0.10094857142857143,0.99999999999999989,373.99328317999999,419.75122639999995,0,793.74,111.06,0.12692571428571428,0.99999999999999989,470.23314876000001,527.76600479999991,0,998,{"$f":"IF(ISERROR(VLOOKUP(A100,'7ª MEDIÇÃO'!$A$5:$J$1048576,8,0)),0,(VLOOKUP(A100,'7ª MEDIÇÃO'!$A$5:$J$1048576,8,0)))","v":0},0,0.99999999999999989,0,0,0,0,22.68,2.5919999999999999E-2,0.99999999999999989,96.028163280000001,107.77717439999998,0,203.81,{"$f":"IF(ISERROR(VLOOKUP(A100,'9ª MEDIÇÃO'!$A$5:$J$1048576,8,0)),0,(VLOOKUP(A100,'9ª MEDIÇÃO'!$A$5:$J$1048576,8,0)))","v":0},0,0.99999999999999989,0,0,0,0,{"$f":"IF(ISERROR(VLOOKUP(A100,#REF!,8,0)),0,(VLOOKUP(A100,#REF!,8,0)))","v":0},0,0.99999999999999989,0,0,0,0,{"$f":"IF(ISERROR(VLOOKUP($A100,#REF!,8,0)),0,(VLOOKUP($A100,#REF!,8,0)))","v":0},0,0.99999999999999989,0,0,0,0,{"$f":"IF(ISERROR(VLOOKUP($A100,#REF!,8,0)),0,(VLOOKUP($A100,#REF!,8,0)))","v":0},0,0.99999999999999989,0,0,0,0,{"$f":"IF(ISERROR(VLOOKUP($A100,#REF!,8,0)),0,(VLOOKUP($A100,#REF!,8,0)))","v":0},0,0.99999999999999989,0,0,0,0,{"$f":"IF(ISERROR(VLOOKUP($A100,#REF!,8,0)),0,(VLOOKUP($A100,#REF!,8,0)))","v":0},0,0.99999999999999989,0,0,0,0,{"$f":"IF(ISERROR(VLOOKUP($A100,#REF!,8,0)),0,(VLOOKUP($A100,#REF!,8,0)))","v":0},0,0.99999999999999989,0,0,0,0,{"$f":"IF(ISERROR(VLOOKUP($A100,#REF!,8,0)),0,(VLOOKUP($A100,#REF!,8,0)))","v":0},0,0.99999999999999989,0,0,0,0,{"$f":"IF(ISERROR(VLOOKUP($A100,#REF!,8,0)),0,(VLOOKUP($A100,#REF!,8,0)))","v":0},0,0.99999999999999989,0,0,0,0,{"$f":"IF(ISERROR(VLOOKUP($A100,#REF!,8,0)),0,(VLOOKUP($A100,#REF!,8,0)))","v":0},0,0.99999999999999989,0,0,0,0,{"$f":"IF(ISERROR(VLOOKUP($A100,#REF!,8,0)),0,(VLOOKUP($A100,#REF!,8,0)))","v":0},0,0.99999999999999989,0,0,0,0,{"$f":"IF(ISERROR(VLOOKUP($A100,#REF!,8,0)),0,(VLOOKUP($A100,#REF!,8,0)))","v":0},0,0.99999999999999989,0,0,0,0,{"$f":"IF(ISERROR(VLOOKUP($A100,#REF!,8,0)),0,(VLOOKUP($A100,#REF!,8,0)))","v":0},0,0.99999999999999989,0,0,0,0,{"$f":"IF(ISERROR(VLOOKUP($A100,#REF!,8,0)),0,(VLOOKUP($A100,#REF!,8,0)))","v":0},0,0.99999999999999989,0,0,0,0,{"$f":"IF(ISERROR(VLOOKUP($A100,#REF!,8,0)),0,(VLOOKUP($A100,#REF!,8,0)))","v":0},0,0.99999999999999989,0,0,0,0,{"$f":"IF(ISERROR(VLOOKUP($A100,#REF!,8,0)),0,(VLOOKUP($A100,#REF!,8,0)))","v":0},0,0.99999999999999989,0,0,0,0,{"$f":"IF(ISERROR(VLOOKUP($A100,#REF!,8,0)),0,(VLOOKUP($A100,#REF!,8,0)))","v":0},0,0.99999999999999989,0,0,0,0,{"$f":"IF(ISERROR(VLOOKUP($A100,#REF!,8,0)),0,(VLOOKUP($A100,#REF!,8,0)))","v":0},0,0.99999999999999989,0,0,0,0,{"$f":"IF(ISERROR(VLOOKUP($A100,#REF!,8,0)),0,(VLOOKUP($A100,#REF!,8,0)))","v":0},0,0.99999999999999989,0,0,0,0,{"$f":"IF(ISERROR(VLOOKUP($A100,#REF!,8,0)),0,(VLOOKUP($A100,#REF!,8,0)))","v":0},0,0.99999999999999989,0,0,0,0,{"$f":"IF(ISERROR(VLOOKUP($A100,#REF!,8,0)),0,(VLOOKUP($A100,#REF!,8,0)))","v":0},0,0.99999999999999989,0,0,0,0,{"$f":"IF(ISERROR(VLOOKUP($A100,#REF!,8,0)),0,(VLOOKUP($A100,#REF!,8,0)))","v":0},0,0.99999999999999989,0,0,0,0,{"$f":"IF(ISERROR(VLOOKUP($A100,#REF!,8,0)),0,(VLOOKUP($A100,#REF!,8,0)))","v":0},0,0.99999999999999989,0,0,0,0,{"$f":"IF(ISERROR(VLOOKUP($A100,#REF!,8,0)),0,(VLOOKUP($A100,#REF!,8,0)))","v":0},0,0.99999999999999989,0,0,0,0,{"$f":"IF(ISERROR(VLOOKUP($A100,#REF!,8,0)),0,(VLOOKUP($A100,#REF!,8,0)))","v":0},0,0.99999999999999989,0,0,0,0,{"$f":"IF(ISERROR(VLOOKUP($A100,#REF!,8,0)),0,(VLOOKUP($A100,#REF!,8,0)))","v":0},0,0.99999999999999989,0,0,0,0,{"$f":"IF(ISERROR(VLOOKUP($A100,#REF!,8,0)),0,(VLOOKUP($A100,#REF!,8,0)))","v":0},0,0.99999999999999989,0,0,0,0,{"$f":"IF(ISERROR(VLOOKUP($A100,#REF!,8,0)),0,(VLOOKUP($A100,#REF!,8,0)))","v":0},0,0.99999999999999989,0,0,0,0,{"$f":"IF(ISERROR(VLOOKUP($A100,#REF!,8,0)),0,(VLOOKUP($A100,#REF!,8,0)))","v":0},0,0.99999999999999989,0,0,0,0,{"$f":"IF(ISERROR(VLOOKUP($A100,#REF!,8,0)),0,(VLOOKUP($A100,#REF!,8,0)))","v":0},0,0.99999999999999989,0,0,0,0,{"$f":"IF(ISERROR(VLOOKUP($A100,#REF!,8,0)),0,(VLOOKUP($A100,#REF!,8,0)))","v":0},0,0.99999999999999989,0,0,0,0,{"$f":"IF(ISERROR(VLOOKUP($A100,#REF!,8,0)),0,(VLOOKUP($A100,#REF!,8,0)))","v":0},0,0.99999999999999989,0,0,0,0,{"$f":"IF(ISERROR(VLOOKUP($A100,#REF!,8,0)),0,(VLOOKUP($A100,#REF!,8,0)))","v":0},0,0.99999999999999989,0,0,0,0,{"$f":"IF(ISERROR(VLOOKUP($A100,#REF!,8,0)),0,(VLOOKUP($A100,#REF!,8,0)))","v":0},0,0.99999999999999989,0,0,0,0,{"$f":"IF(ISERROR(VLOOKUP($A100,#REF!,8,0)),0,(VLOOKUP($A100,#REF!,8,0)))","v":0},0,0.99999999999999989,0,0,0,0,{"$f":"IF(ISERROR(VLOOKUP($A100,#REF!,8,0)),0,(VLOOKUP($A100,#REF!,8,0)))","v":0},0,0.99999999999999989,0,0,0,0,{"$f":"IF(ISERROR(VLOOKUP($A100,#REF!,8,0)),0,(VLOOKUP($A100,#REF!,8,0)))","v":0},0,0.99999999999999989,0,0,0,0,{"$f":"IF(ISERROR(VLOOKUP($A100,#REF!,8,0)),0,(VLOOKUP($A100,#REF!,8,0)))","v":0},0,0.99999999999999989,0,0,0,0,{"$f":"IF(ISERROR(VLOOKUP($A100,#REF!,8,0)),0,(VLOOKUP($A100,#REF!,8,0)))","v":0},0,0.99999999999999989,0,0,0,0,{"$f":"IF(ISERROR(VLOOKUP($A100,#REF!,8,0)),0,(VLOOKUP($A100,#REF!,8,0)))","v":0},0,0.99999999999999989,0,0,0,0,{"$f":"IF(ISERROR(VLOOKUP($A100,#REF!,8,0)),0,(VLOOKUP($A100,#REF!,8,0)))","v":0},0,0.99999999999999989,0,0,0,0,{"$f":"IF(ISERROR(VLOOKUP($A100,#REF!,8,0)),0,(VLOOKUP($A100,#REF!,8,0)))","v":0},0,0.99999999999999989,0,0,0,0,{"$f":"IF(ISERROR(VLOOKUP($A100,#REF!,8,0)),0,(VLOOKUP($A100,#REF!,8,0)))","v":0},0,0.99999999999999989,0,0,0,0,{"$f":"IF(ISERROR(VLOOKUP($A100,#REF!,8,0)),0,(VLOOKUP($A100,#REF!,8,0)))","v":0},0,0.99999999999999989,0,0,0,0,{"$f":"IF(ISERROR(VLOOKUP($A100,#REF!,8,0)),0,(VLOOKUP($A100,#REF!,8,0)))","v":0},0,0.99999999999999989,0,0,0,0,{"$f":"IF(ISERROR(VLOOKUP($A100,#REF!,8,0)),0,(VLOOKUP($A100,#REF!,8,0)))","v":0},0,0.99999999999999989,0,0,0,0,{"$f":"IF(ISERROR(VLOOKUP($A100,#REF!,8,0)),0,(VLOOKUP($A100,#REF!,8,0)))","v":0},0,0.99999999999999989,0,0,0,0,7862.8602499999979,7862.8602499999979,1,0]
["2.18","Armação de fundações e estruturas de concreto armado, exceto vigas, pilares e lajes (de edifícios de múltiplos pavimentos, edificação térrea ou sobrado), utilizando aço CA-50 de 8.0 mm - Montagem. ","kg",81,81,0,4.8237459999999999,390.72342600000002,3.7817600000000002,306.32256000000001,0,0,8.6055060000000001,0,697.04598599999997,null,0,0,0,0,0,null,0,1,0,0,0,0,14.41,0.17790123456790125,1,69.510179859999994,54.495161600000003,0,124.01,16.05,0.19814814814814816,1,77.421123300000005,60.697248000000009,0,138.12,50.54,0.62395061728395063,1,243.79212283999999,191.13015040000002,0,434.92,null,0,1,0,0,0,0,{"$f":"IF(ISERROR(VLOOKUP(A101,'7ª MEDIÇÃO'!$A$5:$J$1048576,8,0)),0,(VLOOKUP(A101,'7ª MEDIÇÃO'!$A$5:$J$1048576,8,0)))","v":0},0,1,0,0,0,0,{"$f":"IF(ISERROR(VLOOKUP(A101,'8ª MEDIÇÃO'!$A$5:$J$1048576,8,0)),0,(VLOOKUP(A101,'8ª MEDIÇÃO'!$A$5:$J$1048576,8,0)))","v":0},0,1,0,0,0,0,{"$f":"IF(ISERROR(VLOOKUP(A101,'9ª MEDIÇÃO'!$A$5:$J$1048576,8,0)),0,(VLOOKUP(A101,'9ª MEDIÇÃO'!$A$5:$J$1048576,8,0)))","v":0},0,1,0,0,0,0,{"$f":"IF(ISERROR(VLOOKUP(A101,#REF!,8,0)),0,(VLOOKUP(A101,#REF!,8,0)))","v":0},0,1,0,0,0,0,{"$f":"IF(ISERROR(VLOOKUP($A101,#REF!,8,0)),0,(VLOOKUP($A101,#REF!,8,0)))","v":0},0,1,0,0,0,0,{"$f":"IF(ISERROR(VLOOKUP($A101,#REF!,8,0)),0,(VLOOKUP($A101,#REF!,8,0)))","v":0},0,1,0,0,0,0,{"$f":"IF(ISERROR(VLOOKUP($A101,#REF!,8,0)),0,(VLOOKUP($A101,#REF!,8,0)))","v":0},0,1,0,0,0,0,{"$f":"IF(ISERROR(VLOOKUP($A101,#REF!,8,0)),0,(VLOOKUP($A101,#REF!,8,0)))","v":0},0,1,0,0,0,0,{"$f":"IF(ISERROR(VLOOKUP($A101,#REF!,8,0)),0,(VLOOKUP($A101,#REF!,8,0)))","v":0},0,1,0,0,0,0,{"$f":"IF(ISERROR(VLOOKUP($A101,#REF!,8,0)),0,(VLOOKUP($A101,#REF!,8,0)))","v":0},0,1,0,0,0,0,{"$f":"IF(ISERROR(VLOOKUP($A101,#REF!,8,0)),0,(VLOOKUP($A101,#REF!,8,0)))","v":0},0,1,0,0,0,0,{"$f":"IF(ISERROR(VLOOKUP($A101,#REF!,8,0)),0,(VLOOKUP($A101,#REF!,8,0)))","v":0},0,1,0,0,0,0,{"$f":"IF(ISERROR(VLOOKUP($A101,#REF!,8,0)),0,(VLOOKUP($A101,#REF!,8,0)))","v":0},0,1,0,0,0,0,{"$f":"IF(ISERROR(VLOOKUP($A101,#REF!,8,0)),0,(VLOOKUP($A101,#REF!,8,0)))","v":0},0,1,0,0,0,0,{"$f":"IF(ISERROR(VLOOKUP($A101,#REF!,8,0)),0,(VLOOKUP($A101,#REF!,8,0)))","v":0},0,1,0,0,0,0,{"$f":"IF(ISERROR(VLOOKUP($A101,#REF!,8,0)),0,(VLOOKUP($A101,#REF!,8,0)))","v":0},0,1,0,0,0,0,{"$f":"IF(ISERROR(VLOOKUP($A101,#REF!,8,0)),0,(VLOOKUP($A101,#REF!,8,0)))","v":0},0,1,0,0,0,0,{"$f":"IF(ISERROR(VLOOKUP($A101,#REF!,8,0)),0,(VLOOKUP($A101,#REF!,8,0)))","v":0},0,1,0,0,0,0,{"$f":"IF(ISERROR(VLOOKUP($A101,#REF!,8,0)),0,(VLOOKUP($A101,#REF!,8,0)))","v":0},0,1,0,0,0,0,{"$f":"IF(ISERROR(VLOOKUP($A101,#REF!,8,0)),0,(VLOOKUP($A101,#REF!,8,0)))","v":0},0,1,0,0,0,0,{"$f":"IF(ISERROR(VLOOKUP($A101,#REF!,8,0)),0,(VLOOKUP($A101,#REF!,8,0)))","v":0},0,1,0,0,0,0,{"$f":"IF(ISERROR(VLOOKUP($A101,#REF!,8,0)),0,(VLOOKUP($A101,#REF!,8,0)))","v":0},0,1,0,0,0,0,{"$f":"IF(ISERROR(VLOOKUP($A101,#REF!,8,0)),0,(VLOOKUP($A101,#REF!,8,0)))","v":0},0,1,0,0,0,0,{"$f":"IF(ISERROR(VLOOKUP($A101,#REF!,8,0)),0,(VLOOKUP($A101,#REF!,8,0)))","v":0},0,1,0,0,0,0,{"$f":"IF(ISERROR(VLOOKUP($A101,#REF!,8,0)),0,(VLOOKUP($A101,#REF!,8,0)))","v":0},0,1,0,0,0,0,{"$f":"IF(ISERROR(VLOOKUP($A101,#REF!,8,0)),0,(VLOOKUP($A101,#REF!,8,0)))","v":0},0,1,0,0,0,0,{"$f":"IF(ISERROR(VLOOKUP($A101,#REF!,8,0)),0,(VLOOKUP($A101,#REF!,8,0)))","v":0},0,1,0,0,0,0,{"$f":"IF(ISERROR(VLOOKUP($A101,#REF!,8,0)),0,(VLOOKUP($A101,#REF!,8,0)))","v":0},0,1,0,0,0,0,{"$f":"IF(ISERROR(VLOOKUP($A101,#REF!,8,0)),0,(VLOOKUP($A101,#REF!,8,0)))","v":0},0,1,0,0,0,0,{"$f":"IF(ISERROR(VLOOKUP($A101,#REF!,8,0)),0,(VLOOKUP($A101,#REF!,8,0)))","v":0},0,1,0,0,0,0,{"$f":"IF(ISERROR(VLOOKUP($A101,#REF!,8,0)),0,(VLOOKUP($A101,#REF!,8,0)))","v":0},0,1,0,0,0,0,{"$f":"IF(ISERROR(VLOOKUP($A101,#REF!,8,0)),0,(VLOOKUP($A101,#REF!,8,0)))","v":0},0,1,0,0,0,0,{"$f":"IF(ISERROR(VLOOKUP($A101,#REF!,8,0)),0,(VLOOKUP($A101,#REF!,8,0)))","v":0},0,1,0,0,0,0,{"$f":"IF(ISERROR(VLOOKUP($A101,#REF!,8,0)),0,(VLOOKUP($A101,#REF!,8,0)))","v":0},0,1,0,0,0,0,{"$f":"IF(ISERROR(VLOOKUP($A101,#REF!,8,0)),0,(VLOOKUP($A101,#REF!,8,0)))","v":0},0,1,0,0,0,0,{"$f":"IF(ISERROR(VLOOKUP($A101,#REF!,8,0)),0,(VLOOKUP($A101,#REF!,8,0)))","v":0},0,1,0,0,0,0,{"$f":"IF(ISERROR(VLOOKUP($A101,#REF!,8,0)),0,(VLOOKUP($A101,#REF!,8,0)))","v":0},0,1,0,0,0,0,{"$f":"IF(ISERROR(VLOOKUP($A101,#REF!,8,0)),0,(VLOOKUP($A101,#REF!,8,0)))","v":0},0,1,0,0,0,0,{"$f":"IF(ISERROR(VLOOKUP($A101,#REF!,8,0)),0,(VLOOKUP($A101,#REF!,8,0)))","v":0},0,1,0,0,0,0,{"$f":"IF(ISERROR(VLOOKUP($A101,#REF!,8,0)),0,(VLOOKUP($A101,#REF!,8,0)))","v":0},0,1,0,0,0,0,{"$f":"IF(ISERROR(VLOOKUP($A101,#REF!,8,0)),0,(VLOOKUP($A101,#REF!,8,0)))","v":0},0,1,0,0,0,0,{"$f":"IF(ISERROR(VLOOKUP($A101,#REF!,8,0)),0,(VLOOKUP($A101,#REF!,8,0)))","v":0},0,1,0,0,0,0,{"$f":"IF(ISERROR(VLOOKUP($A101,#REF!,8,0)),0,(VLOOKUP($A101,#REF!,8,0)))","v":0},0,1,0,0,0,0,{"$f":"IF(ISERROR(VLOOKUP($A101,#REF!,8,0)),0,(VLOOKUP($A101,#REF!,8,0)))","v":0},0,1,0,0,0,0,{"$f":"IF(ISERROR(VLOOKUP($A101,#REF!,8,0)),0,(VLOOKUP($A101,#REF!,8,0)))","v":0},0,1,0,0,0,0,{"$f":"IF(ISERROR(VLOOKUP($A101,#REF!,8,0)),0,(VLOOKUP($A101,#REF!,8,0)))","v":0},0,1,0,0,0,0,{"$f":"IF(ISERROR(VLOOKUP($A101,#REF!,8,0)),0,(VLOOKUP($A101,#REF!,8,0)))","v":0},0,1,0,0,0,0,{"$f":"IF(ISERROR(VLOOKUP($A101,#REF!,8,0)),0,(VLOOKUP($A101,#REF!,8,0)))","v":0},0,1,0,0,0,0,{"$f":"IF(ISERROR(VLOOKUP($A101,#REF!,8,0)),0,(VLOOKUP($A101,#REF!,8,0)))","v":0},0,1,0,0,0,0,697.04598599999997,697.04598599999997,1,0]
["2.19","Armação de fundações e estruturas de concreto armado, exceto vigas, pilares e lajes (de edifícios de múltiplos pavimentos, edificação térrea ou sobrado), utilizando aço CA-50 de 10.0 mm - Montagem. ","kg",744,727.54,16.460000000000036,4.1161060000000003,3062.3828640000002,2.87364,2137.9881599999999,0,0,6.9897460000000002,115.05121916000026,5085.31980484,null,0,0,0,0,0,2.1,2.8225806451612906E-3,0.97787634408602142,8.6438226000000018,6.0346440000000001,0,14.68,99.79,0.1341263440860215,0.97787634408602142,410.74621774000008,286.76053560000003,0,697.51,119.04,0.16,0.97787634408602142,489.98125824000005,342.07810560000001,0,832.06,38.270000000000003,5.1438172043010759E-2,0.97787634408602142,157.52337662000002,109.97420280000001,0,267.5,52.26,7.0241935483870963E-2,0.97787634408602142,215.10769956000001,150.1764264,0,365.28,22.26,2.991935483870968E-2,0.97787634408602142,91.62451956000001,63.967226400000001,0,155.59,393.82,0.52932795698924728,0.97787634408602142,1621.00486492,1131.6969047999999,0,2752.7,{"$f":"IF(ISERROR(VLOOKUP(A102,'9ª MEDIÇÃO'!$A$5:$J$1048576,8,0)),0,(VLOOKUP(A102,'9ª MEDIÇÃO'!$A$5:$J$1048576,8,0)))","v":0},0,0.97787634408602142,0,0,0,0,{"$f":"IF(ISERROR(VLOOKUP(A102,#REF!,8,0)),0,(VLOOKUP(A102,#REF!,8,0)))","v":0},0,0.97787634408602142,0,0,0,0,{"$f":"IF(ISERROR(VLOOKUP($A102,#REF!,8,0)),0,(VLOOKUP($A102,#REF!,8,0)))","v":0},0,0.97787634408602142,0,0,0,0,{"$f":"IF(ISERROR(VLOOKUP($A102,#REF!,8,0)),0,(VLOOKUP($A102,#REF!,8,0)))","v":0},0,0.97787634408602142,0,0,0,0,{"$f":"IF(ISERROR(VLOOKUP($A102,#REF!,8,0)),0,(VLOOKUP($A102,#REF!,8,0)))","v":0},0,0.97787634408602142,0,0,0,0,{"$f":"IF(ISERROR(VLOOKUP($A102,#REF!,8,0)),0,(VLOOKUP($A102,#REF!,8,0)))","v":0},0,0.97787634408602142,0,0,0,0,{"$f":"IF(ISERROR(VLOOKUP($A102,#REF!,8,0)),0,(VLOOKUP($A102,#REF!,8,0)))","v":0},0,0.97787634408602142,0,0,0,0,{"$f":"IF(ISERROR(VLOOKUP($A102,#REF!,8,0)),0,(VLOOKUP($A102,#REF!,8,0)))","v":0},0,0.97787634408602142,0,0,0,0,{"$f":"IF(ISERROR(VLOOKUP($A102,#REF!,8,0)),0,(VLOOKUP($A102,#REF!,8,0)))","v":0},0,0.97787634408602142,0,0,0,0,{"$f":"IF(ISERROR(VLOOKUP($A102,#REF!,8,0)),0,(VLOOKUP($A102,#REF!,8,0)))","v":0},0,0.97787634408602142,0,0,0,0,{"$f":"IF(ISERROR(VLOOKUP($A102,#REF!,8,0)),0,(VLOOKUP($A102,#REF!,8,0)))","v":0},0,0.97787634408602142,0,0,0,0,{"$f":"IF(ISERROR(VLOOKUP($A102,#REF!,8,0)),0,(VLOOKUP($A102,#REF!,8,0)))","v":0},0,0.97787634408602142,0,0,0,0,{"$f":"IF(ISERROR(VLOOKUP($A102,#REF!,8,0)),0,(VLOOKUP($A102,#REF!,8,0)))","v":0},0,0.97787634408602142,0,0,0,0,{"$f":"IF(ISERROR(VLOOKUP($A102,#REF!,8,0)),0,(VLOOKUP($A102,#REF!,8,0)))","v":0},0,0.97787634408602142,0,0,0,0,{"$f":"IF(ISERROR(VLOOKUP($A102,#REF!,8,0)),0,(VLOOKUP($A102,#REF!,8,0)))","v":0},0,0.97787634408602142,0,0,0,0,{"$f":"IF(ISERROR(VLOOKUP($A102,#REF!,8,0)),0,(VLOOKUP($A102,#REF!,8,0)))","v":0},0,0.97787634408602142,0,0,0,0,{"$f":"IF(ISERROR(VLOOKUP($A102,#REF!,8,0)),0,(VLOOKUP($A102,#REF!,8,0)))","v":0},0,0.97787634408602142,0,0,0,0,{"$f":"IF(ISERROR(VLOOKUP($A102,#REF!,8,0)),0,(VLOOKUP($A102,#REF!,8,0)))","v":0},0,0.97787634408602142,0,0,0,0,{"$f":"IF(ISERROR(VLOOKUP($A102,#REF!,8,0)),0,(VLOOKUP($A102,#REF!,8,0)))","v":0},0,0.97787634408602142,0,0,0,0,{"$f":"IF(ISERROR(VLOOKUP($A102,#REF!,8,0)),0,(VLOOKUP($A102,#REF!,8,0)))","v":0},0,0.97787634408602142,0,0,0,0,{"$f":"IF(ISERROR(VLOOKUP($A102,#REF!,8,0)),0,(VLOOKUP($A102,#REF!,8,0)))","v":0},0,0.97787634408602142,0,0,0,0,{"$f":"IF(ISERROR(VLOOKUP($A102,#REF!,8,0)),0,(VLOOKUP($A102,#REF!,8,0)))","v":0},0,0.97787634408602142,0,0,0,0,{"$f":"IF(ISERROR(VLOOKUP($A102,#REF!,8,0)),0,(VLOOKUP($A102,#REF!,8,0)))","v":0},0,0.97787634408602142,0,0,0,0,{"$f":"IF(ISERROR(VLOOKUP($A102,#REF!,8,0)),0,(VLOOKUP($A102,#REF!,8,0)))","v":0},0,0.97787634408602142,0,0,0,0,{"$f":"IF(ISERROR(VLOOKUP($A102,#REF!,8,0)),0,(VLOOKUP($A102,#REF!,8,0)))","v":0},0,0.97787634408602142,0,0,0,0,{"$f":"IF(ISERROR(VLOOKUP($A102,#REF!,8,0)),0,(VLOOKUP($A102,#REF!,8,0)))","v":0},0,0.97787634408602142,0,0,0,0,{"$f":"IF(ISERROR(VLOOKUP($A102,#REF!,8,0)),0,(VLOOKUP($A102,#REF!,8,0)))","v":0},0,0.97787634408602142,0,0,0,0,{"$f":"IF(ISERROR(VLOOKUP($A102,#REF!,8,0)),0,(VLOOKUP($A102,#REF!,8,0)))","v":0},0,0.97787634408602142,0,0,0,0,{"$f":"IF(ISERROR(VLOOKUP($A102,#REF!,8,0)),0,(VLOOKUP($A102,#REF!,8,0)))","v":0},0,0.97787634408602142,0,0,0,0,{"$f":"IF(ISERROR(VLOOKUP($A102,#REF!,8,0)),0,(VLOOKUP($A102,#REF!,8,0)))","v":0},0,0.97787634408602142,0,0,0,0,{"$f":"IF(ISERROR(VLOOKUP($A102,#REF!,8,0)),0,(VLOOKUP($A102,#REF!,8,0)))","v":0},0,0.97787634408602142,0,0,0,0,{"$f":"IF(ISERROR(VLOOKUP($A102,#REF!,8,0)),0,(VLOOKUP($A102,#REF!,8,0)))","v":0},0,0.97787634408602142,0,0,0,0,{"$f":"IF(ISERROR(VLOOKUP($A102,#REF!,8,0)),0,(VLOOKUP($A102,#REF!,8,0)))","v":0},0,0.97787634408602142,0,0,0,0,{"$f":"IF(ISERROR(VLOOKUP($A102,#REF!,8,0)),0,(VLOOKUP($A102,#REF!,8,0)))","v":0},0,0.97787634408602142,0,0,0,0,{"$f":"IF(ISERROR(VLOOKUP($A102,#REF!,8,0)),0,(VLOOKUP($A102,#REF!,8,0)))","v":0},0,0.97787634408602142,0,0,0,0,{"$f":"IF(ISERROR(VLOOKUP($A102,#REF!,8,0)),0,(VLOOKUP($A102,#REF!,8,0)))","v":0},0,0.97787634408602142,0,0,0,0,{"$f":"IF(ISERROR(VLOOKUP($A102,#REF!,8,0)),0,(VLOOKUP($A102,#REF!,8,0)))","v":0},0,0.97787634408602142,0,0,0,0,{"$f":"IF(ISERROR(VLOOKUP($A102,#REF!,8,0)),0,(VLOOKUP($A102,#REF!,8,0)))","v":0},0,0.97787634408602142,0,0,0,0,{"$f":"IF(ISERROR(VLOOKUP($A102,#REF!,8,0)),0,(VLOOKUP($A102,#REF!,8,0)))","v":0},0,0.97787634408602142,0,0,0,0,{"$f":"IF(ISERROR(VLOOKUP($A102,#REF!,8,0)),0,(VLOOKUP($A102,#REF!,8,0)))","v":0},0,0.97787634408602142,0,0,0,0,{"$f":"IF(ISERROR(VLOOKUP($A102,#REF!,8,0)),0,(VLOOKUP($A102,#REF!,8,0)))","v":0},0,0.97787634408602142,0,0,0,0,{"$f":"IF(ISERROR(VLOOKUP($A102,#REF!,8,0)),0,(VLOOKUP($A102,#REF!,8,0)))","v":0},0,0.97787634408602142,0,0,0,0,{"$f":"IF(ISERROR(VLOOKUP($A102,#REF!,8,0)),0,(VLOOKUP($A102,#REF!,8,0)))","v":0},0,0.97787634408602142,0,0,0,0,{"$f":"IF(ISERROR(VLOOKUP($A102,#REF!,8,0)),0,(VLOOKUP($A102,#REF!,8,0)))","v":0},0,0.97787634408602142,0,0,0,0,{"$f":"IF(ISERROR(VLOOKUP($A102,#REF!,8,0)),0,(VLOOKUP($A102,#REF!,8,0)))","v":0},0,0.97787634408602142,0,0,0,0,{"$f":"IF(ISERROR(VLOOKUP($A102,#REF!,8,0)),0,(VLOOKUP($A102,#REF!,8,0)))","v":0},0,0.97787634408602142,0,0,0,0,{"$f":"IF(ISERROR(VLOOKUP($A102,#REF!,8,0)),0,(VLOOKUP($A102,#REF!,8,0)))","v":0},0,0.97787634408602142,0,0,0,0,5085.31980484,5085.31980484,1,0]
["2.20","Armação de fundações e estruturas de concreto armado, exceto vigas, pilares e lajes (de edifícios de múltiplos pavimentos, edificação térrea ou sobrado), utilizando aço CA-50 de 12.5 mm - Montagem. ","kg",3296,3296.0000000000005,0,3.9038140000000001,12866.970944000001,1.9282000000000001,6355.3472000000002,0,0,5.832014,0,19222.318144000004,null,0,0,0,0,0,405.96,0.12316747572815534,1.0000000000000002,1584.79233144,782.77207199999998,0,2367.56,648.22,0.19666868932038836,1.0000000000000002,2530.53031108,1249.8978040000002,0,3780.43,1876.16,0.56922330097087381,1.0000000000000002,7324.1796742400002,3617.6117120000004,0,10941.79,null,0,1.0000000000000002,0,0,0,0,null,0,1.0000000000000002,0,0,0,0,363.51,0.1102882281553398,1.0000000000000002,1419.0754271400001,700.919982,0,2120,2.15,6.523058252427184E-4,1.0000000000000002,8.3932000999999996,4.1456299999999997,0,12.54,{"$f":"IF(ISERROR(VLOOKUP(A103,'9ª MEDIÇÃO'!$A$5:$J$1048576,8,0)),0,(VLOOKUP(A103,'9ª MEDIÇÃO'!$A$5:$J$1048576,8,0)))","v":0},0,1.0000000000000002,0,0,0,0,{"$f":"IF(ISERROR(VLOOKUP(A103,#REF!,8,0)),0,(VLOOKUP(A103,#REF!,8,0)))","v":0},0,1.0000000000000002,0,0,0,0,{"$f":"IF(ISERROR(VLOOKUP($A103,#REF!,8,0)),0,(VLOOKUP($A103,#REF!,8,0)))","v":0},0,1.0000000000000002,0,0,0,0,{"$f":"IF(ISERROR(VLOOKUP($A103,#REF!,8,0)),0,(VLOOKUP($A103,#REF!,8,0)))","v":0},0,1.0000000000000002,0,0,0,0,{"$f":"IF(ISERROR(VLOOKUP($A103,#REF!,8,0)),0,(VLOOKUP($A103,#REF!,8,0)))","v":0},0,1.0000000000000002,0,0,0,0,{"$f":"IF(ISERROR(VLOOKUP($A103,#REF!,8,0)),0,(VLOOKUP($A103,#REF!,8,0)))","v":0},0,1.0000000000000002,0,0,0,0,{"$f":"IF(ISERROR(VLOOKUP($A103,#REF!,8,0)),0,(VLOOKUP($A103,#REF!,8,0)))","v":0},0,1.0000000000000002,0,0,0,0,{"$f":"IF(ISERROR(VLOOKUP($A103,#REF!,8,0)),0,(VLOOKUP($A103,#REF!,8,0)))","v":0},0,1.0000000000000002,0,0,0,0,{"$f":"IF(ISERROR(VLOOKUP($A103,#REF!,8,0)),0,(VLOOKUP($A103,#REF!,8,0)))","v":0},0,1.0000000000000002,0,0,0,0,{"$f":"IF(ISERROR(VLOOKUP($A103,#REF!,8,0)),0,(VLOOKUP($A103,#REF!,8,0)))","v":0},0,1.0000000000000002,0,0,0,0,{"$f":"IF(ISERROR(VLOOKUP($A103,#REF!,8,0)),0,(VLOOKUP($A103,#REF!,8,0)))","v":0},0,1.0000000000000002,0,0,0,0,{"$f":"IF(ISERROR(VLOOKUP($A103,#REF!,8,0)),0,(VLOOKUP($A103,#REF!,8,0)))","v":0},0,1.0000000000000002,0,0,0,0,{"$f":"IF(ISERROR(VLOOKUP($A103,#REF!,8,0)),0,(VLOOKUP($A103,#REF!,8,0)))","v":0},0,1.0000000000000002,0,0,0,0,{"$f":"IF(ISERROR(VLOOKUP($A103,#REF!,8,0)),0,(VLOOKUP($A103,#REF!,8,0)))","v":0},0,1.0000000000000002,0,0,0,0,{"$f":"IF(ISERROR(VLOOKUP($A103,#REF!,8,0)),0,(VLOOKUP($A103,#REF!,8,0)))","v":0},0,1.0000000000000002,0,0,0,0,{"$f":"IF(ISERROR(VLOOKUP($A103,#REF!,8,0)),0,(VLOOKUP($A103,#REF!,8,0)))","v":0},0,1.0000000000000002,0,0,0,0,{"$f":"IF(ISERROR(VLOOKUP($A103,#REF!,8,0)),0,(VLOOKUP($A103,#REF!,8,0)))","v":0},0,1.0000000000000002,0,0,0,0,{"$f":"IF(ISERROR(VLOOKUP($A103,#REF!,8,0)),0,(VLOOKUP($A103,#REF!,8,0)))","v":0},0,1.0000000000000002,0,0,0,0,{"$f":"IF(ISERROR(VLOOKUP($A103,#REF!,8,0)),0,(VLOOKUP($A103,#REF!,8,0)))","v":0},0,1.0000000000000002,0,0,0,0,{"$f":"IF(ISERROR(VLOOKUP($A103,#REF!,8,0)),0,(VLOOKUP($A103,#REF!,8,0)))","v":0},0,1.0000000000000002,0,0,0,0,{"$f":"IF(ISERROR(VLOOKUP($A103,#REF!,8,0)),0,(VLOOKUP($A103,#REF!,8,0)))","v":0},0,1.0000000000000002,0,0,0,0,{"$f":"IF(ISERROR(VLOOKUP($A103,#REF!,8,0)),0,(VLOOKUP($A103,#REF!,8,0)))","v":0},0,1.0000000000000002,0,0,0,0,{"$f":"IF(ISERROR(VLOOKUP($A103,#REF!,8,0)),0,(VLOOKUP($A103,#REF!,8,0)))","v":0},0,1.0000000000000002,0,0,0,0,{"$f":"IF(ISERROR(VLOOKUP($A103,#REF!,8,0)),0,(VLOOKUP($A103,#REF!,8,0)))","v":0},0,1.0000000000000002,0,0,0,0,{"$f":"IF(ISERROR(VLOOKUP($A103,#REF!,8,0)),0,(VLOOKUP($A103,#REF!,8,0)))","v":0},0,1.0000000000000002,0,0,0,0,{"$f":"IF(ISERROR(VLOOKUP($A103,#REF!,8,0)),0,(VLOOKUP($A103,#REF!,8,0)))","v":0},0,1.0000000000000002,0,0,0,0,{"$f":"IF(ISERROR(VLOOKUP($A103,#REF!,8,0)),0,(VLOOKUP($A103,#REF!,8,0)))","v":0},0,1.0000000000000002,0,0,0,0,{"$f":"IF(ISERROR(VLOOKUP($A103,#REF!,8,0)),0,(VLOOKUP($A103,#REF!,8,0)))","v":0},0,1.0000000000000002,0,0,0,0,{"$f":"IF(ISERROR(VLOOKUP($A103,#REF!,8,0)),0,(VLOOKUP($A103,#REF!,8,0)))","v":0},0,1.0000000000000002,0,0,0,0,{"$f":"IF(ISERROR(VLOOKUP($A103,#REF!,8,0)),0,(VLOOKUP($A103,#REF!,8,0)))","v":0},0,1.0000000000000002,0,0,0,0,{"$f":"IF(ISERROR(VLOOKUP($A103,#REF!,8,0)),0,(VLOOKUP($A103,#REF!,8,0)))","v":0},0,1.0000000000000002,0,0,0,0,{"$f":"IF(ISERROR(VLOOKUP($A103,#REF!,8,0)),0,(VLOOKUP($A103,#REF!,8,0)))","v":0},0,1.0000000000000002,0,0,0,0,{"$f":"IF(ISERROR(VLOOKUP($A103,#REF!,8,0)),0,(VLOOKUP($A103,#REF!,8,0)))","v":0},0,1.0000000000000002,0,0,0,0,{"$f":"IF(ISERROR(VLOOKUP($A103,#REF!,8,0)),0,(VLOOKUP($A103,#REF!,8,0)))","v":0},0,1.0000000000000002,0,0,0,0,{"$f":"IF(ISERROR(VLOOKUP($A103,#REF!,8,0)),0,(VLOOKUP($A103,#REF!,8,0)))","v":0},0,1.0000000000000002,0,0,0,0,{"$f":"IF(ISERROR(VLOOKUP($A103,#REF!,8,0)),0,(VLOOKUP($A103,#REF!,8,0)))","v":0},0,1.0000000000000002,0,0,0,0,{"$f":"IF(ISERROR(VLOOKUP($A103,#REF!,8,0)),0,(VLOOKUP($A103,#REF!,8,0)))","v":0},0,1.0000000000000002,0,0,0,0,{"$f":"IF(ISERROR(VLOOKUP($A103,#REF!,8,0)),0,(VLOOKUP($A103,#REF!,8,0)))","v":0},0,1.0000000000000002,0,0,0,0,{"$f":"IF(ISERROR(VLOOKUP($A103,#REF!,8,0)),0,(VLOOKUP($A103,#REF!,8,0)))","v":0},0,1.0000000000000002,0,0,0,0,{"$f":"IF(ISERROR(VLOOKUP($A103,#REF!,8,0)),0,(VLOOKUP($A103,#REF!,8,0)))","v":0},0,1.0000000000000002,0,0,0,0,{"$f":"IF(ISERROR(VLOOKUP($A103,#REF!,8,0)),0,(VLOOKUP($A103,#REF!,8,0)))","v":0},0,1.0000000000000002,0,0,0,0,{"$f":"IF(ISERROR(VLOOKUP($A103,#REF!,8,0)),0,(VLOOKUP($A103,#REF!,8,0)))","v":0},0,1.0000000000000002,0,0,0,0,{"$f":"IF(ISERROR(VLOOKUP($A103,#REF!,8,0)),0,(VLOOKUP($A103,#REF!,8,0)))","v":0},0,1.0000000000000002,0,0,0,0,{"$f":"IF(ISERROR(VLOOKUP($A103,#REF!,8,0)),0,(VLOOKUP($A103,#REF!,8,0)))","v":0},0,1.0000000000000002,0,0,0,0,{"$f":"IF(ISERROR(VLOOKUP($A103,#REF!,8,0)),0,(VLOOKUP($A103,#REF!,8,0)))","v":0},0,1.0000000000000002,0,0,0,0,{"$f":"IF(ISERROR(VLOOKUP($A103,#REF!,8,0)),0,(VLOOKUP($A103,#REF!,8,0)))","v":0},0,1.0000000000000002,0,0,0,0,{"$f":"IF(ISERROR(VLOOKUP($A103,#REF!,8,0)),0,(VLOOKUP($A103,#REF!,8,0)))","v":0},0,1.0000000000000002,0,0,0,0,19222.318144000004,19222.318144000004,1,0]
["2.21","Armação de fundações e estruturas de concreto armado, exceto vigas, pilares e lajes (de edifícios de múltiplos pavimentos, edificação térrea ou sobrado), utilizando aço CA-50 de 16.0 mm - Montagem. ","kg",8521,8521,0,3.8684319999999999,32962.909072000002,0.75883999999999996,6466.07564,0,0,4.6272719999999996,0,39428.984711999998,null,0,0,0,0,0,2874.77,0.33737472127684542,1,11120.85226064,2181.4904667999999,0,13302.34,5533.79,0.64942964440793338,1,21407.090317279999,4199.2612036,0,25606.35,105,1.2322497359464852E-2,1,406.18536,79.67819999999999,0,485.86,null,0,1,0,0,0,0,7.44,8.7313695575636668E-4,1,28.781134080000001,5.6457696000000004,0,34.43,{"$f":"IF(ISERROR(VLOOKUP(A104,'7ª MEDIÇÃO'!$A$5:$J$1048576,8,0)),0,(VLOOKUP(A104,'7ª MEDIÇÃO'!$A$5:$J$1048576,8,0)))","v":0},0,1,0,0,0,0,{"$f":"IF(ISERROR(VLOOKUP(A104,'8ª MEDIÇÃO'!$A$5:$J$1048576,8,0)),0,(VLOOKUP(A104,'8ª MEDIÇÃO'!$A$5:$J$1048576,8,0)))","v":0},0,1,0,0,0,0,{"$f":"IF(ISERROR(VLOOKUP(A104,'9ª MEDIÇÃO'!$A$5:$J$1048576,8,0)),0,(VLOOKUP(A104,'9ª MEDIÇÃO'!$A$5:$J$1048576,8,0)))","v":0},0,1,0,0,0,0,{"$f":"IF(ISERROR(VLOOKUP(A104,#REF!,8,0)),0,(VLOOKUP(A104,#REF!,8,0)))","v":0},0,1,0,0,0,0,{"$f":"IF(ISERROR(VLOOKUP($A104,#REF!,8,0)),0,(VLOOKUP($A104,#REF!,8,0)))","v":0},0,1,0,0,0,0,{"$f":"IF(ISERROR(VLOOKUP($A104,#REF!,8,0)),0,(VLOOKUP($A104,#REF!,8,0)))","v":0},0,1,0,0,0,0,{"$f":"IF(ISERROR(VLOOKUP($A104,#REF!,8,0)),0,(VLOOKUP($A104,#REF!,8,0)))","v":0},0,1,0,0,0,0,{"$f":"IF(ISERROR(VLOOKUP($A104,#REF!,8,0)),0,(VLOOKUP($A104,#REF!,8,0)))","v":0},0,1,0,0,0,0,{"$f":"IF(ISERROR(VLOOKUP($A104,#REF!,8,0)),0,(VLOOKUP($A104,#REF!,8,0)))","v":0},0,1,0,0,0,0,{"$f":"IF(ISERROR(VLOOKUP($A104,#REF!,8,0)),0,(VLOOKUP($A104,#REF!,8,0)))","v":0},0,1,0,0,0,0,{"$f":"IF(ISERROR(VLOOKUP($A104,#REF!,8,0)),0,(VLOOKUP($A104,#REF!,8,0)))","v":0},0,1,0,0,0,0,{"$f":"IF(ISERROR(VLOOKUP($A104,#REF!,8,0)),0,(VLOOKUP($A104,#REF!,8,0)))","v":0},0,1,0,0,0,0,{"$f":"IF(ISERROR(VLOOKUP($A104,#REF!,8,0)),0,(VLOOKUP($A104,#REF!,8,0)))","v":0},0,1,0,0,0,0,{"$f":"IF(ISERROR(VLOOKUP($A104,#REF!,8,0)),0,(VLOOKUP($A104,#REF!,8,0)))","v":0},0,1,0,0,0,0,{"$f":"IF(ISERROR(VLOOKUP($A104,#REF!,8,0)),0,(VLOOKUP($A104,#REF!,8,0)))","v":0},0,1,0,0,0,0,{"$f":"IF(ISERROR(VLOOKUP($A104,#REF!,8,0)),0,(VLOOKUP($A104,#REF!,8,0)))","v":0},0,1,0,0,0,0,{"$f":"IF(ISERROR(VLOOKUP($A104,#REF!,8,0)),0,(VLOOKUP($A104,#REF!,8,0)))","v":0},0,1,0,0,0,0,{"$f":"IF(ISERROR(VLOOKUP($A104,#REF!,8,0)),0,(VLOOKUP($A104,#REF!,8,0)))","v":0},0,1,0,0,0,0,{"$f":"IF(ISERROR(VLOOKUP($A104,#REF!,8,0)),0,(VLOOKUP($A104,#REF!,8,0)))","v":0},0,1,0,0,0,0,{"$f":"IF(ISERROR(VLOOKUP($A104,#REF!,8,0)),0,(VLOOKUP($A104,#REF!,8,0)))","v":0},0,1,0,0,0,0,{"$f":"IF(ISERROR(VLOOKUP($A104,#REF!,8,0)),0,(VLOOKUP($A104,#REF!,8,0)))","v":0},0,1,0,0,0,0,{"$f":"IF(ISERROR(VLOOKUP($A104,#REF!,8,0)),0,(VLOOKUP($A104,#REF!,8,0)))","v":0},0,1,0,0,0,0,{"$f":"IF(ISERROR(VLOOKUP($A104,#REF!,8,0)),0,(VLOOKUP($A104,#REF!,8,0)))","v":0},0,1,0,0,0,0,{"$f":"IF(ISERROR(VLOOKUP($A104,#REF!,8,0)),0,(VLOOKUP($A104,#REF!,8,0)))","v":0},0,1,0,0,0,0,{"$f":"IF(ISERROR(VLOOKUP($A104,#REF!,8,0)),0,(VLOOKUP($A104,#REF!,8,0)))","v":0},0,1,0,0,0,0,{"$f":"IF(ISERROR(VLOOKUP($A104,#REF!,8,0)),0,(VLOOKUP($A104,#REF!,8,0)))","v":0},0,1,0,0,0,0,{"$f":"IF(ISERROR(VLOOKUP($A104,#REF!,8,0)),0,(VLOOKUP($A104,#REF!,8,0)))","v":0},0,1,0,0,0,0,{"$f":"IF(ISERROR(VLOOKUP($A104,#REF!,8,0)),0,(VLOOKUP($A104,#REF!,8,0)))","v":0},0,1,0,0,0,0,{"$f":"IF(ISERROR(VLOOKUP($A104,#REF!,8,0)),0,(VLOOKUP($A104,#REF!,8,0)))","v":0},0,1,0,0,0,0,{"$f":"IF(ISERROR(VLOOKUP($A104,#REF!,8,0)),0,(VLOOKUP($A104,#REF!,8,0)))","v":0},0,1,0,0,0,0,{"$f":"IF(ISERROR(VLOOKUP($A104,#REF!,8,0)),0,(VLOOKUP($A104,#REF!,8,0)))","v":0},0,1,0,0,0,0,{"$f":"IF(ISERROR(VLOOKUP($A104,#REF!,8,0)),0,(VLOOKUP($A104,#REF!,8,0)))","v":0},0,1,0,0,0,0,{"$f":"IF(ISERROR(VLOOKUP($A104,#REF!,8,0)),0,(VLOOKUP($A104,#REF!,8,0)))","v":0},0,1,0,0,0,0,{"$f":"IF(ISERROR(VLOOKUP($A104,#REF!,8,0)),0,(VLOOKUP($A104,#REF!,8,0)))","v":0},0,1,0,0,0,0,{"$f":"IF(ISERROR(VLOOKUP($A104,#REF!,8,0)),0,(VLOOKUP($A104,#REF!,8,0)))","v":0},0,1,0,0,0,0,{"$f":"IF(ISERROR(VLOOKUP($A104,#REF!,8,0)),0,(VLOOKUP($A104,#REF!,8,0)))","v":0},0,1,0,0,0,0,{"$f":"IF(ISERROR(VLOOKUP($A104,#REF!,8,0)),0,(VLOOKUP($A104,#REF!,8,0)))","v":0},0,1,0,0,0,0,{"$f":"IF(ISERROR(VLOOKUP($A104,#REF!,8,0)),0,(VLOOKUP($A104,#REF!,8,0)))","v":0},0,1,0,0,0,0,{"$f":"IF(ISERROR(VLOOKUP($A104,#REF!,8,0)),0,(VLOOKUP($A104,#REF!,8,0)))","v":0},0,1,0,0,0,0,{"$f":"IF(ISERROR(VLOOKUP($A104,#REF!,8,0)),0,(VLOOKUP($A104,#REF!,8,0)))","v":0},0,1,0,0,0,0,{"$f":"IF(ISERROR(VLOOKUP($A104,#REF!,8,0)),0,(VLOOKUP($A104,#REF!,8,0)))","v":0},0,1,0,0,0,0,{"$f":"IF(ISERROR(VLOOKUP($A104,#REF!,8,0)),0,(VLOOKUP($A104,#REF!,8,0)))","v":0},0,1,0,0,0,0,{"$f":"IF(ISERROR(VLOOKUP($A104,#REF!,8,0)),0,(VLOOKUP($A104,#REF!,8,0)))","v":0},0,1,0,0,0,0,{"$f":"IF(ISERROR(VLOOKUP($A104,#REF!,8,0)),0,(VLOOKUP($A104,#REF!,8,0)))","v":0},0,1,0,0,0,0,{"$f":"IF(ISERROR(VLOOKUP($A104,#REF!,8,0)),0,(VLOOKUP($A104,#REF!,8,0)))","v":0},0,1,0,0,0,0,{"$f":"IF(ISERROR(VLOOKUP($A104,#REF!,8,0)),0,(VLOOKUP($A104,#REF!,8,0)))","v":0},0,1,0,0,0,0,{"$f":"IF(ISERROR(VLOOKUP($A104,#REF!,8,0)),0,(VLOOKUP($A104,#REF!,8,0)))","v":0},0,1,0,0,0,0,{"$f":"IF(ISERROR(VLOOKUP($A104,#REF!,8,0)),0,(VLOOKUP($A104,#REF!,8,0)))","v":0},0,1,0,0,0,0,{"$f":"IF(ISERROR(VLOOKUP($A104,#REF!,8,0)),0,(VLOOKUP($A104,#REF!,8,0)))","v":0},0,1,0,0,0,0,39428.984711999998,39428.984711999998,1,0]
["2.22","Armação de fundações e estruturas de concreto armado, exceto vigas, pilares e lajes (de edifícios de múltiplos pavimentos, edificação térrea ou sobrado), utilizando aço CA-50 de 20.0 mm - Montagem. ","kg",25311,25308.44,2.5600000000013097,3.691522,93436.113341999997,0.46027999999999997,11650.147079999999,0,0,4.151802,10.628613120005438,105075.63180887999,null,0,0,0,0,0,2823.67,0.11155900596578563,0.99989885820394286,10423.639925740001,1299.6788276,0,11723.32,17660.14,0.69772588992927975,0.99989885820394286,65192.795333079994,8128.6092391999991,0,73321.399999999994,1840.57,7.2718185769033231E-2,0.99989885820394286,6794.5046475399995,847.17755959999988,0,7641.68,990.15,3.9119355221050138E-2,0.99989885820394286,3655.1605082999999,455.74624199999994,0,4110.91,1612.37,6.3702342854885227E-2,0.99989885820394286,5952.0993271399993,742.1416635999999,0,6694.24,381.54,1.5074078463908973E-2,0.99989885820394286,1408.46330388,175.61523120000001,0,1584.08,{"$f":"IF(ISERROR(VLOOKUP(A105,'8ª MEDIÇÃO'!$A$5:$J$1048576,8,0)),0,(VLOOKUP(A105,'8ª MEDIÇÃO'!$A$5:$J$1048576,8,0)))","v":0},0,0.99989885820394286,0,0,0,0,{"$f":"IF(ISERROR(VLOOKUP(A105,'9ª MEDIÇÃO'!$A$5:$J$1048576,8,0)),0,(VLOOKUP(A105,'9ª MEDIÇÃO'!$A$5:$J$1048576,8,0)))","v":0},0,0.99989885820394286,0,0,0,0,{"$f":"IF(ISERROR(VLOOKUP(A105,#REF!,8,0)),0,(VLOOKUP(A105,#REF!,8,0)))","v":0},0,0.99989885820394286,0,0,0,0,{"$f":"IF(ISERROR(VLOOKUP($A105,#REF!,8,0)),0,(VLOOKUP($A105,#REF!,8,0)))","v":0},0,0.99989885820394286,0,0,0,0,{"$f":"IF(ISERROR(VLOOKUP($A105,#REF!,8,0)),0,(VLOOKUP($A105,#REF!,8,0)))","v":0},0,0.99989885820394286,0,0,0,0,{"$f":"IF(ISERROR(VLOOKUP($A105,#REF!,8,0)),0,(VLOOKUP($A105,#REF!,8,0)))","v":0},0,0.99989885820394286,0,0,0,0,{"$f":"IF(ISERROR(VLOOKUP($A105,#REF!,8,0)),0,(VLOOKUP($A105,#REF!,8,0)))","v":0},0,0.99989885820394286,0,0,0,0,{"$f":"IF(ISERROR(VLOOKUP($A105,#REF!,8,0)),0,(VLOOKUP($A105,#REF!,8,0)))","v":0},0,0.99989885820394286,0,0,0,0,{"$f":"IF(ISERROR(VLOOKUP($A105,#REF!,8,0)),0,(VLOOKUP($A105,#REF!,8,0)))","v":0},0,0.99989885820394286,0,0,0,0,{"$f":"IF(ISERROR(VLOOKUP($A105,#REF!,8,0)),0,(VLOOKUP($A105,#REF!,8,0)))","v":0},0,0.99989885820394286,0,0,0,0,{"$f":"IF(ISERROR(VLOOKUP($A105,#REF!,8,0)),0,(VLOOKUP($A105,#REF!,8,0)))","v":0},0,0.99989885820394286,0,0,0,0,{"$f":"IF(ISERROR(VLOOKUP($A105,#REF!,8,0)),0,(VLOOKUP($A105,#REF!,8,0)))","v":0},0,0.99989885820394286,0,0,0,0,{"$f":"IF(ISERROR(VLOOKUP($A105,#REF!,8,0)),0,(VLOOKUP($A105,#REF!,8,0)))","v":0},0,0.99989885820394286,0,0,0,0,{"$f":"IF(ISERROR(VLOOKUP($A105,#REF!,8,0)),0,(VLOOKUP($A105,#REF!,8,0)))","v":0},0,0.99989885820394286,0,0,0,0,{"$f":"IF(ISERROR(VLOOKUP($A105,#REF!,8,0)),0,(VLOOKUP($A105,#REF!,8,0)))","v":0},0,0.99989885820394286,0,0,0,0,{"$f":"IF(ISERROR(VLOOKUP($A105,#REF!,8,0)),0,(VLOOKUP($A105,#REF!,8,0)))","v":0},0,0.99989885820394286,0,0,0,0,{"$f":"IF(ISERROR(VLOOKUP($A105,#REF!,8,0)),0,(VLOOKUP($A105,#REF!,8,0)))","v":0},0,0.99989885820394286,0,0,0,0,{"$f":"IF(ISERROR(VLOOKUP($A105,#REF!,8,0)),0,(VLOOKUP($A105,#REF!,8,0)))","v":0},0,0.99989885820394286,0,0,0,0,{"$f":"IF(ISERROR(VLOOKUP($A105,#REF!,8,0)),0,(VLOOKUP($A105,#REF!,8,0)))","v":0},0,0.99989885820394286,0,0,0,0,{"$f":"IF(ISERROR(VLOOKUP($A105,#REF!,8,0)),0,(VLOOKUP($A105,#REF!,8,0)))","v":0},0,0.99989885820394286,0,0,0,0,{"$f":"IF(ISERROR(VLOOKUP($A105,#REF!,8,0)),0,(VLOOKUP($A105,#REF!,8,0)))","v":0},0,0.99989885820394286,0,0,0,0,{"$f":"IF(ISERROR(VLOOKUP($A105,#REF!,8,0)),0,(VLOOKUP($A105,#REF!,8,0)))","v":0},0,0.99989885820394286,0,0,0,0,{"$f":"IF(ISERROR(VLOOKUP($A105,#REF!,8,0)),0,(VLOOKUP($A105,#REF!,8,0)))","v":0},0,0.99989885820394286,0,0,0,0,{"$f":"IF(ISERROR(VLOOKUP($A105,#REF!,8,0)),0,(VLOOKUP($A105,#REF!,8,0)))","v":0},0,0.99989885820394286,0,0,0,0,{"$f":"IF(ISERROR(VLOOKUP($A105,#REF!,8,0)),0,(VLOOKUP($A105,#REF!,8,0)))","v":0},0,0.99989885820394286,0,0,0,0,{"$f":"IF(ISERROR(VLOOKUP($A105,#REF!,8,0)),0,(VLOOKUP($A105,#REF!,8,0)))","v":0},0,0.99989885820394286,0,0,0,0,{"$f":"IF(ISERROR(VLOOKUP($A105,#REF!,8,0)),0,(VLOOKUP($A105,#REF!,8,0)))","v":0},0,0.99989885820394286,0,0,0,0,{"$f":"IF(ISERROR(VLOOKUP($A105,#REF!,8,0)),0,(VLOOKUP($A105,#REF!,8,0)))","v":0},0,0.99989885820394286,0,0,0,0,{"$f":"IF(ISERROR(VLOOKUP($A105,#REF!,8,0)),0,(VLOOKUP($A105,#REF!,8,0)))","v":0},0,0.99989885820394286,0,0,0,0,{"$f":"IF(ISERROR(VLOOKUP($A105,#REF!,8,0)),0,(VLOOKUP($A105,#REF!,8,0)))","v":0},0,0.99989885820394286,0,0,0,0,{"$f":"IF(ISERROR(VLOOKUP($A105,#REF!,8,0)),0,(VLOOKUP($A105,#REF!,8,0)))","v":0},0,0.99989885820394286,0,0,0,0,{"$f":"IF(ISERROR(VLOOKUP($A105,#REF!,8,0)),0,(VLOOKUP($A105,#REF!,8,0)))","v":0},0,0.99989885820394286,0,0,0,0,{"$f":"IF(ISERROR(VLOOKUP($A105,#REF!,8,0)),0,(VLOOKUP($A105,#REF!,8,0)))","v":0},0,0.99989885820394286,0,0,0,0,{"$f":"IF(ISERROR(VLOOKUP($A105,#REF!,8,0)),0,(VLOOKUP($A105,#REF!,8,0)))","v":0},0,0.99989885820394286,0,0,0,0,{"$f":"IF(ISERROR(VLOOKUP($A105,#REF!,8,0)),0,(VLOOKUP($A105,#REF!,8,0)))","v":0},0,0.99989885820394286,0,0,0,0,{"$f":"IF(ISERROR(VLOOKUP($A105,#REF!,8,0)),0,(VLOOKUP($A105,#REF!,8,0)))","v":0},0,0.99989885820394286,0,0,0,0,{"$f":"IF(ISERROR(VLOOKUP($A105,#REF!,8,0)),0,(VLOOKUP($A105,#REF!,8,0)))","v":0},0,0.99989885820394286,0,0,0,0,{"$f":"IF(ISERROR(VLOOKUP($A105,#REF!,8,0)),0,(VLOOKUP($A105,#REF!,8,0)))","v":0},0,0.99989885820394286,0,0,0,0,{"$f":"IF(ISERROR(VLOOKUP($A105,#REF!,8,0)),0,(VLOOKUP($A105,#REF!,8,0)))","v":0},0,0.99989885820394286,0,0,0,0,{"$f":"IF(ISERROR(VLOOKUP($A105,#REF!,8,0)),0,(VLOOKUP($A105,#REF!,8,0)))","v":0},0,0.99989885820394286,0,0,0,0,{"$f":"IF(ISERROR(VLOOKUP($A105,#REF!,8,0)),0,(VLOOKUP($A105,#REF!,8,0)))","v":0},0,0.99989885820394286,0,0,0,0,{"$f":"IF(ISERROR(VLOOKUP($A105,#REF!,8,0)),0,(VLOOKUP($A105,#REF!,8,0)))","v":0},0,0.99989885820394286,0,0,0,0,{"$f":"IF(ISERROR(VLOOKUP($A105,#REF!,8,0)),0,(VLOOKUP($A105,#REF!,8,0)))","v":0},0,0.99989885820394286,0,0,0,0,{"$f":"IF(ISERROR(VLOOKUP($A105,#REF!,8,0)),0,(VLOOKUP($A105,#REF!,8,0)))","v":0},0,0.99989885820394286,0,0,0,0,{"$f":"IF(ISERROR(VLOOKUP($A105,#REF!,8,0)),0,(VLOOKUP($A105,#REF!,8,0)))","v":0},0,0.99989885820394286,0,0,0,0,{"$f":"IF(ISERROR(VLOOKUP($A105,#REF!,8,0)),0,(VLOOKUP($A105,#REF!,8,0)))","v":0},0,0.99989885820394286,0,0,0,0,{"$f":"IF(ISERROR(VLOOKUP($A105,#REF!,8,0)),0,(VLOOKUP($A105,#REF!,8,0)))","v":0},0,0.99989885820394286,0,0,0,0,{"$f":"IF(ISERROR(VLOOKUP($A105,#REF!,8,0)),0,(VLOOKUP($A105,#REF!,8,0)))","v":0},0,0.99989885820394286,0,0,0,0,105075.63180887999,105075.63180887999,1,0]
["2.23","Concreto leve, Fck 15 MPA, condição B (NBR-12655), lançado sobre o terreno ou em fundações e adensado.","m³",23,23,0,200.85182,4619.5918600000005,160.43868000000001,3690.0896400000001,0,0,361.29050000000001,0,8309.6815000000006,null,0,0,0,0,0,null,0,1,0,0,0,0,null,0,1,0,0,0,0,null,0,1,0,0,0,0,null,0,1,0,0,0,0,null,0,1,0,0,0,0,{"$f":"IF(ISERROR(VLOOKUP(A106,'7ª MEDIÇÃO'!$A$5:$J$1048576,8,0)),0,(VLOOKUP(A106,'7ª MEDIÇÃO'!$A$5:$J$1048576,8,0)))","v":0},0,1,0,0,0,0,{"$f":"IF(ISERROR(VLOOKUP(A106,'8ª MEDIÇÃO'!$A$5:$J$1048576,8,0)),0,(VLOOKUP(A106,'8ª MEDIÇÃO'!$A$5:$J$1048576,8,0)))","v":0},0,1,0,0,0,0,{"$f":"IF(ISERROR(VLOOKUP(A106,'9ª MEDIÇÃO'!$A$5:$J$1048576,8,0)),0,(VLOOKUP(A106,'9ª MEDIÇÃO'!$A$5:$J$1048576,8,0)))","v":0},0,1,0,0,0,0,{"$f":"IF(ISERROR(VLOOKUP(A106,#REF!,8,0)),0,(VLOOKUP(A106,#REF!,8,0)))","v":0},0,1,0,0,0,0,{"$f":"IF(ISERROR(VLOOKUP($A106,#REF!,8,0)),0,(VLOOKUP($A106,#REF!,8,0)))","v":0},0,1,0,0,0,0,{"$f":"IF(ISERROR(VLOOKUP($A106,#REF!,8,0)),0,(VLOOKUP($A106,#REF!,8,0)))","v":0},0,1,0,0,0,0,{"$f":"IF(ISERROR(VLOOKUP($A106,#REF!,8,0)),0,(VLOOKUP($A106,#REF!,8,0)))","v":0},0,1,0,0,0,0,{"$f":"IF(ISERROR(VLOOKUP($A106,#REF!,8,0)),0,(VLOOKUP($A106,#REF!,8,0)))","v":0},0,1,0,0,0,0,{"$f":"IF(ISERROR(VLOOKUP($A106,#REF!,8,0)),0,(VLOOKUP($A106,#REF!,8,0)))","v":0},0,1,0,0,0,0,{"$f":"IF(ISERROR(VLOOKUP($A106,#REF!,8,0)),0,(VLOOKUP($A106,#REF!,8,0)))","v":0},0,1,0,0,0,0,{"$f":"IF(ISERROR(VLOOKUP($A106,#REF!,8,0)),0,(VLOOKUP($A106,#REF!,8,0)))","v":0},0,1,0,0,0,0,{"$f":"IF(ISERROR(VLOOKUP($A106,#REF!,8,0)),0,(VLOOKUP($A106,#REF!,8,0)))","v":0},0,1,0,0,0,0,{"$f":"IF(ISERROR(VLOOKUP($A106,#REF!,8,0)),0,(VLOOKUP($A106,#REF!,8,0)))","v":0},0,1,0,0,0,0,{"$f":"IF(ISERROR(VLOOKUP($A106,#REF!,8,0)),0,(VLOOKUP($A106,#REF!,8,0)))","v":0},0,1,0,0,0,0,{"$f":"IF(ISERROR(VLOOKUP($A106,#REF!,8,0)),0,(VLOOKUP($A106,#REF!,8,0)))","v":0},0,1,0,0,0,0,{"$f":"IF(ISERROR(VLOOKUP($A106,#REF!,8,0)),0,(VLOOKUP($A106,#REF!,8,0)))","v":0},0,1,0,0,0,0,{"$f":"IF(ISERROR(VLOOKUP($A106,#REF!,8,0)),0,(VLOOKUP($A106,#REF!,8,0)))","v":0},0,1,0,0,0,0,{"$f":"IF(ISERROR(VLOOKUP($A106,#REF!,8,0)),0,(VLOOKUP($A106,#REF!,8,0)))","v":0},0,1,0,0,0,0,{"$f":"IF(ISERROR(VLOOKUP($A106,#REF!,8,0)),0,(VLOOKUP($A106,#REF!,8,0)))","v":0},0,1,0,0,0,0,{"$f":"IF(ISERROR(VLOOKUP($A106,#REF!,8,0)),0,(VLOOKUP($A106,#REF!,8,0)))","v":0},0,1,0,0,0,0,{"$f":"IF(ISERROR(VLOOKUP($A106,#REF!,8,0)),0,(VLOOKUP($A106,#REF!,8,0)))","v":0},0,1,0,0,0,0,{"$f":"IF(ISERROR(VLOOKUP($A106,#REF!,8,0)),0,(VLOOKUP($A106,#REF!,8,0)))","v":0},0,1,0,0,0,0,{"$f":"IF(ISERROR(VLOOKUP($A106,#REF!,8,0)),0,(VLOOKUP($A106,#REF!,8,0)))","v":0},0,1,0,0,0,0,{"$f":"IF(ISERROR(VLOOKUP($A106,#REF!,8,0)),0,(VLOOKUP($A106,#REF!,8,0)))","v":0},0,1,0,0,0,0,{"$f":"IF(ISERROR(VLOOKUP($A106,#REF!,8,0)),0,(VLOOKUP($A106,#REF!,8,0)))","v":0},0,1,0,0,0,0,{"$f":"IF(ISERROR(VLOOKUP($A106,#REF!,8,0)),0,(VLOOKUP($A106,#REF!,8,0)))","v":0},0,1,0,0,0,0,{"$f":"IF(ISERROR(VLOOKUP($A106,#REF!,8,0)),0,(VLOOKUP($A106,#REF!,8,0)))","v":0},0,1,0,0,0,0,{"$f":"IF(ISERROR(VLOOKUP($A106,#REF!,8,0)),0,(VLOOKUP($A106,#REF!,8,0)))","v":0},0,1,0,0,0,0,{"$f":"IF(ISERROR(VLOOKUP($A106,#REF!,8,0)),0,(VLOOKUP($A106,#REF!,8,0)))","v":0},0,1,0,0,0,0,{"$f":"IF(ISERROR(VLOOKUP($A106,#REF!,8,0)),0,(VLOOKUP($A106,#REF!,8,0)))","v":0},0,1,0,0,0,0,{"$f":"IF(ISERROR(VLOOKUP($A106,#REF!,8,0)),0,(VLOOKUP($A106,#REF!,8,0)))","v":0},0,1,0,0,0,0,{"$f":"IF(ISERROR(VLOOKUP($A106,#REF!,8,0)),0,(VLOOKUP($A106,#REF!,8,0)))","v":0},0,1,0,0,0,0,{"$f":"IF(ISERROR(VLOOKUP($A106,#REF!,8,0)),0,(VLOOKUP($A106,#REF!,8,0)))","v":0},0,1,0,0,0,0,{"$f":"IF(ISERROR(VLOOKUP($A106,#REF!,8,0)),0,(VLOOKUP($A106,#REF!,8,0)))","v":0},0,1,0,0,0,0,{"$f":"IF(ISERROR(VLOOKUP($A106,#REF!,8,0)),0,(VLOOKUP($A106,#REF!,8,0)))","v":0},0,1,0,0,0,0,{"$f":"IF(ISERROR(VLOOKUP($A106,#REF!,8,0)),0,(VLOOKUP($A106,#REF!,8,0)))","v":0},0,1,0,0,0,0,{"$f":"IF(ISERROR(VLOOKUP($A106,#REF!,8,0)),0,(VLOOKUP($A106,#REF!,8,0)))","v":0},0,1,0,0,0,0,{"$f":"IF(ISERROR(VLOOKUP($A106,#REF!,8,0)),0,(VLOOKUP($A106,#REF!,8,0)))","v":0},0,1,0,0,0,0,{"$f":"IF(ISERROR(VLOOKUP($A106,#REF!,8,0)),0,(VLOOKUP($A106,#REF!,8,0)))","v":0},0,1,0,0,0,0,{"$f":"IF(ISERROR(VLOOKUP($A106,#REF!,8,0)),0,(VLOOKUP($A106,#REF!,8,0)))","v":0},0,1,0,0,0,0,{"$f":"IF(ISERROR(VLOOKUP($A106,#REF!,8,0)),0,(VLOOKUP($A106,#REF!,8,0)))","v":0},0,1,0,0,0,0,{"$f":"IF(ISERROR(VLOOKUP($A106,#REF!,8,0)),0,(VLOOKUP($A106,#REF!,8,0)))","v":0},0,1,0,0,0,0,{"$f":"IF(ISERROR(VLOOKUP($A106,#REF!,8,0)),0,(VLOOKUP($A106,#REF!,8,0)))","v":0},0,1,0,0,0,0,{"$f":"IF(ISERROR(VLOOKUP($A106,#REF!,8,0)),0,(VLOOKUP($A106,#REF!,8,0)))","v":0},0,1,0,0,0,0,{"$f":"IF(ISERROR(VLOOKUP($A106,#REF!,8,0)),0,(VLOOKUP($A106,#REF!,8,0)))","v":0},0,1,0,0,0,0,{"$f":"IF(ISERROR(VLOOKUP($A106,#REF!,8,0)),0,(VLOOKUP($A106,#REF!,8,0)))","v":0},0,1,0,0,0,0,{"$f":"IF(ISERROR(VLOOKUP($A106,#REF!,8,0)),0,(VLOOKUP($A106,#REF!,8,0)))","v":0},0,1,0,0,0,0,{"$f":"IF(ISERROR(VLOOKUP($A106,#REF!,8,0)),0,(VLOOKUP($A106,#REF!,8,0)))","v":0},0,1,0,0,0,0,{"$f":"IF(ISERROR(VLOOKUP($A106,#REF!,8,0)),0,(VLOOKUP($A106,#REF!,8,0)))","v":0},0,1,0,0,0,0,8309.6815000000006,8309.6815000000006,1,0]
["3.0","SUPERESTRUTURA",null,null,0,0,null,0,null,0,null,0,0,0,0,null,0,0,0,0,0,null,0,0,0,0,0,0,null,0,0,0,0,0,0,null,0,0,0,0,0,0,null,0,0,0,0,0,0,null,0,0,0,0,0,0,{"$f":"IF(ISERROR(VLOOKUP(A107,'7ª MEDIÇÃO'!$A$5:$J$1048576,8,0)),0,(VLOOKUP(A107,'7ª MEDIÇÃO'!$A$5:$J$1048576,8,0)))","v":0},0,0,0,0,0,0,{"$f":"IF(ISERROR(VLOOKUP(A107,'8ª MEDIÇÃO'!$A$5:$J$1048576,8,0)),0,(VLOOKUP(A107,'8ª MEDIÇÃO'!$A$5:$J$1048576,8,0)))","v":0},0,0,0,0,0,0,{"$f":"IF(ISERROR(VLOOKUP(A107,'9ª MEDIÇÃO'!$A$5:$J$1048576,8,0)),0,(VLOOKUP(A107,'9ª MEDIÇÃO'!$A$5:$J$1048576,8,0)))","v":0},0,0,0,0,0,0,{"$f":"IF(ISERROR(VLOOKUP(A107,#REF!,8,0)),0,(VLOOKUP(A107,#REF!,8,0)))","v":0},0,0,0,0,0,0,{"$f":"IF(ISERROR(VLOOKUP($A107,#REF!,8,0)),0,(VLOOKUP($A107,#REF!,8,0)))","v":0},0,0,0,0,0,0,{"$f":"IF(ISERROR(VLOOKUP($A107,#REF!,8,0)),0,(VLOOKUP($A107,#REF!,8,0)))","v":0},0,0,0,0,0,0,{"$f":"IF(ISERROR(VLOOKUP($A107,#REF!,8,0)),0,(VLOOKUP($A107,#REF!,8,0)))","v":0},0,0,0,0,0,0,{"$f":"IF(ISERROR(VLOOKUP($A107,#REF!,8,0)),0,(VLOOKUP($A107,#REF!,8,0)))","v":0},0,0,0,0,0,0,{"$f":"IF(ISERROR(VLOOKUP($A107,#REF!,8,0)),0,(VLOOKUP($A107,#REF!,8,0)))","v":0},0,0,0,0,0,0,{"$f":"IF(ISERROR(VLOOKUP($A107,#REF!,8,0)),0,(VLOOKUP($A107,#REF!,8,0)))","v":0},0,0,0,0,0,0,{"$f":"IF(ISERROR(VLOOKUP($A107,#REF!,8,0)),0,(VLOOKUP($A107,#REF!,8,0)))","v":0},0,0,0,0,0,0,{"$f":"IF(ISERROR(VLOOKUP($A107,#REF!,8,0)),0,(VLOOKUP($A107,#REF!,8,0)))","v":0},0,0,0,0,0,0,{"$f":"IF(ISERROR(VLOOKUP($A107,#REF!,8,0)),0,(VLOOKUP($A107,#REF!,8,0)))","v":0},0,0,0,0,0,0,{"$f":"IF(ISERROR(VLOOKUP($A107,#REF!,8,0)),0,(VLOOKUP($A107,#REF!,8,0)))","v":0},0,0,0,0,0,0,{"$f":"IF(ISERROR(VLOOKUP($A107,#REF!,8,0)),0,(VLOOKUP($A107,#REF!,8,0)))","v":0},0,0,0,0,0,0,{"$f":"IF(ISERROR(VLOOKUP($A107,#REF!,8,0)),0,(VLOOKUP($A107,#REF!,8,0)))","v":0},0,0,0,0,0,0,{"$f":"IF(ISERROR(VLOOKUP($A107,#REF!,8,0)),0,(VLOOKUP($A107,#REF!,8,0)))","v":0},0,0,0,0,0,0,{"$f":"IF(ISERROR(VLOOKUP($A107,#REF!,8,0)),0,(VLOOKUP($A107,#REF!,8,0)))","v":0},0,0,0,0,0,0,{"$f":"IF(ISERROR(VLOOKUP($A107,#REF!,8,0)),0,(VLOOKUP($A107,#REF!,8,0)))","v":0},0,0,0,0,0,0,{"$f":"IF(ISERROR(VLOOKUP($A107,#REF!,8,0)),0,(VLOOKUP($A107,#REF!,8,0)))","v":0},0,0,0,0,0,0,{"$f":"IF(ISERROR(VLOOKUP($A107,#REF!,8,0)),0,(VLOOKUP($A107,#REF!,8,0)))","v":0},0,0,0,0,0,0,{"$f":"IF(ISERROR(VLOOKUP($A107,#REF!,8,0)),0,(VLOOKUP($A107,#REF!,8,0)))","v":0},0,0,0,0,0,0,{"$f":"IF(ISERROR(VLOOKUP($A107,#REF!,8,0)),0,(VLOOKUP($A107,#REF!,8,0)))","v":0},0,0,0,0,0,0,{"$f":"IF(ISERROR(VLOOKUP($A107,#REF!,8,0)),0,(VLOOKUP($A107,#REF!,8,0)))","v":0},0,0,0,0,0,0,{"$f":"IF(ISERROR(VLOOKUP($A107,#REF!,8,0)),0,(VLOOKUP($A107,#REF!,8,0)))","v":0},0,0,0,0,0,0,{"$f":"IF(ISERROR(VLOOKUP($A107,#REF!,8,0)),0,(VLOOKUP($A107,#REF!,8,0)))","v":0},0,0,0,0,0,0,{"$f":"IF(ISERROR(VLOOKUP($A107,#REF!,8,0)),0,(VLOOKUP($A107,#REF!,8,0)))","v":0},0,0,0,0,0,0,{"$f":"IF(ISERROR(VLOOKUP($A107,#REF!,8,0)),0,(VLOOKUP($A107,#REF!,8,0)))","v":0},0,0,0,0,0,0,{"$f":"IF(ISERROR(VLOOKUP($A107,#REF!,8,0)),0,(VLOOKUP($A107,#REF!,8,0)))","v":0},0,0,0,0,0,0,{"$f":"IF(ISERROR(VLOOKUP($A107,#REF!,8,0)),0,(VLOOKUP($A107,#REF!,8,0)))","v":0},0,0,0,0,0,0,{"$f":"IF(ISERROR(VLOOKUP($A107,#REF!,8,0)),0,(VLOOKUP($A107,#REF!,8,0)))","v":0},0,0,0,0,0,0,{"$f":"IF(ISERROR(VLOOKUP($A107,#REF!,8,0)),0,(VLOOKUP($A107,#REF!,8,0)))","v":0},0,0,0,0,0,0,{"$f":"IF(ISERROR(VLOOKUP($A107,#REF!,8,0)),0,(VLOOKUP($A107,#REF!,8,0)))","v":0},0,0,0,0,0,0,{"$f":"IF(ISERROR(VLOOKUP($A107,#REF!,8,0)),0,(VLOOKUP($A107,#REF!,8,0)))","v":0},0,0,0,0,0,0,{"$f":"IF(ISERROR(VLOOKUP($A107,#REF!,8,0)),0,(VLOOKUP($A107,#REF!,8,0)))","v":0},0,0,0,0,0,0,{"$f":"IF(ISERROR(VLOOKUP($A107,#REF!,8,0)),0,(VLOOKUP($A107,#REF!,8,0)))","v":0},0,0,0,0,0,0,{"$f":"IF(ISERROR(VLOOKUP($A107,#REF!,8,0)),0,(VLOOKUP($A107,#REF!,8,0)))","v":0},0,0,0,0,0,0,{"$f":"IF(ISERROR(VLOOKUP($A107,#REF!,8,0)),0,(VLOOKUP($A107,#REF!,8,0)))","v":0},0,0,0,0,0,0,{"$f":"IF(ISERROR(VLOOKUP($A107,#REF!,8,0)),0,(VLOOKUP($A107,#REF!,8,0)))","v":0},0,0,0,0,0,0,{"$f":"IF(ISERROR(VLOOKUP($A107,#REF!,8,0)),0,(VLOOKUP($A107,#REF!,8,0)))","v":0},0,0,0,0,0,0,{"$f":"IF(ISERROR(VLOOKUP($A107,#REF!,8,0)),0,(VLOOKUP($A107,#REF!,8,0)))","v":0},0,0,0,0,0,0,{"$f":"IF(ISERROR(VLOOKUP($A107,#REF!,8,0)),0,(VLOOKUP($A107,#REF!,8,0)))","v":0},0,0,0,0,0,0,{"$f":"IF(ISERROR(VLOOKUP($A107,#REF!,8,0)),0,(VLOOKUP($A107,#REF!,8,0)))","v":0},0,0,0,0,0,0,{"$f":"IF(ISERROR(VLOOKUP($A107,#REF!,8,0)),0,(VLOOKUP($A107,#REF!,8,0)))","v":0},0,0,0,0,0,0,{"$f":"IF(ISERROR(VLOOKUP($A107,#REF!,8,0)),0,(VLOOKUP($A107,#REF!,8,0)))","v":0},0,0,0,0,0,0,{"$f":"IF(ISERROR(VLOOKUP($A107,#REF!,8,0)),0,(VLOOKUP($A107,#REF!,8,0)))","v":0},0,0,0,0,0,0,{"$f":"IF(ISERROR(VLOOKUP($A107,#REF!,8,0)),0,(VLOOKUP($A107,#REF!,8,0)))","v":0},0,0,0,0,0,0,{"$f":"IF(ISERROR(VLOOKUP($A107,#REF!,8,0)),0,(VLOOKUP($A107,#REF!,8,0)))","v":0},0,0,0,0,0,0,{"$f":"IF(ISERROR(VLOOKUP($A107,#REF!,8,0)),0,(VLOOKUP($A107,#REF!,8,0)))","v":0},0,0,0,0,0,0,{"$f":"SUM(OJ108:OJ130)","v":2653934.56021138},{"$f":"SUM(OK108:OK130)","v":2653934.56021138},1,0]
["3.1","Concreto usinado BOMBEADO Fck=40mpa, inclusive colocação, espalhamento e acabamento.","m³",2265,2264.9999999999995,0,349.30289800000003,791171.06397000002,17.988240000000001,40743.363600000004,0,0,367.29113800000005,0,831914.42756999994,null,0,0,0,0,0,null,0,0.99999999999999978,0,0,0,0,null,0,0.99999999999999978,0,0,0,0,null,0,0.99999999999999978,0,0,0,0,7.37,3.2538631346578366E-3,0.99999999999999978,2574.3623582600003,132.57332880000001,0,2706.94,5.71,2.5209713024282559E-3,0.99999999999999978,1994.5195475800001,102.71285040000001,0,2097.23,4.1399999999999997,1.8278145695364238E-3,0.99999999999999978,1446.11399772,74.471313600000002,0,1520.59,10.19,4.4988962472406182E-3,0.99999999999999978,3559.3965306200002,183.30016560000001,0,3742.7,203.1,8.9668874172185428E-2,0.99999999999999978,70943.418583799998,3653.411544,0,74596.83,{"$f":"IF(ISERROR(VLOOKUP(A108,#REF!,8,0)),0,(VLOOKUP(A108,#REF!,8,0)))","v":0},0,0.99999999999999978,0,0,0,0,{"$f":"IF(ISERROR(VLOOKUP($A108,#REF!,8,0)),0,(VLOOKUP($A108,#REF!,8,0)))","v":0},0,0.99999999999999978,0,0,0,0,{"$f":"IF(ISERROR(VLOOKUP($A108,#REF!,8,0)),0,(VLOOKUP($A108,#REF!,8,0)))","v":0},0,0.99999999999999978,0,0,0,0,{"$f":"IF(ISERROR(VLOOKUP($A108,#REF!,8,0)),0,(VLOOKUP($A108,#REF!,8,0)))","v":0},0,0.99999999999999978,0,0,0,0,{"$f":"IF(ISERROR(VLOOKUP($A108,#REF!,8,0)),0,(VLOOKUP($A108,#REF!,8,0)))","v":0},0,0.99999999999999978,0,0,0,0,{"$f":"IF(ISERROR(VLOOKUP($A108,#REF!,8,0)),0,(VLOOKUP($A108,#REF!,8,0)))","v":0},0,0.99999999999999978,0,0,0,0,{"$f":"IF(ISERROR(VLOOKUP($A108,#REF!,8,0)),0,(VLOOKUP($A108,#REF!,8,0)))","v":0},0,0.99999999999999978,0,0,0,0,{"$f":"IF(ISERROR(VLOOKUP($A108,#REF!,8,0)),0,(VLOOKUP($A108,#REF!,8,0)))","v":0},0,0.99999999999999978,0,0,0,0,{"$f":"IF(ISERROR(VLOOKUP($A108,#REF!,8,0)),0,(VLOOKUP($A108,#REF!,8,0)))","v":0},0,0.99999999999999978,0,0,0,0,{"$f":"IF(ISERROR(VLOOKUP($A108,#REF!,8,0)),0,(VLOOKUP($A108,#REF!,8,0)))","v":0},{"$f":"IF($D108>0,EK108/$D108,0)","v":0},{"$f":"IF($E108>0,$E108/$D108,0)","v":0.99999999999999978},{"$f":"EK108*$G108","v":0},{"$f":"$I108*EK108","v":0},{"$f":"$K108*EK108","v":0},{"$f":"ROUND($M108*EK108,2)","v":0},{"$f":"IF(ISERROR(VLOOKUP($A108,#REF!,8,0)),0,(VLOOKUP($A108,#REF!,8,0)))","v":0},0,0.99999999999999978,0,0,0,0,{"$f":"IF(ISERROR(VLOOKUP($A108,#REF!,8,0)),0,(VLOOKUP($A108,#REF!,8,0)))","v":0},0,0.99999999999999978,0,0,0,0,{"$f":"IF(ISERROR(VLOOKUP($A108,#REF!,8,0)),0,(VLOOKUP($A108,#REF!,8,0)))","v":0},0,0.99999999999999978,0,0,0,0,{"$f":"IF(ISERROR(VLOOKUP($A108,#REF!,8,0)),0,(VLOOKUP($A108,#REF!,8,0)))","v":0},0,0.99999999999999978,0,0,0,0,{"$f":"IF(ISERROR(VLOOKUP($A108,#REF!,8,0)),0,(VLOOKUP($A108,#REF!,8,0)))","v":0},0,0.99999999999999978,0,0,0,0,{"$f":"IF(ISERROR(VLOOKUP($A108,#REF!,8,0)),0,(VLOOKUP($A108,#REF!,8,0)))","v":0},0,0.99999999999999978,0,0,0,0,{"$f":"IF(ISERROR(VLOOKUP($A108,#REF!,8,0)),0,(VLOOKUP($A108,#REF!,8,0)))","v":0},0,0.99999999999999978,0,0,0,0,{"$f":"IF(ISERROR(VLOOKUP($A108,#REF!,8,0)),0,(VLOOKUP($A108,#REF!,8,0)))","v":0},0,0.99999999999999978,0,0,0,0,{"$f":"IF(ISERROR(VLOOKUP($A108,#REF!,8,0)),0,(VLOOKUP($A108,#REF!,8,0)))","v":0},0,0.99999999999999978,0,0,0,0,{"$f":"IF(ISERROR(VLOOKUP($A108,#REF!,8,0)),0,(VLOOKUP($A108,#REF!,8,0)))","v":0},0,0.99999999999999978,0,0,0,0,{"$f":"IF(ISERROR(VLOOKUP($A108,#REF!,8,0)),0,(VLOOKUP($A108,#REF!,8,0)))","v":0},0,0.99999999999999978,0,0,0,0,{"$f":"IF(ISERROR(VLOOKUP($A108,#REF!,8,0)),0,(VLOOKUP($A108,#REF!,8,0)))","v":0},0,0.99999999999999978,0,0,0,0,{"$f":"IF(ISERROR(VLOOKUP($A108,#REF!,8,0)),0,(VLOOKUP($A108,#REF!,8,0)))","v":0},0,0.99999999999999978,0,0,0,0,{"$f":"IF(ISERROR(VLOOKUP($A108,#REF!,8,0)),0,(VLOOKUP($A108,#REF!,8,0)))","v":0},0,0.99999999999999978,0,0,0,0,{"$f":"IF(ISERROR(VLOOKUP($A108,#REF!,8,0)),0,(VLOOKUP($A108,#REF!,8,0)))","v":0},0,0.99999999999999978,0,0,0,0,{"$f":"IF(ISERROR(VLOOKUP($A108,#REF!,8,0)),0,(VLOOKUP($A108,#REF!,8,0)))","v":0},0,0.99999999999999978,0,0,0,0,{"$f":"IF(ISERROR(VLOOKUP($A108,#REF!,8,0)),0,(VLOOKUP($A108,#REF!,8,0)))","v":0},0,0.99999999999999978,0,0,0,0,{"$f":"IF(ISERROR(VLOOKUP($A108,#REF!,8,0)),0,(VLOOKUP($A108,#REF!,8,0)))","v":0},0,0.99999999999999978,0,0,0,0,{"$f":"IF(ISERROR(VLOOKUP($A108,#REF!,8,0)),0,(VLOOKUP($A108,#REF!,8,0)))","v":0},0,0.99999999999999978,0,0,0,0,{"$f":"IF(ISERROR(VLOOKUP($A108,#REF!,8,0)),0,(VLOOKUP($A108,#REF!,8,0)))","v":0},0,0.99999999999999978,0,0,0,0,{"$f":"IF(ISERROR(VLOOKUP($A108,#REF!,8,0)),0,(VLOOKUP($A108,#REF!,8,0)))","v":0},0,0.99999999999999978,0,0,0,0,{"$f":"IF(ISERROR(VLOOKUP($A108,#REF!,8,0)),0,(VLOOKUP($A108,#REF!,8,0)))","v":0},0,0.99999999999999978,0,0,0,0,{"$f":"IF(ISERROR(VLOOKUP($A108,#REF!,8,0)),0,(VLOOKUP($A108,#REF!,8,0)))","v":0},0,0.99999999999999978,0,0,0,0,{"$f":"IF(ISERROR(VLOOKUP($A108,#REF!,8,0)),0,(VLOOKUP($A108,#REF!,8,0)))","v":0},0,0.99999999999999978,0,0,0,0,{"$f":"IF(ISERROR(VLOOKUP($A108,#REF!,8,0)),0,(VLOOKUP($A108,#REF!,8,0)))","v":0},0,0.99999999999999978,0,0,0,0,{"$f":"IF(ISERROR(VLOOKUP($A108,#REF!,8,0)),0,(VLOOKUP($A108,#REF!,8,0)))","v":0},0,0.99999999999999978,0,0,0,0,{"$f":"IF(ISERROR(VLOOKUP($A108,#REF!,8,0)),0,(VLOOKUP($A108,#REF!,8,0)))","v":0},0,0.99999999999999978,0,0,0,0,{"$f":"IF(ISERROR(VLOOKUP($A108,#REF!,8,0)),0,(VLOOKUP($A108,#REF!,8,0)))","v":0},0,0.99999999999999978,0,0,0,0,{"$f":"IF(ISERROR(VLOOKUP($A108,#REF!,8,0)),0,(VLOOKUP($A108,#REF!,8,0)))","v":0},0,0.99999999999999978,0,0,0,0,{"$f":"IF(ISERROR(VLOOKUP($A108,#REF!,8,0)),0,(VLOOKUP($A108,#REF!,8,0)))","v":0},0,0.99999999999999978,0,0,0,0,{"$f":"IF(ISERROR(VLOOKUP($A108,#REF!,8,0)),0,(VLOOKUP($A108,#REF!,8,0)))","v":0},0,0.99999999999999978,0,0,0,0,{"$f":"IF(ISERROR(VLOOKUP($A108,#REF!,8,0)),0,(VLOOKUP($A108,#REF!,8,0)))","v":0},0,0.99999999999999978,0,0,0,0,{"$f":"IF(ISERROR(VLOOKUP($A108,#REF!,8,0)),0,(VLOOKUP($A108,#REF!,8,0)))","v":0},0,0.99999999999999978,0,0,0,0,{"$f":"IF(ISERROR(VLOOKUP($A108,#REF!,8,0)),0,(VLOOKUP($A108,#REF!,8,0)))","v":0},0,0.99999999999999978,0,0,0,0,{"$f":"IF(ISERROR(VLOOKUP($A108,#REF!,8,0)),0,(VLOOKUP($A108,#REF!,8,0)))","v":0},0,0.99999999999999978,0,0,0,0,{"$f":"IF(ISERROR(VLOOKUP($A108,#REF!,8,0)),0,(VLOOKUP($A108,#REF!,8,0)))","v":0},0,0.99999999999999978,0,0,0,0,{"$f":"E108*M108","v":831914.42756999994},{"$f":"O108","v":831914.42756999994},1,0]
["3.2","Montagem e desmontagem de forma de pilares retangulares e estruturas similares com área média das seções menor ou igual a 0,25 m², pé-direito simples, em chapa de madeira compensada resinada, 4 utilizações. ","m²",920,920,0,18.57555,17089.506000000001,25.377599999999997,23347.391999999996,0,0,43.953149999999994,0,40436.897999999994,null,0,0,0,0,0,null,0,1,0,0,0,0,null,0,1,0,0,0,0,null,0,1,0,0,0,0,82.35,8.951086956521738E-2,1,1529.6965424999999,2089.8453599999998,0,3619.54,76.56,8.3217391304347826E-2,1,1422.144108,1942.909056,0,3365.05,8.42,9.1521739130434789E-3,1,156.40613099999999,213.67939199999998,0,370.09,19.62,2.1326086956521741E-2,1,364.452291,497.90851199999997,0,862.36,58.83,6.3945652173913042E-2,1,1092.7996065,1492.9642079999999,0,2585.7600000000002,{"$f":"IF(ISERROR(VLOOKUP(A109,#REF!,8,0)),0,(VLOOKUP(A109,#REF!,8,0)))","v":0},0,1,0,0,0,0,{"$f":"IF(ISERROR(VLOOKUP($A109,#REF!,8,0)),0,(VLOOKUP($A109,#REF!,8,0)))","v":0},0,1,0,0,0,0,{"$f":"IF(ISERROR(VLOOKUP($A109,#REF!,8,0)),0,(VLOOKUP($A109,#REF!,8,0)))","v":0},0,1,0,0,0,0,{"$f":"IF(ISERROR(VLOOKUP($A109,#REF!,8,0)),0,(VLOOKUP($A109,#REF!,8,0)))","v":0},0,1,0,0,0,0,{"$f":"IF(ISERROR(VLOOKUP($A109,#REF!,8,0)),0,(VLOOKUP($A109,#REF!,8,0)))","v":0},0,1,0,0,0,0,{"$f":"IF(ISERROR(VLOOKUP($A109,#REF!,8,0)),0,(VLOOKUP($A109,#REF!,8,0)))","v":0},0,1,0,0,0,0,{"$f":"IF(ISERROR(VLOOKUP($A109,#REF!,8,0)),0,(VLOOKUP($A109,#REF!,8,0)))","v":0},0,1,0,0,0,0,{"$f":"IF(ISERROR(VLOOKUP($A109,#REF!,8,0)),0,(VLOOKUP($A109,#REF!,8,0)))","v":0},0,1,0,0,0,0,{"$f":"IF(ISERROR(VLOOKUP($A109,#REF!,8,0)),0,(VLOOKUP($A109,#REF!,8,0)))","v":0},0,1,0,0,0,0,{"$f":"IF(ISERROR(VLOOKUP($A109,#REF!,8,0)),0,(VLOOKUP($A109,#REF!,8,0)))","v":0},{"$f":"IF($D109>0,EK109/$D109,0)","v":0},{"$f":"IF($E109>0,$E109/$D109,0)","v":1},{"$f":"EK109*$G109","v":0},{"$f":"$I109*EK109","v":0},{"$f":"$K109*EK109","v":0},{"$f":"ROUND($M109*EK109,2)","v":0},{"$f":"IF(ISERROR(VLOOKUP($A109,#REF!,8,0)),0,(VLOOKUP($A109,#REF!,8,0)))","v":0},0,1,0,0,0,0,{"$f":"IF(ISERROR(VLOOKUP($A109,#REF!,8,0)),0,(VLOOKUP($A109,#REF!,8,0)))","v":0},0,1,0,0,0,0,{"$f":"IF(ISERROR(VLOOKUP($A109,#REF!,8,0)),0,(VLOOKUP($A109,#REF!,8,0)))","v":0},0,1,0,0,0,0,{"$f":"IF(ISERROR(VLOOKUP($A109,#REF!,8,0)),0,(VLOOKUP($A109,#REF!,8,0)))","v":0},0,1,0,0,0,0,{"$f":"IF(ISERROR(VLOOKUP($A109,#REF!,8,0)),0,(VLOOKUP($A109,#REF!,8,0)))","v":0},0,1,0,0,0,0,{"$f":"IF(ISERROR(VLOOKUP($A109,#REF!,8,0)),0,(VLOOKUP($A109,#REF!,8,0)))","v":0},0,1,0,0,0,0,{"$f":"IF(ISERROR(VLOOKUP($A109,#REF!,8,0)),0,(VLOOKUP($A109,#REF!,8,0)))","v":0},0,1,0,0,0,0,{"$f":"IF(ISERROR(VLOOKUP($A109,#REF!,8,0)),0,(VLOOKUP($A109,#REF!,8,0)))","v":0},0,1,0,0,0,0,{"$f":"IF(ISERROR(VLOOKUP($A109,#REF!,8,0)),0,(VLOOKUP($A109,#REF!,8,0)))","v":0},0,1,0,0,0,0,{"$f":"IF(ISERROR(VLOOKUP($A109,#REF!,8,0)),0,(VLOOKUP($A109,#REF!,8,0)))","v":0},0,1,0,0,0,0,{"$f":"IF(ISERROR(VLOOKUP($A109,#REF!,8,0)),0,(VLOOKUP($A109,#REF!,8,0)))","v":0},0,1,0,0,0,0,{"$f":"IF(ISERROR(VLOOKUP($A109,#REF!,8,0)),0,(VLOOKUP($A109,#REF!,8,0)))","v":0},0,1,0,0,0,0,{"$f":"IF(ISERROR(VLOOKUP($A109,#REF!,8,0)),0,(VLOOKUP($A109,#REF!,8,0)))","v":0},0,1,0,0,0,0,{"$f":"IF(ISERROR(VLOOKUP($A109,#REF!,8,0)),0,(VLOOKUP($A109,#REF!,8,0)))","v":0},0,1,0,0,0,0,{"$f":"IF(ISERROR(VLOOKUP($A109,#REF!,8,0)),0,(VLOOKUP($A109,#REF!,8,0)))","v":0},0,1,0,0,0,0,{"$f":"IF(ISERROR(VLOOKUP($A109,#REF!,8,0)),0,(VLOOKUP($A109,#REF!,8,0)))","v":0},0,1,0,0,0,0,{"$f":"IF(ISERROR(VLOOKUP($A109,#REF!,8,0)),0,(VLOOKUP($A109,#REF!,8,0)))","v":0},0,1,0,0,0,0,{"$f":"IF(ISERROR(VLOOKUP($A109,#REF!,8,0)),0,(VLOOKUP($A109,#REF!,8,0)))","v":0},0,1,0,0,0,0,{"$f":"IF(ISERROR(VLOOKUP($A109,#REF!,8,0)),0,(VLOOKUP($A109,#REF!,8,0)))","v":0},0,1,0,0,0,0,{"$f":"IF(ISERROR(VLOOKUP($A109,#REF!,8,0)),0,(VLOOKUP($A109,#REF!,8,0)))","v":0},0,1,0,0,0,0,{"$f":"IF(ISERROR(VLOOKUP($A109,#REF!,8,0)),0,(VLOOKUP($A109,#REF!,8,0)))","v":0},0,1,0,0,0,0,{"$f":"IF(ISERROR(VLOOKUP($A109,#REF!,8,0)),0,(VLOOKUP($A109,#REF!,8,0)))","v":0},0,1,0,0,0,0,{"$f":"IF(ISERROR(VLOOKUP($A109,#REF!,8,0)),0,(VLOOKUP($A109,#REF!,8,0)))","v":0},0,1,0,0,0,0,{"$f":"IF(ISERROR(VLOOKUP($A109,#REF!,8,0)),0,(VLOOKUP($A109,#REF!,8,0)))","v":0},0,1,0,0,0,0,{"$f":"IF(ISERROR(VLOOKUP($A109,#REF!,8,0)),0,(VLOOKUP($A109,#REF!,8,0)))","v":0},0,1,0,0,0,0,{"$f":"IF(ISERROR(VLOOKUP($A109,#REF!,8,0)),0,(VLOOKUP($A109,#REF!,8,0)))","v":0},0,1,0,0,0,0,{"$f":"IF(ISERROR(VLOOKUP($A109,#REF!,8,0)),0,(VLOOKUP($A109,#REF!,8,0)))","v":0},0,1,0,0,0,0,{"$f":"IF(ISERROR(VLOOKUP($A109,#REF!,8,0)),0,(VLOOKUP($A109,#REF!,8,0)))","v":0},0,1,0,0,0,0,{"$f":"IF(ISERROR(VLOOKUP($A109,#REF!,8,0)),0,(VLOOKUP($A109,#REF!,8,0)))","v":0},0,1,0,0,0,0,{"$f":"IF(ISERROR(VLOOKUP($A109,#REF!,8,0)),0,(VLOOKUP($A109,#REF!,8,0)))","v":0},0,1,0,0,0,0,{"$f":"IF(ISERROR(VLOOKUP($A109,#REF!,8,0)),0,(VLOOKUP($A109,#REF!,8,0)))","v":0},0,1,0,0,0,0,{"$f":"IF(ISERROR(VLOOKUP($A109,#REF!,8,0)),0,(VLOOKUP($A109,#REF!,8,0)))","v":0},0,1,0,0,0,0,{"$f":"IF(ISERROR(VLOOKUP($A109,#REF!,8,0)),0,(VLOOKUP($A109,#REF!,8,0)))","v":0},0,1,0,0,0,0,{"$f":"IF(ISERROR(VLOOKUP($A109,#REF!,8,0)),0,(VLOOKUP($A109,#REF!,8,0)))","v":0},0,1,0,0,0,0,{"$f":"IF(ISERROR(VLOOKUP($A109,#REF!,8,0)),0,(VLOOKUP($A109,#REF!,8,0)))","v":0},0,1,0,0,0,0,{"$f":"IF(ISERROR(VLOOKUP($A109,#REF!,8,0)),0,(VLOOKUP($A109,#REF!,8,0)))","v":0},0,1,0,0,0,0,40436.897999999994,40436.897999999994,1,0]
["3.3","Montagem e desmontagem de forma de pilares retangulares e estruturas similares com área média das seções maior que 0,25 m², pé-direito simples, em chapa de madeira compensada resinada, 4 utilizações. ","m²",1379,1379,0,18.57555,25615.68345,20.998719999999999,28957.23488,0,0,39.574269999999999,0,54572.91833,null,0,0,0,0,0,null,0,1,0,0,0,0,null,0,1,0,0,0,0,null,0,1,0,0,0,0,null,0,1,0,0,0,0,37.18,2.6961566352429297E-2,1,690.63894900000003,780.73240959999998,0,1471.37,189.56,0.13746192893401016,1,3521.1812580000001,3980.5173631999996,0,7501.7,3.73,2.7048585931834664E-3,1,69.286801499999996,78.325225599999996,0,147.61000000000001,{"$f":"IF(ISERROR(VLOOKUP(A110,'9ª MEDIÇÃO'!$A$5:$J$1048576,8,0)),0,(VLOOKUP(A110,'9ª MEDIÇÃO'!$A$5:$J$1048576,8,0)))","v":0},0,1,0,0,0,0,{"$f":"IF(ISERROR(VLOOKUP(A110,#REF!,8,0)),0,(VLOOKUP(A110,#REF!,8,0)))","v":0},0,1,0,0,0,0,{"$f":"IF(ISERROR(VLOOKUP($A110,#REF!,8,0)),0,(VLOOKUP($A110,#REF!,8,0)))","v":0},0,1,0,0,0,0,{"$f":"IF(ISERROR(VLOOKUP($A110,#REF!,8,0)),0,(VLOOKUP($A110,#REF!,8,0)))","v":0},0,1,0,0,0,0,{"$f":"IF(ISERROR(VLOOKUP($A110,#REF!,8,0)),0,(VLOOKUP($A110,#REF!,8,0)))","v":0},0,1,0,0,0,0,{"$f":"IF(ISERROR(VLOOKUP($A110,#REF!,8,0)),0,(VLOOKUP($A110,#REF!,8,0)))","v":0},0,1,0,0,0,0,{"$f":"IF(ISERROR(VLOOKUP($A110,#REF!,8,0)),0,(VLOOKUP($A110,#REF!,8,0)))","v":0},0,1,0,0,0,0,{"$f":"IF(ISERROR(VLOOKUP($A110,#REF!,8,0)),0,(VLOOKUP($A110,#REF!,8,0)))","v":0},0,1,0,0,0,0,{"$f":"IF(ISERROR(VLOOKUP($A110,#REF!,8,0)),0,(VLOOKUP($A110,#REF!,8,0)))","v":0},0,1,0,0,0,0,{"$f":"IF(ISERROR(VLOOKUP($A110,#REF!,8,0)),0,(VLOOKUP($A110,#REF!,8,0)))","v":0},0,1,0,0,0,0,{"$f":"IF(ISERROR(VLOOKUP($A110,#REF!,8,0)),0,(VLOOKUP($A110,#REF!,8,0)))","v":0},{"$f":"IF($D110>0,EK110/$D110,0)","v":0},{"$f":"IF($E110>0,$E110/$D110,0)","v":1},{"$f":"EK110*$G110","v":0},{"$f":"$I110*EK110","v":0},{"$f":"$K110*EK110","v":0},{"$f":"ROUND($M110*EK110,2)","v":0},{"$f":"IF(ISERROR(VLOOKUP($A110,#REF!,8,0)),0,(VLOOKUP($A110,#REF!,8,0)))","v":0},0,1,0,0,0,0,{"$f":"IF(ISERROR(VLOOKUP($A110,#REF!,8,0)),0,(VLOOKUP($A110,#REF!,8,0)))","v":0},0,1,0,0,0,0,{"$f":"IF(ISERROR(VLOOKUP($A110,#REF!,8,0)),0,(VLOOKUP($A110,#REF!,8,0)))","v":0},0,1,0,0,0,0,{"$f":"IF(ISERROR(VLOOKUP($A110,#REF!,8,0)),0,(VLOOKUP($A110,#REF!,8,0)))","v":0},0,1,0,0,0,0,{"$f":"IF(ISERROR(VLOOKUP($A110,#REF!,8,0)),0,(VLOOKUP($A110,#REF!,8,0)))","v":0},0,1,0,0,0,0,{"$f":"IF(ISERROR(VLOOKUP($A110,#REF!,8,0)),0,(VLOOKUP($A110,#REF!,8,0)))","v":0},0,1,0,0,0,0,{"$f":"IF(ISERROR(VLOOKUP($A110,#REF!,8,0)),0,(VLOOKUP($A110,#REF!,8,0)))","v":0},0,1,0,0,0,0,{"$f":"IF(ISERROR(VLOOKUP($A110,#REF!,8,0)),0,(VLOOKUP($A110,#REF!,8,0)))","v":0},0,1,0,0,0,0,{"$f":"IF(ISERROR(VLOOKUP($A110,#REF!,8,0)),0,(VLOOKUP($A110,#REF!,8,0)))","v":0},0,1,0,0,0,0,{"$f":"IF(ISERROR(VLOOKUP($A110,#REF!,8,0)),0,(VLOOKUP($A110,#REF!,8,0)))","v":0},0,1,0,0,0,0,{"$f":"IF(ISERROR(VLOOKUP($A110,#REF!,8,0)),0,(VLOOKUP($A110,#REF!,8,0)))","v":0},0,1,0,0,0,0,{"$f":"IF(ISERROR(VLOOKUP($A110,#REF!,8,0)),0,(VLOOKUP($A110,#REF!,8,0)))","v":0},0,1,0,0,0,0,{"$f":"IF(ISERROR(VLOOKUP($A110,#REF!,8,0)),0,(VLOOKUP($A110,#REF!,8,0)))","v":0},0,1,0,0,0,0,{"$f":"IF(ISERROR(VLOOKUP($A110,#REF!,8,0)),0,(VLOOKUP($A110,#REF!,8,0)))","v":0},0,1,0,0,0,0,{"$f":"IF(ISERROR(VLOOKUP($A110,#REF!,8,0)),0,(VLOOKUP($A110,#REF!,8,0)))","v":0},0,1,0,0,0,0,{"$f":"IF(ISERROR(VLOOKUP($A110,#REF!,8,0)),0,(VLOOKUP($A110,#REF!,8,0)))","v":0},0,1,0,0,0,0,{"$f":"IF(ISERROR(VLOOKUP($A110,#REF!,8,0)),0,(VLOOKUP($A110,#REF!,8,0)))","v":0},0,1,0,0,0,0,{"$f":"IF(ISERROR(VLOOKUP($A110,#REF!,8,0)),0,(VLOOKUP($A110,#REF!,8,0)))","v":0},0,1,0,0,0,0,{"$f":"IF(ISERROR(VLOOKUP($A110,#REF!,8,0)),0,(VLOOKUP($A110,#REF!,8,0)))","v":0},0,1,0,0,0,0,{"$f":"IF(ISERROR(VLOOKUP($A110,#REF!,8,0)),0,(VLOOKUP($A110,#REF!,8,0)))","v":0},0,1,0,0,0,0,{"$f":"IF(ISERROR(VLOOKUP($A110,#REF!,8,0)),0,(VLOOKUP($A110,#REF!,8,0)))","v":0},0,1,0,0,0,0,{"$f":"IF(ISERROR(VLOOKUP($A110,#REF!,8,0)),0,(VLOOKUP($A110,#REF!,8,0)))","v":0},0,1,0,0,0,0,{"$f":"IF(ISERROR(VLOOKUP($A110,#REF!,8,0)),0,(VLOOKUP($A110,#REF!,8,0)))","v":0},0,1,0,0,0,0,{"$f":"IF(ISERROR(VLOOKUP($A110,#REF!,8,0)),0,(VLOOKUP($A110,#REF!,8,0)))","v":0},0,1,0,0,0,0,{"$f":"IF(ISERROR(VLOOKUP($A110,#REF!,8,0)),0,(VLOOKUP($A110,#REF!,8,0)))","v":0},0,1,0,0,0,0,{"$f":"IF(ISERROR(VLOOKUP($A110,#REF!,8,0)),0,(VLOOKUP($A110,#REF!,8,0)))","v":0},0,1,0,0,0,0,{"$f":"IF(ISERROR(VLOOKUP($A110,#REF!,8,0)),0,(VLOOKUP($A110,#REF!,8,0)))","v":0},0,1,0,0,0,0,{"$f":"IF(ISERROR(VLOOKUP($A110,#REF!,8,0)),0,(VLOOKUP($A110,#REF!,8,0)))","v":0},0,1,0,0,0,0,{"$f":"IF(ISERROR(VLOOKUP($A110,#REF!,8,0)),0,(VLOOKUP($A110,#REF!,8,0)))","v":0},0,1,0,0,0,0,{"$f":"IF(ISERROR(VLOOKUP($A110,#REF!,8,0)),0,(VLOOKUP($A110,#REF!,8,0)))","v":0},0,1,0,0,0,0,{"$f":"IF(ISERROR(VLOOKUP($A110,#REF!,8,0)),0,(VLOOKUP($A110,#REF!,8,0)))","v":0},0,1,0,0,0,0,{"$f":"IF(ISERROR(VLOOKUP($A110,#REF!,8,0)),0,(VLOOKUP($A110,#REF!,8,0)))","v":0},0,1,0,0,0,0,{"$f":"IF(ISERROR(VLOOKUP($A110,#REF!,8,0)),0,(VLOOKUP($A110,#REF!,8,0)))","v":0},0,1,0,0,0,0,{"$f":"IF(ISERROR(VLOOKUP($A110,#REF!,8,0)),0,(VLOOKUP($A110,#REF!,8,0)))","v":0},0,1,0,0,0,0,{"$f":"IF(ISERROR(VLOOKUP($A110,#REF!,8,0)),0,(VLOOKUP($A110,#REF!,8,0)))","v":0},0,1,0,0,0,0,{"$f":"IF(ISERROR(VLOOKUP($A110,#REF!,8,0)),0,(VLOOKUP($A110,#REF!,8,0)))","v":0},0,1,0,0,0,0,54572.91833,54572.91833,1,0]
["3.4","Montagem e desmontagem de fôrma de viga, escoramento metálico, pé-direito simples, em chapa de madeira resinada, 2 utilizações.","m²",5408,5405.5700000000006,2.4299999999993815,22.597304000000001,122206.22003200001,52.40972,283431.76575999998,0,0,75.007024000000001,182.26706831995361,405455.71872368007,null,0,0,0,0,0,null,0,0.99955066568047346,0,0,0,0,null,0,0.99955066568047346,0,0,0,0,null,0,0.99955066568047346,0,0,0,0,null,0,0.99955066568047346,0,0,0,0,null,0,0.99955066568047346,0,0,0,0,238.73,4.4143860946745557E-2,0.99955066568047346,5394.6543839200003,12511.772455599999,0,17906.43,223.49,4.1325813609467459E-2,0.99955066568047346,5050.2714709600004,11713.048322800001,0,16763.32,72.5,1.3406065088757397E-2,0.99955066568047346,1638.3045400000001,3799.7047000000002,0,5438.01,{"$f":"IF(ISERROR(VLOOKUP(A111,#REF!,8,0)),0,(VLOOKUP(A111,#REF!,8,0)))","v":0},0,0.99955066568047346,0,0,0,0,{"$f":"IF(ISERROR(VLOOKUP($A111,#REF!,8,0)),0,(VLOOKUP($A111,#REF!,8,0)))","v":0},0,0.99955066568047346,0,0,0,0,{"$f":"IF(ISERROR(VLOOKUP($A111,#REF!,8,0)),0,(VLOOKUP($A111,#REF!,8,0)))","v":0},0,0.99955066568047346,0,0,0,0,{"$f":"IF(ISERROR(VLOOKUP($A111,#REF!,8,0)),0,(VLOOKUP($A111,#REF!,8,0)))","v":0},0,0.99955066568047346,0,0,0,0,{"$f":"IF(ISERROR(VLOOKUP($A111,#REF!,8,0)),0,(VLOOKUP($A111,#REF!,8,0)))","v":0},0,0.99955066568047346,0,0,0,0,{"$f":"IF(ISERROR(VLOOKUP($A111,#REF!,8,0)),0,(VLOOKUP($A111,#REF!,8,0)))","v":0},0,0.99955066568047346,0,0,0,0,{"$f":"IF(ISERROR(VLOOKUP($A111,#REF!,8,0)),0,(VLOOKUP($A111,#REF!,8,0)))","v":0},0,0.99955066568047346,0,0,0,0,{"$f":"IF(ISERROR(VLOOKUP($A111,#REF!,8,0)),0,(VLOOKUP($A111,#REF!,8,0)))","v":0},0,0.99955066568047346,0,0,0,0,{"$f":"IF(ISERROR(VLOOKUP($A111,#REF!,8,0)),0,(VLOOKUP($A111,#REF!,8,0)))","v":0},0,0.99955066568047346,0,0,0,0,{"$f":"IF(ISERROR(VLOOKUP($A111,#REF!,8,0)),0,(VLOOKUP($A111,#REF!,8,0)))","v":0},{"$f":"IF($D111>0,EK111/$D111,0)","v":0},{"$f":"IF($E111>0,$E111/$D111,0)","v":0.99955066568047346},{"$f":"EK111*$G111","v":0},{"$f":"$I111*EK111","v":0},0,{"$f":"ROUND($M111*EK111,2)","v":0},{"$f":"IF(ISERROR(VLOOKUP($A111,#REF!,8,0)),0,(VLOOKUP($A111,#REF!,8,0)))","v":0},0,0.99955066568047346,0,0,0,0,{"$f":"IF(ISERROR(VLOOKUP($A111,#REF!,8,0)),0,(VLOOKUP($A111,#REF!,8,0)))","v":0},0,0.99955066568047346,0,0,0,0,{"$f":"IF(ISERROR(VLOOKUP($A111,#REF!,8,0)),0,(VLOOKUP($A111,#REF!,8,0)))","v":0},0,0.99955066568047346,0,0,0,0,{"$f":"IF(ISERROR(VLOOKUP($A111,#REF!,8,0)),0,(VLOOKUP($A111,#REF!,8,0)))","v":0},0,0.99955066568047346,0,0,0,0,{"$f":"IF(ISERROR(VLOOKUP($A111,#REF!,8,0)),0,(VLOOKUP($A111,#REF!,8,0)))","v":0},0,0.99955066568047346,0,0,0,0,{"$f":"IF(ISERROR(VLOOKUP($A111,#REF!,8,0)),0,(VLOOKUP($A111,#REF!,8,0)))","v":0},0,0.99955066568047346,0,0,0,0,{"$f":"IF(ISERROR(VLOOKUP($A111,#REF!,8,0)),0,(VLOOKUP($A111,#REF!,8,0)))","v":0},0,0.99955066568047346,0,0,0,0,{"$f":"IF(ISERROR(VLOOKUP($A111,#REF!,8,0)),0,(VLOOKUP($A111,#REF!,8,0)))","v":0},0,0.99955066568047346,0,0,0,0,{"$f":"IF(ISERROR(VLOOKUP($A111,#REF!,8,0)),0,(VLOOKUP($A111,#REF!,8,0)))","v":0},0,0.99955066568047346,0,0,0,0,{"$f":"IF(ISERROR(VLOOKUP($A111,#REF!,8,0)),0,(VLOOKUP($A111,#REF!,8,0)))","v":0},0,0.99955066568047346,0,0,0,0,{"$f":"IF(ISERROR(VLOOKUP($A111,#REF!,8,0)),0,(VLOOKUP($A111,#REF!,8,0)))","v":0},0,0.99955066568047346,0,0,0,0,{"$f":"IF(ISERROR(VLOOKUP($A111,#REF!,8,0)),0,(VLOOKUP($A111,#REF!,8,0)))","v":0},0,0.99955066568047346,0,0,0,0,{"$f":"IF(ISERROR(VLOOKUP($A111,#REF!,8,0)),0,(VLOOKUP($A111,#REF!,8,0)))","v":0},0,0.99955066568047346,0,0,0,0,{"$f":"IF(ISERROR(VLOOKUP($A111,#REF!,8,0)),0,(VLOOKUP($A111,#REF!,8,0)))","v":0},0,0.99955066568047346,0,0,0,0,{"$f":"IF(ISERROR(VLOOKUP($A111,#REF!,8,0)),0,(VLOOKUP($A111,#REF!,8,0)))","v":0},0,0.99955066568047346,0,0,0,0,{"$f":"IF(ISERROR(VLOOKUP($A111,#REF!,8,0)),0,(VLOOKUP($A111,#REF!,8,0)))","v":0},0,0.99955066568047346,0,0,0,0,{"$f":"IF(ISERROR(VLOOKUP($A111,#REF!,8,0)),0,(VLOOKUP($A111,#REF!,8,0)))","v":0},0,0.99955066568047346,0,0,0,0,{"$f":"IF(ISERROR(VLOOKUP($A111,#REF!,8,0)),0,(VLOOKUP($A111,#REF!,8,0)))","v":0},0,0.99955066568047346,0,0,0,0,{"$f":"IF(ISERROR(VLOOKUP($A111,#REF!,8,0)),0,(VLOOKUP($A111,#REF!,8,0)))","v":0},0,0.99955066568047346,0,0,0,0,{"$f":"IF(ISERROR(VLOOKUP($A111,#REF!,8,0)),0,(VLOOKUP($A111,#REF!,8,0)))","v":0},0,0.99955066568047346,0,0,0,0,{"$f":"IF(ISERROR(VLOOKUP($A111,#REF!,8,0)),0,(VLOOKUP($A111,#REF!,8,0)))","v":0},0,0.99955066568047346,0,0,0,0,{"$f":"IF(ISERROR(VLOOKUP($A111,#REF!,8,0)),0,(VLOOKUP($A111,#REF!,8,0)))","v":0},0,0.99955066568047346,0,0,0,0,{"$f":"IF(ISERROR(VLOOKUP($A111,#REF!,8,0)),0,(VLOOKUP($A111,#REF!,8,0)))","v":0},0,0.99955066568047346,0,0,0,0,{"$f":"IF(ISERROR(VLOOKUP($A111,#REF!,8,0)),0,(VLOOKUP($A111,#REF!,8,0)))","v":0},0,0.99955066568047346,0,0,0,0,{"$f":"IF(ISERROR(VLOOKUP($A111,#REF!,8,0)),0,(VLOOKUP($A111,#REF!,8,0)))","v":0},0,0.99955066568047346,0,0,0,0,{"$f":"IF(ISERROR(VLOOKUP($A111,#REF!,8,0)),0,(VLOOKUP($A111,#REF!,8,0)))","v":0},0,0.99955066568047346,0,0,0,0,{"$f":"IF(ISERROR(VLOOKUP($A111,#REF!,8,0)),0,(VLOOKUP($A111,#REF!,8,0)))","v":0},0,0.99955066568047346,0,0,0,0,{"$f":"IF(ISERROR(VLOOKUP($A111,#REF!,8,0)),0,(VLOOKUP($A111,#REF!,8,0)))","v":0},0,0.99955066568047346,0,0,0,0,{"$f":"IF(ISERROR(VLOOKUP($A111,#REF!,8,0)),0,(VLOOKUP($A111,#REF!,8,0)))","v":0},0,0.99955066568047346,0,0,0,0,{"$f":"IF(ISERROR(VLOOKUP($A111,#REF!,8,0)),0,(VLOOKUP($A111,#REF!,8,0)))","v":0},0,0.99955066568047346,0,0,0,0,{"$f":"IF(ISERROR(VLOOKUP($A111,#REF!,8,0)),0,(VLOOKUP($A111,#REF!,8,0)))","v":0},0,0.99955066568047346,0,0,0,0,{"$f":"IF(ISERROR(VLOOKUP($A111,#REF!,8,0)),0,(VLOOKUP($A111,#REF!,8,0)))","v":0},0,0.99955066568047346,0,0,0,0,{"$f":"IF(ISERROR(VLOOKUP($A111,#REF!,8,0)),0,(VLOOKUP($A111,#REF!,8,0)))","v":0},0,0.99955066568047346,0,0,0,0,{"$f":"IF(ISERROR(VLOOKUP($A111,#REF!,8,0)),0,(VLOOKUP($A111,#REF!,8,0)))","v":0},0,0.99955066568047346,0,0,0,0,{"$f":"IF(ISERROR(VLOOKUP($A111,#REF!,8,0)),0,(VLOOKUP($A111,#REF!,8,0)))","v":0},0,0.99955066568047346,0,0,0,0,{"$f":"IF(ISERROR(VLOOKUP($A111,#REF!,8,0)),0,(VLOOKUP($A111,#REF!,8,0)))","v":0},0,0.99955066568047346,0,0,0,0,405455.71872368007,405455.71872368007,1,0]
["3.5","Montagem e Desmontagem de Fôrma de Laje Maciça Com Área Média Menor ou Igual a 20 m², Pé-Direito Simples, em chapa de madeira compensada Resinada, 4 utilizações, incluso escoramento metálico.","m²",191,191,0,10.756127999999999,2054.4204479999999,11.842879999999999,2261.99008,0,0,22.599007999999998,0,4316.4105279999994,null,0,0,0,0,0,null,0,1,0,0,0,0,null,0,1,0,0,0,0,null,0,1,0,0,0,0,null,0,1,0,0,0,0,null,0,1,0,0,0,0,{"$f":"IF(ISERROR(VLOOKUP(A112,'7ª MEDIÇÃO'!$A$5:$J$1048576,8,0)),0,(VLOOKUP(A112,'7ª MEDIÇÃO'!$A$5:$J$1048576,8,0)))","v":0},0,1,0,0,0,0,20.62,0.10795811518324608,1,221.79135935999997,244.2001856,0,465.99,137.59,0.72036649214659687,1,1479.9356515199997,1629.4618591999999,0,3109.4,{"$f":"IF(ISERROR(VLOOKUP(A112,#REF!,8,0)),0,(VLOOKUP(A112,#REF!,8,0)))","v":0},0,1,0,0,0,0,{"$f":"IF(ISERROR(VLOOKUP($A112,#REF!,8,0)),0,(VLOOKUP($A112,#REF!,8,0)))","v":0},0,1,0,0,0,0,{"$f":"IF(ISERROR(VLOOKUP($A112,#REF!,8,0)),0,(VLOOKUP($A112,#REF!,8,0)))","v":0},0,1,0,0,0,0,{"$f":"IF(ISERROR(VLOOKUP($A112,#REF!,8,0)),0,(VLOOKUP($A112,#REF!,8,0)))","v":0},0,1,0,0,0,0,{"$f":"IF(ISERROR(VLOOKUP($A112,#REF!,8,0)),0,(VLOOKUP($A112,#REF!,8,0)))","v":0},0,1,0,0,0,0,{"$f":"IF(ISERROR(VLOOKUP($A112,#REF!,8,0)),0,(VLOOKUP($A112,#REF!,8,0)))","v":0},0,1,0,0,0,0,{"$f":"IF(ISERROR(VLOOKUP($A112,#REF!,8,0)),0,(VLOOKUP($A112,#REF!,8,0)))","v":0},0,1,0,0,0,0,{"$f":"IF(ISERROR(VLOOKUP($A112,#REF!,8,0)),0,(VLOOKUP($A112,#REF!,8,0)))","v":0},0,1,0,0,0,0,{"$f":"IF(ISERROR(VLOOKUP($A112,#REF!,8,0)),0,(VLOOKUP($A112,#REF!,8,0)))","v":0},0,1,0,0,0,0,{"$f":"IF(ISERROR(VLOOKUP($A112,#REF!,8,0)),0,(VLOOKUP($A112,#REF!,8,0)))","v":0},0,1,0,0,0,0,{"$f":"IF(ISERROR(VLOOKUP($A112,#REF!,8,0)),0,(VLOOKUP($A112,#REF!,8,0)))","v":0},0,1,0,0,0,0,{"$f":"IF(ISERROR(VLOOKUP($A112,#REF!,8,0)),0,(VLOOKUP($A112,#REF!,8,0)))","v":0},0,1,0,0,0,0,{"$f":"IF(ISERROR(VLOOKUP($A112,#REF!,8,0)),0,(VLOOKUP($A112,#REF!,8,0)))","v":0},0,1,0,0,0,0,{"$f":"IF(ISERROR(VLOOKUP($A112,#REF!,8,0)),0,(VLOOKUP($A112,#REF!,8,0)))","v":0},0,1,0,0,0,0,{"$f":"IF(ISERROR(VLOOKUP($A112,#REF!,8,0)),0,(VLOOKUP($A112,#REF!,8,0)))","v":0},0,1,0,0,0,0,{"$f":"IF(ISERROR(VLOOKUP($A112,#REF!,8,0)),0,(VLOOKUP($A112,#REF!,8,0)))","v":0},0,1,0,0,0,0,{"$f":"IF(ISERROR(VLOOKUP($A112,#REF!,8,0)),0,(VLOOKUP($A112,#REF!,8,0)))","v":0},0,1,0,0,0,0,{"$f":"IF(ISERROR(VLOOKUP($A112,#REF!,8,0)),0,(VLOOKUP($A112,#REF!,8,0)))","v":0},0,1,0,0,0,0,{"$f":"IF(ISERROR(VLOOKUP($A112,#REF!,8,0)),0,(VLOOKUP($A112,#REF!,8,0)))","v":0},0,1,0,0,0,0,{"$f":"IF(ISERROR(VLOOKUP($A112,#REF!,8,0)),0,(VLOOKUP($A112,#REF!,8,0)))","v":0},0,1,0,0,0,0,{"$f":"IF(ISERROR(VLOOKUP($A112,#REF!,8,0)),0,(VLOOKUP($A112,#REF!,8,0)))","v":0},0,1,0,0,0,0,{"$f":"IF(ISERROR(VLOOKUP($A112,#REF!,8,0)),0,(VLOOKUP($A112,#REF!,8,0)))","v":0},0,1,0,0,0,0,{"$f":"IF(ISERROR(VLOOKUP($A112,#REF!,8,0)),0,(VLOOKUP($A112,#REF!,8,0)))","v":0},0,1,0,0,0,0,{"$f":"IF(ISERROR(VLOOKUP($A112,#REF!,8,0)),0,(VLOOKUP($A112,#REF!,8,0)))","v":0},0,1,0,0,0,0,{"$f":"IF(ISERROR(VLOOKUP($A112,#REF!,8,0)),0,(VLOOKUP($A112,#REF!,8,0)))","v":0},0,1,0,0,0,0,{"$f":"IF(ISERROR(VLOOKUP($A112,#REF!,8,0)),0,(VLOOKUP($A112,#REF!,8,0)))","v":0},0,1,0,0,0,0,{"$f":"IF(ISERROR(VLOOKUP($A112,#REF!,8,0)),0,(VLOOKUP($A112,#REF!,8,0)))","v":0},0,1,0,0,0,0,{"$f":"IF(ISERROR(VLOOKUP($A112,#REF!,8,0)),0,(VLOOKUP($A112,#REF!,8,0)))","v":0},0,1,0,0,0,0,{"$f":"IF(ISERROR(VLOOKUP($A112,#REF!,8,0)),0,(VLOOKUP($A112,#REF!,8,0)))","v":0},0,1,0,0,0,0,{"$f":"IF(ISERROR(VLOOKUP($A112,#REF!,8,0)),0,(VLOOKUP($A112,#REF!,8,0)))","v":0},0,1,0,0,0,0,{"$f":"IF(ISERROR(VLOOKUP($A112,#REF!,8,0)),0,(VLOOKUP($A112,#REF!,8,0)))","v":0},0,1,0,0,0,0,{"$f":"IF(ISERROR(VLOOKUP($A112,#REF!,8,0)),0,(VLOOKUP($A112,#REF!,8,0)))","v":0},0,1,0,0,0,0,{"$f":"IF(ISERROR(VLOOKUP($A112,#REF!,8,0)),0,(VLOOKUP($A112,#REF!,8,0)))","v":0},0,1,0,0,0,0,{"$f":"IF(ISERROR(VLOOKUP($A112,#REF!,8,0)),0,(VLOOKUP($A112,#REF!,8,0)))","v":0},0,1,0,0,0,0,{"$f":"IF(ISERROR(VLOOKUP($A112,#REF!,8,0)),0,(VLOOKUP($A112,#REF!,8,0)))","v":0},0,1,0,0,0,0,{"$f":"IF(ISERROR(VLOOKUP($A112,#REF!,8,0)),0,(VLOOKUP($A112,#REF!,8,0)))","v":0},0,1,0,0,0,0,{"$f":"IF(ISERROR(VLOOKUP($A112,#REF!,8,0)),0,(VLOOKUP($A112,#REF!,8,0)))","v":0},0,1,0,0,0,0,{"$f":"IF(ISERROR(VLOOKUP($A112,#REF!,8,0)),0,(VLOOKUP($A112,#REF!,8,0)))","v":0},0,1,0,0,0,0,{"$f":"IF(ISERROR(VLOOKUP($A112,#REF!,8,0)),0,(VLOOKUP($A112,#REF!,8,0)))","v":0},0,1,0,0,0,0,{"$f":"IF(ISERROR(VLOOKUP($A112,#REF!,8,0)),0,(VLOOKUP($A112,#REF!,8,0)))","v":0},0,1,0,0,0,0,{"$f":"IF(ISERROR(VLOOKUP($A112,#REF!,8,0)),0,(VLOOKUP($A112,#REF!,8,0)))","v":0},0,1,0,0,0,0,{"$f":"IF(ISERROR(VLOOKUP($A112,#REF!,8,0)),0,(VLOOKUP($A112,#REF!,8,0)))","v":0},0,1,0,0,0,0,{"$f":"IF(ISERROR(VLOOKUP($A112,#REF!,8,0)),0,(VLOOKUP($A112,#REF!,8,0)))","v":0},0,1,0,0,0,0,{"$f":"IF(ISERROR(VLOOKUP($A112,#REF!,8,0)),0,(VLOOKUP($A112,#REF!,8,0)))","v":0},0,1,0,0,0,0,{"$f":"IF(ISERROR(VLOOKUP($A112,#REF!,8,0)),0,(VLOOKUP($A112,#REF!,8,0)))","v":0},0,1,0,0,0,0,{"$f":"IF(ISERROR(VLOOKUP($A112,#REF!,8,0)),0,(VLOOKUP($A112,#REF!,8,0)))","v":0},0,1,0,0,0,0,4316.4105279999994,4316.4105279999994,1,0]
["3.6","Armação de pilar ou viga de uma estrutura convencional de concreto armado em um edifício de múltiplos pavimentos utilizando aço CA-60 de 5.0 mm - Montagem. ","kg",7216,7216,0,4.0925180000000001,29531.609887999999,4.9386800000000006,35637.514880000002,0,0,9.0311979999999998,0,65169.124768000001,null,0,0,0,0,0,null,0,1,0,0,0,0,null,0,1,0,0,0,0,null,0,1,0,0,0,0,205.82,2.8522727272727273E-2,1,842.32205476000001,1016.4791176000001,0,1858.8,218.9,3.0335365853658536E-2,1,895.8521902,1081.0770520000001,0,1976.93,336.98,4.6699002217294901E-2,1,1379.0967156400002,1664.2363864000004,0,3043.33,525.67999999999995,7.2849223946784919E-2,1,2151.3548622399999,2596.1653024000002,0,4747.5200000000004,255.89,3.5461474501108647E-2,1,1047.2344310199999,1263.7588252,0,2310.9899999999998,{"$f":"IF(ISERROR(VLOOKUP(A113,#REF!,8,0)),0,(VLOOKUP(A113,#REF!,8,0)))","v":0},0,1,0,0,0,0,{"$f":"IF(ISERROR(VLOOKUP($A113,#REF!,8,0)),0,(VLOOKUP($A113,#REF!,8,0)))","v":0},0,1,0,0,0,0,{"$f":"IF(ISERROR(VLOOKUP($A113,#REF!,8,0)),0,(VLOOKUP($A113,#REF!,8,0)))","v":0},0,1,0,0,0,0,{"$f":"IF(ISERROR(VLOOKUP($A113,#REF!,8,0)),0,(VLOOKUP($A113,#REF!,8,0)))","v":0},0,1,0,0,0,0,{"$f":"IF(ISERROR(VLOOKUP($A113,#REF!,8,0)),0,(VLOOKUP($A113,#REF!,8,0)))","v":0},0,1,0,0,0,0,{"$f":"IF(ISERROR(VLOOKUP($A113,#REF!,8,0)),0,(VLOOKUP($A113,#REF!,8,0)))","v":0},0,1,0,0,0,0,{"$f":"IF(ISERROR(VLOOKUP($A113,#REF!,8,0)),0,(VLOOKUP($A113,#REF!,8,0)))","v":0},0,1,0,0,0,0,{"$f":"IF(ISERROR(VLOOKUP($A113,#REF!,8,0)),0,(VLOOKUP($A113,#REF!,8,0)))","v":0},0,1,0,0,0,0,{"$f":"IF(ISERROR(VLOOKUP($A113,#REF!,8,0)),0,(VLOOKUP($A113,#REF!,8,0)))","v":0},0,1,0,0,0,0,{"$f":"IF(ISERROR(VLOOKUP($A113,#REF!,8,0)),0,(VLOOKUP($A113,#REF!,8,0)))","v":0},{"$f":"IF($D113>0,EK113/$D113,0)","v":0},{"$f":"IF($E113>0,$E113/$D113,0)","v":1},{"$f":"EK113*$G113","v":0},{"$f":"$I113*EK113","v":0},0,{"$f":"ROUND($M113*EK113,2)","v":0},{"$f":"IF(ISERROR(VLOOKUP($A113,#REF!,8,0)),0,(VLOOKUP($A113,#REF!,8,0)))","v":0},0,1,0,0,0,0,{"$f":"IF(ISERROR(VLOOKUP($A113,#REF!,8,0)),0,(VLOOKUP($A113,#REF!,8,0)))","v":0},0,1,0,0,0,0,{"$f":"IF(ISERROR(VLOOKUP($A113,#REF!,8,0)),0,(VLOOKUP($A113,#REF!,8,0)))","v":0},0,1,0,0,0,0,{"$f":"IF(ISERROR(VLOOKUP($A113,#REF!,8,0)),0,(VLOOKUP($A113,#REF!,8,0)))","v":0},0,1,0,0,0,0,{"$f":"IF(ISERROR(VLOOKUP($A113,#REF!,8,0)),0,(VLOOKUP($A113,#REF!,8,0)))","v":0},0,1,0,0,0,0,{"$f":"IF(ISERROR(VLOOKUP($A113,#REF!,8,0)),0,(VLOOKUP($A113,#REF!,8,0)))","v":0},0,1,0,0,0,0,{"$f":"IF(ISERROR(VLOOKUP($A113,#REF!,8,0)),0,(VLOOKUP($A113,#REF!,8,0)))","v":0},0,1,0,0,0,0,{"$f":"IF(ISERROR(VLOOKUP($A113,#REF!,8,0)),0,(VLOOKUP($A113,#REF!,8,0)))","v":0},0,1,0,0,0,0,{"$f":"IF(ISERROR(VLOOKUP($A113,#REF!,8,0)),0,(VLOOKUP($A113,#REF!,8,0)))","v":0},0,1,0,0,0,0,{"$f":"IF(ISERROR(VLOOKUP($A113,#REF!,8,0)),0,(VLOOKUP($A113,#REF!,8,0)))","v":0},0,1,0,0,0,0,{"$f":"IF(ISERROR(VLOOKUP($A113,#REF!,8,0)),0,(VLOOKUP($A113,#REF!,8,0)))","v":0},0,1,0,0,0,0,{"$f":"IF(ISERROR(VLOOKUP($A113,#REF!,8,0)),0,(VLOOKUP($A113,#REF!,8,0)))","v":0},0,1,0,0,0,0,{"$f":"IF(ISERROR(VLOOKUP($A113,#REF!,8,0)),0,(VLOOKUP($A113,#REF!,8,0)))","v":0},0,1,0,0,0,0,{"$f":"IF(ISERROR(VLOOKUP($A113,#REF!,8,0)),0,(VLOOKUP($A113,#REF!,8,0)))","v":0},0,1,0,0,0,0,{"$f":"IF(ISERROR(VLOOKUP($A113,#REF!,8,0)),0,(VLOOKUP($A113,#REF!,8,0)))","v":0},0,1,0,0,0,0,{"$f":"IF(ISERROR(VLOOKUP($A113,#REF!,8,0)),0,(VLOOKUP($A113,#REF!,8,0)))","v":0},0,1,0,0,0,0,{"$f":"IF(ISERROR(VLOOKUP($A113,#REF!,8,0)),0,(VLOOKUP($A113,#REF!,8,0)))","v":0},0,1,0,0,0,0,{"$f":"IF(ISERROR(VLOOKUP($A113,#REF!,8,0)),0,(VLOOKUP($A113,#REF!,8,0)))","v":0},0,1,0,0,0,0,{"$f":"IF(ISERROR(VLOOKUP($A113,#REF!,8,0)),0,(VLOOKUP($A113,#REF!,8,0)))","v":0},0,1,0,0,0,0,{"$f":"IF(ISERROR(VLOOKUP($A113,#REF!,8,0)),0,(VLOOKUP($A113,#REF!,8,0)))","v":0},0,1,0,0,0,0,{"$f":"IF(ISERROR(VLOOKUP($A113,#REF!,8,0)),0,(VLOOKUP($A113,#REF!,8,0)))","v":0},0,1,0,0,0,0,{"$f":"IF(ISERROR(VLOOKUP($A113,#REF!,8,0)),0,(VLOOKUP($A113,#REF!,8,0)))","v":0},0,1,0,0,0,0,{"$f":"IF(ISERROR(VLOOKUP($A113,#REF!,8,0)),0,(VLOOKUP($A113,#REF!,8,0)))","v":0},0,1,0,0,0,0,{"$f":"IF(ISERROR(VLOOKUP($A113,#REF!,8,0)),0,(VLOOKUP($A113,#REF!,8,0)))","v":0},0,1,0,0,0,0,{"$f":"IF(ISERROR(VLOOKUP($A113,#REF!,8,0)),0,(VLOOKUP($A113,#REF!,8,0)))","v":0},0,1,0,0,0,0,{"$f":"IF(ISERROR(VLOOKUP($A113,#REF!,8,0)),0,(VLOOKUP($A113,#REF!,8,0)))","v":0},0,1,0,0,0,0,{"$f":"IF(ISERROR(VLOOKUP($A113,#REF!,8,0)),0,(VLOOKUP($A113,#REF!,8,0)))","v":0},0,1,0,0,0,0,{"$f":"IF(ISERROR(VLOOKUP($A113,#REF!,8,0)),0,(VLOOKUP($A113,#REF!,8,0)))","v":0},0,1,0,0,0,0,{"$f":"IF(ISERROR(VLOOKUP($A113,#REF!,8,0)),0,(VLOOKUP($A113,#REF!,8,0)))","v":0},0,1,0,0,0,0,{"$f":"IF(ISERROR(VLOOKUP($A113,#REF!,8,0)),0,(VLOOKUP($A113,#REF!,8,0)))","v":0},0,1,0,0,0,0,{"$f":"IF(ISERROR(VLOOKUP($A113,#REF!,8,0)),0,(VLOOKUP($A113,#REF!,8,0)))","v":0},0,1,0,0,0,0,{"$f":"IF(ISERROR(VLOOKUP($A113,#REF!,8,0)),0,(VLOOKUP($A113,#REF!,8,0)))","v":0},0,1,0,0,0,0,{"$f":"IF(ISERROR(VLOOKUP($A113,#REF!,8,0)),0,(VLOOKUP($A113,#REF!,8,0)))","v":0},0,1,0,0,0,0,{"$f":"IF(ISERROR(VLOOKUP($A113,#REF!,8,0)),0,(VLOOKUP($A113,#REF!,8,0)))","v":0},0,1,0,0,0,0,{"$f":"IF(ISERROR(VLOOKUP($A113,#REF!,8,0)),0,(VLOOKUP($A113,#REF!,8,0)))","v":0},0,1,0,0,0,0,{"$f":"IF(ISERROR(VLOOKUP($A113,#REF!,8,0)),0,(VLOOKUP($A113,#REF!,8,0)))","v":0},0,1,0,0,0,0,65169.124768000001,65169.124768000001,1,0]
["3.7","Armação de pilar ou viga de uma estrutura convencional de concreto armado em um edifício de múltiplos pavimentos utilizando aço CA-50 de 6.3 mm - Montagem. ","kg",11365,11364.7,0.2999999999992724,4.2340460000000002,48119.932789999999,4.1300799999999995,46938.359199999992,0,0,8.3641259999999988,2.5092377999939139,95055.782752199986,null,0,0,0,0,0,null,0,0.99997360316761996,0,0,0,0,null,0,0.99997360316761996,0,0,0,0,null,0,0.99997360316761996,0,0,0,0,null,0,0.99997360316761996,0,0,0,0,186.69,1.6426748790145183E-2,0.99997360316761996,790.45404774000008,771.0446351999999,0,1561.5,157.16,1.3828420589529256E-2,0.99997360316761996,665.42266935999999,649.08337279999989,0,1314.51,107.53,9.4615046194456674E-3,0.99997360316761996,455.28696638000002,444.10750239999993,0,899.39,249.72,2.1972723273207213E-2,0.99997360316761996,1057.3259671200001,1031.3635775999999,0,2088.69,{"$f":"IF(ISERROR(VLOOKUP(A114,#REF!,8,0)),0,(VLOOKUP(A114,#REF!,8,0)))","v":0},0,0.99997360316761996,0,0,0,0,{"$f":"IF(ISERROR(VLOOKUP($A114,#REF!,8,0)),0,(VLOOKUP($A114,#REF!,8,0)))","v":0},0,0.99997360316761996,0,0,0,0,{"$f":"IF(ISERROR(VLOOKUP($A114,#REF!,8,0)),0,(VLOOKUP($A114,#REF!,8,0)))","v":0},0,0.99997360316761996,0,0,0,0,{"$f":"IF(ISERROR(VLOOKUP($A114,#REF!,8,0)),0,(VLOOKUP($A114,#REF!,8,0)))","v":0},0,0.99997360316761996,0,0,0,0,{"$f":"IF(ISERROR(VLOOKUP($A114,#REF!,8,0)),0,(VLOOKUP($A114,#REF!,8,0)))","v":0},0,0.99997360316761996,0,0,0,0,{"$f":"IF(ISERROR(VLOOKUP($A114,#REF!,8,0)),0,(VLOOKUP($A114,#REF!,8,0)))","v":0},0,0.99997360316761996,0,0,0,0,{"$f":"IF(ISERROR(VLOOKUP($A114,#REF!,8,0)),0,(VLOOKUP($A114,#REF!,8,0)))","v":0},0,0.99997360316761996,0,0,0,0,{"$f":"IF(ISERROR(VLOOKUP($A114,#REF!,8,0)),0,(VLOOKUP($A114,#REF!,8,0)))","v":0},0,0.99997360316761996,0,0,0,0,{"$f":"IF(ISERROR(VLOOKUP($A114,#REF!,8,0)),0,(VLOOKUP($A114,#REF!,8,0)))","v":0},0,0.99997360316761996,0,0,0,0,{"$f":"IF(ISERROR(VLOOKUP($A114,#REF!,8,0)),0,(VLOOKUP($A114,#REF!,8,0)))","v":0},{"$f":"IF($D114>0,EK114/$D114,0)","v":0},{"$f":"IF($E114>0,$E114/$D114,0)","v":0.99997360316761996},{"$f":"EK114*$G114","v":0},{"$f":"$I114*EK114","v":0},0,{"$f":"ROUND($M114*EK114,2)","v":0},{"$f":"IF(ISERROR(VLOOKUP($A114,#REF!,8,0)),0,(VLOOKUP($A114,#REF!,8,0)))","v":0},0,0.99997360316761996,0,0,0,0,{"$f":"IF(ISERROR(VLOOKUP($A114,#REF!,8,0)),0,(VLOOKUP($A114,#REF!,8,0)))","v":0},0,0.99997360316761996,0,0,0,0,{"$f":"IF(ISERROR(VLOOKUP($A114,#REF!,8,0)),0,(VLOOKUP($A114,#REF!,8,0)))","v":0},0,0.99997360316761996,0,0,0,0,{"$f":"IF(ISERROR(VLOOKUP($A114,#REF!,8,0)),0,(VLOOKUP($A114,#REF!,8,0)))","v":0},0,0.99997360316761996,0,0,0,0,{"$f":"IF(ISERROR(VLOOKUP($A114,#REF!,8,0)),0,(VLOOKUP($A114,#REF!,8,0)))","v":0},0,0.99997360316761996,0,0,0,0,{"$f":"IF(ISERROR(VLOOKUP($A114,#REF!,8,0)),0,(VLOOKUP($A114,#REF!,8,0)))","v":0},0,0.99997360316761996,0,0,0,0,{"$f":"IF(ISERROR(VLOOKUP($A114,#REF!,8,0)),0,(VLOOKUP($A114,#REF!,8,0)))","v":0},0,0.99997360316761996,0,0,0,0,{"$f":"IF(ISERROR(VLOOKUP($A114,#REF!,8,0)),0,(VLOOKUP($A114,#REF!,8,0)))","v":0},0,0.99997360316761996,0,0,0,0,{"$f":"IF(ISERROR(VLOOKUP($A114,#REF!,8,0)),0,(VLOOKUP($A114,#REF!,8,0)))","v":0},0,0.99997360316761996,0,0,0,0,{"$f":"IF(ISERROR(VLOOKUP($A114,#REF!,8,0)),0,(VLOOKUP($A114,#REF!,8,0)))","v":0},0,0.99997360316761996,0,0,0,0,{"$f":"IF(ISERROR(VLOOKUP($A114,#REF!,8,0)),0,(VLOOKUP($A114,#REF!,8,0)))","v":0},0,0.99997360316761996,0,0,0,0,{"$f":"IF(ISERROR(VLOOKUP($A114,#REF!,8,0)),0,(VLOOKUP($A114,#REF!,8,0)))","v":0},0,0.99997360316761996,0,0,0,0,{"$f":"IF(ISERROR(VLOOKUP($A114,#REF!,8,0)),0,(VLOOKUP($A114,#REF!,8,0)))","v":0},0,0.99997360316761996,0,0,0,0,{"$f":"IF(ISERROR(VLOOKUP($A114,#REF!,8,0)),0,(VLOOKUP($A114,#REF!,8,0)))","v":0},0,0.99997360316761996,0,0,0,0,{"$f":"IF(ISERROR(VLOOKUP($A114,#REF!,8,0)),0,(VLOOKUP($A114,#REF!,8,0)))","v":0},0,0.99997360316761996,0,0,0,0,{"$f":"IF(ISERROR(VLOOKUP($A114,#REF!,8,0)),0,(VLOOKUP($A114,#REF!,8,0)))","v":0},0,0.99997360316761996,0,0,0,0,{"$f":"IF(ISERROR(VLOOKUP($A114,#REF!,8,0)),0,(VLOOKUP($A114,#REF!,8,0)))","v":0},0,0.99997360316761996,0,0,0,0,{"$f":"IF(ISERROR(VLOOKUP($A114,#REF!,8,0)),0,(VLOOKUP($A114,#REF!,8,0)))","v":0},0,0.99997360316761996,0,0,0,0,{"$f":"IF(ISERROR(VLOOKUP($A114,#REF!,8,0)),0,(VLOOKUP($A114,#REF!,8,0)))","v":0},0,0.99997360316761996,0,0,0,0,{"$f":"IF(ISERROR(VLOOKUP($A114,#REF!,8,0)),0,(VLOOKUP($A114,#REF!,8,0)))","v":0},0,0.99997360316761996,0,0,0,0,{"$f":"IF(ISERROR(VLOOKUP($A114,#REF!,8,0)),0,(VLOOKUP($A114,#REF!,8,0)))","v":0},0,0.99997360316761996,0,0,0,0,{"$f":"IF(ISERROR(VLOOKUP($A114,#REF!,8,0)),0,(VLOOKUP($A114,#REF!,8,0)))","v":0},0,0.99997360316761996,0,0,0,0,{"$f":"IF(ISERROR(VLOOKUP($A114,#REF!,8,0)),0,(VLOOKUP($A114,#REF!,8,0)))","v":0},0,0.99997360316761996,0,0,0,0,{"$f":"IF(ISERROR(VLOOKUP($A114,#REF!,8,0)),0,(VLOOKUP($A114,#REF!,8,0)))","v":0},0,0.99997360316761996,0,0,0,0,{"$f":"IF(ISERROR(VLOOKUP($A114,#REF!,8,0)),0,(VLOOKUP($A114,#REF!,8,0)))","v":0},0,0.99997360316761996,0,0,0,0,{"$f":"IF(ISERROR(VLOOKUP($A114,#REF!,8,0)),0,(VLOOKUP($A114,#REF!,8,0)))","v":0},0,0.99997360316761996,0,0,0,0,{"$f":"IF(ISERROR(VLOOKUP($A114,#REF!,8,0)),0,(VLOOKUP($A114,#REF!,8,0)))","v":0},0,0.99997360316761996,0,0,0,0,{"$f":"IF(ISERROR(VLOOKUP($A114,#REF!,8,0)),0,(VLOOKUP($A114,#REF!,8,0)))","v":0},0,0.99997360316761996,0,0,0,0,{"$f":"IF(ISERROR(VLOOKUP($A114,#REF!,8,0)),0,(VLOOKUP($A114,#REF!,8,0)))","v":0},0,0.99997360316761996,0,0,0,0,{"$f":"IF(ISERROR(VLOOKUP($A114,#REF!,8,0)),0,(VLOOKUP($A114,#REF!,8,0)))","v":0},0,0.99997360316761996,0,0,0,0,{"$f":"IF(ISERROR(VLOOKUP($A114,#REF!,8,0)),0,(VLOOKUP($A114,#REF!,8,0)))","v":0},0,0.99997360316761996,0,0,0,0,{"$f":"IF(ISERROR(VLOOKUP($A114,#REF!,8,0)),0,(VLOOKUP($A114,#REF!,8,0)))","v":0},0,0.99997360316761996,0,0,0,0,{"$f":"IF(ISERROR(VLOOKUP($A114,#REF!,8,0)),0,(VLOOKUP($A114,#REF!,8,0)))","v":0},0,0.99997360316761996,0,0,0,0,{"$f":"IF(ISERROR(VLOOKUP($A114,#REF!,8,0)),0,(VLOOKUP($A114,#REF!,8,0)))","v":0},0,0.99997360316761996,0,0,0,0,{"$f":"IF(ISERROR(VLOOKUP($A114,#REF!,8,0)),0,(VLOOKUP($A114,#REF!,8,0)))","v":0},0,0.99997360316761996,0,0,0,0,{"$f":"IF(ISERROR(VLOOKUP($A114,#REF!,8,0)),0,(VLOOKUP($A114,#REF!,8,0)))","v":0},0,0.99997360316761996,0,0,0,0,95055.782752199986,95055.782752199986,1,0]
["3.8","Armação de pilar ou viga de uma estrutura convencional de concreto armado em um edifício de múltiplos pavimentos utilizando aço CA-50 de 8.0 mm - Montagem. ","kg",10947,10946.999999999998,0,4.8237459999999999,52805.547461999995,3.3214799999999998,36360.241559999995,0,0,8.1452259999999992,0,89165.789021999983,null,0,0,0,0,0,null,0,0.99999999999999989,0,0,0,0,null,0,0.99999999999999989,0,0,0,0,null,0,0.99999999999999989,0,0,0,0,null,0,0.99999999999999989,0,0,0,0,null,0,0.99999999999999989,0,0,0,0,336.1,3.0702475564081486E-2,0.99999999999999989,1621.2610306000001,1116.349428,0,2737.61,861.96,7.8739380652233487E-2,0.99999999999999989,4157.8761021600003,2862.9829007999997,0,7020.86,435.14,3.9749703115008674E-2,0.99999999999999989,2099.0048344399997,1445.3088071999998,0,3544.31,{"$f":"IF(ISERROR(VLOOKUP(A115,#REF!,8,0)),0,(VLOOKUP(A115,#REF!,8,0)))","v":0},0,0.99999999999999989,0,0,0,0,{"$f":"IF(ISERROR(VLOOKUP($A115,#REF!,8,0)),0,(VLOOKUP($A115,#REF!,8,0)))","v":0},0,0.99999999999999989,0,0,0,0,{"$f":"IF(ISERROR(VLOOKUP($A115,#REF!,8,0)),0,(VLOOKUP($A115,#REF!,8,0)))","v":0},0,0.99999999999999989,0,0,0,0,{"$f":"IF(ISERROR(VLOOKUP($A115,#REF!,8,0)),0,(VLOOKUP($A115,#REF!,8,0)))","v":0},0,0.99999999999999989,0,0,0,0,{"$f":"IF(ISERROR(VLOOKUP($A115,#REF!,8,0)),0,(VLOOKUP($A115,#REF!,8,0)))","v":0},0,0.99999999999999989,0,0,0,0,{"$f":"IF(ISERROR(VLOOKUP($A115,#REF!,8,0)),0,(VLOOKUP($A115,#REF!,8,0)))","v":0},0,0.99999999999999989,0,0,0,0,{"$f":"IF(ISERROR(VLOOKUP($A115,#REF!,8,0)),0,(VLOOKUP($A115,#REF!,8,0)))","v":0},0,0.99999999999999989,0,0,0,0,{"$f":"IF(ISERROR(VLOOKUP($A115,#REF!,8,0)),0,(VLOOKUP($A115,#REF!,8,0)))","v":0},0,0.99999999999999989,0,0,0,0,{"$f":"IF(ISERROR(VLOOKUP($A115,#REF!,8,0)),0,(VLOOKUP($A115,#REF!,8,0)))","v":0},0,0.99999999999999989,0,0,0,0,{"$f":"IF(ISERROR(VLOOKUP($A115,#REF!,8,0)),0,(VLOOKUP($A115,#REF!,8,0)))","v":0},{"$f":"IF($D115>0,EK115/$D115,0)","v":0},{"$f":"IF($E115>0,$E115/$D115,0)","v":0.99999999999999989},{"$f":"EK115*$G115","v":0},{"$f":"$I115*EK115","v":0},{"$f":"$K115*EK115","v":0},{"$f":"ROUND($M115*EK115,2)","v":0},{"$f":"IF(ISERROR(VLOOKUP($A115,#REF!,8,0)),0,(VLOOKUP($A115,#REF!,8,0)))","v":0},0,0.99999999999999989,0,0,0,0,{"$f":"IF(ISERROR(VLOOKUP($A115,#REF!,8,0)),0,(VLOOKUP($A115,#REF!,8,0)))","v":0},0,0.99999999999999989,0,0,0,0,{"$f":"IF(ISERROR(VLOOKUP($A115,#REF!,8,0)),0,(VLOOKUP($A115,#REF!,8,0)))","v":0},0,0.99999999999999989,0,0,0,0,{"$f":"IF(ISERROR(VLOOKUP($A115,#REF!,8,0)),0,(VLOOKUP($A115,#REF!,8,0)))","v":0},0,0.99999999999999989,0,0,0,0,{"$f":"IF(ISERROR(VLOOKUP($A115,#REF!,8,0)),0,(VLOOKUP($A115,#REF!,8,0)))","v":0},0,0.99999999999999989,0,0,0,0,{"$f":"IF(ISERROR(VLOOKUP($A115,#REF!,8,0)),0,(VLOOKUP($A115,#REF!,8,0)))","v":0},0,0.99999999999999989,0,0,0,0,{"$f":"IF(ISERROR(VLOOKUP($A115,#REF!,8,0)),0,(VLOOKUP($A115,#REF!,8,0)))","v":0},0,0.99999999999999989,0,0,0,0,{"$f":"IF(ISERROR(VLOOKUP($A115,#REF!,8,0)),0,(VLOOKUP($A115,#REF!,8,0)))","v":0},0,0.99999999999999989,0,0,0,0,{"$f":"IF(ISERROR(VLOOKUP($A115,#REF!,8,0)),0,(VLOOKUP($A115,#REF!,8,0)))","v":0},0,0.99999999999999989,0,0,0,0,{"$f":"IF(ISERROR(VLOOKUP($A115,#REF!,8,0)),0,(VLOOKUP($A115,#REF!,8,0)))","v":0},0,0.99999999999999989,0,0,0,0,{"$f":"IF(ISERROR(VLOOKUP($A115,#REF!,8,0)),0,(VLOOKUP($A115,#REF!,8,0)))","v":0},0,0.99999999999999989,0,0,0,0,{"$f":"IF(ISERROR(VLOOKUP($A115,#REF!,8,0)),0,(VLOOKUP($A115,#REF!,8,0)))","v":0},0,0.99999999999999989,0,0,0,0,{"$f":"IF(ISERROR(VLOOKUP($A115,#REF!,8,0)),0,(VLOOKUP($A115,#REF!,8,0)))","v":0},0,0.99999999999999989,0,0,0,0,{"$f":"IF(ISERROR(VLOOKUP($A115,#REF!,8,0)),0,(VLOOKUP($A115,#REF!,8,0)))","v":0},0,0.99999999999999989,0,0,0,0,{"$f":"IF(ISERROR(VLOOKUP($A115,#REF!,8,0)),0,(VLOOKUP($A115,#REF!,8,0)))","v":0},0,0.99999999999999989,0,0,0,0,{"$f":"IF(ISERROR(VLOOKUP($A115,#REF!,8,0)),0,(VLOOKUP($A115,#REF!,8,0)))","v":0},0,0.99999999999999989,0,0,0,0,{"$f":"IF(ISERROR(VLOOKUP($A115,#REF!,8,0)),0,(VLOOKUP($A115,#REF!,8,0)))","v":0},0,0.99999999999999989,0,0,0,0,{"$f":"IF(ISERROR(VLOOKUP($A115,#REF!,8,0)),0,(VLOOKUP($A115,#REF!,8,0)))","v":0},0,0.99999999999999989,0,0,0,0,{"$f":"IF(ISERROR(VLOOKUP($A115,#REF!,8,0)),0,(VLOOKUP($A115,#REF!,8,0)))","v":0},0,0.99999999999999989,0,0,0,0,{"$f":"IF(ISERROR(VLOOKUP($A115,#REF!,8,0)),0,(VLOOKUP($A115,#REF!,8,0)))","v":0},0,0.99999999999999989,0,0,0,0,{"$f":"IF(ISERROR(VLOOKUP($A115,#REF!,8,0)),0,(VLOOKUP($A115,#REF!,8,0)))","v":0},0,0.99999999999999989,0,0,0,0,{"$f":"IF(ISERROR(VLOOKUP($A115,#REF!,8,0)),0,(VLOOKUP($A115,#REF!,8,0)))","v":0},0,0.99999999999999989,0,0,0,0,{"$f":"IF(ISERROR(VLOOKUP($A115,#REF!,8,0)),0,(VLOOKUP($A115,#REF!,8,0)))","v":0},0,0.99999999999999989,0,0,0,0,{"$f":"IF(ISERROR(VLOOKUP($A115,#REF!,8,0)),0,(VLOOKUP($A115,#REF!,8,0)))","v":0},0,0.99999999999999989,0,0,0,0,{"$f":"IF(ISERROR(VLOOKUP($A115,#REF!,8,0)),0,(VLOOKUP($A115,#REF!,8,0)))","v":0},0,0.99999999999999989,0,0,0,0,{"$f":"IF(ISERROR(VLOOKUP($A115,#REF!,8,0)),0,(VLOOKUP($A115,#REF!,8,0)))","v":0},0,0.99999999999999989,0,0,0,0,{"$f":"IF(ISERROR(VLOOKUP($A115,#REF!,8,0)),0,(VLOOKUP($A115,#REF!,8,0)))","v":0},0,0.99999999999999989,0,0,0,0,{"$f":"IF(ISERROR(VLOOKUP($A115,#REF!,8,0)),0,(VLOOKUP($A115,#REF!,8,0)))","v":0},0,0.99999999999999989,0,0,0,0,{"$f":"IF(ISERROR(VLOOKUP($A115,#REF!,8,0)),0,(VLOOKUP($A115,#REF!,8,0)))","v":0},0,0.99999999999999989,0,0,0,0,{"$f":"IF(ISERROR(VLOOKUP($A115,#REF!,8,0)),0,(VLOOKUP($A115,#REF!,8,0)))","v":0},0,0.99999999999999989,0,0,0,0,{"$f":"IF(ISERROR(VLOOKUP($A115,#REF!,8,0)),0,(VLOOKUP($A115,#REF!,8,0)))","v":0},0,0.99999999999999989,0,0,0,0,{"$f":"IF(ISERROR(VLOOKUP($A115,#REF!,8,0)),0,(VLOOKUP($A115,#REF!,8,0)))","v":0},0,0.99999999999999989,0,0,0,0,{"$f":"IF(ISERROR(VLOOKUP($A115,#REF!,8,0)),0,(VLOOKUP($A115,#REF!,8,0)))","v":0},0,0.99999999999999989,0,0,0,0,{"$f":"IF(ISERROR(VLOOKUP($A115,#REF!,8,0)),0,(VLOOKUP($A115,#REF!,8,0)))","v":0},0,0.99999999999999989,0,0,0,0,{"$f":"IF(ISERROR(VLOOKUP($A115,#REF!,8,0)),0,(VLOOKUP($A115,#REF!,8,0)))","v":0},0,0.99999999999999989,0,0,0,0,{"$f":"IF(ISERROR(VLOOKUP($A115,#REF!,8,0)),0,(VLOOKUP($A115,#REF!,8,0)))","v":0},0,0.99999999999999989,0,0,0,0,89165.789021999983,89165.789021999983,1,0]
["3.9","Armação de pilar ou viga de uma estrutura convencional de concreto armado em um edifício de múltiplos pavimentos utilizando aço CA-50 de 10.0 mm - Montagem. ","kg",3414,2997.9900000000002,416.00999999999976,4.1161060000000003,14052.385884000001,2.53776,8663.9126400000005,0,0,6.6538660000000007,2768.0747946599986,19948.223729340003,null,0,0,0,0,0,null,0,0.87814586994727595,0,0,0,0,null,0,0.87814586994727595,0,0,0,0,null,0,0.87814586994727595,0,0,0,0,339.84,9.9543057996485051E-2,0.87814586994727595,1398.8174630399999,862.4323584,0,2261.25,null,0,0.87814586994727595,0,0,0,0,29.97,8.7785588752196837E-3,0.87814586994727595,123.35969682,76.056667199999993,0,199.42,190.72,5.5864089045108374E-2,0.87814586994727595,785.02373632000001,484.00158720000002,0,1269.03,61.18,1.7920328060925601E-2,0.87814586994727595,251.82336508,155.2601568,0,407.08,{"$f":"IF(ISERROR(VLOOKUP(A116,#REF!,8,0)),0,(VLOOKUP(A116,#REF!,8,0)))","v":0},0,0.87814586994727595,0,0,0,0,{"$f":"IF(ISERROR(VLOOKUP($A116,#REF!,8,0)),0,(VLOOKUP($A116,#REF!,8,0)))","v":0},0,0.87814586994727595,0,0,0,0,{"$f":"IF(ISERROR(VLOOKUP($A116,#REF!,8,0)),0,(VLOOKUP($A116,#REF!,8,0)))","v":0},0,0.87814586994727595,0,0,0,0,{"$f":"IF(ISERROR(VLOOKUP($A116,#REF!,8,0)),0,(VLOOKUP($A116,#REF!,8,0)))","v":0},0,0.87814586994727595,0,0,0,0,{"$f":"IF(ISERROR(VLOOKUP($A116,#REF!,8,0)),0,(VLOOKUP($A116,#REF!,8,0)))","v":0},0,0.87814586994727595,0,0,0,0,{"$f":"IF(ISERROR(VLOOKUP($A116,#REF!,8,0)),0,(VLOOKUP($A116,#REF!,8,0)))","v":0},0,0.87814586994727595,0,0,0,0,{"$f":"IF(ISERROR(VLOOKUP($A116,#REF!,8,0)),0,(VLOOKUP($A116,#REF!,8,0)))","v":0},0,0.87814586994727595,0,0,0,0,{"$f":"IF(ISERROR(VLOOKUP($A116,#REF!,8,0)),0,(VLOOKUP($A116,#REF!,8,0)))","v":0},0,0.87814586994727595,0,0,0,0,{"$f":"IF(ISERROR(VLOOKUP($A116,#REF!,8,0)),0,(VLOOKUP($A116,#REF!,8,0)))","v":0},0,0.87814586994727595,0,0,0,0,{"$f":"IF(ISERROR(VLOOKUP($A116,#REF!,8,0)),0,(VLOOKUP($A116,#REF!,8,0)))","v":0},{"$f":"IF($D116>0,EK116/$D116,0)","v":0},{"$f":"IF($E116>0,$E116/$D116,0)","v":0.87814586994727595},{"$f":"EK116*$G116","v":0},{"$f":"$I116*EK116","v":0},0,{"$f":"ROUND($M116*EK116,2)","v":0},{"$f":"IF(ISERROR(VLOOKUP($A116,#REF!,8,0)),0,(VLOOKUP($A116,#REF!,8,0)))","v":0},0,0.87814586994727595,0,0,0,0,{"$f":"IF(ISERROR(VLOOKUP($A116,#REF!,8,0)),0,(VLOOKUP($A116,#REF!,8,0)))","v":0},0,0.87814586994727595,0,0,0,0,{"$f":"IF(ISERROR(VLOOKUP($A116,#REF!,8,0)),0,(VLOOKUP($A116,#REF!,8,0)))","v":0},0,0.87814586994727595,0,0,0,0,{"$f":"IF(ISERROR(VLOOKUP($A116,#REF!,8,0)),0,(VLOOKUP($A116,#REF!,8,0)))","v":0},0,0.87814586994727595,0,0,0,0,{"$f":"IF(ISERROR(VLOOKUP($A116,#REF!,8,0)),0,(VLOOKUP($A116,#REF!,8,0)))","v":0},0,0.87814586994727595,0,0,0,0,{"$f":"IF(ISERROR(VLOOKUP($A116,#REF!,8,0)),0,(VLOOKUP($A116,#REF!,8,0)))","v":0},0,0.87814586994727595,0,0,0,0,{"$f":"IF(ISERROR(VLOOKUP($A116,#REF!,8,0)),0,(VLOOKUP($A116,#REF!,8,0)))","v":0},0,0.87814586994727595,0,0,0,0,{"$f":"IF(ISERROR(VLOOKUP($A116,#REF!,8,0)),0,(VLOOKUP($A116,#REF!,8,0)))","v":0},0,0.87814586994727595,0,0,0,0,{"$f":"IF(ISERROR(VLOOKUP($A116,#REF!,8,0)),0,(VLOOKUP($A116,#REF!,8,0)))","v":0},0,0.87814586994727595,0,0,0,0,{"$f":"IF(ISERROR(VLOOKUP($A116,#REF!,8,0)),0,(VLOOKUP($A116,#REF!,8,0)))","v":0},0,0.87814586994727595,0,0,0,0,{"$f":"IF(ISERROR(VLOOKUP($A116,#REF!,8,0)),0,(VLOOKUP($A116,#REF!,8,0)))","v":0},0,0.87814586994727595,0,0,0,0,{"$f":"IF(ISERROR(VLOOKUP($A116,#REF!,8,0)),0,(VLOOKUP($A116,#REF!,8,0)))","v":0},0,0.87814586994727595,0,0,0,0,{"$f":"IF(ISERROR(VLOOKUP($A116,#REF!,8,0)),0,(VLOOKUP($A116,#REF!,8,0)))","v":0},0,0.87814586994727595,0,0,0,0,{"$f":"IF(ISERROR(VLOOKUP($A116,#REF!,8,0)),0,(VLOOKUP($A116,#REF!,8,0)))","v":0},0,0.87814586994727595,0,0,0,0,{"$f":"IF(ISERROR(VLOOKUP($A116,#REF!,8,0)),0,(VLOOKUP($A116,#REF!,8,0)))","v":0},0,0.87814586994727595,0,0,0,0,{"$f":"IF(ISERROR(VLOOKUP($A116,#REF!,8,0)),0,(VLOOKUP($A116,#REF!,8,0)))","v":0},0,0.87814586994727595,0,0,0,0,{"$f":"IF(ISERROR(VLOOKUP($A116,#REF!,8,0)),0,(VLOOKUP($A116,#REF!,8,0)))","v":0},0,0.87814586994727595,0,0,0,0,{"$f":"IF(ISERROR(VLOOKUP($A116,#REF!,8,0)),0,(VLOOKUP($A116,#REF!,8,0)))","v":0},0,0.87814586994727595,0,0,0,0,{"$f":"IF(ISERROR(VLOOKUP($A116,#REF!,8,0)),0,(VLOOKUP($A116,#REF!,8,0)))","v":0},0,0.87814586994727595,0,0,0,0,{"$f":"IF(ISERROR(VLOOKUP($A116,#REF!,8,0)),0,(VLOOKUP($A116,#REF!,8,0)))","v":0},0,0.87814586994727595,0,0,0,0,{"$f":"IF(ISERROR(VLOOKUP($A116,#REF!,8,0)),0,(VLOOKUP($A116,#REF!,8,0)))","v":0},0,0.87814586994727595,0,0,0,0,{"$f":"IF(ISERROR(VLOOKUP($A116,#REF!,8,0)),0,(VLOOKUP($A116,#REF!,8,0)))","v":0},0,0.87814586994727595,0,0,0,0,{"$f":"IF(ISERROR(VLOOKUP($A116,#REF!,8,0)),0,(VLOOKUP($A116,#REF!,8,0)))","v":0},0,0.87814586994727595,0,0,0,0,{"$f":"IF(ISERROR(VLOOKUP($A116,#REF!,8,0)),0,(VLOOKUP($A116,#REF!,8,0)))","v":0},0,0.87814586994727595,0,0,0,0,{"$f":"IF(ISERROR(VLOOKUP($A116,#REF!,8,0)),0,(VLOOKUP($A116,#REF!,8,0)))","v":0},0,0.87814586994727595,0,0,0,0,{"$f":"IF(ISERROR(VLOOKUP($A116,#REF!,8,0)),0,(VLOOKUP($A116,#REF!,8,0)))","v":0},0,0.87814586994727595,0,0,0,0,{"$f":"IF(ISERROR(VLOOKUP($A116,#REF!,8,0)),0,(VLOOKUP($A116,#REF!,8,0)))","v":0},0,0.87814586994727595,0,0,0,0,{"$f":"IF(ISERROR(VLOOKUP($A116,#REF!,8,0)),0,(VLOOKUP($A116,#REF!,8,0)))","v":0},0,0.87814586994727595,0,0,0,0,{"$f":"IF(ISERROR(VLOOKUP($A116,#REF!,8,0)),0,(VLOOKUP($A116,#REF!,8,0)))","v":0},0,0.87814586994727595,0,0,0,0,{"$f":"IF(ISERROR(VLOOKUP($A116,#REF!,8,0)),0,(VLOOKUP($A116,#REF!,8,0)))","v":0},0,0.87814586994727595,0,0,0,0,{"$f":"IF(ISERROR(VLOOKUP($A116,#REF!,8,0)),0,(VLOOKUP($A116,#REF!,8,0)))","v":0},0,0.87814586994727595,0,0,0,0,{"$f":"IF(ISERROR(VLOOKUP($A116,#REF!,8,0)),0,(VLOOKUP($A116,#REF!,8,0)))","v":0},0,0.87814586994727595,0,0,0,0,{"$f":"IF(ISERROR(VLOOKUP($A116,#REF!,8,0)),0,(VLOOKUP($A116,#REF!,8,0)))","v":0},0,0.87814586994727595,0,0,0,0,{"$f":"IF(ISERROR(VLOOKUP($A116,#REF!,8,0)),0,(VLOOKUP($A116,#REF!,8,0)))","v":0},0,0.87814586994727595,0,0,0,0,{"$f":"IF(ISERROR(VLOOKUP($A116,#REF!,8,0)),0,(VLOOKUP($A116,#REF!,8,0)))","v":0},0,0.87814586994727595,0,0,0,0,{"$f":"IF(ISERROR(VLOOKUP($A116,#REF!,8,0)),0,(VLOOKUP($A116,#REF!,8,0)))","v":0},0,0.87814586994727595,0,0,0,0,19948.223729340003,19948.223729340003,1,0]
["3.10","Armação de pilar ou viga de uma estrutura convencional de concreto armado em um edifício de múltiplos pavimentos utilizando aço CA-50 de 12.5 mm - Montagem. ","kg",12139,12138.999999999998,0,3.9038140000000001,47388.398146,1.66696,20235.227439999999,0,0,5.5707740000000001,0,67623.625585999995,null,0,0,0,0,0,null,0,0.99999999999999989,0,0,0,0,null,0,0.99999999999999989,0,0,0,0,null,0,0.99999999999999989,0,0,0,0,null,0,0.99999999999999989,0,0,0,0,null,0,0.99999999999999989,0,0,0,0,175.5,1.4457533569486779E-2,0.99999999999999989,685.11935700000004,292.55148000000003,0,977.67,204.6,1.6854765631435866E-2,0.99999999999999989,798.72034440000004,341.06001599999996,0,1139.78,170.68,1.4060466265755005E-2,0.99999999999999989,666.30297352000002,284.5167328,0,950.82,{"$f":"IF(ISERROR(VLOOKUP(A117,#REF!,8,0)),0,(VLOOKUP(A117,#REF!,8,0)))","v":0},0,0.99999999999999989,0,0,0,0,{"$f":"IF(ISERROR(VLOOKUP($A117,#REF!,8,0)),0,(VLOOKUP($A117,#REF!,8,0)))","v":0},0,0.99999999999999989,0,0,0,0,{"$f":"IF(ISERROR(VLOOKUP($A117,#REF!,8,0)),0,(VLOOKUP($A117,#REF!,8,0)))","v":0},0,0.99999999999999989,0,0,0,0,{"$f":"IF(ISERROR(VLOOKUP($A117,#REF!,8,0)),0,(VLOOKUP($A117,#REF!,8,0)))","v":0},0,0.99999999999999989,0,0,0,0,{"$f":"IF(ISERROR(VLOOKUP($A117,#REF!,8,0)),0,(VLOOKUP($A117,#REF!,8,0)))","v":0},0,0.99999999999999989,0,0,0,0,{"$f":"IF(ISERROR(VLOOKUP($A117,#REF!,8,0)),0,(VLOOKUP($A117,#REF!,8,0)))","v":0},0,0.99999999999999989,0,0,0,0,{"$f":"IF(ISERROR(VLOOKUP($A117,#REF!,8,0)),0,(VLOOKUP($A117,#REF!,8,0)))","v":0},0,0.99999999999999989,0,0,0,0,{"$f":"IF(ISERROR(VLOOKUP($A117,#REF!,8,0)),0,(VLOOKUP($A117,#REF!,8,0)))","v":0},0,0.99999999999999989,0,0,0,0,{"$f":"IF(ISERROR(VLOOKUP($A117,#REF!,8,0)),0,(VLOOKUP($A117,#REF!,8,0)))","v":0},0,0.99999999999999989,0,0,0,0,{"$f":"IF(ISERROR(VLOOKUP($A117,#REF!,8,0)),0,(VLOOKUP($A117,#REF!,8,0)))","v":0},{"$f":"IF($D117>0,EK117/$D117,0)","v":0},{"$f":"IF($E117>0,$E117/$D117,0)","v":0.99999999999999989},{"$f":"EK117*$G117","v":0},{"$f":"$I117*EK117","v":0},{"$f":"$K117*EK117","v":0},{"$f":"ROUND($M117*EK117,2)","v":0},{"$f":"IF(ISERROR(VLOOKUP($A117,#REF!,8,0)),0,(VLOOKUP($A117,#REF!,8,0)))","v":0},0,0.99999999999999989,0,0,0,0,{"$f":"IF(ISERROR(VLOOKUP($A117,#REF!,8,0)),0,(VLOOKUP($A117,#REF!,8,0)))","v":0},0,0.99999999999999989,0,0,0,0,{"$f":"IF(ISERROR(VLOOKUP($A117,#REF!,8,0)),0,(VLOOKUP($A117,#REF!,8,0)))","v":0},0,0.99999999999999989,0,0,0,0,{"$f":"IF(ISERROR(VLOOKUP($A117,#REF!,8,0)),0,(VLOOKUP($A117,#REF!,8,0)))","v":0},0,0.99999999999999989,0,0,0,0,{"$f":"IF(ISERROR(VLOOKUP($A117,#REF!,8,0)),0,(VLOOKUP($A117,#REF!,8,0)))","v":0},0,0.99999999999999989,0,0,0,0,{"$f":"IF(ISERROR(VLOOKUP($A117,#REF!,8,0)),0,(VLOOKUP($A117,#REF!,8,0)))","v":0},0,0.99999999999999989,0,0,0,0,{"$f":"IF(ISERROR(VLOOKUP($A117,#REF!,8,0)),0,(VLOOKUP($A117,#REF!,8,0)))","v":0},0,0.99999999999999989,0,0,0,0,{"$f":"IF(ISERROR(VLOOKUP($A117,#REF!,8,0)),0,(VLOOKUP($A117,#REF!,8,0)))","v":0},0,0.99999999999999989,0,0,0,0,{"$f":"IF(ISERROR(VLOOKUP($A117,#REF!,8,0)),0,(VLOOKUP($A117,#REF!,8,0)))","v":0},0,0.99999999999999989,0,0,0,0,{"$f":"IF(ISERROR(VLOOKUP($A117,#REF!,8,0)),0,(VLOOKUP($A117,#REF!,8,0)))","v":0},0,0.99999999999999989,0,0,0,0,{"$f":"IF(ISERROR(VLOOKUP($A117,#REF!,8,0)),0,(VLOOKUP($A117,#REF!,8,0)))","v":0},0,0.99999999999999989,0,0,0,0,{"$f":"IF(ISERROR(VLOOKUP($A117,#REF!,8,0)),0,(VLOOKUP($A117,#REF!,8,0)))","v":0},0,0.99999999999999989,0,0,0,0,{"$f":"IF(ISERROR(VLOOKUP($A117,#REF!,8,0)),0,(VLOOKUP($A117,#REF!,8,0)))","v":0},0,0.99999999999999989,0,0,0,0,{"$f":"IF(ISERROR(VLOOKUP($A117,#REF!,8,0)),0,(VLOOKUP($A117,#REF!,8,0)))","v":0},0,0.99999999999999989,0,0,0,0,{"$f":"IF(ISERROR(VLOOKUP($A117,#REF!,8,0)),0,(VLOOKUP($A117,#REF!,8,0)))","v":0},0,0.99999999999999989,0,0,0,0,{"$f":"IF(ISERROR(VLOOKUP($A117,#REF!,8,0)),0,(VLOOKUP($A117,#REF!,8,0)))","v":0},0,0.99999999999999989,0,0,0,0,{"$f":"IF(ISERROR(VLOOKUP($A117,#REF!,8,0)),0,(VLOOKUP($A117,#REF!,8,0)))","v":0},0,0.99999999999999989,0,0,0,0,{"$f":"IF(ISERROR(VLOOKUP($A117,#REF!,8,0)),0,(VLOOKUP($A117,#REF!,8,0)))","v":0},0,0.99999999999999989,0,0,0,0,{"$f":"IF(ISERROR(VLOOKUP($A117,#REF!,8,0)),0,(VLOOKUP($A117,#REF!,8,0)))","v":0},0,0.99999999999999989,0,0,0,0,{"$f":"IF(ISERROR(VLOOKUP($A117,#REF!,8,0)),0,(VLOOKUP($A117,#REF!,8,0)))","v":0},0,0.99999999999999989,0,0,0,0,{"$f":"IF(ISERROR(VLOOKUP($A117,#REF!,8,0)),0,(VLOOKUP($A117,#REF!,8,0)))","v":0},0,0.99999999999999989,0,0,0,0,{"$f":"IF(ISERROR(VLOOKUP($A117,#REF!,8,0)),0,(VLOOKUP($A117,#REF!,8,0)))","v":0},0,0.99999999999999989,0,0,0,0,{"$f":"IF(ISERROR(VLOOKUP($A117,#REF!,8,0)),0,(VLOOKUP($A117,#REF!,8,0)))","v":0},0,0.99999999999999989,0,0,0,0,{"$f":"IF(ISERROR(VLOOKUP($A117,#REF!,8,0)),0,(VLOOKUP($A117,#REF!,8,0)))","v":0},0,0.99999999999999989,0,0,0,0,{"$f":"IF(ISERROR(VLOOKUP($A117,#REF!,8,0)),0,(VLOOKUP($A117,#REF!,8,0)))","v":0},0,0.99999999999999989,0,0,0,0,{"$f":"IF(ISERROR(VLOOKUP($A117,#REF!,8,0)),0,(VLOOKUP($A117,#REF!,8,0)))","v":0},0,0.99999999999999989,0,0,0,0,{"$f":"IF(ISERROR(VLOOKUP($A117,#REF!,8,0)),0,(VLOOKUP($A117,#REF!,8,0)))","v":0},0,0.99999999999999989,0,0,0,0,{"$f":"IF(ISERROR(VLOOKUP($A117,#REF!,8,0)),0,(VLOOKUP($A117,#REF!,8,0)))","v":0},0,0.99999999999999989,0,0,0,0,{"$f":"IF(ISERROR(VLOOKUP($A117,#REF!,8,0)),0,(VLOOKUP($A117,#REF!,8,0)))","v":0},0,0.99999999999999989,0,0,0,0,{"$f":"IF(ISERROR(VLOOKUP($A117,#REF!,8,0)),0,(VLOOKUP($A117,#REF!,8,0)))","v":0},0,0.99999999999999989,0,0,0,0,{"$f":"IF(ISERROR(VLOOKUP($A117,#REF!,8,0)),0,(VLOOKUP($A117,#REF!,8,0)))","v":0},0,0.99999999999999989,0,0,0,0,{"$f":"IF(ISERROR(VLOOKUP($A117,#REF!,8,0)),0,(VLOOKUP($A117,#REF!,8,0)))","v":0},0,0.99999999999999989,0,0,0,0,{"$f":"IF(ISERROR(VLOOKUP($A117,#REF!,8,0)),0,(VLOOKUP($A117,#REF!,8,0)))","v":0},0,0.99999999999999989,0,0,0,0,{"$f":"IF(ISERROR(VLOOKUP($A117,#REF!,8,0)),0,(VLOOKUP($A117,#REF!,8,0)))","v":0},0,0.99999999999999989,0,0,0,0,{"$f":"IF(ISERROR(VLOOKUP($A117,#REF!,8,0)),0,(VLOOKUP($A117,#REF!,8,0)))","v":0},0,0.99999999999999989,0,0,0,0,{"$f":"IF(ISERROR(VLOOKUP($A117,#REF!,8,0)),0,(VLOOKUP($A117,#REF!,8,0)))","v":0},0,0.99999999999999989,0,0,0,0,67623.625585999995,67623.625585999995,1,0]
["3.11","Armação de pilar ou viga de uma estrutura convencional de concreto armado em um edifício de múltiplos pavimentos utilizando aço CA-50 de 16.0 mm - Montagem. ","kg",17557,17557,0,3.8684319999999999,67918.060623999991,0.59711999999999998,10483.635839999999,0,0,4.4655519999999997,0,78401.696463999993,null,0,0,0,0,0,null,0,1,0,0,0,0,null,0,1,0,0,0,0,null,0,1,0,0,0,0,null,0,1,0,0,0,0,1405.84,8.007290539386E-2,1,5438.3964428799991,839.45518079999988,0,6277.85,591.47,3.3688557270604318E-2,1,2288.06147504,353.17856640000002,0,2641.24,443.5,2.5260579825710543E-2,1,1715.649592,264.82272,0,1980.47,491.74,2.8008201856809252E-2,1,1902.2627516800001,293.62778880000002,0,2195.89,{"$f":"IF(ISERROR(VLOOKUP(A118,#REF!,8,0)),0,(VLOOKUP(A118,#REF!,8,0)))","v":0},0,1,0,0,0,0,{"$f":"IF(ISERROR(VLOOKUP($A118,#REF!,8,0)),0,(VLOOKUP($A118,#REF!,8,0)))","v":0},0,1,0,0,0,0,{"$f":"IF(ISERROR(VLOOKUP($A118,#REF!,8,0)),0,(VLOOKUP($A118,#REF!,8,0)))","v":0},0,1,0,0,0,0,{"$f":"IF(ISERROR(VLOOKUP($A118,#REF!,8,0)),0,(VLOOKUP($A118,#REF!,8,0)))","v":0},0,1,0,0,0,0,{"$f":"IF(ISERROR(VLOOKUP($A118,#REF!,8,0)),0,(VLOOKUP($A118,#REF!,8,0)))","v":0},0,1,0,0,0,0,{"$f":"IF(ISERROR(VLOOKUP($A118,#REF!,8,0)),0,(VLOOKUP($A118,#REF!,8,0)))","v":0},0,1,0,0,0,0,{"$f":"IF(ISERROR(VLOOKUP($A118,#REF!,8,0)),0,(VLOOKUP($A118,#REF!,8,0)))","v":0},0,1,0,0,0,0,{"$f":"IF(ISERROR(VLOOKUP($A118,#REF!,8,0)),0,(VLOOKUP($A118,#REF!,8,0)))","v":0},0,1,0,0,0,0,{"$f":"IF(ISERROR(VLOOKUP($A118,#REF!,8,0)),0,(VLOOKUP($A118,#REF!,8,0)))","v":0},0,1,0,0,0,0,{"$f":"IF(ISERROR(VLOOKUP($A118,#REF!,8,0)),0,(VLOOKUP($A118,#REF!,8,0)))","v":0},0,1,0,0,0,0,{"$f":"IF(ISERROR(VLOOKUP($A118,#REF!,8,0)),0,(VLOOKUP($A118,#REF!,8,0)))","v":0},0,1,0,0,0,0,{"$f":"IF(ISERROR(VLOOKUP($A118,#REF!,8,0)),0,(VLOOKUP($A118,#REF!,8,0)))","v":0},0,1,0,0,0,0,{"$f":"IF(ISERROR(VLOOKUP($A118,#REF!,8,0)),0,(VLOOKUP($A118,#REF!,8,0)))","v":0},0,1,0,0,0,0,{"$f":"IF(ISERROR(VLOOKUP($A118,#REF!,8,0)),0,(VLOOKUP($A118,#REF!,8,0)))","v":0},0,1,0,0,0,0,{"$f":"IF(ISERROR(VLOOKUP($A118,#REF!,8,0)),0,(VLOOKUP($A118,#REF!,8,0)))","v":0},0,1,0,0,0,0,{"$f":"IF(ISERROR(VLOOKUP($A118,#REF!,8,0)),0,(VLOOKUP($A118,#REF!,8,0)))","v":0},0,1,0,0,0,0,{"$f":"IF(ISERROR(VLOOKUP($A118,#REF!,8,0)),0,(VLOOKUP($A118,#REF!,8,0)))","v":0},0,1,0,0,0,0,{"$f":"IF(ISERROR(VLOOKUP($A118,#REF!,8,0)),0,(VLOOKUP($A118,#REF!,8,0)))","v":0},0,1,0,0,0,0,{"$f":"IF(ISERROR(VLOOKUP($A118,#REF!,8,0)),0,(VLOOKUP($A118,#REF!,8,0)))","v":0},0,1,0,0,0,0,{"$f":"IF(ISERROR(VLOOKUP($A118,#REF!,8,0)),0,(VLOOKUP($A118,#REF!,8,0)))","v":0},0,1,0,0,0,0,{"$f":"IF(ISERROR(VLOOKUP($A118,#REF!,8,0)),0,(VLOOKUP($A118,#REF!,8,0)))","v":0},0,1,0,0,0,0,{"$f":"IF(ISERROR(VLOOKUP($A118,#REF!,8,0)),0,(VLOOKUP($A118,#REF!,8,0)))","v":0},0,1,0,0,0,0,{"$f":"IF(ISERROR(VLOOKUP($A118,#REF!,8,0)),0,(VLOOKUP($A118,#REF!,8,0)))","v":0},0,1,0,0,0,0,{"$f":"IF(ISERROR(VLOOKUP($A118,#REF!,8,0)),0,(VLOOKUP($A118,#REF!,8,0)))","v":0},0,1,0,0,0,0,{"$f":"IF(ISERROR(VLOOKUP($A118,#REF!,8,0)),0,(VLOOKUP($A118,#REF!,8,0)))","v":0},0,1,0,0,0,0,{"$f":"IF(ISERROR(VLOOKUP($A118,#REF!,8,0)),0,(VLOOKUP($A118,#REF!,8,0)))","v":0},0,1,0,0,0,0,{"$f":"IF(ISERROR(VLOOKUP($A118,#REF!,8,0)),0,(VLOOKUP($A118,#REF!,8,0)))","v":0},0,1,0,0,0,0,{"$f":"IF(ISERROR(VLOOKUP($A118,#REF!,8,0)),0,(VLOOKUP($A118,#REF!,8,0)))","v":0},0,1,0,0,0,0,{"$f":"IF(ISERROR(VLOOKUP($A118,#REF!,8,0)),0,(VLOOKUP($A118,#REF!,8,0)))","v":0},0,1,0,0,0,0,{"$f":"IF(ISERROR(VLOOKUP($A118,#REF!,8,0)),0,(VLOOKUP($A118,#REF!,8,0)))","v":0},0,1,0,0,0,0,{"$f":"IF(ISERROR(VLOOKUP($A118,#REF!,8,0)),0,(VLOOKUP($A118,#REF!,8,0)))","v":0},0,1,0,0,0,0,{"$f":"IF(ISERROR(VLOOKUP($A118,#REF!,8,0)),0,(VLOOKUP($A118,#REF!,8,0)))","v":0},0,1,0,0,0,0,{"$f":"IF(ISERROR(VLOOKUP($A118,#REF!,8,0)),0,(VLOOKUP($A118,#REF!,8,0)))","v":0},0,1,0,0,0,0,{"$f":"IF(ISERROR(VLOOKUP($A118,#REF!,8,0)),0,(VLOOKUP($A118,#REF!,8,0)))","v":0},0,1,0,0,0,0,{"$f":"IF(ISERROR(VLOOKUP($A118,#REF!,8,0)),0,(VLOOKUP($A118,#REF!,8,0)))","v":0},0,1,0,0,0,0,{"$f":"IF(ISERROR(VLOOKUP($A118,#REF!,8,0)),0,(VLOOKUP($A118,#REF!,8,0)))","v":0},0,1,0,0,0,0,{"$f":"IF(ISERROR(VLOOKUP($A118,#REF!,8,0)),0,(VLOOKUP($A118,#REF!,8,0)))","v":0},0,1,0,0,0,0,{"$f":"IF(ISERROR(VLOOKUP($A118,#REF!,8,0)),0,(VLOOKUP($A118,#REF!,8,0)))","v":0},0,1,0,0,0,0,{"$f":"IF(ISERROR(VLOOKUP($A118,#REF!,8,0)),0,(VLOOKUP($A118,#REF!,8,0)))","v":0},0,1,0,0,0,0,{"$f":"IF(ISERROR(VLOOKUP($A118,#REF!,8,0)),0,(VLOOKUP($A118,#REF!,8,0)))","v":0},0,1,0,0,0,0,{"$f":"IF(ISERROR(VLOOKUP($A118,#REF!,8,0)),0,(VLOOKUP($A118,#REF!,8,0)))","v":0},0,1,0,0,0,0,{"$f":"IF(ISERROR(VLOOKUP($A118,#REF!,8,0)),0,(VLOOKUP($A118,#REF!,8,0)))","v":0},0,1,0,0,0,0,{"$f":"IF(ISERROR(VLOOKUP($A118,#REF!,8,0)),0,(VLOOKUP($A118,#REF!,8,0)))","v":0},0,1,0,0,0,0,{"$f":"IF(ISERROR(VLOOKUP($A118,#REF!,8,0)),0,(VLOOKUP($A118,#REF!,8,0)))","v":0},0,1,0,0,0,0,{"$f":"IF(ISERROR(VLOOKUP($A118,#REF!,8,0)),0,(VLOOKUP($A118,#REF!,8,0)))","v":0},0,1,0,0,0,0,{"$f":"IF(ISERROR(VLOOKUP($A118,#REF!,8,0)),0,(VLOOKUP($A118,#REF!,8,0)))","v":0},0,1,0,0,0,0,78401.696463999993,78401.696463999993,1,0]
["3.12","Armação de pilar ou viga de uma estrutura convencional de concreto armado em um edifício de múltiplos pavimentos utilizando aço CA-50 de 20.0 mm - Montagem. ","kg",43352,42686.13,665.87000000000262,3.691522,160034.86174399999,0.36075999999999997,15639.667519999999,0,0,4.0522819999999999,2698.2930153400107,172976.23624865999,null,0,0,0,0,0,null,0,0.98464038568001466,0,0,0,0,null,0,0.98464038568001466,0,0,0,0,null,0,0.98464038568001466,0,0,0,0,null,0,0.98464038568001466,0,0,0,0,null,0,0.98464038568001466,0,0,0,0,670.63,1.5469413175862706E-2,0.98464038568001466,2475.6453988600001,241.93647879999997,0,2717.58,646.61,1.4915344159439011E-2,0.98464038568001466,2386.9750404199999,233.27102359999998,0,2620.25,1072.27,2.4734037645322015E-2,0.98464038568001466,3958.30829494,386.83212519999995,0,4345.1400000000003,{"$f":"IF(ISERROR(VLOOKUP(A119,#REF!,8,0)),0,(VLOOKUP(A119,#REF!,8,0)))","v":0},0,0.98464038568001466,0,0,0,0,{"$f":"IF(ISERROR(VLOOKUP($A119,#REF!,8,0)),0,(VLOOKUP($A119,#REF!,8,0)))","v":0},0,0.98464038568001466,0,0,0,0,{"$f":"IF(ISERROR(VLOOKUP($A119,#REF!,8,0)),0,(VLOOKUP($A119,#REF!,8,0)))","v":0},0,0.98464038568001466,0,0,0,0,{"$f":"IF(ISERROR(VLOOKUP($A119,#REF!,8,0)),0,(VLOOKUP($A119,#REF!,8,0)))","v":0},0,0.98464038568001466,0,0,0,0,{"$f":"IF(ISERROR(VLOOKUP($A119,#REF!,8,0)),0,(VLOOKUP($A119,#REF!,8,0)))","v":0},0,0.98464038568001466,0,0,0,0,{"$f":"IF(ISERROR(VLOOKUP($A119,#REF!,8,0)),0,(VLOOKUP($A119,#REF!,8,0)))","v":0},0,0.98464038568001466,0,0,0,0,{"$f":"IF(ISERROR(VLOOKUP($A119,#REF!,8,0)),0,(VLOOKUP($A119,#REF!,8,0)))","v":0},0,0.98464038568001466,0,0,0,0,{"$f":"IF(ISERROR(VLOOKUP($A119,#REF!,8,0)),0,(VLOOKUP($A119,#REF!,8,0)))","v":0},0,0.98464038568001466,0,0,0,0,{"$f":"IF(ISERROR(VLOOKUP($A119,#REF!,8,0)),0,(VLOOKUP($A119,#REF!,8,0)))","v":0},0,0.98464038568001466,0,0,0,0,{"$f":"IF(ISERROR(VLOOKUP($A119,#REF!,8,0)),0,(VLOOKUP($A119,#REF!,8,0)))","v":0},{"$f":"IF($D119>0,EK119/$D119,0)","v":0},{"$f":"IF($E119>0,$E119/$D119,0)","v":0.98464038568001466},{"$f":"EK119*$G119","v":0},{"$f":"$I119*EK119","v":0},{"$f":"$K119*EK119","v":0},{"$f":"ROUND($M119*EK119,2)","v":0},{"$f":"IF(ISERROR(VLOOKUP($A119,#REF!,8,0)),0,(VLOOKUP($A119,#REF!,8,0)))","v":0},0,0.98464038568001466,0,0,0,0,{"$f":"IF(ISERROR(VLOOKUP($A119,#REF!,8,0)),0,(VLOOKUP($A119,#REF!,8,0)))","v":0},0,0.98464038568001466,0,0,0,0,{"$f":"IF(ISERROR(VLOOKUP($A119,#REF!,8,0)),0,(VLOOKUP($A119,#REF!,8,0)))","v":0},0,0.98464038568001466,0,0,0,0,{"$f":"IF(ISERROR(VLOOKUP($A119,#REF!,8,0)),0,(VLOOKUP($A119,#REF!,8,0)))","v":0},0,0.98464038568001466,0,0,0,0,{"$f":"IF(ISERROR(VLOOKUP($A119,#REF!,8,0)),0,(VLOOKUP($A119,#REF!,8,0)))","v":0},0,0.98464038568001466,0,0,0,0,{"$f":"IF(ISERROR(VLOOKUP($A119,#REF!,8,0)),0,(VLOOKUP($A119,#REF!,8,0)))","v":0},0,0.98464038568001466,0,0,0,0,{"$f":"IF(ISERROR(VLOOKUP($A119,#REF!,8,0)),0,(VLOOKUP($A119,#REF!,8,0)))","v":0},0,0.98464038568001466,0,0,0,0,{"$f":"IF(ISERROR(VLOOKUP($A119,#REF!,8,0)),0,(VLOOKUP($A119,#REF!,8,0)))","v":0},0,0.98464038568001466,0,0,0,0,{"$f":"IF(ISERROR(VLOOKUP($A119,#REF!,8,0)),0,(VLOOKUP($A119,#REF!,8,0)))","v":0},0,0.98464038568001466,0,0,0,0,{"$f":"IF(ISERROR(VLOOKUP($A119,#REF!,8,0)),0,(VLOOKUP($A119,#REF!,8,0)))","v":0},0,0.98464038568001466,0,0,0,0,{"$f":"IF(ISERROR(VLOOKUP($A119,#REF!,8,0)),0,(VLOOKUP($A119,#REF!,8,0)))","v":0},0,0.98464038568001466,0,0,0,0,{"$f":"IF(ISERROR(VLOOKUP($A119,#REF!,8,0)),0,(VLOOKUP($A119,#REF!,8,0)))","v":0},0,0.98464038568001466,0,0,0,0,{"$f":"IF(ISERROR(VLOOKUP($A119,#REF!,8,0)),0,(VLOOKUP($A119,#REF!,8,0)))","v":0},0,0.98464038568001466,0,0,0,0,{"$f":"IF(ISERROR(VLOOKUP($A119,#REF!,8,0)),0,(VLOOKUP($A119,#REF!,8,0)))","v":0},0,0.98464038568001466,0,0,0,0,{"$f":"IF(ISERROR(VLOOKUP($A119,#REF!,8,0)),0,(VLOOKUP($A119,#REF!,8,0)))","v":0},0,0.98464038568001466,0,0,0,0,{"$f":"IF(ISERROR(VLOOKUP($A119,#REF!,8,0)),0,(VLOOKUP($A119,#REF!,8,0)))","v":0},0,0.98464038568001466,0,0,0,0,{"$f":"IF(ISERROR(VLOOKUP($A119,#REF!,8,0)),0,(VLOOKUP($A119,#REF!,8,0)))","v":0},0,0.98464038568001466,0,0,0,0,{"$f":"IF(ISERROR(VLOOKUP($A119,#REF!,8,0)),0,(VLOOKUP($A119,#REF!,8,0)))","v":0},0,0.98464038568001466,0,0,0,0,{"$f":"IF(ISERROR(VLOOKUP($A119,#REF!,8,0)),0,(VLOOKUP($A119,#REF!,8,0)))","v":0},0,0.98464038568001466,0,0,0,0,{"$f":"IF(ISERROR(VLOOKUP($A119,#REF!,8,0)),0,(VLOOKUP($A119,#REF!,8,0)))","v":0},0,0.98464038568001466,0,0,0,0,{"$f":"IF(ISERROR(VLOOKUP($A119,#REF!,8,0)),0,(VLOOKUP($A119,#REF!,8,0)))","v":0},0,0.98464038568001466,0,0,0,0,{"$f":"IF(ISERROR(VLOOKUP($A119,#REF!,8,0)),0,(VLOOKUP($A119,#REF!,8,0)))","v":0},0,0.98464038568001466,0,0,0,0,{"$f":"IF(ISERROR(VLOOKUP($A119,#REF!,8,0)),0,(VLOOKUP($A119,#REF!,8,0)))","v":0},0,0.98464038568001466,0,0,0,0,{"$f":"IF(ISERROR(VLOOKUP($A119,#REF!,8,0)),0,(VLOOKUP($A119,#REF!,8,0)))","v":0},0,0.98464038568001466,0,0,0,0,{"$f":"IF(ISERROR(VLOOKUP($A119,#REF!,8,0)),0,(VLOOKUP($A119,#REF!,8,0)))","v":0},0,0.98464038568001466,0,0,0,0,{"$f":"IF(ISERROR(VLOOKUP($A119,#REF!,8,0)),0,(VLOOKUP($A119,#REF!,8,0)))","v":0},0,0.98464038568001466,0,0,0,0,{"$f":"IF(ISERROR(VLOOKUP($A119,#REF!,8,0)),0,(VLOOKUP($A119,#REF!,8,0)))","v":0},0,0.98464038568001466,0,0,0,0,{"$f":"IF(ISERROR(VLOOKUP($A119,#REF!,8,0)),0,(VLOOKUP($A119,#REF!,8,0)))","v":0},0,0.98464038568001466,0,0,0,0,{"$f":"IF(ISERROR(VLOOKUP($A119,#REF!,8,0)),0,(VLOOKUP($A119,#REF!,8,0)))","v":0},0,0.98464038568001466,0,0,0,0,{"$f":"IF(ISERROR(VLOOKUP($A119,#REF!,8,0)),0,(VLOOKUP($A119,#REF!,8,0)))","v":0},0,0.98464038568001466,0,0,0,0,{"$f":"IF(ISERROR(VLOOKUP($A119,#REF!,8,0)),0,(VLOOKUP($A119,#REF!,8,0)))","v":0},0,0.98464038568001466,0,0,0,0,{"$f":"IF(ISERROR(VLOOKUP($A119,#REF!,8,0)),0,(VLOOKUP($A119,#REF!,8,0)))","v":0},0,0.98464038568001466,0,0,0,0,{"$f":"IF(ISERROR(VLOOKUP($A119,#REF!,8,0)),0,(VLOOKUP($A119,#REF!,8,0)))","v":0},0,0.98464038568001466,0,0,0,0,{"$f":"IF(ISERROR(VLOOKUP($A119,#REF!,8,0)),0,(VLOOKUP($A119,#REF!,8,0)))","v":0},0,0.98464038568001466,0,0,0,0,{"$f":"IF(ISERROR(VLOOKUP($A119,#REF!,8,0)),0,(VLOOKUP($A119,#REF!,8,0)))","v":0},0,0.98464038568001466,0,0,0,0,{"$f":"IF(ISERROR(VLOOKUP($A119,#REF!,8,0)),0,(VLOOKUP($A119,#REF!,8,0)))","v":0},0,0.98464038568001466,0,0,0,0,172976.23624865999,172976.23624865999,1,0]
["3.13","Armação de pilar ou viga de uma estrutura convencional de concreto armado em um edifício de múltiplos pavimentos utilizando aço CA-50 de 25.0 mm - Montagem. ","kg",11086,11084.429999999998,1.570000000001528,4.2340460000000002,46938.633956000005,0.17416000000000001,1930.7377600000002,0,0,4.4082059999999998,6.9208834200067351,48862.450832579991,null,0,0,0,0,0,null,0,0.99985837993866122,0,0,0,0,null,0,0.99985837993866122,0,0,0,0,null,0,0.99985837993866122,0,0,0,0,1187.03,0.1070746887966805,0.99985837993866122,5025.9396233799998,206.73314480000002,0,5232.67,null,0,0.99985837993866122,0,0,0,0,{"$f":"IF(ISERROR(VLOOKUP(A120,'7ª MEDIÇÃO'!$A$5:$J$1048576,8,0)),0,(VLOOKUP(A120,'7ª MEDIÇÃO'!$A$5:$J$1048576,8,0)))","v":0},0,0.99985837993866122,0,0,0,0,{"$f":"IF(ISERROR(VLOOKUP(A120,'8ª MEDIÇÃO'!$A$5:$J$1048576,8,0)),0,(VLOOKUP(A120,'8ª MEDIÇÃO'!$A$5:$J$1048576,8,0)))","v":0},0,0.99985837993866122,0,0,0,0,{"$f":"IF(ISERROR(VLOOKUP(A120,'9ª MEDIÇÃO'!$A$5:$J$1048576,8,0)),0,(VLOOKUP(A120,'9ª MEDIÇÃO'!$A$5:$J$1048576,8,0)))","v":0},0,0.99985837993866122,0,0,0,0,{"$f":"IF(ISERROR(VLOOKUP(A120,#REF!,8,0)),0,(VLOOKUP(A120,#REF!,8,0)))","v":0},0,0.99985837993866122,0,0,0,0,{"$f":"IF(ISERROR(VLOOKUP($A120,#REF!,8,0)),0,(VLOOKUP($A120,#REF!,8,0)))","v":0},0,0.99985837993866122,0,0,0,0,{"$f":"IF(ISERROR(VLOOKUP($A120,#REF!,8,0)),0,(VLOOKUP($A120,#REF!,8,0)))","v":0},0,0.99985837993866122,0,0,0,0,{"$f":"IF(ISERROR(VLOOKUP($A120,#REF!,8,0)),0,(VLOOKUP($A120,#REF!,8,0)))","v":0},0,0.99985837993866122,0,0,0,0,{"$f":"IF(ISERROR(VLOOKUP($A120,#REF!,8,0)),0,(VLOOKUP($A120,#REF!,8,0)))","v":0},0,0.99985837993866122,0,0,0,0,{"$f":"IF(ISERROR(VLOOKUP($A120,#REF!,8,0)),0,(VLOOKUP($A120,#REF!,8,0)))","v":0},0,0.99985837993866122,0,0,0,0,{"$f":"IF(ISERROR(VLOOKUP($A120,#REF!,8,0)),0,(VLOOKUP($A120,#REF!,8,0)))","v":0},0,0.99985837993866122,0,0,0,0,{"$f":"IF(ISERROR(VLOOKUP($A120,#REF!,8,0)),0,(VLOOKUP($A120,#REF!,8,0)))","v":0},0,0.99985837993866122,0,0,0,0,{"$f":"IF(ISERROR(VLOOKUP($A120,#REF!,8,0)),0,(VLOOKUP($A120,#REF!,8,0)))","v":0},0,0.99985837993866122,0,0,0,0,{"$f":"IF(ISERROR(VLOOKUP($A120,#REF!,8,0)),0,(VLOOKUP($A120,#REF!,8,0)))","v":0},0,0.99985837993866122,0,0,0,0,{"$f":"IF(ISERROR(VLOOKUP($A120,#REF!,8,0)),0,(VLOOKUP($A120,#REF!,8,0)))","v":0},0,0.99985837993866122,0,0,0,0,{"$f":"IF(ISERROR(VLOOKUP($A120,#REF!,8,0)),0,(VLOOKUP($A120,#REF!,8,0)))","v":0},0,0.99985837993866122,0,0,0,0,{"$f":"IF(ISERROR(VLOOKUP($A120,#REF!,8,0)),0,(VLOOKUP($A120,#REF!,8,0)))","v":0},0,0.99985837993866122,0,0,0,0,{"$f":"IF(ISERROR(VLOOKUP($A120,#REF!,8,0)),0,(VLOOKUP($A120,#REF!,8,0)))","v":0},0,0.99985837993866122,0,0,0,0,{"$f":"IF(ISERROR(VLOOKUP($A120,#REF!,8,0)),0,(VLOOKUP($A120,#REF!,8,0)))","v":0},0,0.99985837993866122,0,0,0,0,{"$f":"IF(ISERROR(VLOOKUP($A120,#REF!,8,0)),0,(VLOOKUP($A120,#REF!,8,0)))","v":0},0,0.99985837993866122,0,0,0,0,{"$f":"IF(ISERROR(VLOOKUP($A120,#REF!,8,0)),0,(VLOOKUP($A120,#REF!,8,0)))","v":0},0,0.99985837993866122,0,0,0,0,{"$f":"IF(ISERROR(VLOOKUP($A120,#REF!,8,0)),0,(VLOOKUP($A120,#REF!,8,0)))","v":0},0,0.99985837993866122,0,0,0,0,{"$f":"IF(ISERROR(VLOOKUP($A120,#REF!,8,0)),0,(VLOOKUP($A120,#REF!,8,0)))","v":0},0,0.99985837993866122,0,0,0,0,{"$f":"IF(ISERROR(VLOOKUP($A120,#REF!,8,0)),0,(VLOOKUP($A120,#REF!,8,0)))","v":0},0,0.99985837993866122,0,0,0,0,{"$f":"IF(ISERROR(VLOOKUP($A120,#REF!,8,0)),0,(VLOOKUP($A120,#REF!,8,0)))","v":0},0,0.99985837993866122,0,0,0,0,{"$f":"IF(ISERROR(VLOOKUP($A120,#REF!,8,0)),0,(VLOOKUP($A120,#REF!,8,0)))","v":0},0,0.99985837993866122,0,0,0,0,{"$f":"IF(ISERROR(VLOOKUP($A120,#REF!,8,0)),0,(VLOOKUP($A120,#REF!,8,0)))","v":0},0,0.99985837993866122,0,0,0,0,{"$f":"IF(ISERROR(VLOOKUP($A120,#REF!,8,0)),0,(VLOOKUP($A120,#REF!,8,0)))","v":0},0,0.99985837993866122,0,0,0,0,{"$f":"IF(ISERROR(VLOOKUP($A120,#REF!,8,0)),0,(VLOOKUP($A120,#REF!,8,0)))","v":0},0,0.99985837993866122,0,0,0,0,{"$f":"IF(ISERROR(VLOOKUP($A120,#REF!,8,0)),0,(VLOOKUP($A120,#REF!,8,0)))","v":0},0,0.99985837993866122,0,0,0,0,{"$f":"IF(ISERROR(VLOOKUP($A120,#REF!,8,0)),0,(VLOOKUP($A120,#REF!,8,0)))","v":0},0,0.99985837993866122,0,0,0,0,{"$f":"IF(ISERROR(VLOOKUP($A120,#REF!,8,0)),0,(VLOOKUP($A120,#REF!,8,0)))","v":0},0,0.99985837993866122,0,0,0,0,{"$f":"IF(ISERROR(VLOOKUP($A120,#REF!,8,0)),0,(VLOOKUP($A120,#REF!,8,0)))","v":0},0,0.99985837993866122,0,0,0,0,{"$f":"IF(ISERROR(VLOOKUP($A120,#REF!,8,0)),0,(VLOOKUP($A120,#REF!,8,0)))","v":0},0,0.99985837993866122,0,0,0,0,{"$f":"IF(ISERROR(VLOOKUP($A120,#REF!,8,0)),0,(VLOOKUP($A120,#REF!,8,0)))","v":0},0,0.99985837993866122,0,0,0,0,{"$f":"IF(ISERROR(VLOOKUP($A120,#REF!,8,0)),0,(VLOOKUP($A120,#REF!,8,0)))","v":0},0,0.99985837993866122,0,0,0,0,{"$f":"IF(ISERROR(VLOOKUP($A120,#REF!,8,0)),0,(VLOOKUP($A120,#REF!,8,0)))","v":0},0,0.99985837993866122,0,0,0,0,{"$f":"IF(ISERROR(VLOOKUP($A120,#REF!,8,0)),0,(VLOOKUP($A120,#REF!,8,0)))","v":0},0,0.99985837993866122,0,0,0,0,{"$f":"IF(ISERROR(VLOOKUP($A120,#REF!,8,0)),0,(VLOOKUP($A120,#REF!,8,0)))","v":0},0,0.99985837993866122,0,0,0,0,{"$f":"IF(ISERROR(VLOOKUP($A120,#REF!,8,0)),0,(VLOOKUP($A120,#REF!,8,0)))","v":0},0,0.99985837993866122,0,0,0,0,{"$f":"IF(ISERROR(VLOOKUP($A120,#REF!,8,0)),0,(VLOOKUP($A120,#REF!,8,0)))","v":0},0,0.99985837993866122,0,0,0,0,{"$f":"IF(ISERROR(VLOOKUP($A120,#REF!,8,0)),0,(VLOOKUP($A120,#REF!,8,0)))","v":0},0,0.99985837993866122,0,0,0,0,{"$f":"IF(ISERROR(VLOOKUP($A120,#REF!,8,0)),0,(VLOOKUP($A120,#REF!,8,0)))","v":0},0,0.99985837993866122,0,0,0,0,{"$f":"IF(ISERROR(VLOOKUP($A120,#REF!,8,0)),0,(VLOOKUP($A120,#REF!,8,0)))","v":0},0,0.99985837993866122,0,0,0,0,{"$f":"IF(ISERROR(VLOOKUP($A120,#REF!,8,0)),0,(VLOOKUP($A120,#REF!,8,0)))","v":0},0,0.99985837993866122,0,0,0,0,{"$f":"IF(ISERROR(VLOOKUP($A120,#REF!,8,0)),0,(VLOOKUP($A120,#REF!,8,0)))","v":0},0,0.99985837993866122,0,0,0,0,{"$f":"IF(ISERROR(VLOOKUP($A120,#REF!,8,0)),0,(VLOOKUP($A120,#REF!,8,0)))","v":0},0,0.99985837993866122,0,0,0,0,{"$f":"IF(ISERROR(VLOOKUP($A120,#REF!,8,0)),0,(VLOOKUP($A120,#REF!,8,0)))","v":0},0,0.99985837993866122,0,0,0,0,{"$f":"IF(ISERROR(VLOOKUP($A120,#REF!,8,0)),0,(VLOOKUP($A120,#REF!,8,0)))","v":0},0,0.99985837993866122,0,0,0,0,{"$f":"IF(ISERROR(VLOOKUP($A120,#REF!,8,0)),0,(VLOOKUP($A120,#REF!,8,0)))","v":0},0,0.99985837993866122,0,0,0,0,48862.450832579991,48862.450832579991,1,0]
["3.14","Armação de laje de uma estrutura convencional de concreto armado em um edifício de múltiplos pavimentos utilizando aço CA-60 de 5.0 mm - Montagem. ","kg",809,775.03,33.970000000000027,4.2812219999999996,3463.5085979999999,2.6994799999999999,2183.87932,0,0,6.9807019999999991,237.13444694000015,5410.2534710599994,null,0,0,0,0,0,null,0,0.95800988875154514,0,0,0,0,null,0,0.95800988875154514,0,0,0,0,null,0,0.95800988875154514,0,0,0,0,null,0,0.95800988875154514,0,0,0,0,null,0,0.95800988875154514,0,0,0,0,{"$f":"IF(ISERROR(VLOOKUP(A121,'7ª MEDIÇÃO'!$A$5:$J$1048576,8,0)),0,(VLOOKUP(A121,'7ª MEDIÇÃO'!$A$5:$J$1048576,8,0)))","v":0},0,0.95800988875154514,0,0,0,0,{"$f":"IF(ISERROR(VLOOKUP(A121,'8ª MEDIÇÃO'!$A$5:$J$1048576,8,0)),0,(VLOOKUP(A121,'8ª MEDIÇÃO'!$A$5:$J$1048576,8,0)))","v":0},0,0.95800988875154514,0,0,0,0,37.44,4.6279357231149565E-2,0.95800988875154514,160.28895167999997,101.0685312,0,261.36,{"$f":"IF(ISERROR(VLOOKUP(A121,#REF!,8,0)),0,(VLOOKUP(A121,#REF!,8,0)))","v":0},0,0.95800988875154514,0,0,0,0,{"$f":"IF(ISERROR(VLOOKUP($A121,#REF!,8,0)),0,(VLOOKUP($A121,#REF!,8,0)))","v":0},0,0.95800988875154514,0,0,0,0,{"$f":"IF(ISERROR(VLOOKUP($A121,#REF!,8,0)),0,(VLOOKUP($A121,#REF!,8,0)))","v":0},0,0.95800988875154514,0,0,0,0,{"$f":"IF(ISERROR(VLOOKUP($A121,#REF!,8,0)),0,(VLOOKUP($A121,#REF!,8,0)))","v":0},0,0.95800988875154514,0,0,0,0,{"$f":"IF(ISERROR(VLOOKUP($A121,#REF!,8,0)),0,(VLOOKUP($A121,#REF!,8,0)))","v":0},0,0.95800988875154514,0,0,0,0,{"$f":"IF(ISERROR(VLOOKUP($A121,#REF!,8,0)),0,(VLOOKUP($A121,#REF!,8,0)))","v":0},0,0.95800988875154514,0,0,0,0,{"$f":"IF(ISERROR(VLOOKUP($A121,#REF!,8,0)),0,(VLOOKUP($A121,#REF!,8,0)))","v":0},0,0.95800988875154514,0,0,0,0,{"$f":"IF(ISERROR(VLOOKUP($A121,#REF!,8,0)),0,(VLOOKUP($A121,#REF!,8,0)))","v":0},0,0.95800988875154514,0,0,0,0,{"$f":"IF(ISERROR(VLOOKUP($A121,#REF!,8,0)),0,(VLOOKUP($A121,#REF!,8,0)))","v":0},0,0.95800988875154514,0,0,0,0,{"$f":"IF(ISERROR(VLOOKUP($A121,#REF!,8,0)),0,(VLOOKUP($A121,#REF!,8,0)))","v":0},{"$f":"IF($D121>0,EK121/$D121,0)","v":0},{"$f":"IF($E121>0,$E121/$D121,0)","v":0.95800988875154514},{"$f":"EK121*$G121","v":0},{"$f":"$I121*EK121","v":0},0,{"$f":"ROUND($M121*EK121,2)","v":0},{"$f":"IF(ISERROR(VLOOKUP($A121,#REF!,8,0)),0,(VLOOKUP($A121,#REF!,8,0)))","v":0},0,0.95800988875154514,0,0,0,0,{"$f":"IF(ISERROR(VLOOKUP($A121,#REF!,8,0)),0,(VLOOKUP($A121,#REF!,8,0)))","v":0},0,0.95800988875154514,0,0,0,0,{"$f":"IF(ISERROR(VLOOKUP($A121,#REF!,8,0)),0,(VLOOKUP($A121,#REF!,8,0)))","v":0},0,0.95800988875154514,0,0,0,0,{"$f":"IF(ISERROR(VLOOKUP($A121,#REF!,8,0)),0,(VLOOKUP($A121,#REF!,8,0)))","v":0},0,0.95800988875154514,0,0,0,0,{"$f":"IF(ISERROR(VLOOKUP($A121,#REF!,8,0)),0,(VLOOKUP($A121,#REF!,8,0)))","v":0},0,0.95800988875154514,0,0,0,0,{"$f":"IF(ISERROR(VLOOKUP($A121,#REF!,8,0)),0,(VLOOKUP($A121,#REF!,8,0)))","v":0},0,0.95800988875154514,0,0,0,0,{"$f":"IF(ISERROR(VLOOKUP($A121,#REF!,8,0)),0,(VLOOKUP($A121,#REF!,8,0)))","v":0},0,0.95800988875154514,0,0,0,0,{"$f":"IF(ISERROR(VLOOKUP($A121,#REF!,8,0)),0,(VLOOKUP($A121,#REF!,8,0)))","v":0},0,0.95800988875154514,0,0,0,0,{"$f":"IF(ISERROR(VLOOKUP($A121,#REF!,8,0)),0,(VLOOKUP($A121,#REF!,8,0)))","v":0},0,0.95800988875154514,0,0,0,0,{"$f":"IF(ISERROR(VLOOKUP($A121,#REF!,8,0)),0,(VLOOKUP($A121,#REF!,8,0)))","v":0},0,0.95800988875154514,0,0,0,0,{"$f":"IF(ISERROR(VLOOKUP($A121,#REF!,8,0)),0,(VLOOKUP($A121,#REF!,8,0)))","v":0},0,0.95800988875154514,0,0,0,0,{"$f":"IF(ISERROR(VLOOKUP($A121,#REF!,8,0)),0,(VLOOKUP($A121,#REF!,8,0)))","v":0},0,0.95800988875154514,0,0,0,0,{"$f":"IF(ISERROR(VLOOKUP($A121,#REF!,8,0)),0,(VLOOKUP($A121,#REF!,8,0)))","v":0},0,0.95800988875154514,0,0,0,0,{"$f":"IF(ISERROR(VLOOKUP($A121,#REF!,8,0)),0,(VLOOKUP($A121,#REF!,8,0)))","v":0},0,0.95800988875154514,0,0,0,0,{"$f":"IF(ISERROR(VLOOKUP($A121,#REF!,8,0)),0,(VLOOKUP($A121,#REF!,8,0)))","v":0},0,0.95800988875154514,0,0,0,0,{"$f":"IF(ISERROR(VLOOKUP($A121,#REF!,8,0)),0,(VLOOKUP($A121,#REF!,8,0)))","v":0},0,0.95800988875154514,0,0,0,0,{"$f":"IF(ISERROR(VLOOKUP($A121,#REF!,8,0)),0,(VLOOKUP($A121,#REF!,8,0)))","v":0},0,0.95800988875154514,0,0,0,0,{"$f":"IF(ISERROR(VLOOKUP($A121,#REF!,8,0)),0,(VLOOKUP($A121,#REF!,8,0)))","v":0},0,0.95800988875154514,0,0,0,0,{"$f":"IF(ISERROR(VLOOKUP($A121,#REF!,8,0)),0,(VLOOKUP($A121,#REF!,8,0)))","v":0},0,0.95800988875154514,0,0,0,0,{"$f":"IF(ISERROR(VLOOKUP($A121,#REF!,8,0)),0,(VLOOKUP($A121,#REF!,8,0)))","v":0},0,0.95800988875154514,0,0,0,0,{"$f":"IF(ISERROR(VLOOKUP($A121,#REF!,8,0)),0,(VLOOKUP($A121,#REF!,8,0)))","v":0},0,0.95800988875154514,0,0,0,0,{"$f":"IF(ISERROR(VLOOKUP($A121,#REF!,8,0)),0,(VLOOKUP($A121,#REF!,8,0)))","v":0},0,0.95800988875154514,0,0,0,0,{"$f":"IF(ISERROR(VLOOKUP($A121,#REF!,8,0)),0,(VLOOKUP($A121,#REF!,8,0)))","v":0},0,0.95800988875154514,0,0,0,0,{"$f":"IF(ISERROR(VLOOKUP($A121,#REF!,8,0)),0,(VLOOKUP($A121,#REF!,8,0)))","v":0},0,0.95800988875154514,0,0,0,0,{"$f":"IF(ISERROR(VLOOKUP($A121,#REF!,8,0)),0,(VLOOKUP($A121,#REF!,8,0)))","v":0},0,0.95800988875154514,0,0,0,0,{"$f":"IF(ISERROR(VLOOKUP($A121,#REF!,8,0)),0,(VLOOKUP($A121,#REF!,8,0)))","v":0},0,0.95800988875154514,0,0,0,0,{"$f":"IF(ISERROR(VLOOKUP($A121,#REF!,8,0)),0,(VLOOKUP($A121,#REF!,8,0)))","v":0},0,0.95800988875154514,0,0,0,0,{"$f":"IF(ISERROR(VLOOKUP($A121,#REF!,8,0)),0,(VLOOKUP($A121,#REF!,8,0)))","v":0},0,0.95800988875154514,0,0,0,0,{"$f":"IF(ISERROR(VLOOKUP($A121,#REF!,8,0)),0,(VLOOKUP($A121,#REF!,8,0)))","v":0},0,0.95800988875154514,0,0,0,0,{"$f":"IF(ISERROR(VLOOKUP($A121,#REF!,8,0)),0,(VLOOKUP($A121,#REF!,8,0)))","v":0},0,0.95800988875154514,0,0,0,0,{"$f":"IF(ISERROR(VLOOKUP($A121,#REF!,8,0)),0,(VLOOKUP($A121,#REF!,8,0)))","v":0},0,0.95800988875154514,0,0,0,0,{"$f":"IF(ISERROR(VLOOKUP($A121,#REF!,8,0)),0,(VLOOKUP($A121,#REF!,8,0)))","v":0},0,0.95800988875154514,0,0,0,0,{"$f":"IF(ISERROR(VLOOKUP($A121,#REF!,8,0)),0,(VLOOKUP($A121,#REF!,8,0)))","v":0},0,0.95800988875154514,0,0,0,0,{"$f":"IF(ISERROR(VLOOKUP($A121,#REF!,8,0)),0,(VLOOKUP($A121,#REF!,8,0)))","v":0},0,0.95800988875154514,0,0,0,0,{"$f":"IF(ISERROR(VLOOKUP($A121,#REF!,8,0)),0,(VLOOKUP($A121,#REF!,8,0)))","v":0},0,0.95800988875154514,0,0,0,0,{"$f":"IF(ISERROR(VLOOKUP($A121,#REF!,8,0)),0,(VLOOKUP($A121,#REF!,8,0)))","v":0},0,0.95800988875154514,0,0,0,0,5410.2534710599994,5410.2534710599994,1,0]
["3.15","Armação laje de uma estrutura convencional de concreto armado em um edifício de múltiplos pavimentos utilizando aço CA-50 de 6.3 mm - Montagem. ","kg",18715,18689.860000000004,25.13999999999578,4.3166039999999999,80785.243860000002,1.9530800000000001,36551.892200000002,0,0,6.2696839999999998,157.61985575997355,117179.51620424002,null,0,0,0,0,0,null,0,0.99865669249265321,0,0,0,0,null,0,0.99865669249265321,0,0,0,0,null,0,0.99865669249265321,0,0,0,0,null,0,0.99865669249265321,0,0,0,0,null,0,0.99865669249265321,0,0,0,0,{"$f":"IF(ISERROR(VLOOKUP(A122,'7ª MEDIÇÃO'!$A$5:$J$1048576,8,0)),0,(VLOOKUP(A122,'7ª MEDIÇÃO'!$A$5:$J$1048576,8,0)))","v":0},0,0.99865669249265321,0,0,0,0,{"$f":"IF(ISERROR(VLOOKUP(A122,'8ª MEDIÇÃO'!$A$5:$J$1048576,8,0)),0,(VLOOKUP(A122,'8ª MEDIÇÃO'!$A$5:$J$1048576,8,0)))","v":0},0,0.99865669249265321,0,0,0,0,1744.7,9.3224686080683947E-2,0.99865669249265321,7531.1789988,3407.5386760000001,0,10938.72,{"$f":"IF(ISERROR(VLOOKUP(A122,#REF!,8,0)),0,(VLOOKUP(A122,#REF!,8,0)))","v":0},0,0.99865669249265321,0,0,0,0,{"$f":"IF(ISERROR(VLOOKUP($A122,#REF!,8,0)),0,(VLOOKUP($A122,#REF!,8,0)))","v":0},0,0.99865669249265321,0,0,0,0,{"$f":"IF(ISERROR(VLOOKUP($A122,#REF!,8,0)),0,(VLOOKUP($A122,#REF!,8,0)))","v":0},0,0.99865669249265321,0,0,0,0,{"$f":"IF(ISERROR(VLOOKUP($A122,#REF!,8,0)),0,(VLOOKUP($A122,#REF!,8,0)))","v":0},0,0.99865669249265321,0,0,0,0,{"$f":"IF(ISERROR(VLOOKUP($A122,#REF!,8,0)),0,(VLOOKUP($A122,#REF!,8,0)))","v":0},0,0.99865669249265321,0,0,0,0,{"$f":"IF(ISERROR(VLOOKUP($A122,#REF!,8,0)),0,(VLOOKUP($A122,#REF!,8,0)))","v":0},0,0.99865669249265321,0,0,0,0,{"$f":"IF(ISERROR(VLOOKUP($A122,#REF!,8,0)),0,(VLOOKUP($A122,#REF!,8,0)))","v":0},0,0.99865669249265321,0,0,0,0,{"$f":"IF(ISERROR(VLOOKUP($A122,#REF!,8,0)),0,(VLOOKUP($A122,#REF!,8,0)))","v":0},0,0.99865669249265321,0,0,0,0,{"$f":"IF(ISERROR(VLOOKUP($A122,#REF!,8,0)),0,(VLOOKUP($A122,#REF!,8,0)))","v":0},0,0.99865669249265321,0,0,0,0,{"$f":"IF(ISERROR(VLOOKUP($A122,#REF!,8,0)),0,(VLOOKUP($A122,#REF!,8,0)))","v":0},0,0.99865669249265321,0,0,0,0,{"$f":"IF(ISERROR(VLOOKUP($A122,#REF!,8,0)),0,(VLOOKUP($A122,#REF!,8,0)))","v":0},0,0.99865669249265321,0,0,0,0,{"$f":"IF(ISERROR(VLOOKUP($A122,#REF!,8,0)),0,(VLOOKUP($A122,#REF!,8,0)))","v":0},0,0.99865669249265321,0,0,0,0,{"$f":"IF(ISERROR(VLOOKUP($A122,#REF!,8,0)),0,(VLOOKUP($A122,#REF!,8,0)))","v":0},0,0.99865669249265321,0,0,0,0,{"$f":"IF(ISERROR(VLOOKUP($A122,#REF!,8,0)),0,(VLOOKUP($A122,#REF!,8,0)))","v":0},0,0.99865669249265321,0,0,0,0,{"$f":"IF(ISERROR(VLOOKUP($A122,#REF!,8,0)),0,(VLOOKUP($A122,#REF!,8,0)))","v":0},0,0.99865669249265321,0,0,0,0,{"$f":"IF(ISERROR(VLOOKUP($A122,#REF!,8,0)),0,(VLOOKUP($A122,#REF!,8,0)))","v":0},0,0.99865669249265321,0,0,0,0,{"$f":"IF(ISERROR(VLOOKUP($A122,#REF!,8,0)),0,(VLOOKUP($A122,#REF!,8,0)))","v":0},0,0.99865669249265321,0,0,0,0,{"$f":"IF(ISERROR(VLOOKUP($A122,#REF!,8,0)),0,(VLOOKUP($A122,#REF!,8,0)))","v":0},0,0.99865669249265321,0,0,0,0,{"$f":"IF(ISERROR(VLOOKUP($A122,#REF!,8,0)),0,(VLOOKUP($A122,#REF!,8,0)))","v":0},0,0.99865669249265321,0,0,0,0,{"$f":"IF(ISERROR(VLOOKUP($A122,#REF!,8,0)),0,(VLOOKUP($A122,#REF!,8,0)))","v":0},0,0.99865669249265321,0,0,0,0,{"$f":"IF(ISERROR(VLOOKUP($A122,#REF!,8,0)),0,(VLOOKUP($A122,#REF!,8,0)))","v":0},0,0.99865669249265321,0,0,0,0,{"$f":"IF(ISERROR(VLOOKUP($A122,#REF!,8,0)),0,(VLOOKUP($A122,#REF!,8,0)))","v":0},0,0.99865669249265321,0,0,0,0,{"$f":"IF(ISERROR(VLOOKUP($A122,#REF!,8,0)),0,(VLOOKUP($A122,#REF!,8,0)))","v":0},0,0.99865669249265321,0,0,0,0,{"$f":"IF(ISERROR(VLOOKUP($A122,#REF!,8,0)),0,(VLOOKUP($A122,#REF!,8,0)))","v":0},0,0.99865669249265321,0,0,0,0,{"$f":"IF(ISERROR(VLOOKUP($A122,#REF!,8,0)),0,(VLOOKUP($A122,#REF!,8,0)))","v":0},0,0.99865669249265321,0,0,0,0,{"$f":"IF(ISERROR(VLOOKUP($A122,#REF!,8,0)),0,(VLOOKUP($A122,#REF!,8,0)))","v":0},0,0.99865669249265321,0,0,0,0,{"$f":"IF(ISERROR(VLOOKUP($A122,#REF!,8,0)),0,(VLOOKUP($A122,#REF!,8,0)))","v":0},0,0.99865669249265321,0,0,0,0,{"$f":"IF(ISERROR(VLOOKUP($A122,#REF!,8,0)),0,(VLOOKUP($A122,#REF!,8,0)))","v":0},0,0.99865669249265321,0,0,0,0,{"$f":"IF(ISERROR(VLOOKUP($A122,#REF!,8,0)),0,(VLOOKUP($A122,#REF!,8,0)))","v":0},0,0.99865669249265321,0,0,0,0,{"$f":"IF(ISERROR(VLOOKUP($A122,#REF!,8,0)),0,(VLOOKUP($A122,#REF!,8,0)))","v":0},0,0.99865669249265321,0,0,0,0,{"$f":"IF(ISERROR(VLOOKUP($A122,#REF!,8,0)),0,(VLOOKUP($A122,#REF!,8,0)))","v":0},0,0.99865669249265321,0,0,0,0,{"$f":"IF(ISERROR(VLOOKUP($A122,#REF!,8,0)),0,(VLOOKUP($A122,#REF!,8,0)))","v":0},0,0.99865669249265321,0,0,0,0,{"$f":"IF(ISERROR(VLOOKUP($A122,#REF!,8,0)),0,(VLOOKUP($A122,#REF!,8,0)))","v":0},0,0.99865669249265321,0,0,0,0,{"$f":"IF(ISERROR(VLOOKUP($A122,#REF!,8,0)),0,(VLOOKUP($A122,#REF!,8,0)))","v":0},0,0.99865669249265321,0,0,0,0,{"$f":"IF(ISERROR(VLOOKUP($A122,#REF!,8,0)),0,(VLOOKUP($A122,#REF!,8,0)))","v":0},0,0.99865669249265321,0,0,0,0,{"$f":"IF(ISERROR(VLOOKUP($A122,#REF!,8,0)),0,(VLOOKUP($A122,#REF!,8,0)))","v":0},0,0.99865669249265321,0,0,0,0,{"$f":"IF(ISERROR(VLOOKUP($A122,#REF!,8,0)),0,(VLOOKUP($A122,#REF!,8,0)))","v":0},0,0.99865669249265321,0,0,0,0,{"$f":"IF(ISERROR(VLOOKUP($A122,#REF!,8,0)),0,(VLOOKUP($A122,#REF!,8,0)))","v":0},0,0.99865669249265321,0,0,0,0,{"$f":"IF(ISERROR(VLOOKUP($A122,#REF!,8,0)),0,(VLOOKUP($A122,#REF!,8,0)))","v":0},0,0.99865669249265321,0,0,0,0,{"$f":"IF(ISERROR(VLOOKUP($A122,#REF!,8,0)),0,(VLOOKUP($A122,#REF!,8,0)))","v":0},0,0.99865669249265321,0,0,0,0,{"$f":"IF(ISERROR(VLOOKUP($A122,#REF!,8,0)),0,(VLOOKUP($A122,#REF!,8,0)))","v":0},0,0.99865669249265321,0,0,0,0,{"$f":"IF(ISERROR(VLOOKUP($A122,#REF!,8,0)),0,(VLOOKUP($A122,#REF!,8,0)))","v":0},0,0.99865669249265321,0,0,0,0,{"$f":"IF(ISERROR(VLOOKUP($A122,#REF!,8,0)),0,(VLOOKUP($A122,#REF!,8,0)))","v":0},0,0.99865669249265321,0,0,0,0,{"$f":"IF(ISERROR(VLOOKUP($A122,#REF!,8,0)),0,(VLOOKUP($A122,#REF!,8,0)))","v":0},0,0.99865669249265321,0,0,0,0,{"$f":"IF(ISERROR(VLOOKUP($A122,#REF!,8,0)),0,(VLOOKUP($A122,#REF!,8,0)))","v":0},0,0.99865669249265321,0,0,0,0,{"$f":"IF(ISERROR(VLOOKUP($A122,#REF!,8,0)),0,(VLOOKUP($A122,#REF!,8,0)))","v":0},0,0.99865669249265321,0,0,0,0,117179.51620424002,117179.51620424002,1,0]
["3.16","Armação de laje de uma estrutura convencional de concreto armado em um edifício de múltiplos pavimentos utilizando aço CA-50 de 8.0 mm - Montagem. ","kg",5909,5909,0,4.8237459999999999,28503.515113999998,1.3559600000000001,8012.3676400000004,0,0,6.1797059999999995,0,36515.882753999998,null,0,0,0,0,0,null,0,1,0,0,0,0,null,0,1,0,0,0,0,null,0,1,0,0,0,0,null,0,1,0,0,0,0,null,0,1,0,0,0,0,{"$f":"IF(ISERROR(VLOOKUP(A123,'7ª MEDIÇÃO'!$A$5:$J$1048576,8,0)),0,(VLOOKUP(A123,'7ª MEDIÇÃO'!$A$5:$J$1048576,8,0)))","v":0},0,1,0,0,0,0,{"$f":"IF(ISERROR(VLOOKUP(A123,'8ª MEDIÇÃO'!$A$5:$J$1048576,8,0)),0,(VLOOKUP(A123,'8ª MEDIÇÃO'!$A$5:$J$1048576,8,0)))","v":0},0,1,0,0,0,0,446.14,7.5501776950414615E-2,1,2152.0660404400001,604.94799439999997,0,2757.01,{"$f":"IF(ISERROR(VLOOKUP(A123,#REF!,8,0)),0,(VLOOKUP(A123,#REF!,8,0)))","v":0},0,1,0,0,0,0,{"$f":"IF(ISERROR(VLOOKUP($A123,#REF!,8,0)),0,(VLOOKUP($A123,#REF!,8,0)))","v":0},0,1,0,0,0,0,{"$f":"IF(ISERROR(VLOOKUP($A123,#REF!,8,0)),0,(VLOOKUP($A123,#REF!,8,0)))","v":0},0,1,0,0,0,0,{"$f":"IF(ISERROR(VLOOKUP($A123,#REF!,8,0)),0,(VLOOKUP($A123,#REF!,8,0)))","v":0},0,1,0,0,0,0,{"$f":"IF(ISERROR(VLOOKUP($A123,#REF!,8,0)),0,(VLOOKUP($A123,#REF!,8,0)))","v":0},0,1,0,0,0,0,{"$f":"IF(ISERROR(VLOOKUP($A123,#REF!,8,0)),0,(VLOOKUP($A123,#REF!,8,0)))","v":0},0,1,0,0,0,0,{"$f":"IF(ISERROR(VLOOKUP($A123,#REF!,8,0)),0,(VLOOKUP($A123,#REF!,8,0)))","v":0},0,1,0,0,0,0,{"$f":"IF(ISERROR(VLOOKUP($A123,#REF!,8,0)),0,(VLOOKUP($A123,#REF!,8,0)))","v":0},0,1,0,0,0,0,{"$f":"IF(ISERROR(VLOOKUP($A123,#REF!,8,0)),0,(VLOOKUP($A123,#REF!,8,0)))","v":0},0,1,0,0,0,0,{"$f":"IF(ISERROR(VLOOKUP($A123,#REF!,8,0)),0,(VLOOKUP($A123,#REF!,8,0)))","v":0},0,1,0,0,0,0,{"$f":"IF(ISERROR(VLOOKUP($A123,#REF!,8,0)),0,(VLOOKUP($A123,#REF!,8,0)))","v":0},0,1,0,0,0,0,{"$f":"IF(ISERROR(VLOOKUP($A123,#REF!,8,0)),0,(VLOOKUP($A123,#REF!,8,0)))","v":0},0,1,0,0,0,0,{"$f":"IF(ISERROR(VLOOKUP($A123,#REF!,8,0)),0,(VLOOKUP($A123,#REF!,8,0)))","v":0},0,1,0,0,0,0,{"$f":"IF(ISERROR(VLOOKUP($A123,#REF!,8,0)),0,(VLOOKUP($A123,#REF!,8,0)))","v":0},0,1,0,0,0,0,{"$f":"IF(ISERROR(VLOOKUP($A123,#REF!,8,0)),0,(VLOOKUP($A123,#REF!,8,0)))","v":0},0,1,0,0,0,0,{"$f":"IF(ISERROR(VLOOKUP($A123,#REF!,8,0)),0,(VLOOKUP($A123,#REF!,8,0)))","v":0},0,1,0,0,0,0,{"$f":"IF(ISERROR(VLOOKUP($A123,#REF!,8,0)),0,(VLOOKUP($A123,#REF!,8,0)))","v":0},0,1,0,0,0,0,{"$f":"IF(ISERROR(VLOOKUP($A123,#REF!,8,0)),0,(VLOOKUP($A123,#REF!,8,0)))","v":0},0,1,0,0,0,0,{"$f":"IF(ISERROR(VLOOKUP($A123,#REF!,8,0)),0,(VLOOKUP($A123,#REF!,8,0)))","v":0},0,1,0,0,0,0,{"$f":"IF(ISERROR(VLOOKUP($A123,#REF!,8,0)),0,(VLOOKUP($A123,#REF!,8,0)))","v":0},0,1,0,0,0,0,{"$f":"IF(ISERROR(VLOOKUP($A123,#REF!,8,0)),0,(VLOOKUP($A123,#REF!,8,0)))","v":0},0,1,0,0,0,0,{"$f":"IF(ISERROR(VLOOKUP($A123,#REF!,8,0)),0,(VLOOKUP($A123,#REF!,8,0)))","v":0},0,1,0,0,0,0,{"$f":"IF(ISERROR(VLOOKUP($A123,#REF!,8,0)),0,(VLOOKUP($A123,#REF!,8,0)))","v":0},0,1,0,0,0,0,{"$f":"IF(ISERROR(VLOOKUP($A123,#REF!,8,0)),0,(VLOOKUP($A123,#REF!,8,0)))","v":0},0,1,0,0,0,0,{"$f":"IF(ISERROR(VLOOKUP($A123,#REF!,8,0)),0,(VLOOKUP($A123,#REF!,8,0)))","v":0},0,1,0,0,0,0,{"$f":"IF(ISERROR(VLOOKUP($A123,#REF!,8,0)),0,(VLOOKUP($A123,#REF!,8,0)))","v":0},0,1,0,0,0,0,{"$f":"IF(ISERROR(VLOOKUP($A123,#REF!,8,0)),0,(VLOOKUP($A123,#REF!,8,0)))","v":0},0,1,0,0,0,0,{"$f":"IF(ISERROR(VLOOKUP($A123,#REF!,8,0)),0,(VLOOKUP($A123,#REF!,8,0)))","v":0},0,1,0,0,0,0,{"$f":"IF(ISERROR(VLOOKUP($A123,#REF!,8,0)),0,(VLOOKUP($A123,#REF!,8,0)))","v":0},0,1,0,0,0,0,{"$f":"IF(ISERROR(VLOOKUP($A123,#REF!,8,0)),0,(VLOOKUP($A123,#REF!,8,0)))","v":0},0,1,0,0,0,0,{"$f":"IF(ISERROR(VLOOKUP($A123,#REF!,8,0)),0,(VLOOKUP($A123,#REF!,8,0)))","v":0},0,1,0,0,0,0,{"$f":"IF(ISERROR(VLOOKUP($A123,#REF!,8,0)),0,(VLOOKUP($A123,#REF!,8,0)))","v":0},0,1,0,0,0,0,{"$f":"IF(ISERROR(VLOOKUP($A123,#REF!,8,0)),0,(VLOOKUP($A123,#REF!,8,0)))","v":0},0,1,0,0,0,0,{"$f":"IF(ISERROR(VLOOKUP($A123,#REF!,8,0)),0,(VLOOKUP($A123,#REF!,8,0)))","v":0},0,1,0,0,0,0,{"$f":"IF(ISERROR(VLOOKUP($A123,#REF!,8,0)),0,(VLOOKUP($A123,#REF!,8,0)))","v":0},0,1,0,0,0,0,{"$f":"IF(ISERROR(VLOOKUP($A123,#REF!,8,0)),0,(VLOOKUP($A123,#REF!,8,0)))","v":0},0,1,0,0,0,0,{"$f":"IF(ISERROR(VLOOKUP($A123,#REF!,8,0)),0,(VLOOKUP($A123,#REF!,8,0)))","v":0},0,1,0,0,0,0,{"$f":"IF(ISERROR(VLOOKUP($A123,#REF!,8,0)),0,(VLOOKUP($A123,#REF!,8,0)))","v":0},0,1,0,0,0,0,{"$f":"IF(ISERROR(VLOOKUP($A123,#REF!,8,0)),0,(VLOOKUP($A123,#REF!,8,0)))","v":0},0,1,0,0,0,0,{"$f":"IF(ISERROR(VLOOKUP($A123,#REF!,8,0)),0,(VLOOKUP($A123,#REF!,8,0)))","v":0},0,1,0,0,0,0,{"$f":"IF(ISERROR(VLOOKUP($A123,#REF!,8,0)),0,(VLOOKUP($A123,#REF!,8,0)))","v":0},0,1,0,0,0,0,{"$f":"IF(ISERROR(VLOOKUP($A123,#REF!,8,0)),0,(VLOOKUP($A123,#REF!,8,0)))","v":0},0,1,0,0,0,0,{"$f":"IF(ISERROR(VLOOKUP($A123,#REF!,8,0)),0,(VLOOKUP($A123,#REF!,8,0)))","v":0},0,1,0,0,0,0,{"$f":"IF(ISERROR(VLOOKUP($A123,#REF!,8,0)),0,(VLOOKUP($A123,#REF!,8,0)))","v":0},0,1,0,0,0,0,{"$f":"IF(ISERROR(VLOOKUP($A123,#REF!,8,0)),0,(VLOOKUP($A123,#REF!,8,0)))","v":0},0,1,0,0,0,0,{"$f":"IF(ISERROR(VLOOKUP($A123,#REF!,8,0)),0,(VLOOKUP($A123,#REF!,8,0)))","v":0},0,1,0,0,0,0,36515.882753999998,36515.882753999998,1,0]
["3.17","Armação de laje de uma estrutura convencional de concreto armado em um edifício de múltiplos pavimentos utilizando aço CA-50 de 10.0 mm - Montagem. ","kg",3615,3586.4300000000003,28.569999999999709,4.080724,14751.81726,0.89567999999999992,3237.8831999999998,0,0,4.9764039999999996,142.17586227999854,17847.524597719999,null,0,0,0,0,0,null,0,0.99209681881051182,0,0,0,0,null,0,0.99209681881051182,0,0,0,0,null,0,0.99209681881051182,0,0,0,0,null,0,0.99209681881051182,0,0,0,0,null,0,0.99209681881051182,0,0,0,0,{"$f":"IF(ISERROR(VLOOKUP(A124,'7ª MEDIÇÃO'!$A$5:$J$1048576,8,0)),0,(VLOOKUP(A124,'7ª MEDIÇÃO'!$A$5:$J$1048576,8,0)))","v":0},0,0.99209681881051182,0,0,0,0,{"$f":"IF(ISERROR(VLOOKUP(A124,'8ª MEDIÇÃO'!$A$5:$J$1048576,8,0)),0,(VLOOKUP(A124,'8ª MEDIÇÃO'!$A$5:$J$1048576,8,0)))","v":0},0,0.99209681881051182,0,0,0,0,162.13999999999999,4.4852005532503451E-2,0.99209681881051182,661.64858935999996,145.22555519999997,0,806.87,{"$f":"IF(ISERROR(VLOOKUP(A124,#REF!,8,0)),0,(VLOOKUP(A124,#REF!,8,0)))","v":0},0,0.99209681881051182,0,0,0,0,{"$f":"IF(ISERROR(VLOOKUP($A124,#REF!,8,0)),0,(VLOOKUP($A124,#REF!,8,0)))","v":0},0,0.99209681881051182,0,0,0,0,{"$f":"IF(ISERROR(VLOOKUP($A124,#REF!,8,0)),0,(VLOOKUP($A124,#REF!,8,0)))","v":0},0,0.99209681881051182,0,0,0,0,{"$f":"IF(ISERROR(VLOOKUP($A124,#REF!,8,0)),0,(VLOOKUP($A124,#REF!,8,0)))","v":0},0,0.99209681881051182,0,0,0,0,{"$f":"IF(ISERROR(VLOOKUP($A124,#REF!,8,0)),0,(VLOOKUP($A124,#REF!,8,0)))","v":0},0,0.99209681881051182,0,0,0,0,{"$f":"IF(ISERROR(VLOOKUP($A124,#REF!,8,0)),0,(VLOOKUP($A124,#REF!,8,0)))","v":0},0,0.99209681881051182,0,0,0,0,{"$f":"IF(ISERROR(VLOOKUP($A124,#REF!,8,0)),0,(VLOOKUP($A124,#REF!,8,0)))","v":0},0,0.99209681881051182,0,0,0,0,{"$f":"IF(ISERROR(VLOOKUP($A124,#REF!,8,0)),0,(VLOOKUP($A124,#REF!,8,0)))","v":0},0,0.99209681881051182,0,0,0,0,{"$f":"IF(ISERROR(VLOOKUP($A124,#REF!,8,0)),0,(VLOOKUP($A124,#REF!,8,0)))","v":0},0,0.99209681881051182,0,0,0,0,{"$f":"IF(ISERROR(VLOOKUP($A124,#REF!,8,0)),0,(VLOOKUP($A124,#REF!,8,0)))","v":0},0,0.99209681881051182,0,0,{"$f":"$K124*EK124","v":0},0,{"$f":"IF(ISERROR(VLOOKUP($A124,#REF!,8,0)),0,(VLOOKUP($A124,#REF!,8,0)))","v":0},0,0.99209681881051182,0,0,0,0,{"$f":"IF(ISERROR(VLOOKUP($A124,#REF!,8,0)),0,(VLOOKUP($A124,#REF!,8,0)))","v":0},0,0.99209681881051182,0,0,0,0,{"$f":"IF(ISERROR(VLOOKUP($A124,#REF!,8,0)),0,(VLOOKUP($A124,#REF!,8,0)))","v":0},0,0.99209681881051182,0,0,0,0,{"$f":"IF(ISERROR(VLOOKUP($A124,#REF!,8,0)),0,(VLOOKUP($A124,#REF!,8,0)))","v":0},0,0.99209681881051182,0,0,0,0,{"$f":"IF(ISERROR(VLOOKUP($A124,#REF!,8,0)),0,(VLOOKUP($A124,#REF!,8,0)))","v":0},0,0.99209681881051182,0,0,0,0,{"$f":"IF(ISERROR(VLOOKUP($A124,#REF!,8,0)),0,(VLOOKUP($A124,#REF!,8,0)))","v":0},0,0.99209681881051182,0,0,0,0,{"$f":"IF(ISERROR(VLOOKUP($A124,#REF!,8,0)),0,(VLOOKUP($A124,#REF!,8,0)))","v":0},0,0.99209681881051182,0,0,0,0,{"$f":"IF(ISERROR(VLOOKUP($A124,#REF!,8,0)),0,(VLOOKUP($A124,#REF!,8,0)))","v":0},0,0.99209681881051182,0,0,0,0,{"$f":"IF(ISERROR(VLOOKUP($A124,#REF!,8,0)),0,(VLOOKUP($A124,#REF!,8,0)))","v":0},0,0.99209681881051182,0,0,0,0,{"$f":"IF(ISERROR(VLOOKUP($A124,#REF!,8,0)),0,(VLOOKUP($A124,#REF!,8,0)))","v":0},0,0.99209681881051182,0,0,0,0,{"$f":"IF(ISERROR(VLOOKUP($A124,#REF!,8,0)),0,(VLOOKUP($A124,#REF!,8,0)))","v":0},0,0.99209681881051182,0,0,0,0,{"$f":"IF(ISERROR(VLOOKUP($A124,#REF!,8,0)),0,(VLOOKUP($A124,#REF!,8,0)))","v":0},0,0.99209681881051182,0,0,0,0,{"$f":"IF(ISERROR(VLOOKUP($A124,#REF!,8,0)),0,(VLOOKUP($A124,#REF!,8,0)))","v":0},0,0.99209681881051182,0,0,0,0,{"$f":"IF(ISERROR(VLOOKUP($A124,#REF!,8,0)),0,(VLOOKUP($A124,#REF!,8,0)))","v":0},0,0.99209681881051182,0,0,0,0,{"$f":"IF(ISERROR(VLOOKUP($A124,#REF!,8,0)),0,(VLOOKUP($A124,#REF!,8,0)))","v":0},0,0.99209681881051182,0,0,0,0,{"$f":"IF(ISERROR(VLOOKUP($A124,#REF!,8,0)),0,(VLOOKUP($A124,#REF!,8,0)))","v":0},0,0.99209681881051182,0,0,0,0,{"$f":"IF(ISERROR(VLOOKUP($A124,#REF!,8,0)),0,(VLOOKUP($A124,#REF!,8,0)))","v":0},0,0.99209681881051182,0,0,0,0,{"$f":"IF(ISERROR(VLOOKUP($A124,#REF!,8,0)),0,(VLOOKUP($A124,#REF!,8,0)))","v":0},0,0.99209681881051182,0,0,0,0,{"$f":"IF(ISERROR(VLOOKUP($A124,#REF!,8,0)),0,(VLOOKUP($A124,#REF!,8,0)))","v":0},0,0.99209681881051182,0,0,0,0,{"$f":"IF(ISERROR(VLOOKUP($A124,#REF!,8,0)),0,(VLOOKUP($A124,#REF!,8,0)))","v":0},0,0.99209681881051182,0,0,0,0,{"$f":"IF(ISERROR(VLOOKUP($A124,#REF!,8,0)),0,(VLOOKUP($A124,#REF!,8,0)))","v":0},0,0.99209681881051182,0,0,0,0,{"$f":"IF(ISERROR(VLOOKUP($A124,#REF!,8,0)),0,(VLOOKUP($A124,#REF!,8,0)))","v":0},0,0.99209681881051182,0,0,0,0,{"$f":"IF(ISERROR(VLOOKUP($A124,#REF!,8,0)),0,(VLOOKUP($A124,#REF!,8,0)))","v":0},0,0.99209681881051182,0,0,0,0,{"$f":"IF(ISERROR(VLOOKUP($A124,#REF!,8,0)),0,(VLOOKUP($A124,#REF!,8,0)))","v":0},0,0.99209681881051182,0,0,0,0,{"$f":"IF(ISERROR(VLOOKUP($A124,#REF!,8,0)),0,(VLOOKUP($A124,#REF!,8,0)))","v":0},0,0.99209681881051182,0,0,0,0,{"$f":"IF(ISERROR(VLOOKUP($A124,#REF!,8,0)),0,(VLOOKUP($A124,#REF!,8,0)))","v":0},0,0.99209681881051182,0,0,0,0,{"$f":"IF(ISERROR(VLOOKUP($A124,#REF!,8,0)),0,(VLOOKUP($A124,#REF!,8,0)))","v":0},0,0.99209681881051182,0,0,0,0,{"$f":"IF(ISERROR(VLOOKUP($A124,#REF!,8,0)),0,(VLOOKUP($A124,#REF!,8,0)))","v":0},0,0.99209681881051182,0,0,0,0,{"$f":"IF(ISERROR(VLOOKUP($A124,#REF!,8,0)),0,(VLOOKUP($A124,#REF!,8,0)))","v":0},0,0.99209681881051182,0,0,0,0,{"$f":"IF(ISERROR(VLOOKUP($A124,#REF!,8,0)),0,(VLOOKUP($A124,#REF!,8,0)))","v":0},0,0.99209681881051182,0,0,0,0,{"$f":"IF(ISERROR(VLOOKUP($A124,#REF!,8,0)),0,(VLOOKUP($A124,#REF!,8,0)))","v":0},0,0.99209681881051182,0,0,0,0,{"$f":"IF(ISERROR(VLOOKUP($A124,#REF!,8,0)),0,(VLOOKUP($A124,#REF!,8,0)))","v":0},0,0.99209681881051182,0,0,0,0,{"$f":"IF(ISERROR(VLOOKUP($A124,#REF!,8,0)),0,(VLOOKUP($A124,#REF!,8,0)))","v":0},0,0.99209681881051182,0,0,0,0,{"$f":"IF(ISERROR(VLOOKUP($A124,#REF!,8,0)),0,(VLOOKUP($A124,#REF!,8,0)))","v":0},0,0.99209681881051182,0,0,0,0,{"$f":"IF(ISERROR(VLOOKUP($A124,#REF!,8,0)),0,(VLOOKUP($A124,#REF!,8,0)))","v":0},0,0.99209681881051182,0,0,0,0,{"$f":"IF(ISERROR(VLOOKUP($A124,#REF!,8,0)),0,(VLOOKUP($A124,#REF!,8,0)))","v":0},0,0.99209681881051182,0,0,0,0,17847.524597719999,17847.524597719999,1,0]
["3.18","Armação de laje de uma estrutura convencional de concreto armado em um edifício de múltiplos pavimentos utilizando aço CA-50 de 12.5 mm - Montagem. ","kg",5662,5661.2,0.8000000000001819,3.8566380000000002,21836.284356,0.53491999999999995,3028.7170399999995,0,0,4.3915579999999999,3.5132464000007988,24861.488149599998,null,0,0,0,0,0,null,0,0.99985870717061109,0,0,0,0,null,0,0.99985870717061109,0,0,0,0,null,0,0.99985870717061109,0,0,0,0,null,0,0.99985870717061109,0,0,0,0,null,0,0.99985870717061109,0,0,0,0,{"$f":"IF(ISERROR(VLOOKUP(A125,'7ª MEDIÇÃO'!$A$5:$J$1048576,8,0)),0,(VLOOKUP(A125,'7ª MEDIÇÃO'!$A$5:$J$1048576,8,0)))","v":0},0,0.99985870717061109,0,0,0,0,{"$f":"IF(ISERROR(VLOOKUP(A125,'8ª MEDIÇÃO'!$A$5:$J$1048576,8,0)),0,(VLOOKUP(A125,'8ª MEDIÇÃO'!$A$5:$J$1048576,8,0)))","v":0},0,0.99985870717061109,0,0,0,0,364.32,6.434475450370894E-2,0.99985870717061109,1405.0503561600001,194.88205439999999,0,1599.93,{"$f":"IF(ISERROR(VLOOKUP(A125,#REF!,8,0)),0,(VLOOKUP(A125,#REF!,8,0)))","v":0},0,0.99985870717061109,0,0,0,0,{"$f":"IF(ISERROR(VLOOKUP($A125,#REF!,8,0)),0,(VLOOKUP($A125,#REF!,8,0)))","v":0},0,0.99985870717061109,0,0,0,0,{"$f":"IF(ISERROR(VLOOKUP($A125,#REF!,8,0)),0,(VLOOKUP($A125,#REF!,8,0)))","v":0},0,0.99985870717061109,0,0,0,0,{"$f":"IF(ISERROR(VLOOKUP($A125,#REF!,8,0)),0,(VLOOKUP($A125,#REF!,8,0)))","v":0},0,0.99985870717061109,0,0,0,0,{"$f":"IF(ISERROR(VLOOKUP($A125,#REF!,8,0)),0,(VLOOKUP($A125,#REF!,8,0)))","v":0},0,0.99985870717061109,0,0,0,0,{"$f":"IF(ISERROR(VLOOKUP($A125,#REF!,8,0)),0,(VLOOKUP($A125,#REF!,8,0)))","v":0},0,0.99985870717061109,0,0,0,0,{"$f":"IF(ISERROR(VLOOKUP($A125,#REF!,8,0)),0,(VLOOKUP($A125,#REF!,8,0)))","v":0},0,0.99985870717061109,0,0,0,0,{"$f":"IF(ISERROR(VLOOKUP($A125,#REF!,8,0)),0,(VLOOKUP($A125,#REF!,8,0)))","v":0},0,0.99985870717061109,0,0,0,0,{"$f":"IF(ISERROR(VLOOKUP($A125,#REF!,8,0)),0,(VLOOKUP($A125,#REF!,8,0)))","v":0},0,0.99985870717061109,0,0,0,0,{"$f":"IF(ISERROR(VLOOKUP($A125,#REF!,8,0)),0,(VLOOKUP($A125,#REF!,8,0)))","v":0},0,0.99985870717061109,0,0,0,0,{"$f":"IF(ISERROR(VLOOKUP($A125,#REF!,8,0)),0,(VLOOKUP($A125,#REF!,8,0)))","v":0},0,0.99985870717061109,0,0,0,0,{"$f":"IF(ISERROR(VLOOKUP($A125,#REF!,8,0)),0,(VLOOKUP($A125,#REF!,8,0)))","v":0},0,0.99985870717061109,0,0,0,0,{"$f":"IF(ISERROR(VLOOKUP($A125,#REF!,8,0)),0,(VLOOKUP($A125,#REF!,8,0)))","v":0},0,0.99985870717061109,0,0,0,0,{"$f":"IF(ISERROR(VLOOKUP($A125,#REF!,8,0)),0,(VLOOKUP($A125,#REF!,8,0)))","v":0},0,0.99985870717061109,0,0,0,0,{"$f":"IF(ISERROR(VLOOKUP($A125,#REF!,8,0)),0,(VLOOKUP($A125,#REF!,8,0)))","v":0},0,0.99985870717061109,0,0,0,0,{"$f":"IF(ISERROR(VLOOKUP($A125,#REF!,8,0)),0,(VLOOKUP($A125,#REF!,8,0)))","v":0},0,0.99985870717061109,0,0,0,0,{"$f":"IF(ISERROR(VLOOKUP($A125,#REF!,8,0)),0,(VLOOKUP($A125,#REF!,8,0)))","v":0},0,0.99985870717061109,0,0,0,0,{"$f":"IF(ISERROR(VLOOKUP($A125,#REF!,8,0)),0,(VLOOKUP($A125,#REF!,8,0)))","v":0},0,0.99985870717061109,0,0,0,0,{"$f":"IF(ISERROR(VLOOKUP($A125,#REF!,8,0)),0,(VLOOKUP($A125,#REF!,8,0)))","v":0},0,0.99985870717061109,0,0,0,0,{"$f":"IF(ISERROR(VLOOKUP($A125,#REF!,8,0)),0,(VLOOKUP($A125,#REF!,8,0)))","v":0},0,0.99985870717061109,0,0,0,0,{"$f":"IF(ISERROR(VLOOKUP($A125,#REF!,8,0)),0,(VLOOKUP($A125,#REF!,8,0)))","v":0},0,0.99985870717061109,0,0,0,0,{"$f":"IF(ISERROR(VLOOKUP($A125,#REF!,8,0)),0,(VLOOKUP($A125,#REF!,8,0)))","v":0},0,0.99985870717061109,0,0,0,0,{"$f":"IF(ISERROR(VLOOKUP($A125,#REF!,8,0)),0,(VLOOKUP($A125,#REF!,8,0)))","v":0},0,0.99985870717061109,0,0,0,0,{"$f":"IF(ISERROR(VLOOKUP($A125,#REF!,8,0)),0,(VLOOKUP($A125,#REF!,8,0)))","v":0},0,0.99985870717061109,0,0,0,0,{"$f":"IF(ISERROR(VLOOKUP($A125,#REF!,8,0)),0,(VLOOKUP($A125,#REF!,8,0)))","v":0},0,0.99985870717061109,0,0,0,0,{"$f":"IF(ISERROR(VLOOKUP($A125,#REF!,8,0)),0,(VLOOKUP($A125,#REF!,8,0)))","v":0},0,0.99985870717061109,0,0,0,0,{"$f":"IF(ISERROR(VLOOKUP($A125,#REF!,8,0)),0,(VLOOKUP($A125,#REF!,8,0)))","v":0},0,0.99985870717061109,0,0,0,0,{"$f":"IF(ISERROR(VLOOKUP($A125,#REF!,8,0)),0,(VLOOKUP($A125,#REF!,8,0)))","v":0},0,0.99985870717061109,0,0,0,0,{"$f":"IF(ISERROR(VLOOKUP($A125,#REF!,8,0)),0,(VLOOKUP($A125,#REF!,8,0)))","v":0},0,0.99985870717061109,0,0,0,0,{"$f":"IF(ISERROR(VLOOKUP($A125,#REF!,8,0)),0,(VLOOKUP($A125,#REF!,8,0)))","v":0},0,0.99985870717061109,0,0,0,0,{"$f":"IF(ISERROR(VLOOKUP($A125,#REF!,8,0)),0,(VLOOKUP($A125,#REF!,8,0)))","v":0},0,0.99985870717061109,0,0,0,0,{"$f":"IF(ISERROR(VLOOKUP($A125,#REF!,8,0)),0,(VLOOKUP($A125,#REF!,8,0)))","v":0},0,0.99985870717061109,0,0,0,0,{"$f":"IF(ISERROR(VLOOKUP($A125,#REF!,8,0)),0,(VLOOKUP($A125,#REF!,8,0)))","v":0},0,0.99985870717061109,0,0,0,0,{"$f":"IF(ISERROR(VLOOKUP($A125,#REF!,8,0)),0,(VLOOKUP($A125,#REF!,8,0)))","v":0},0,0.99985870717061109,0,0,0,0,{"$f":"IF(ISERROR(VLOOKUP($A125,#REF!,8,0)),0,(VLOOKUP($A125,#REF!,8,0)))","v":0},0,0.99985870717061109,0,0,0,0,{"$f":"IF(ISERROR(VLOOKUP($A125,#REF!,8,0)),0,(VLOOKUP($A125,#REF!,8,0)))","v":0},0,0.99985870717061109,0,0,0,0,{"$f":"IF(ISERROR(VLOOKUP($A125,#REF!,8,0)),0,(VLOOKUP($A125,#REF!,8,0)))","v":0},0,0.99985870717061109,0,0,0,0,{"$f":"IF(ISERROR(VLOOKUP($A125,#REF!,8,0)),0,(VLOOKUP($A125,#REF!,8,0)))","v":0},0,0.99985870717061109,0,0,0,0,{"$f":"IF(ISERROR(VLOOKUP($A125,#REF!,8,0)),0,(VLOOKUP($A125,#REF!,8,0)))","v":0},0,0.99985870717061109,0,0,0,0,{"$f":"IF(ISERROR(VLOOKUP($A125,#REF!,8,0)),0,(VLOOKUP($A125,#REF!,8,0)))","v":0},0,0.99985870717061109,0,0,0,0,{"$f":"IF(ISERROR(VLOOKUP($A125,#REF!,8,0)),0,(VLOOKUP($A125,#REF!,8,0)))","v":0},0,0.99985870717061109,0,0,0,0,{"$f":"IF(ISERROR(VLOOKUP($A125,#REF!,8,0)),0,(VLOOKUP($A125,#REF!,8,0)))","v":0},0,0.99985870717061109,0,0,0,0,{"$f":"IF(ISERROR(VLOOKUP($A125,#REF!,8,0)),0,(VLOOKUP($A125,#REF!,8,0)))","v":0},0,0.99985870717061109,0,0,0,0,{"$f":"IF(ISERROR(VLOOKUP($A125,#REF!,8,0)),0,(VLOOKUP($A125,#REF!,8,0)))","v":0},0,0.99985870717061109,0,0,0,0,{"$f":"IF(ISERROR(VLOOKUP($A125,#REF!,8,0)),0,(VLOOKUP($A125,#REF!,8,0)))","v":0},0,0.99985870717061109,0,0,0,0,{"$f":"IF(ISERROR(VLOOKUP($A125,#REF!,8,0)),0,(VLOOKUP($A125,#REF!,8,0)))","v":0},0,0.99985870717061109,0,0,0,0,24861.488149599998,24861.488149599998,1,0]
["3.20","Armação de laje de uma estrutura convencional de concreto armado em um edifício de múltiplos pavimentos utilizando aço CA-50 de 20.0 mm - Montagem. ","kg",24824,24555.440000000002,268.55999999999767,3.6797280000000003,91345.567872000014,0.17416000000000001,4323.3478400000004,0,0,3.8538880000000004,1035.0001612799911,94633.915550720019,null,0,0,0,0,0,null,0,0.98918143731872388,0,0,0,0,null,0,0.98918143731872388,0,0,0,0,null,0,0.98918143731872388,0,0,0,0,null,0,0.98918143731872388,0,0,0,0,null,0,0.98918143731872388,0,0,0,0,{"$f":"IF(ISERROR(VLOOKUP(A127,'7ª MEDIÇÃO'!$A$5:$J$1048576,8,0)),0,(VLOOKUP(A127,'7ª MEDIÇÃO'!$A$5:$J$1048576,8,0)))","v":0},0,0.98918143731872388,0,0,0,0,{"$f":"IF(ISERROR(VLOOKUP(A127,'8ª MEDIÇÃO'!$A$5:$J$1048576,8,0)),0,(VLOOKUP(A127,'8ª MEDIÇÃO'!$A$5:$J$1048576,8,0)))","v":0},0,0.98918143731872388,0,0,0,0,2377.8200000000002,9.5787141475990989E-2,0.98918143731872388,8749.7308329600019,414.12113120000004,0,9163.85,{"$f":"IF(ISERROR(VLOOKUP(A127,#REF!,8,0)),0,(VLOOKUP(A127,#REF!,8,0)))","v":0},0,0.98918143731872388,0,0,0,0,{"$f":"IF(ISERROR(VLOOKUP($A127,#REF!,8,0)),0,(VLOOKUP($A127,#REF!,8,0)))","v":0},0,0.98918143731872388,0,0,0,0,{"$f":"IF(ISERROR(VLOOKUP($A127,#REF!,8,0)),0,(VLOOKUP($A127,#REF!,8,0)))","v":0},0,0.98918143731872388,0,0,0,0,{"$f":"IF(ISERROR(VLOOKUP($A127,#REF!,8,0)),0,(VLOOKUP($A127,#REF!,8,0)))","v":0},0,0.98918143731872388,0,0,0,0,{"$f":"IF(ISERROR(VLOOKUP($A127,#REF!,8,0)),0,(VLOOKUP($A127,#REF!,8,0)))","v":0},0,0.98918143731872388,0,0,0,0,{"$f":"IF(ISERROR(VLOOKUP($A127,#REF!,8,0)),0,(VLOOKUP($A127,#REF!,8,0)))","v":0},0,0.98918143731872388,0,0,0,0,{"$f":"IF(ISERROR(VLOOKUP($A127,#REF!,8,0)),0,(VLOOKUP($A127,#REF!,8,0)))","v":0},0,0.98918143731872388,0,0,0,0,{"$f":"IF(ISERROR(VLOOKUP($A127,#REF!,8,0)),0,(VLOOKUP($A127,#REF!,8,0)))","v":0},0,0.98918143731872388,0,0,0,0,{"$f":"IF(ISERROR(VLOOKUP($A127,#REF!,8,0)),0,(VLOOKUP($A127,#REF!,8,0)))","v":0},0,0.98918143731872388,0,0,0,0,{"$f":"IF(ISERROR(VLOOKUP($A127,#REF!,8,0)),0,(VLOOKUP($A127,#REF!,8,0)))","v":0},0,0.98918143731872388,0,0,0,0,{"$f":"IF(ISERROR(VLOOKUP($A127,#REF!,8,0)),0,(VLOOKUP($A127,#REF!,8,0)))","v":0},0,0.98918143731872388,0,0,0,0,{"$f":"IF(ISERROR(VLOOKUP($A127,#REF!,8,0)),0,(VLOOKUP($A127,#REF!,8,0)))","v":0},0,0.98918143731872388,0,0,0,0,{"$f":"IF(ISERROR(VLOOKUP($A127,#REF!,8,0)),0,(VLOOKUP($A127,#REF!,8,0)))","v":0},0,0.98918143731872388,0,0,0,0,{"$f":"IF(ISERROR(VLOOKUP($A127,#REF!,8,0)),0,(VLOOKUP($A127,#REF!,8,0)))","v":0},0,0.98918143731872388,0,0,0,0,{"$f":"IF(ISERROR(VLOOKUP($A127,#REF!,8,0)),0,(VLOOKUP($A127,#REF!,8,0)))","v":0},0,0.98918143731872388,0,0,0,0,{"$f":"IF(ISERROR(VLOOKUP($A127,#REF!,8,0)),0,(VLOOKUP($A127,#REF!,8,0)))","v":0},0,0.98918143731872388,0,0,0,0,{"$f":"IF(ISERROR(VLOOKUP($A127,#REF!,8,0)),0,(VLOOKUP($A127,#REF!,8,0)))","v":0},0,0.98918143731872388,0,0,0,0,{"$f":"IF(ISERROR(VLOOKUP($A127,#REF!,8,0)),0,(VLOOKUP($A127,#REF!,8,0)))","v":0},0,0.98918143731872388,0,0,0,0,{"$f":"IF(ISERROR(VLOOKUP($A127,#REF!,8,0)),0,(VLOOKUP($A127,#REF!,8,0)))","v":0},0,0.98918143731872388,0,0,0,0,{"$f":"IF(ISERROR(VLOOKUP($A127,#REF!,8,0)),0,(VLOOKUP($A127,#REF!,8,0)))","v":0},0,0.98918143731872388,0,0,0,0,{"$f":"IF(ISERROR(VLOOKUP($A127,#REF!,8,0)),0,(VLOOKUP($A127,#REF!,8,0)))","v":0},0,0.98918143731872388,0,0,0,0,{"$f":"IF(ISERROR(VLOOKUP($A127,#REF!,8,0)),0,(VLOOKUP($A127,#REF!,8,0)))","v":0},0,0.98918143731872388,0,0,0,0,{"$f":"IF(ISERROR(VLOOKUP($A127,#REF!,8,0)),0,(VLOOKUP($A127,#REF!,8,0)))","v":0},0,0.98918143731872388,0,0,0,0,{"$f":"IF(ISERROR(VLOOKUP($A127,#REF!,8,0)),0,(VLOOKUP($A127,#REF!,8,0)))","v":0},0,0.98918143731872388,0,0,0,0,{"$f":"IF(ISERROR(VLOOKUP($A127,#REF!,8,0)),0,(VLOOKUP($A127,#REF!,8,0)))","v":0},0,0.98918143731872388,0,0,0,0,{"$f":"IF(ISERROR(VLOOKUP($A127,#REF!,8,0)),0,(VLOOKUP($A127,#REF!,8,0)))","v":0},0,0.98918143731872388,0,0,0,0,{"$f":"IF(ISERROR(VLOOKUP($A127,#REF!,8,0)),0,(VLOOKUP($A127,#REF!,8,0)))","v":0},0,0.98918143731872388,0,0,0,0,{"$f":"IF(ISERROR(VLOOKUP($A127,#REF!,8,0)),0,(VLOOKUP($A127,#REF!,8,0)))","v":0},0,0.98918143731872388,0,0,0,0,{"$f":"IF(ISERROR(VLOOKUP($A127,#REF!,8,0)),0,(VLOOKUP($A127,#REF!,8,0)))","v":0},0,0.98918143731872388,0,0,0,0,{"$f":"IF(ISERROR(VLOOKUP($A127,#REF!,8,0)),0,(VLOOKUP($A127,#REF!,8,0)))","v":0},0,0.98918143731872388,0,0,0,0,{"$f":"IF(ISERROR(VLOOKUP($A127,#REF!,8,0)),0,(VLOOKUP($A127,#REF!,8,0)))","v":0},0,0.98918143731872388,0,0,0,0,{"$f":"IF(ISERROR(VLOOKUP($A127,#REF!,8,0)),0,(VLOOKUP($A127,#REF!,8,0)))","v":0},0,0.98918143731872388,0,0,0,0,{"$f":"IF(ISERROR(VLOOKUP($A127,#REF!,8,0)),0,(VLOOKUP($A127,#REF!,8,0)))","v":0},0,0.98918143731872388,0,0,0,0,{"$f":"IF(ISERROR(VLOOKUP($A127,#REF!,8,0)),0,(VLOOKUP($A127,#REF!,8,0)))","v":0},0,0.98918143731872388,0,0,0,0,{"$f":"IF(ISERROR(VLOOKUP($A127,#REF!,8,0)),0,(VLOOKUP($A127,#REF!,8,0)))","v":0},0,0.98918143731872388,0,0,0,0,{"$f":"IF(ISERROR(VLOOKUP($A127,#REF!,8,0)),0,(VLOOKUP($A127,#REF!,8,0)))","v":0},0,0.98918143731872388,0,0,0,0,{"$f":"IF(ISERROR(VLOOKUP($A127,#REF!,8,0)),0,(VLOOKUP($A127,#REF!,8,0)))","v":0},0,0.98918143731872388,0,0,0,0,{"$f":"IF(ISERROR(VLOOKUP($A127,#REF!,8,0)),0,(VLOOKUP($A127,#REF!,8,0)))","v":0},0,0.98918143731872388,0,0,0,0,{"$f":"IF(ISERROR(VLOOKUP($A127,#REF!,8,0)),0,(VLOOKUP($A127,#REF!,8,0)))","v":0},0,0.98918143731872388,0,0,0,0,{"$f":"IF(ISERROR(VLOOKUP($A127,#REF!,8,0)),0,(VLOOKUP($A127,#REF!,8,0)))","v":0},0,0.98918143731872388,0,0,0,0,{"$f":"IF(ISERROR(VLOOKUP($A127,#REF!,8,0)),0,(VLOOKUP($A127,#REF!,8,0)))","v":0},0,0.98918143731872388,0,0,0,0,{"$f":"IF(ISERROR(VLOOKUP($A127,#REF!,8,0)),0,(VLOOKUP($A127,#REF!,8,0)))","v":0},0,0.98918143731872388,0,0,0,0,{"$f":"IF(ISERROR(VLOOKUP($A127,#REF!,8,0)),0,(VLOOKUP($A127,#REF!,8,0)))","v":0},0,0.98918143731872388,0,0,0,0,{"$f":"IF(ISERROR(VLOOKUP($A127,#REF!,8,0)),0,(VLOOKUP($A127,#REF!,8,0)))","v":0},0,0.98918143731872388,0,0,0,0,{"$f":"IF(ISERROR(VLOOKUP($A127,#REF!,8,0)),0,(VLOOKUP($A127,#REF!,8,0)))","v":0},0,0.98918143731872388,0,0,0,0,{"$f":"IF(ISERROR(VLOOKUP($A127,#REF!,8,0)),0,(VLOOKUP($A127,#REF!,8,0)))","v":0},0,0.98918143731872388,0,0,0,0,94633.915550720019,94633.915550720019,1,0]
["4.5","Verga pré-moldada para portas com mais de 1,5 m de vão.","m",28,25.200000000000003,2.7999999999999972,15.650637999999999,438.21786399999996,6.3692799999999998,178.33983999999998,0,0,22.019917999999997,61.65577039999993,554.90193360000001,null,0,0,0,0,0,null,0,0.90000000000000013,0,0,0,0,null,0,0.90000000000000013,0,0,0,0,null,0,0.90000000000000013,0,0,0,0,null,0,0.90000000000000013,0,0,0,0,null,0,0.90000000000000013,0,0,0,0,{"$f":"IF(ISERROR(VLOOKUP(A136,'7ª MEDIÇÃO'!$A$5:$J$1048576,8,0)),0,(VLOOKUP(A136,'7ª MEDIÇÃO'!$A$5:$J$1048576,8,0)))","v":0},0,0.90000000000000013,0,0,0,0,{"$f":"IF(ISERROR(VLOOKUP(A136,'8ª MEDIÇÃO'!$A$5:$J$1048576,8,0)),0,(VLOOKUP(A136,'8ª MEDIÇÃO'!$A$5:$J$1048576,8,0)))","v":0},0,0.90000000000000013,0,0,0,0,{"$f":"IF(ISERROR(VLOOKUP(A136,'9ª MEDIÇÃO'!$A$5:$J$1048576,8,0)),0,(VLOOKUP(A136,'9ª MEDIÇÃO'!$A$5:$J$1048576,8,0)))","v":0},0,0.90000000000000013,0,0,0,0,{"$f":"IF(ISERROR(VLOOKUP(A136,#REF!,8,0)),0,(VLOOKUP(A136,#REF!,8,0)))","v":0},0,0.90000000000000013,0,0,0,0,{"$f":"IF(ISERROR(VLOOKUP($A136,#REF!,8,0)),0,(VLOOKUP($A136,#REF!,8,0)))","v":0},0,0.90000000000000013,0,0,0,0,{"$f":"IF(ISERROR(VLOOKUP($A136,#REF!,8,0)),0,(VLOOKUP($A136,#REF!,8,0)))","v":0},0,0.90000000000000013,0,0,0,0,{"$f":"IF(ISERROR(VLOOKUP($A136,#REF!,8,0)),0,(VLOOKUP($A136,#REF!,8,0)))","v":0},0,0.90000000000000013,0,0,0,0,{"$f":"IF(ISERROR(VLOOKUP($A136,#REF!,8,0)),0,(VLOOKUP($A136,#REF!,8,0)))","v":0},0,0.90000000000000013,0,0,0,0,{"$f":"IF(ISERROR(VLOOKUP($A136,#REF!,8,0)),0,(VLOOKUP($A136,#REF!,8,0)))","v":0},0,0.90000000000000013,0,0,0,0,{"$f":"IF(ISERROR(VLOOKUP($A136,#REF!,8,0)),0,(VLOOKUP($A136,#REF!,8,0)))","v":0},0,0.90000000000000013,0,0,0,0,{"$f":"IF(ISERROR(VLOOKUP($A136,#REF!,8,0)),0,(VLOOKUP($A136,#REF!,8,0)))","v":0},0,0.90000000000000013,0,0,0,0,{"$f":"IF(ISERROR(VLOOKUP($A136,#REF!,8,0)),0,(VLOOKUP($A136,#REF!,8,0)))","v":0},0,0.90000000000000013,0,0,0,0,{"$f":"IF(ISERROR(VLOOKUP($A136,#REF!,8,0)),0,(VLOOKUP($A136,#REF!,8,0)))","v":0},0,0.90000000000000013,0,0,0,0,{"$f":"IF(ISERROR(VLOOKUP($A136,#REF!,8,0)),0,(VLOOKUP($A136,#REF!,8,0)))","v":0},0,0.90000000000000013,0,0,0,0,{"$f":"IF(ISERROR(VLOOKUP($A136,#REF!,8,0)),0,(VLOOKUP($A136,#REF!,8,0)))","v":0},0,0.90000000000000013,0,0,0,0,{"$f":"IF(ISERROR(VLOOKUP($A136,#REF!,8,0)),0,(VLOOKUP($A136,#REF!,8,0)))","v":0},0,0.90000000000000013,0,0,0,0,{"$f":"IF(ISERROR(VLOOKUP($A136,#REF!,8,0)),0,(VLOOKUP($A136,#REF!,8,0)))","v":0},0,0.90000000000000013,0,0,0,0,{"$f":"IF(ISERROR(VLOOKUP($A136,#REF!,8,0)),0,(VLOOKUP($A136,#REF!,8,0)))","v":0},0,0.90000000000000013,0,0,0,0,{"$f":"IF(ISERROR(VLOOKUP($A136,#REF!,8,0)),0,(VLOOKUP($A136,#REF!,8,0)))","v":0},0,0.90000000000000013,0,0,0,0,{"$f":"IF(ISERROR(VLOOKUP($A136,#REF!,8,0)),0,(VLOOKUP($A136,#REF!,8,0)))","v":0},0,0.90000000000000013,0,0,0,0,{"$f":"IF(ISERROR(VLOOKUP($A136,#REF!,8,0)),0,(VLOOKUP($A136,#REF!,8,0)))","v":0},0,0.90000000000000013,0,0,0,0,{"$f":"IF(ISERROR(VLOOKUP($A136,#REF!,8,0)),0,(VLOOKUP($A136,#REF!,8,0)))","v":0},0,0.90000000000000013,0,0,0,0,{"$f":"IF(ISERROR(VLOOKUP($A136,#REF!,8,0)),0,(VLOOKUP($A136,#REF!,8,0)))","v":0},0,0.90000000000000013,0,0,0,0,{"$f":"IF(ISERROR(VLOOKUP($A136,#REF!,8,0)),0,(VLOOKUP($A136,#REF!,8,0)))","v":0},0,0.90000000000000013,0,0,0,0,{"$f":"IF(ISERROR(VLOOKUP($A136,#REF!,8,0)),0,(VLOOKUP($A136,#REF!,8,0)))","v":0},0,0.90000000000000013,0,0,0,0,{"$f":"IF(ISERROR(VLOOKUP($A136,#REF!,8,0)),0,(VLOOKUP($A136,#REF!,8,0)))","v":0},0,0.90000000000000013,0,0,0,0,{"$f":"IF(ISERROR(VLOOKUP($A136,#REF!,8,0)),0,(VLOOKUP($A136,#REF!,8,0)))","v":0},0,0.90000000000000013,0,0,0,0,{"$f":"IF(ISERROR(VLOOKUP($A136,#REF!,8,0)),0,(VLOOKUP($A136,#REF!,8,0)))","v":0},0,0.90000000000000013,0,0,0,0,{"$f":"IF(ISERROR(VLOOKUP($A136,#REF!,8,0)),0,(VLOOKUP($A136,#REF!,8,0)))","v":0},0,0.90000000000000013,0,0,0,0,{"$f":"IF(ISERROR(VLOOKUP($A136,#REF!,8,0)),0,(VLOOKUP($A136,#REF!,8,0)))","v":0},0,0.90000000000000013,0,0,0,0,{"$f":"IF(ISERROR(VLOOKUP($A136,#REF!,8,0)),0,(VLOOKUP($A136,#REF!,8,0)))","v":0},0,0.90000000000000013,0,0,0,0,{"$f":"IF(ISERROR(VLOOKUP($A136,#REF!,8,0)),0,(VLOOKUP($A136,#REF!,8,0)))","v":0},0,0.90000000000000013,0,0,0,0,{"$f":"IF(ISERROR(VLOOKUP($A136,#REF!,8,0)),0,(VLOOKUP($A136,#REF!,8,0)))","v":0},0,0.90000000000000013,0,0,0,0,{"$f":"IF(ISERROR(VLOOKUP($A136,#REF!,8,0)),0,(VLOOKUP($A136,#REF!,8,0)))","v":0},0,0.90000000000000013,0,0,0,0,{"$f":"IF(ISERROR(VLOOKUP($A136,#REF!,8,0)),0,(VLOOKUP($A136,#REF!,8,0)))","v":0},0,0.90000000000000013,0,0,0,0,{"$f":"IF(ISERROR(VLOOKUP($A136,#REF!,8,0)),0,(VLOOKUP($A136,#REF!,8,0)))","v":0},0,0.90000000000000013,0,0,0,0,{"$f":"IF(ISERROR(VLOOKUP($A136,#REF!,8,0)),0,(VLOOKUP($A136,#REF!,8,0)))","v":0},0,0.90000000000000013,0,0,0,0,{"$f":"IF(ISERROR(VLOOKUP($A136,#REF!,8,0)),0,(VLOOKUP($A136,#REF!,8,0)))","v":0},0,0.90000000000000013,0,0,0,0,{"$f":"IF(ISERROR(VLOOKUP($A136,#REF!,8,0)),0,(VLOOKUP($A136,#REF!,8,0)))","v":0},0,0.90000000000000013,0,0,0,0,{"$f":"IF(ISERROR(VLOOKUP($A136,#REF!,8,0)),0,(VLOOKUP($A136,#REF!,8,0)))","v":0},0,0.90000000000000013,0,0,0,0,{"$f":"IF(ISERROR(VLOOKUP($A136,#REF!,8,0)),0,(VLOOKUP($A136,#REF!,8,0)))","v":0},0,0.90000000000000013,0,0,0,0,{"$f":"IF(ISERROR(VLOOKUP($A136,#REF!,8,0)),0,(VLOOKUP($A136,#REF!,8,0)))","v":0},0,0.90000000000000013,0,0,0,0,{"$f":"IF(ISERROR(VLOOKUP($A136,#REF!,8,0)),0,(VLOOKUP($A136,#REF!,8,0)))","v":0},0,0.90000000000000013,0,0,0,0,{"$f":"IF(ISERROR(VLOOKUP($A136,#REF!,8,0)),0,(VLOOKUP($A136,#REF!,8,0)))","v":0},0,0.90000000000000013,0,0,0,0,{"$f":"IF(ISERROR(VLOOKUP($A136,#REF!,8,0)),0,(VLOOKUP($A136,#REF!,8,0)))","v":0},0,0.90000000000000013,0,0,0,0,{"$f":"IF(ISERROR(VLOOKUP($A136,#REF!,8,0)),0,(VLOOKUP($A136,#REF!,8,0)))","v":0},0,0.90000000000000013,0,0,0,0,{"$f":"IF(ISERROR(VLOOKUP($A136,#REF!,8,0)),0,(VLOOKUP($A136,#REF!,8,0)))","v":0},0,0.90000000000000013,0,0,0,0,{"$f":"IF(ISERROR(VLOOKUP($A136,#REF!,8,0)),0,(VLOOKUP($A136,#REF!,8,0)))","v":0},0,0.90000000000000013,0,0,0,0,{"$f":"IF(ISERROR(VLOOKUP($A136,#REF!,8,0)),0,(VLOOKUP($A136,#REF!,8,0)))","v":0},0,0.90000000000000013,0,0,0,0,554.90193360000001,554.90193360000001,1,0]
["5.2","Chapisco aplicado em alvenaria (com presença de vãos) e estruturas de concreto de fachada, com colher de pedreiro.  Argamassa traço 1:3 com preparo em betoneira 400l. Af_06/2014","m²",6877,6499.4759999999997,377.52400000000034,0.83737399999999995,5758.6209979999994,3.7941999999999996,26092.713399999997,0,0,4.6315739999999996,1748.5303427760014,30102.804055223995,null,0,0,0,0,0,null,0,0.94510338810527839,0,0,0,0,null,0,0.94510338810527839,0,0,0,0,null,0,0.94510338810527839,0,0,0,0,null,0,0.94510338810527839,0,0,0,0,null,0,0.94510338810527839,0,0,0,0,{"$f":"IF(ISERROR(VLOOKUP(A145,'7ª MEDIÇÃO'!$A$5:$J$1048576,8,0)),0,(VLOOKUP(A145,'7ª MEDIÇÃO'!$A$5:$J$1048576,8,0)))","v":0},0,0.94510338810527839,0,0,0,0,{"$f":"IF(ISERROR(VLOOKUP(A145,'8ª MEDIÇÃO'!$A$5:$J$1048576,8,0)),0,(VLOOKUP(A145,'8ª MEDIÇÃO'!$A$5:$J$1048576,8,0)))","v":0},0,0.94510338810527839,0,0,0,0,{"$f":"IF(ISERROR(VLOOKUP(A145,'9ª MEDIÇÃO'!$A$5:$J$1048576,8,0)),0,(VLOOKUP(A145,'9ª MEDIÇÃO'!$A$5:$J$1048576,8,0)))","v":0},0,0.94510338810527839,0,0,0,0,{"$f":"IF(ISERROR(VLOOKUP(A145,#REF!,8,0)),0,(VLOOKUP(A145,#REF!,8,0)))","v":0},0,0.94510338810527839,0,0,0,0,{"$f":"IF(ISERROR(VLOOKUP($A145,#REF!,8,0)),0,(VLOOKUP($A145,#REF!,8,0)))","v":0},0,0.94510338810527839,0,0,0,0,{"$f":"IF(ISERROR(VLOOKUP($A145,#REF!,8,0)),0,(VLOOKUP($A145,#REF!,8,0)))","v":0},0,0.94510338810527839,0,0,0,0,{"$f":"IF(ISERROR(VLOOKUP($A145,#REF!,8,0)),0,(VLOOKUP($A145,#REF!,8,0)))","v":0},0,0.94510338810527839,0,0,0,0,{"$f":"IF(ISERROR(VLOOKUP($A145,#REF!,8,0)),0,(VLOOKUP($A145,#REF!,8,0)))","v":0},0,0.94510338810527839,0,0,0,0,{"$f":"IF(ISERROR(VLOOKUP($A145,#REF!,8,0)),0,(VLOOKUP($A145,#REF!,8,0)))","v":0},0,0.94510338810527839,0,0,0,0,{"$f":"IF(ISERROR(VLOOKUP($A145,#REF!,8,0)),0,(VLOOKUP($A145,#REF!,8,0)))","v":0},0,0.94510338810527839,0,0,0,0,{"$f":"IF(ISERROR(VLOOKUP($A145,#REF!,8,0)),0,(VLOOKUP($A145,#REF!,8,0)))","v":0},0,0.94510338810527839,0,0,0,0,{"$f":"IF(ISERROR(VLOOKUP($A145,#REF!,8,0)),0,(VLOOKUP($A145,#REF!,8,0)))","v":0},0,0.94510338810527839,0,0,0,0,{"$f":"IF(ISERROR(VLOOKUP($A145,#REF!,8,0)),0,(VLOOKUP($A145,#REF!,8,0)))","v":0},0,0.94510338810527839,0,0,0,0,{"$f":"IF(ISERROR(VLOOKUP($A145,#REF!,8,0)),0,(VLOOKUP($A145,#REF!,8,0)))","v":0},0,0.94510338810527839,0,0,0,0,{"$f":"IF(ISERROR(VLOOKUP($A145,#REF!,8,0)),0,(VLOOKUP($A145,#REF!,8,0)))","v":0},0,0.94510338810527839,0,0,0,0,{"$f":"IF(ISERROR(VLOOKUP($A145,#REF!,8,0)),0,(VLOOKUP($A145,#REF!,8,0)))","v":0},0,0.94510338810527839,0,0,0,0,{"$f":"IF(ISERROR(VLOOKUP($A145,#REF!,8,0)),0,(VLOOKUP($A145,#REF!,8,0)))","v":0},0,0.94510338810527839,0,0,0,0,{"$f":"IF(ISERROR(VLOOKUP($A145,#REF!,8,0)),0,(VLOOKUP($A145,#REF!,8,0)))","v":0},0,0.94510338810527839,0,0,0,0,{"$f":"IF(ISERROR(VLOOKUP($A145,#REF!,8,0)),0,(VLOOKUP($A145,#REF!,8,0)))","v":0},0,0.94510338810527839,0,0,0,0,{"$f":"IF(ISERROR(VLOOKUP($A145,#REF!,8,0)),0,(VLOOKUP($A145,#REF!,8,0)))","v":0},0,0.94510338810527839,0,0,0,0,{"$f":"IF(ISERROR(VLOOKUP($A145,#REF!,8,0)),0,(VLOOKUP($A145,#REF!,8,0)))","v":0},0,0.94510338810527839,0,0,0,0,{"$f":"IF(ISERROR(VLOOKUP($A145,#REF!,8,0)),0,(VLOOKUP($A145,#REF!,8,0)))","v":0},0,0.94510338810527839,0,0,0,0,{"$f":"IF(ISERROR(VLOOKUP($A145,#REF!,8,0)),0,(VLOOKUP($A145,#REF!,8,0)))","v":0},0,0.94510338810527839,0,0,0,0,{"$f":"IF(ISERROR(VLOOKUP($A145,#REF!,8,0)),0,(VLOOKUP($A145,#REF!,8,0)))","v":0},0,0.94510338810527839,0,0,0,0,{"$f":"IF(ISERROR(VLOOKUP($A145,#REF!,8,0)),0,(VLOOKUP($A145,#REF!,8,0)))","v":0},0,0.94510338810527839,0,0,0,0,{"$f":"IF(ISERROR(VLOOKUP($A145,#REF!,8,0)),0,(VLOOKUP($A145,#REF!,8,0)))","v":0},0,0.94510338810527839,0,0,0,0,{"$f":"IF(ISERROR(VLOOKUP($A145,#REF!,8,0)),0,(VLOOKUP($A145,#REF!,8,0)))","v":0},0,0.94510338810527839,0,0,0,0,{"$f":"IF(ISERROR(VLOOKUP($A145,#REF!,8,0)),0,(VLOOKUP($A145,#REF!,8,0)))","v":0},0,0.94510338810527839,0,0,0,0,{"$f":"IF(ISERROR(VLOOKUP($A145,#REF!,8,0)),0,(VLOOKUP($A145,#REF!,8,0)))","v":0},0,0.94510338810527839,0,0,0,0,{"$f":"IF(ISERROR(VLOOKUP($A145,#REF!,8,0)),0,(VLOOKUP($A145,#REF!,8,0)))","v":0},0,0.94510338810527839,0,0,0,0,{"$f":"IF(ISERROR(VLOOKUP($A145,#REF!,8,0)),0,(VLOOKUP($A145,#REF!,8,0)))","v":0},0,0.94510338810527839,0,0,0,0,{"$f":"IF(ISERROR(VLOOKUP($A145,#REF!,8,0)),0,(VLOOKUP($A145,#REF!,8,0)))","v":0},0,0.94510338810527839,0,0,0,0,{"$f":"IF(ISERROR(VLOOKUP($A145,#REF!,8,0)),0,(VLOOKUP($A145,#REF!,8,0)))","v":0},0,0.94510338810527839,0,0,0,0,{"$f":"IF(ISERROR(VLOOKUP($A145,#REF!,8,0)),0,(VLOOKUP($A145,#REF!,8,0)))","v":0},0,0.94510338810527839,0,0,0,0,{"$f":"IF(ISERROR(VLOOKUP($A145,#REF!,8,0)),0,(VLOOKUP($A145,#REF!,8,0)))","v":0},0,0.94510338810527839,0,0,0,0,{"$f":"IF(ISERROR(VLOOKUP($A145,#REF!,8,0)),0,(VLOOKUP($A145,#REF!,8,0)))","v":0},0,0.94510338810527839,0,0,0,0,{"$f":"IF(ISERROR(VLOOKUP($A145,#REF!,8,0)),0,(VLOOKUP($A145,#REF!,8,0)))","v":0},0,0.94510338810527839,0,0,0,0,{"$f":"IF(ISERROR(VLOOKUP($A145,#REF!,8,0)),0,(VLOOKUP($A145,#REF!,8,0)))","v":0},0,0.94510338810527839,0,0,0,0,{"$f":"IF(ISERROR(VLOOKUP($A145,#REF!,8,0)),0,(VLOOKUP($A145,#REF!,8,0)))","v":0},0,0.94510338810527839,0,0,0,0,{"$f":"IF(ISERROR(VLOOKUP($A145,#REF!,8,0)),0,(VLOOKUP($A145,#REF!,8,0)))","v":0},0,0.94510338810527839,0,0,0,0,{"$f":"IF(ISERROR(VLOOKUP($A145,#REF!,8,0)),0,(VLOOKUP($A145,#REF!,8,0)))","v":0},0,0.94510338810527839,0,0,0,0,{"$f":"IF(ISERROR(VLOOKUP($A145,#REF!,8,0)),0,(VLOOKUP($A145,#REF!,8,0)))","v":0},0,0.94510338810527839,0,0,0,0,{"$f":"IF(ISERROR(VLOOKUP($A145,#REF!,8,0)),0,(VLOOKUP($A145,#REF!,8,0)))","v":0},0,0.94510338810527839,0,0,0,0,{"$f":"IF(ISERROR(VLOOKUP($A145,#REF!,8,0)),0,(VLOOKUP($A145,#REF!,8,0)))","v":0},0,0.94510338810527839,0,0,0,0,{"$f":"IF(ISERROR(VLOOKUP($A145,#REF!,8,0)),0,(VLOOKUP($A145,#REF!,8,0)))","v":0},0,0.94510338810527839,0,0,0,0,{"$f":"IF(ISERROR(VLOOKUP($A145,#REF!,8,0)),0,(VLOOKUP($A145,#REF!,8,0)))","v":0},0,0.94510338810527839,0,0,0,0,{"$f":"IF(ISERROR(VLOOKUP($A145,#REF!,8,0)),0,(VLOOKUP($A145,#REF!,8,0)))","v":0},0,0.94510338810527839,0,0,0,0,{"$f":"IF(ISERROR(VLOOKUP($A145,#REF!,8,0)),0,(VLOOKUP($A145,#REF!,8,0)))","v":0},0,0.94510338810527839,0,0,0,0,{"$f":"IF(ISERROR(VLOOKUP($A145,#REF!,8,0)),0,(VLOOKUP($A145,#REF!,8,0)))","v":0},0,0.94510338810527839,0,0,0,0,30102.804055223995,30102.804055223995,1,0]
["5.11","Fornecimento e aplicação de junta de movimentação com elastômero à base de borracha de poliuretano ou borracha de silicone, inclusive preenchimento de junta com tarucel 20mm.","m",1033.9000000000001,992.7299999999999,41.170000000000186,8.5978259999999995,8889.2923014000007,3.5578399999999997,3678.4507760000001,0,0,12.155666,500.44876922000225,12067.294308179999,null,0,0,0,0,0,null,0,0.96017990134442388,0,0,0,0,null,0,0.96017990134442388,0,0,0,0,null,0,0.96017990134442388,0,0,0,0,null,0,0.96017990134442388,0,0,0,0,null,0,0.96017990134442388,0,0,0,0,{"$f":"IF(ISERROR(VLOOKUP(A154,'7ª MEDIÇÃO'!$A$5:$J$1048576,8,0)),0,(VLOOKUP(A154,'7ª MEDIÇÃO'!$A$5:$J$1048576,8,0)))","v":0},0,0.96017990134442388,0,0,0,0,{"$f":"IF(ISERROR(VLOOKUP(A154,'8ª MEDIÇÃO'!$A$5:$J$1048576,8,0)),0,(VLOOKUP(A154,'8ª MEDIÇÃO'!$A$5:$J$1048576,8,0)))","v":0},0,0.96017990134442388,0,0,0,0,{"$f":"IF(ISERROR(VLOOKUP(A154,'9ª MEDIÇÃO'!$A$5:$J$1048576,8,0)),0,(VLOOKUP(A154,'9ª MEDIÇÃO'!$A$5:$J$1048576,8,0)))","v":0},0,0.96017990134442388,0,0,0,0,{"$f":"IF(ISERROR(VLOOKUP(A154,#REF!,8,0)),0,(VLOOKUP(A154,#REF!,8,0)))","v":0},0,0.96017990134442388,0,0,0,0,{"$f":"IF(ISERROR(VLOOKUP($A154,#REF!,8,0)),0,(VLOOKUP($A154,#REF!,8,0)))","v":0},0,0.96017990134442388,0,0,0,0,{"$f":"IF(ISERROR(VLOOKUP($A154,#REF!,8,0)),0,(VLOOKUP($A154,#REF!,8,0)))","v":0},0,0.96017990134442388,0,0,0,0,{"$f":"IF(ISERROR(VLOOKUP($A154,#REF!,8,0)),0,(VLOOKUP($A154,#REF!,8,0)))","v":0},0,0.96017990134442388,0,0,0,0,{"$f":"IF(ISERROR(VLOOKUP($A154,#REF!,8,0)),0,(VLOOKUP($A154,#REF!,8,0)))","v":0},0,0.96017990134442388,0,0,0,0,{"$f":"IF(ISERROR(VLOOKUP($A154,#REF!,8,0)),0,(VLOOKUP($A154,#REF!,8,0)))","v":0},0,0.96017990134442388,0,0,0,0,{"$f":"IF(ISERROR(VLOOKUP($A154,#REF!,8,0)),0,(VLOOKUP($A154,#REF!,8,0)))","v":0},0,0.96017990134442388,0,0,0,0,{"$f":"IF(ISERROR(VLOOKUP($A154,#REF!,8,0)),0,(VLOOKUP($A154,#REF!,8,0)))","v":0},0,0.96017990134442388,0,0,0,0,{"$f":"IF(ISERROR(VLOOKUP($A154,#REF!,8,0)),0,(VLOOKUP($A154,#REF!,8,0)))","v":0},0,0.96017990134442388,0,0,0,0,{"$f":"IF(ISERROR(VLOOKUP($A154,#REF!,8,0)),0,(VLOOKUP($A154,#REF!,8,0)))","v":0},0,0.96017990134442388,0,0,0,0,{"$f":"IF(ISERROR(VLOOKUP($A154,#REF!,8,0)),0,(VLOOKUP($A154,#REF!,8,0)))","v":0},0,0.96017990134442388,0,0,0,0,{"$f":"IF(ISERROR(VLOOKUP($A154,#REF!,8,0)),0,(VLOOKUP($A154,#REF!,8,0)))","v":0},0,0.96017990134442388,0,0,0,0,{"$f":"IF(ISERROR(VLOOKUP($A154,#REF!,8,0)),0,(VLOOKUP($A154,#REF!,8,0)))","v":0},0,0.96017990134442388,0,0,0,0,{"$f":"IF(ISERROR(VLOOKUP($A154,#REF!,8,0)),0,(VLOOKUP($A154,#REF!,8,0)))","v":0},0,0.96017990134442388,0,0,0,0,{"$f":"IF(ISERROR(VLOOKUP($A154,#REF!,8,0)),0,(VLOOKUP($A154,#REF!,8,0)))","v":0},0,0.96017990134442388,0,0,0,0,{"$f":"IF(ISERROR(VLOOKUP($A154,#REF!,8,0)),0,(VLOOKUP($A154,#REF!,8,0)))","v":0},0,0.96017990134442388,0,0,0,0,{"$f":"IF(ISERROR(VLOOKUP($A154,#REF!,8,0)),0,(VLOOKUP($A154,#REF!,8,0)))","v":0},0,0.96017990134442388,0,0,0,0,{"$f":"IF(ISERROR(VLOOKUP($A154,#REF!,8,0)),0,(VLOOKUP($A154,#REF!,8,0)))","v":0},0,0.96017990134442388,0,0,0,0,{"$f":"IF(ISERROR(VLOOKUP($A154,#REF!,8,0)),0,(VLOOKUP($A154,#REF!,8,0)))","v":0},0,0.96017990134442388,0,0,0,0,{"$f":"IF(ISERROR(VLOOKUP($A154,#REF!,8,0)),0,(VLOOKUP($A154,#REF!,8,0)))","v":0},0,0.96017990134442388,0,0,0,0,{"$f":"IF(ISERROR(VLOOKUP($A154,#REF!,8,0)),0,(VLOOKUP($A154,#REF!,8,0)))","v":0},0,0.96017990134442388,0,0,0,0,{"$f":"IF(ISERROR(VLOOKUP($A154,#REF!,8,0)),0,(VLOOKUP($A154,#REF!,8,0)))","v":0},0,0.96017990134442388,0,0,0,0,{"$f":"IF(ISERROR(VLOOKUP($A154,#REF!,8,0)),0,(VLOOKUP($A154,#REF!,8,0)))","v":0},0,0.96017990134442388,0,0,0,0,{"$f":"IF(ISERROR(VLOOKUP($A154,#REF!,8,0)),0,(VLOOKUP($A154,#REF!,8,0)))","v":0},0,0.96017990134442388,0,0,0,0,{"$f":"IF(ISERROR(VLOOKUP($A154,#REF!,8,0)),0,(VLOOKUP($A154,#REF!,8,0)))","v":0},0,0.96017990134442388,0,0,0,0,{"$f":"IF(ISERROR(VLOOKUP($A154,#REF!,8,0)),0,(VLOOKUP($A154,#REF!,8,0)))","v":0},0,0.96017990134442388,0,0,0,0,{"$f":"IF(ISERROR(VLOOKUP($A154,#REF!,8,0)),0,(VLOOKUP($A154,#REF!,8,0)))","v":0},0,0.96017990134442388,0,0,0,0,{"$f":"IF(ISERROR(VLOOKUP($A154,#REF!,8,0)),0,(VLOOKUP($A154,#REF!,8,0)))","v":0},0,0.96017990134442388,0,0,0,0,{"$f":"IF(ISERROR(VLOOKUP($A154,#REF!,8,0)),0,(VLOOKUP($A154,#REF!,8,0)))","v":0},0,0.96017990134442388,0,0,0,0,{"$f":"IF(ISERROR(VLOOKUP($A154,#REF!,8,0)),0,(VLOOKUP($A154,#REF!,8,0)))","v":0},0,0.96017990134442388,0,0,0,0,{"$f":"IF(ISERROR(VLOOKUP($A154,#REF!,8,0)),0,(VLOOKUP($A154,#REF!,8,0)))","v":0},0,0.96017990134442388,0,0,0,0,{"$f":"IF(ISERROR(VLOOKUP($A154,#REF!,8,0)),0,(VLOOKUP($A154,#REF!,8,0)))","v":0},0,0.96017990134442388,0,0,0,0,{"$f":"IF(ISERROR(VLOOKUP($A154,#REF!,8,0)),0,(VLOOKUP($A154,#REF!,8,0)))","v":0},0,0.96017990134442388,0,0,0,0,{"$f":"IF(ISERROR(VLOOKUP($A154,#REF!,8,0)),0,(VLOOKUP($A154,#REF!,8,0)))","v":0},0,0.96017990134442388,0,0,0,0,{"$f":"IF(ISERROR(VLOOKUP($A154,#REF!,8,0)),0,(VLOOKUP($A154,#REF!,8,0)))","v":0},0,0.96017990134442388,0,0,0,0,{"$f":"IF(ISERROR(VLOOKUP($A154,#REF!,8,0)),0,(VLOOKUP($A154,#REF!,8,0)))","v":0},0,0.96017990134442388,0,0,0,0,{"$f":"IF(ISERROR(VLOOKUP($A154,#REF!,8,0)),0,(VLOOKUP($A154,#REF!,8,0)))","v":0},0,0.96017990134442388,0,0,0,0,{"$f":"IF(ISERROR(VLOOKUP($A154,#REF!,8,0)),0,(VLOOKUP($A154,#REF!,8,0)))","v":0},0,0.96017990134442388,0,0,0,0,{"$f":"IF(ISERROR(VLOOKUP($A154,#REF!,8,0)),0,(VLOOKUP($A154,#REF!,8,0)))","v":0},0,0.96017990134442388,0,0,0,0,{"$f":"IF(ISERROR(VLOOKUP($A154,#REF!,8,0)),0,(VLOOKUP($A154,#REF!,8,0)))","v":0},0,0.96017990134442388,0,0,0,0,{"$f":"IF(ISERROR(VLOOKUP($A154,#REF!,8,0)),0,(VLOOKUP($A154,#REF!,8,0)))","v":0},0,0.96017990134442388,0,0,0,0,{"$f":"IF(ISERROR(VLOOKUP($A154,#REF!,8,0)),0,(VLOOKUP($A154,#REF!,8,0)))","v":0},0,0.96017990134442388,0,0,0,0,{"$f":"IF(ISERROR(VLOOKUP($A154,#REF!,8,0)),0,(VLOOKUP($A154,#REF!,8,0)))","v":0},0,0.96017990134442388,0,0,0,0,{"$f":"IF(ISERROR(VLOOKUP($A154,#REF!,8,0)),0,(VLOOKUP($A154,#REF!,8,0)))","v":0},0,0.96017990134442388,0,0,0,0,{"$f":"IF(ISERROR(VLOOKUP($A154,#REF!,8,0)),0,(VLOOKUP($A154,#REF!,8,0)))","v":0},0,0.96017990134442388,0,0,0,0,{"$f":"IF(ISERROR(VLOOKUP($A154,#REF!,8,0)),0,(VLOOKUP($A154,#REF!,8,0)))","v":0},0,0.96017990134442388,0,0,0,0,12067.294308179999,12067.294308179999,1,0]
["7.0","REVESTIMENTO DE PISOS EXTERNOS",null,null,0,0,null,0,null,0,null,0,0,0,0,null,0,0,0,0,0,null,0,0,0,0,0,0,null,0,0,0,0,0,0,null,0,0,0,0,0,0,null,0,0,0,0,0,0,null,0,0,0,0,0,0,{"$f":"IF(ISERROR(VLOOKUP(A163,'7ª MEDIÇÃO'!$A$5:$J$1048576,8,0)),0,(VLOOKUP(A163,'7ª MEDIÇÃO'!$A$5:$J$1048576,8,0)))","v":0},0,0,0,0,0,0,{"$f":"IF(ISERROR(VLOOKUP(A163,'8ª MEDIÇÃO'!$A$5:$J$1048576,8,0)),0,(VLOOKUP(A163,'8ª MEDIÇÃO'!$A$5:$J$1048576,8,0)))","v":0},0,0,0,0,0,0,{"$f":"IF(ISERROR(VLOOKUP(A163,'9ª MEDIÇÃO'!$A$5:$J$1048576,8,0)),0,(VLOOKUP(A163,'9ª MEDIÇÃO'!$A$5:$J$1048576,8,0)))","v":0},0,0,0,0,0,0,{"$f":"IF(ISERROR(VLOOKUP(A163,#REF!,8,0)),0,(VLOOKUP(A163,#REF!,8,0)))","v":0},0,0,0,0,0,0,{"$f":"IF(ISERROR(VLOOKUP($A163,#REF!,8,0)),0,(VLOOKUP($A163,#REF!,8,0)))","v":0},0,0,0,0,0,0,{"$f":"IF(ISERROR(VLOOKUP($A163,#REF!,8,0)),0,(VLOOKUP($A163,#REF!,8,0)))","v":0},0,0,0,0,0,0,{"$f":"IF(ISERROR(VLOOKUP($A163,#REF!,8,0)),0,(VLOOKUP($A163,#REF!,8,0)))","v":0},0,0,0,0,0,0,{"$f":"IF(ISERROR(VLOOKUP($A163,#REF!,8,0)),0,(VLOOKUP($A163,#REF!,8,0)))","v":0},0,0,0,0,0,0,{"$f":"IF(ISERROR(VLOOKUP($A163,#REF!,8,0)),0,(VLOOKUP($A163,#REF!,8,0)))","v":0},0,0,0,0,0,0,{"$f":"IF(ISERROR(VLOOKUP($A163,#REF!,8,0)),0,(VLOOKUP($A163,#REF!,8,0)))","v":0},0,0,0,0,0,0,{"$f":"IF(ISERROR(VLOOKUP($A163,#REF!,8,0)),0,(VLOOKUP($A163,#REF!,8,0)))","v":0},0,0,0,0,0,0,{"$f":"IF(ISERROR(VLOOKUP($A163,#REF!,8,0)),0,(VLOOKUP($A163,#REF!,8,0)))","v":0},0,0,0,0,0,0,{"$f":"IF(ISERROR(VLOOKUP($A163,#REF!,8,0)),0,(VLOOKUP($A163,#REF!,8,0)))","v":0},0,0,0,0,0,0,{"$f":"IF(ISERROR(VLOOKUP($A163,#REF!,8,0)),0,(VLOOKUP($A163,#REF!,8,0)))","v":0},0,0,0,0,0,0,{"$f":"IF(ISERROR(VLOOKUP($A163,#REF!,8,0)),0,(VLOOKUP($A163,#REF!,8,0)))","v":0},0,0,0,0,0,0,{"$f":"IF(ISERROR(VLOOKUP($A163,#REF!,8,0)),0,(VLOOKUP($A163,#REF!,8,0)))","v":0},0,0,0,0,0,0,{"$f":"IF(ISERROR(VLOOKUP($A163,#REF!,8,0)),0,(VLOOKUP($A163,#REF!,8,0)))","v":0},0,0,0,0,0,0,{"$f":"IF(ISERROR(VLOOKUP($A163,#REF!,8,0)),0,(VLOOKUP($A163,#REF!,8,0)))","v":0},0,0,0,0,0,0,{"$f":"IF(ISERROR(VLOOKUP($A163,#REF!,8,0)),0,(VLOOKUP($A163,#REF!,8,0)))","v":0},0,0,0,0,0,0,{"$f":"IF(ISERROR(VLOOKUP($A163,#REF!,8,0)),0,(VLOOKUP($A163,#REF!,8,0)))","v":0},0,0,0,0,0,0,{"$f":"IF(ISERROR(VLOOKUP($A163,#REF!,8,0)),0,(VLOOKUP($A163,#REF!,8,0)))","v":0},0,0,0,0,0,0,{"$f":"IF(ISERROR(VLOOKUP($A163,#REF!,8,0)),0,(VLOOKUP($A163,#REF!,8,0)))","v":0},0,0,0,0,0,0,{"$f":"IF(ISERROR(VLOOKUP($A163,#REF!,8,0)),0,(VLOOKUP($A163,#REF!,8,0)))","v":0},0,0,0,0,0,0,{"$f":"IF(ISERROR(VLOOKUP($A163,#REF!,8,0)),0,(VLOOKUP($A163,#REF!,8,0)))","v":0},0,0,0,0,0,0,{"$f":"IF(ISERROR(VLOOKUP($A163,#REF!,8,0)),0,(VLOOKUP($A163,#REF!,8,0)))","v":0},0,0,0,0,0,0,{"$f":"IF(ISERROR(VLOOKUP($A163,#REF!,8,0)),0,(VLOOKUP($A163,#REF!,8,0)))","v":0},0,0,0,0,0,0,{"$f":"IF(ISERROR(VLOOKUP($A163,#REF!,8,0)),0,(VLOOKUP($A163,#REF!,8,0)))","v":0},0,0,0,0,0,0,{"$f":"IF(ISERROR(VLOOKUP($A163,#REF!,8,0)),0,(VLOOKUP($A163,#REF!,8,0)))","v":0},0,0,0,0,0,0,{"$f":"IF(ISERROR(VLOOKUP($A163,#REF!,8,0)),0,(VLOOKUP($A163,#REF!,8,0)))","v":0},0,0,0,0,0,0,{"$f":"IF(ISERROR(VLOOKUP($A163,#REF!,8,0)),0,(VLOOKUP($A163,#REF!,8,0)))","v":0},0,0,0,0,0,0,{"$f":"IF(ISERROR(VLOOKUP($A163,#REF!,8,0)),0,(VLOOKUP($A163,#REF!,8,0)))","v":0},0,0,0,0,0,0,{"$f":"IF(ISERROR(VLOOKUP($A163,#REF!,8,0)),0,(VLOOKUP($A163,#REF!,8,0)))","v":0},0,0,0,0,0,0,{"$f":"IF(ISERROR(VLOOKUP($A163,#REF!,8,0)),0,(VLOOKUP($A163,#REF!,8,0)))","v":0},0,0,0,0,0,0,{"$f":"IF(ISERROR(VLOOKUP($A163,#REF!,8,0)),0,(VLOOKUP($A163,#REF!,8,0)))","v":0},0,0,0,0,0,0,{"$f":"IF(ISERROR(VLOOKUP($A163,#REF!,8,0)),0,(VLOOKUP($A163,#REF!,8,0)))","v":0},0,0,0,0,0,0,{"$f":"IF(ISERROR(VLOOKUP($A163,#REF!,8,0)),0,(VLOOKUP($A163,#REF!,8,0)))","v":0},0,0,0,0,0,0,{"$f":"IF(ISERROR(VLOOKUP($A163,#REF!,8,0)),0,(VLOOKUP($A163,#REF!,8,0)))","v":0},0,0,0,0,0,0,{"$f":"IF(ISERROR(VLOOKUP($A163,#REF!,8,0)),0,(VLOOKUP($A163,#REF!,8,0)))","v":0},0,0,0,0,0,0,{"$f":"IF(ISERROR(VLOOKUP($A163,#REF!,8,0)),0,(VLOOKUP($A163,#REF!,8,0)))","v":0},0,0,0,0,0,0,{"$f":"IF(ISERROR(VLOOKUP($A163,#REF!,8,0)),0,(VLOOKUP($A163,#REF!,8,0)))","v":0},0,0,0,0,0,0,{"$f":"IF(ISERROR(VLOOKUP($A163,#REF!,8,0)),0,(VLOOKUP($A163,#REF!,8,0)))","v":0},0,0,0,0,0,0,{"$f":"IF(ISERROR(VLOOKUP($A163,#REF!,8,0)),0,(VLOOKUP($A163,#REF!,8,0)))","v":0},0,0,0,0,0,0,{"$f":"IF(ISERROR(VLOOKUP($A163,#REF!,8,0)),0,(VLOOKUP($A163,#REF!,8,0)))","v":0},0,0,0,0,0,0,{"$f":"IF(ISERROR(VLOOKUP($A163,#REF!,8,0)),0,(VLOOKUP($A163,#REF!,8,0)))","v":0},0,0,0,0,0,0,{"$f":"IF(ISERROR(VLOOKUP($A163,#REF!,8,0)),0,(VLOOKUP($A163,#REF!,8,0)))","v":0},0,0,0,0,0,0,{"$f":"IF(ISERROR(VLOOKUP($A163,#REF!,8,0)),0,(VLOOKUP($A163,#REF!,8,0)))","v":0},0,0,0,0,0,0,{"$f":"IF(ISERROR(VLOOKUP($A163,#REF!,8,0)),0,(VLOOKUP($A163,#REF!,8,0)))","v":0},0,0,0,0,0,0,{"$f":"IF(ISERROR(VLOOKUP($A163,#REF!,8,0)),0,(VLOOKUP($A163,#REF!,8,0)))","v":0},0,0,0,0,0,0,{"$f":"IF(ISERROR(VLOOKUP($A163,#REF!,8,0)),0,(VLOOKUP($A163,#REF!,8,0)))","v":0},0,0,0,0,0,0,{"$f":"SUM(OJ164:OJ167)","v":30669.903018669003},{"$f":"SUM(OK164:OK167)","v":30669.903018669003},1,0]
["8.0","GRANITOS - balcões, bancadas, molduras, soleiras, rodapé e acabamentos",null,null,0,0,null,0,null,0,null,0,0,0,0,null,0,0,0,0,0,null,0,0,0,0,0,0,null,0,0,0,0,0,0,null,0,0,0,0,0,0,null,0,0,0,0,0,0,null,0,0,0,0,0,0,{"$f":"IF(ISERROR(VLOOKUP(A168,'7ª MEDIÇÃO'!$A$5:$J$1048576,8,0)),0,(VLOOKUP(A168,'7ª MEDIÇÃO'!$A$5:$J$1048576,8,0)))","v":0},0,0,0,0,0,0,{"$f":"IF(ISERROR(VLOOKUP(A168,'8ª MEDIÇÃO'!$A$5:$J$1048576,8,0)),0,(VLOOKUP(A168,'8ª MEDIÇÃO'!$A$5:$J$1048576,8,0)))","v":0},0,0,0,0,0,0,{"$f":"IF(ISERROR(VLOOKUP(A168,'9ª MEDIÇÃO'!$A$5:$J$1048576,8,0)),0,(VLOOKUP(A168,'9ª MEDIÇÃO'!$A$5:$J$1048576,8,0)))","v":0},0,0,0,0,0,0,{"$f":"IF(ISERROR(VLOOKUP(A168,#REF!,8,0)),0,(VLOOKUP(A168,#REF!,8,0)))","v":0},0,0,0,0,0,0,{"$f":"IF(ISERROR(VLOOKUP($A168,#REF!,8,0)),0,(VLOOKUP($A168,#REF!,8,0)))","v":0},0,0,0,0,0,0,{"$f":"IF(ISERROR(VLOOKUP($A168,#REF!,8,0)),0,(VLOOKUP($A168,#REF!,8,0)))","v":0},0,0,0,0,0,0,{"$f":"IF(ISERROR(VLOOKUP($A168,#REF!,8,0)),0,(VLOOKUP($A168,#REF!,8,0)))","v":0},0,0,0,0,0,0,{"$f":"IF(ISERROR(VLOOKUP($A168,#REF!,8,0)),0,(VLOOKUP($A168,#REF!,8,0)))","v":0},0,0,0,0,0,0,{"$f":"IF(ISERROR(VLOOKUP($A168,#REF!,8,0)),0,(VLOOKUP($A168,#REF!,8,0)))","v":0},0,0,0,0,0,0,{"$f":"IF(ISERROR(VLOOKUP($A168,#REF!,8,0)),0,(VLOOKUP($A168,#REF!,8,0)))","v":0},0,0,0,0,0,0,{"$f":"IF(ISERROR(VLOOKUP($A168,#REF!,8,0)),0,(VLOOKUP($A168,#REF!,8,0)))","v":0},0,0,0,0,0,0,{"$f":"IF(ISERROR(VLOOKUP($A168,#REF!,8,0)),0,(VLOOKUP($A168,#REF!,8,0)))","v":0},0,0,0,0,0,0,{"$f":"IF(ISERROR(VLOOKUP($A168,#REF!,8,0)),0,(VLOOKUP($A168,#REF!,8,0)))","v":0},0,0,0,0,0,0,{"$f":"IF(ISERROR(VLOOKUP($A168,#REF!,8,0)),0,(VLOOKUP($A168,#REF!,8,0)))","v":0},0,0,0,0,0,0,{"$f":"IF(ISERROR(VLOOKUP($A168,#REF!,8,0)),0,(VLOOKUP($A168,#REF!,8,0)))","v":0},0,0,0,0,0,0,{"$f":"IF(ISERROR(VLOOKUP($A168,#REF!,8,0)),0,(VLOOKUP($A168,#REF!,8,0)))","v":0},0,0,0,0,0,0,{"$f":"IF(ISERROR(VLOOKUP($A168,#REF!,8,0)),0,(VLOOKUP($A168,#REF!,8,0)))","v":0},0,0,0,0,0,0,{"$f":"IF(ISERROR(VLOOKUP($A168,#REF!,8,0)),0,(VLOOKUP($A168,#REF!,8,0)))","v":0},0,0,0,0,0,0,{"$f":"IF(ISERROR(VLOOKUP($A168,#REF!,8,0)),0,(VLOOKUP($A168,#REF!,8,0)))","v":0},0,0,0,0,0,0,{"$f":"IF(ISERROR(VLOOKUP($A168,#REF!,8,0)),0,(VLOOKUP($A168,#REF!,8,0)))","v":0},0,0,0,0,0,0,{"$f":"IF(ISERROR(VLOOKUP($A168,#REF!,8,0)),0,(VLOOKUP($A168,#REF!,8,0)))","v":0},0,0,0,0,0,0,{"$f":"IF(ISERROR(VLOOKUP($A168,#REF!,8,0)),0,(VLOOKUP($A168,#REF!,8,0)))","v":0},0,0,0,0,0,0,{"$f":"IF(ISERROR(VLOOKUP($A168,#REF!,8,0)),0,(VLOOKUP($A168,#REF!,8,0)))","v":0},0,0,0,0,0,0,{"$f":"IF(ISERROR(VLOOKUP($A168,#REF!,8,0)),0,(VLOOKUP($A168,#REF!,8,0)))","v":0},0,0,0,0,0,0,{"$f":"IF(ISERROR(VLOOKUP($A168,#REF!,8,0)),0,(VLOOKUP($A168,#REF!,8,0)))","v":0},0,0,0,0,0,0,{"$f":"IF(ISERROR(VLOOKUP($A168,#REF!,8,0)),0,(VLOOKUP($A168,#REF!,8,0)))","v":0},0,0,0,0,0,0,{"$f":"IF(ISERROR(VLOOKUP($A168,#REF!,8,0)),0,(VLOOKUP($A168,#REF!,8,0)))","v":0},0,0,0,0,0,0,{"$f":"IF(ISERROR(VLOOKUP($A168,#REF!,8,0)),0,(VLOOKUP($A168,#REF!,8,0)))","v":0},0,0,0,0,0,0,{"$f":"IF(ISERROR(VLOOKUP($A168,#REF!,8,0)),0,(VLOOKUP($A168,#REF!,8,0)))","v":0},0,0,0,0,0,0,{"$f":"IF(ISERROR(VLOOKUP($A168,#REF!,8,0)),0,(VLOOKUP($A168,#REF!,8,0)))","v":0},0,0,0,0,0,0,{"$f":"IF(ISERROR(VLOOKUP($A168,#REF!,8,0)),0,(VLOOKUP($A168,#REF!,8,0)))","v":0},0,0,0,0,0,0,{"$f":"IF(ISERROR(VLOOKUP($A168,#REF!,8,0)),0,(VLOOKUP($A168,#REF!,8,0)))","v":0},0,0,0,0,0,0,{"$f":"IF(ISERROR(VLOOKUP($A168,#REF!,8,0)),0,(VLOOKUP($A168,#REF!,8,0)))","v":0},0,0,0,0,0,0,{"$f":"IF(ISERROR(VLOOKUP($A168,#REF!,8,0)),0,(VLOOKUP($A168,#REF!,8,0)))","v":0},0,0,0,0,0,0,{"$f":"IF(ISERROR(VLOOKUP($A168,#REF!,8,0)),0,(VLOOKUP($A168,#REF!,8,0)))","v":0},0,0,0,0,0,0,{"$f":"IF(ISERROR(VLOOKUP($A168,#REF!,8,0)),0,(VLOOKUP($A168,#REF!,8,0)))","v":0},0,0,0,0,0,0,{"$f":"IF(ISERROR(VLOOKUP($A168,#REF!,8,0)),0,(VLOOKUP($A168,#REF!,8,0)))","v":0},0,0,0,0,0,0,{"$f":"IF(ISERROR(VLOOKUP($A168,#REF!,8,0)),0,(VLOOKUP($A168,#REF!,8,0)))","v":0},0,0,0,0,0,0,{"$f":"IF(ISERROR(VLOOKUP($A168,#REF!,8,0)),0,(VLOOKUP($A168,#REF!,8,0)))","v":0},0,0,0,0,0,0,{"$f":"IF(ISERROR(VLOOKUP($A168,#REF!,8,0)),0,(VLOOKUP($A168,#REF!,8,0)))","v":0},0,0,0,0,0,0,{"$f":"IF(ISERROR(VLOOKUP($A168,#REF!,8,0)),0,(VLOOKUP($A168,#REF!,8,0)))","v":0},0,0,0,0,0,0,{"$f":"IF(ISERROR(VLOOKUP($A168,#REF!,8,0)),0,(VLOOKUP($A168,#REF!,8,0)))","v":0},0,0,0,0,0,0,{"$f":"IF(ISERROR(VLOOKUP($A168,#REF!,8,0)),0,(VLOOKUP($A168,#REF!,8,0)))","v":0},0,0,0,0,0,0,{"$f":"IF(ISERROR(VLOOKUP($A168,#REF!,8,0)),0,(VLOOKUP($A168,#REF!,8,0)))","v":0},0,0,0,0,0,0,{"$f":"IF(ISERROR(VLOOKUP($A168,#REF!,8,0)),0,(VLOOKUP($A168,#REF!,8,0)))","v":0},0,0,0,0,0,0,{"$f":"IF(ISERROR(VLOOKUP($A168,#REF!,8,0)),0,(VLOOKUP($A168,#REF!,8,0)))","v":0},0,0,0,0,0,0,{"$f":"IF(ISERROR(VLOOKUP($A168,#REF!,8,0)),0,(VLOOKUP($A168,#REF!,8,0)))","v":0},0,0,0,0,0,0,{"$f":"IF(ISERROR(VLOOKUP($A168,#REF!,8,0)),0,(VLOOKUP($A168,#REF!,8,0)))","v":0},0,0,0,0,0,0,{"$f":"IF(ISERROR(VLOOKUP($A168,#REF!,8,0)),0,(VLOOKUP($A168,#REF!,8,0)))","v":0},0,0,0,0,0,0,{"$f":"SUM(OJ169:OJ216)","v":277108.54176634795},{"$f":"SUM(OK169:OK216)","v":277108.54176634795},1,0]
["8.14","Fornecimento e instalação de Bancada com 7,95m de comprimento para PROGEFORO em granito polido Verde Ubatuba composta por tampo superior e inferior, inclusive montantes bipolidos com bordas arredondadas, testeira medindo 10cm; revestimento frontal e posterior, conforme detalhe 01/45.","un",1,1,0,8481.6197179999999,8481.6197179999999,1210.49908,1210.49908,0,0,9692.1187979999995,0,9692.1187979999995,null,0,0,0,0,0,null,0,1,0,0,0,0,null,0,1,0,0,0,0,null,0,1,0,0,0,0,null,0,1,0,0,0,0,null,0,1,0,0,0,0,{"$f":"IF(ISERROR(VLOOKUP(A182,'7ª MEDIÇÃO'!$A$5:$J$1048576,8,0)),0,(VLOOKUP(A182,'7ª MEDIÇÃO'!$A$5:$J$1048576,8,0)))","v":0},0,1,0,0,0,0,{"$f":"IF(ISERROR(VLOOKUP(A182,'8ª MEDIÇÃO'!$A$5:$J$1048576,8,0)),0,(VLOOKUP(A182,'8ª MEDIÇÃO'!$A$5:$J$1048576,8,0)))","v":0},0,1,0,0,0,0,{"$f":"IF(ISERROR(VLOOKUP(A182,'9ª MEDIÇÃO'!$A$5:$J$1048576,8,0)),0,(VLOOKUP(A182,'9ª MEDIÇÃO'!$A$5:$J$1048576,8,0)))","v":0},0,1,0,0,0,0,{"$f":"IF(ISERROR(VLOOKUP(A182,#REF!,8,0)),0,(VLOOKUP(A182,#REF!,8,0)))","v":0},0,1,0,0,0,0,{"$f":"IF(ISERROR(VLOOKUP($A182,#REF!,8,0)),0,(VLOOKUP($A182,#REF!,8,0)))","v":0},0,1,0,0,0,0,{"$f":"IF(ISERROR(VLOOKUP($A182,#REF!,8,0)),0,(VLOOKUP($A182,#REF!,8,0)))","v":0},0,1,0,0,0,0,{"$f":"IF(ISERROR(VLOOKUP($A182,#REF!,8,0)),0,(VLOOKUP($A182,#REF!,8,0)))","v":0},0,1,0,0,0,0,{"$f":"IF(ISERROR(VLOOKUP($A182,#REF!,8,0)),0,(VLOOKUP($A182,#REF!,8,0)))","v":0},0,1,0,0,0,0,{"$f":"IF(ISERROR(VLOOKUP($A182,#REF!,8,0)),0,(VLOOKUP($A182,#REF!,8,0)))","v":0},0,1,0,0,0,0,{"$f":"IF(ISERROR(VLOOKUP($A182,#REF!,8,0)),0,(VLOOKUP($A182,#REF!,8,0)))","v":0},0,1,0,0,0,0,{"$f":"IF(ISERROR(VLOOKUP($A182,#REF!,8,0)),0,(VLOOKUP($A182,#REF!,8,0)))","v":0},0,1,0,0,0,0,{"$f":"IF(ISERROR(VLOOKUP($A182,#REF!,8,0)),0,(VLOOKUP($A182,#REF!,8,0)))","v":0},0,1,0,0,0,0,{"$f":"IF(ISERROR(VLOOKUP($A182,#REF!,8,0)),0,(VLOOKUP($A182,#REF!,8,0)))","v":0},0,1,0,0,0,0,{"$f":"IF(ISERROR(VLOOKUP($A182,#REF!,8,0)),0,(VLOOKUP($A182,#REF!,8,0)))","v":0},0,1,0,0,0,0,{"$f":"IF(ISERROR(VLOOKUP($A182,#REF!,8,0)),0,(VLOOKUP($A182,#REF!,8,0)))","v":0},0,1,0,0,0,0,{"$f":"IF(ISERROR(VLOOKUP($A182,#REF!,8,0)),0,(VLOOKUP($A182,#REF!,8,0)))","v":0},0,1,0,0,0,0,{"$f":"IF(ISERROR(VLOOKUP($A182,#REF!,8,0)),0,(VLOOKUP($A182,#REF!,8,0)))","v":0},0,1,0,0,0,0,{"$f":"IF(ISERROR(VLOOKUP($A182,#REF!,8,0)),0,(VLOOKUP($A182,#REF!,8,0)))","v":0},0,1,0,0,0,0,{"$f":"IF(ISERROR(VLOOKUP($A182,#REF!,8,0)),0,(VLOOKUP($A182,#REF!,8,0)))","v":0},0,1,0,0,0,0,{"$f":"IF(ISERROR(VLOOKUP($A182,#REF!,8,0)),0,(VLOOKUP($A182,#REF!,8,0)))","v":0},0,1,0,0,0,0,{"$f":"IF(ISERROR(VLOOKUP($A182,#REF!,8,0)),0,(VLOOKUP($A182,#REF!,8,0)))","v":0},0,1,0,0,0,0,{"$f":"IF(ISERROR(VLOOKUP($A182,#REF!,8,0)),0,(VLOOKUP($A182,#REF!,8,0)))","v":0},0,1,0,0,0,0,{"$f":"IF(ISERROR(VLOOKUP($A182,#REF!,8,0)),0,(VLOOKUP($A182,#REF!,8,0)))","v":0},0,1,0,0,0,0,{"$f":"IF(ISERROR(VLOOKUP($A182,#REF!,8,0)),0,(VLOOKUP($A182,#REF!,8,0)))","v":0},0,1,0,0,0,0,{"$f":"IF(ISERROR(VLOOKUP($A182,#REF!,8,0)),0,(VLOOKUP($A182,#REF!,8,0)))","v":0},0,1,0,0,0,0,{"$f":"IF(ISERROR(VLOOKUP($A182,#REF!,8,0)),0,(VLOOKUP($A182,#REF!,8,0)))","v":0},0,1,0,0,0,0,{"$f":"IF(ISERROR(VLOOKUP($A182,#REF!,8,0)),0,(VLOOKUP($A182,#REF!,8,0)))","v":0},0,1,0,0,0,0,{"$f":"IF(ISERROR(VLOOKUP($A182,#REF!,8,0)),0,(VLOOKUP($A182,#REF!,8,0)))","v":0},0,1,0,0,0,0,{"$f":"IF(ISERROR(VLOOKUP($A182,#REF!,8,0)),0,(VLOOKUP($A182,#REF!,8,0)))","v":0},0,1,0,0,0,0,{"$f":"IF(ISERROR(VLOOKUP($A182,#REF!,8,0)),0,(VLOOKUP($A182,#REF!,8,0)))","v":0},0,1,0,0,0,0,{"$f":"IF(ISERROR(VLOOKUP($A182,#REF!,8,0)),0,(VLOOKUP($A182,#REF!,8,0)))","v":0},0,1,0,0,0,0,{"$f":"IF(ISERROR(VLOOKUP($A182,#REF!,8,0)),0,(VLOOKUP($A182,#REF!,8,0)))","v":0},0,1,0,0,0,0,{"$f":"IF(ISERROR(VLOOKUP($A182,#REF!,8,0)),0,(VLOOKUP($A182,#REF!,8,0)))","v":0},0,1,0,0,0,0,{"$f":"IF(ISERROR(VLOOKUP($A182,#REF!,8,0)),0,(VLOOKUP($A182,#REF!,8,0)))","v":0},0,1,0,0,0,0,{"$f":"IF(ISERROR(VLOOKUP($A182,#REF!,8,0)),0,(VLOOKUP($A182,#REF!,8,0)))","v":0},0,1,0,0,0,0,{"$f":"IF(ISERROR(VLOOKUP($A182,#REF!,8,0)),0,(VLOOKUP($A182,#REF!,8,0)))","v":0},0,1,0,0,0,0,{"$f":"IF(ISERROR(VLOOKUP($A182,#REF!,8,0)),0,(VLOOKUP($A182,#REF!,8,0)))","v":0},0,1,0,0,0,0,{"$f":"IF(ISERROR(VLOOKUP($A182,#REF!,8,0)),0,(VLOOKUP($A182,#REF!,8,0)))","v":0},0,1,0,0,0,0,{"$f":"IF(ISERROR(VLOOKUP($A182,#REF!,8,0)),0,(VLOOKUP($A182,#REF!,8,0)))","v":0},0,1,0,0,0,0,{"$f":"IF(ISERROR(VLOOKUP($A182,#REF!,8,0)),0,(VLOOKUP($A182,#REF!,8,0)))","v":0},0,1,0,0,0,0,{"$f":"IF(ISERROR(VLOOKUP($A182,#REF!,8,0)),0,(VLOOKUP($A182,#REF!,8,0)))","v":0},0,1,0,0,0,0,{"$f":"IF(ISERROR(VLOOKUP($A182,#REF!,8,0)),0,(VLOOKUP($A182,#REF!,8,0)))","v":0},0,1,0,0,0,0,{"$f":"IF(ISERROR(VLOOKUP($A182,#REF!,8,0)),0,(VLOOKUP($A182,#REF!,8,0)))","v":0},0,1,0,0,0,0,{"$f":"IF(ISERROR(VLOOKUP($A182,#REF!,8,0)),0,(VLOOKUP($A182,#REF!,8,0)))","v":0},0,1,0,0,0,0,{"$f":"IF(ISERROR(VLOOKUP($A182,#REF!,8,0)),0,(VLOOKUP($A182,#REF!,8,0)))","v":0},0,1,0,0,0,0,{"$f":"IF(ISERROR(VLOOKUP($A182,#REF!,8,0)),0,(VLOOKUP($A182,#REF!,8,0)))","v":0},0,1,0,0,0,0,{"$f":"IF(ISERROR(VLOOKUP($A182,#REF!,8,0)),0,(VLOOKUP($A182,#REF!,8,0)))","v":0},0,1,0,0,0,0,{"$f":"IF(ISERROR(VLOOKUP($A182,#REF!,8,0)),0,(VLOOKUP($A182,#REF!,8,0)))","v":0},0,1,0,0,0,0,{"$f":"IF(ISERROR(VLOOKUP($A182,#REF!,8,0)),0,(VLOOKUP($A182,#REF!,8,0)))","v":0},0,1,0,0,0,0,9692.1187979999995,9692.1187979999995,1,0]
["8.15","Fornecimento e instalação de Bancada para RECEPÇÃO em \"L\" medindo (1,35x7,02)m em granito polido Verde Ubatuba com tampo superior e inferior, painel com face interna polida e face externa formada por faixas verticais com aproximadamente 12 cm de largura e bizote de 0,005m de acabamento nas extremidades, testeira medindo 10cm; revestimentos frontal e posterior, conforme detalhe 02/45.","un",1,1,0,7089.998482,7089.998482,264.58636000000001,264.58636000000001,0,0,7354.5848420000002,0,7354.5848420000002,null,0,0,0,0,0,null,0,1,0,0,0,0,null,0,1,0,0,0,0,null,0,1,0,0,0,0,null,0,1,0,0,0,0,null,0,1,0,0,0,0,{"$f":"IF(ISERROR(VLOOKUP(A183,'7ª MEDIÇÃO'!$A$5:$J$1048576,8,0)),0,(VLOOKUP(A183,'7ª MEDIÇÃO'!$A$5:$J$1048576,8,0)))","v":0},0,1,0,0,0,0,{"$f":"IF(ISERROR(VLOOKUP(A183,'8ª MEDIÇÃO'!$A$5:$J$1048576,8,0)),0,(VLOOKUP(A183,'8ª MEDIÇÃO'!$A$5:$J$1048576,8,0)))","v":0},0,1,0,0,0,0,{"$f":"IF(ISERROR(VLOOKUP(A183,'9ª MEDIÇÃO'!$A$5:$J$1048576,8,0)),0,(VLOOKUP(A183,'9ª MEDIÇÃO'!$A$5:$J$1048576,8,0)))","v":0},0,1,0,0,0,0,{"$f":"IF(ISERROR(VLOOKUP(A183,#REF!,8,0)),0,(VLOOKUP(A183,#REF!,8,0)))","v":0},0,1,0,0,0,0,{"$f":"IF(ISERROR(VLOOKUP($A183,#REF!,8,0)),0,(VLOOKUP($A183,#REF!,8,0)))","v":0},0,1,0,0,0,0,{"$f":"IF(ISERROR(VLOOKUP($A183,#REF!,8,0)),0,(VLOOKUP($A183,#REF!,8,0)))","v":0},0,1,0,0,0,0,{"$f":"IF(ISERROR(VLOOKUP($A183,#REF!,8,0)),0,(VLOOKUP($A183,#REF!,8,0)))","v":0},0,1,0,0,0,0,{"$f":"IF(ISERROR(VLOOKUP($A183,#REF!,8,0)),0,(VLOOKUP($A183,#REF!,8,0)))","v":0},0,1,0,0,0,0,{"$f":"IF(ISERROR(VLOOKUP($A183,#REF!,8,0)),0,(VLOOKUP($A183,#REF!,8,0)))","v":0},0,1,0,0,0,0,{"$f":"IF(ISERROR(VLOOKUP($A183,#REF!,8,0)),0,(VLOOKUP($A183,#REF!,8,0)))","v":0},0,1,0,0,0,0,{"$f":"IF(ISERROR(VLOOKUP($A183,#REF!,8,0)),0,(VLOOKUP($A183,#REF!,8,0)))","v":0},0,1,0,0,0,0,{"$f":"IF(ISERROR(VLOOKUP($A183,#REF!,8,0)),0,(VLOOKUP($A183,#REF!,8,0)))","v":0},0,1,0,0,0,0,{"$f":"IF(ISERROR(VLOOKUP($A183,#REF!,8,0)),0,(VLOOKUP($A183,#REF!,8,0)))","v":0},0,1,0,0,0,0,{"$f":"IF(ISERROR(VLOOKUP($A183,#REF!,8,0)),0,(VLOOKUP($A183,#REF!,8,0)))","v":0},0,1,0,0,0,0,{"$f":"IF(ISERROR(VLOOKUP($A183,#REF!,8,0)),0,(VLOOKUP($A183,#REF!,8,0)))","v":0},0,1,0,0,0,0,{"$f":"IF(ISERROR(VLOOKUP($A183,#REF!,8,0)),0,(VLOOKUP($A183,#REF!,8,0)))","v":0},0,1,0,0,0,0,{"$f":"IF(ISERROR(VLOOKUP($A183,#REF!,8,0)),0,(VLOOKUP($A183,#REF!,8,0)))","v":0},0,1,0,0,0,0,{"$f":"IF(ISERROR(VLOOKUP($A183,#REF!,8,0)),0,(VLOOKUP($A183,#REF!,8,0)))","v":0},0,1,0,0,0,0,{"$f":"IF(ISERROR(VLOOKUP($A183,#REF!,8,0)),0,(VLOOKUP($A183,#REF!,8,0)))","v":0},0,1,0,0,0,0,{"$f":"IF(ISERROR(VLOOKUP($A183,#REF!,8,0)),0,(VLOOKUP($A183,#REF!,8,0)))","v":0},0,1,0,0,0,0,{"$f":"IF(ISERROR(VLOOKUP($A183,#REF!,8,0)),0,(VLOOKUP($A183,#REF!,8,0)))","v":0},0,1,0,0,0,0,{"$f":"IF(ISERROR(VLOOKUP($A183,#REF!,8,0)),0,(VLOOKUP($A183,#REF!,8,0)))","v":0},0,1,0,0,0,0,{"$f":"IF(ISERROR(VLOOKUP($A183,#REF!,8,0)),0,(VLOOKUP($A183,#REF!,8,0)))","v":0},0,1,0,0,0,0,{"$f":"IF(ISERROR(VLOOKUP($A183,#REF!,8,0)),0,(VLOOKUP($A183,#REF!,8,0)))","v":0},0,1,0,0,0,0,{"$f":"IF(ISERROR(VLOOKUP($A183,#REF!,8,0)),0,(VLOOKUP($A183,#REF!,8,0)))","v":0},0,1,0,0,0,0,{"$f":"IF(ISERROR(VLOOKUP($A183,#REF!,8,0)),0,(VLOOKUP($A183,#REF!,8,0)))","v":0},0,1,0,0,0,0,{"$f":"IF(ISERROR(VLOOKUP($A183,#REF!,8,0)),0,(VLOOKUP($A183,#REF!,8,0)))","v":0},0,1,0,0,0,0,{"$f":"IF(ISERROR(VLOOKUP($A183,#REF!,8,0)),0,(VLOOKUP($A183,#REF!,8,0)))","v":0},0,1,0,0,0,0,{"$f":"IF(ISERROR(VLOOKUP($A183,#REF!,8,0)),0,(VLOOKUP($A183,#REF!,8,0)))","v":0},0,1,0,0,0,0,{"$f":"IF(ISERROR(VLOOKUP($A183,#REF!,8,0)),0,(VLOOKUP($A183,#REF!,8,0)))","v":0},0,1,0,0,0,0,{"$f":"IF(ISERROR(VLOOKUP($A183,#REF!,8,0)),0,(VLOOKUP($A183,#REF!,8,0)))","v":0},0,1,0,0,0,0,{"$f":"IF(ISERROR(VLOOKUP($A183,#REF!,8,0)),0,(VLOOKUP($A183,#REF!,8,0)))","v":0},0,1,0,0,0,0,{"$f":"IF(ISERROR(VLOOKUP($A183,#REF!,8,0)),0,(VLOOKUP($A183,#REF!,8,0)))","v":0},0,1,0,0,0,0,{"$f":"IF(ISERROR(VLOOKUP($A183,#REF!,8,0)),0,(VLOOKUP($A183,#REF!,8,0)))","v":0},0,1,0,0,0,0,{"$f":"IF(ISERROR(VLOOKUP($A183,#REF!,8,0)),0,(VLOOKUP($A183,#REF!,8,0)))","v":0},0,1,0,0,0,0,{"$f":"IF(ISERROR(VLOOKUP($A183,#REF!,8,0)),0,(VLOOKUP($A183,#REF!,8,0)))","v":0},0,1,0,0,0,0,{"$f":"IF(ISERROR(VLOOKUP($A183,#REF!,8,0)),0,(VLOOKUP($A183,#REF!,8,0)))","v":0},0,1,0,0,0,0,{"$f":"IF(ISERROR(VLOOKUP($A183,#REF!,8,0)),0,(VLOOKUP($A183,#REF!,8,0)))","v":0},0,1,0,0,0,0,{"$f":"IF(ISERROR(VLOOKUP($A183,#REF!,8,0)),0,(VLOOKUP($A183,#REF!,8,0)))","v":0},0,1,0,0,0,0,{"$f":"IF(ISERROR(VLOOKUP($A183,#REF!,8,0)),0,(VLOOKUP($A183,#REF!,8,0)))","v":0},0,1,0,0,0,0,{"$f":"IF(ISERROR(VLOOKUP($A183,#REF!,8,0)),0,(VLOOKUP($A183,#REF!,8,0)))","v":0},0,1,0,0,0,0,{"$f":"IF(ISERROR(VLOOKUP($A183,#REF!,8,0)),0,(VLOOKUP($A183,#REF!,8,0)))","v":0},0,1,0,0,0,0,{"$f":"IF(ISERROR(VLOOKUP($A183,#REF!,8,0)),0,(VLOOKUP($A183,#REF!,8,0)))","v":0},0,1,0,0,0,0,{"$f":"IF(ISERROR(VLOOKUP($A183,#REF!,8,0)),0,(VLOOKUP($A183,#REF!,8,0)))","v":0},0,1,0,0,0,0,{"$f":"IF(ISERROR(VLOOKUP($A183,#REF!,8,0)),0,(VLOOKUP($A183,#REF!,8,0)))","v":0},0,1,0,0,0,0,{"$f":"IF(ISERROR(VLOOKUP($A183,#REF!,8,0)),0,(VLOOKUP($A183,#REF!,8,0)))","v":0},0,1,0,0,0,0,{"$f":"IF(ISERROR(VLOOKUP($A183,#REF!,8,0)),0,(VLOOKUP($A183,#REF!,8,0)))","v":0},0,1,0,0,0,0,{"$f":"IF(ISERROR(VLOOKUP($A183,#REF!,8,0)),0,(VLOOKUP($A183,#REF!,8,0)))","v":0},0,1,0,0,0,0,{"$f":"IF(ISERROR(VLOOKUP($A183,#REF!,8,0)),0,(VLOOKUP($A183,#REF!,8,0)))","v":0},0,1,0,0,0,0,7354.5848420000002,7354.5848420000002,1,0]
["8.24","Fornecimento e instalação de Bancada com 3,58m de comprimento para CONCILIAÇÃO E ARBITRAGEM - 2º PAV em granito polido Verde Ubatuba composta por tampo superior e inferior, inclusive testeira medindo 10cm; revestimento frontal e posterior, conforme detalhe 11/45.","un",1,1,0,3642.4707539999999,3642.4707539999999,222.93724,222.93724,0,0,3865.4079940000001,0,3865.4079940000001,null,0,0,0,0,0,null,0,1,0,0,0,0,null,0,1,0,0,0,0,null,0,1,0,0,0,0,null,0,1,0,0,0,0,null,0,1,0,0,0,0,{"$f":"IF(ISERROR(VLOOKUP(A192,'7ª MEDIÇÃO'!$A$5:$J$1048576,8,0)),0,(VLOOKUP(A192,'7ª MEDIÇÃO'!$A$5:$J$1048576,8,0)))","v":0},0,1,0,0,0,0,{"$f":"IF(ISERROR(VLOOKUP(A192,'8ª MEDIÇÃO'!$A$5:$J$1048576,8,0)),0,(VLOOKUP(A192,'8ª MEDIÇÃO'!$A$5:$J$1048576,8,0)))","v":0},0,1,0,0,0,0,{"$f":"IF(ISERROR(VLOOKUP(A192,'9ª MEDIÇÃO'!$A$5:$J$1048576,8,0)),0,(VLOOKUP(A192,'9ª MEDIÇÃO'!$A$5:$J$1048576,8,0)))","v":0},0,1,0,0,0,0,{"$f":"IF(ISERROR(VLOOKUP(A192,#REF!,8,0)),0,(VLOOKUP(A192,#REF!,8,0)))","v":0},0,1,0,0,0,0,{"$f":"IF(ISERROR(VLOOKUP($A192,#REF!,8,0)),0,(VLOOKUP($A192,#REF!,8,0)))","v":0},0,1,0,0,0,0,{"$f":"IF(ISERROR(VLOOKUP($A192,#REF!,8,0)),0,(VLOOKUP($A192,#REF!,8,0)))","v":0},0,1,0,0,0,0,{"$f":"IF(ISERROR(VLOOKUP($A192,#REF!,8,0)),0,(VLOOKUP($A192,#REF!,8,0)))","v":0},0,1,0,0,0,0,{"$f":"IF(ISERROR(VLOOKUP($A192,#REF!,8,0)),0,(VLOOKUP($A192,#REF!,8,0)))","v":0},0,1,0,0,0,0,{"$f":"IF(ISERROR(VLOOKUP($A192,#REF!,8,0)),0,(VLOOKUP($A192,#REF!,8,0)))","v":0},0,1,0,0,0,0,{"$f":"IF(ISERROR(VLOOKUP($A192,#REF!,8,0)),0,(VLOOKUP($A192,#REF!,8,0)))","v":0},0,1,0,0,0,0,{"$f":"IF(ISERROR(VLOOKUP($A192,#REF!,8,0)),0,(VLOOKUP($A192,#REF!,8,0)))","v":0},0,1,0,0,0,0,{"$f":"IF(ISERROR(VLOOKUP($A192,#REF!,8,0)),0,(VLOOKUP($A192,#REF!,8,0)))","v":0},0,1,0,0,0,0,{"$f":"IF(ISERROR(VLOOKUP($A192,#REF!,8,0)),0,(VLOOKUP($A192,#REF!,8,0)))","v":0},0,1,0,0,0,0,{"$f":"IF(ISERROR(VLOOKUP($A192,#REF!,8,0)),0,(VLOOKUP($A192,#REF!,8,0)))","v":0},0,1,0,0,0,0,{"$f":"IF(ISERROR(VLOOKUP($A192,#REF!,8,0)),0,(VLOOKUP($A192,#REF!,8,0)))","v":0},0,1,0,0,0,0,{"$f":"IF(ISERROR(VLOOKUP($A192,#REF!,8,0)),0,(VLOOKUP($A192,#REF!,8,0)))","v":0},0,1,0,0,0,0,{"$f":"IF(ISERROR(VLOOKUP($A192,#REF!,8,0)),0,(VLOOKUP($A192,#REF!,8,0)))","v":0},0,1,0,0,0,0,{"$f":"IF(ISERROR(VLOOKUP($A192,#REF!,8,0)),0,(VLOOKUP($A192,#REF!,8,0)))","v":0},0,1,0,0,0,0,{"$f":"IF(ISERROR(VLOOKUP($A192,#REF!,8,0)),0,(VLOOKUP($A192,#REF!,8,0)))","v":0},0,1,0,0,0,0,{"$f":"IF(ISERROR(VLOOKUP($A192,#REF!,8,0)),0,(VLOOKUP($A192,#REF!,8,0)))","v":0},0,1,0,0,0,0,{"$f":"IF(ISERROR(VLOOKUP($A192,#REF!,8,0)),0,(VLOOKUP($A192,#REF!,8,0)))","v":0},0,1,0,0,0,0,{"$f":"IF(ISERROR(VLOOKUP($A192,#REF!,8,0)),0,(VLOOKUP($A192,#REF!,8,0)))","v":0},0,1,0,0,0,0,{"$f":"#REF!","v":{"$error":"#REF!"}},{"$error":"#REF!"},1,{"$error":"#REF!"},{"$error":"#REF!"},{"$error":"#REF!"},{"$error":"#REF!"},{"$f":"IF(ISERROR(VLOOKUP($A192,#REF!,8,0)),0,(VLOOKUP($A192,#REF!,8,0)))","v":0},0,1,0,0,0,0,{"$f":"IF(ISERROR(VLOOKUP($A192,#REF!,8,0)),0,(VLOOKUP($A192,#REF!,8,0)))","v":0},0,1,0,0,0,0,{"$f":"IF(ISERROR(VLOOKUP($A192,#REF!,8,0)),0,(VLOOKUP($A192,#REF!,8,0)))","v":0},0,1,0,0,0,0,{"$f":"IF(ISERROR(VLOOKUP($A192,#REF!,8,0)),0,(VLOOKUP($A192,#REF!,8,0)))","v":0},0,1,0,0,0,0,{"$f":"IF(ISERROR(VLOOKUP($A192,#REF!,8,0)),0,(VLOOKUP($A192,#REF!,8,0)))","v":0},0,1,0,0,0,0,{"$f":"IF(ISERROR(VLOOKUP($A192,#REF!,8,0)),0,(VLOOKUP($A192,#REF!,8,0)))","v":0},0,1,0,0,0,0,{"$f":"IF(ISERROR(VLOOKUP($A192,#REF!,8,0)),0,(VLOOKUP($A192,#REF!,8,0)))","v":0},0,1,0,0,0,0,{"$f":"IF(ISERROR(VLOOKUP($A192,#REF!,8,0)),0,(VLOOKUP($A192,#REF!,8,0)))","v":0},0,1,0,0,0,0,{"$f":"IF(ISERROR(VLOOKUP($A192,#REF!,8,0)),0,(VLOOKUP($A192,#REF!,8,0)))","v":0},0,1,0,0,0,0,{"$f":"IF(ISERROR(VLOOKUP($A192,#REF!,8,0)),0,(VLOOKUP($A192,#REF!,8,0)))","v":0},0,1,0,0,0,0,{"$f":"IF(ISERROR(VLOOKUP($A192,#REF!,8,0)),0,(VLOOKUP($A192,#REF!,8,0)))","v":0},0,1,0,0,0,0,{"$f":"IF(ISERROR(VLOOKUP($A192,#REF!,8,0)),0,(VLOOKUP($A192,#REF!,8,0)))","v":0},0,1,0,0,0,0,{"$f":"IF(ISERROR(VLOOKUP($A192,#REF!,8,0)),0,(VLOOKUP($A192,#REF!,8,0)))","v":0},0,1,0,0,0,0,{"$f":"IF(ISERROR(VLOOKUP($A192,#REF!,8,0)),0,(VLOOKUP($A192,#REF!,8,0)))","v":0},0,1,0,0,0,0,{"$f":"IF(ISERROR(VLOOKUP($A192,#REF!,8,0)),0,(VLOOKUP($A192,#REF!,8,0)))","v":0},0,1,0,0,0,0,{"$f":"IF(ISERROR(VLOOKUP($A192,#REF!,8,0)),0,(VLOOKUP($A192,#REF!,8,0)))","v":0},0,1,0,0,0,0,{"$f":"IF(ISERROR(VLOOKUP($A192,#REF!,8,0)),0,(VLOOKUP($A192,#REF!,8,0)))","v":0},0,1,0,0,0,0,{"$f":"IF(ISERROR(VLOOKUP($A192,#REF!,8,0)),0,(VLOOKUP($A192,#REF!,8,0)))","v":0},0,1,0,0,0,0,{"$f":"IF(ISERROR(VLOOKUP($A192,#REF!,8,0)),0,(VLOOKUP($A192,#REF!,8,0)))","v":0},0,1,0,0,0,0,{"$f":"IF(ISERROR(VLOOKUP($A192,#REF!,8,0)),0,(VLOOKUP($A192,#REF!,8,0)))","v":0},0,1,0,0,0,0,{"$f":"IF(ISERROR(VLOOKUP($A192,#REF!,8,0)),0,(VLOOKUP($A192,#REF!,8,0)))","v":0},0,1,0,0,0,0,{"$f":"IF(ISERROR(VLOOKUP($A192,#REF!,8,0)),0,(VLOOKUP($A192,#REF!,8,0)))","v":0},0,1,0,0,0,0,{"$f":"IF(ISERROR(VLOOKUP($A192,#REF!,8,0)),0,(VLOOKUP($A192,#REF!,8,0)))","v":0},0,1,0,0,0,0,{"$f":"IF(ISERROR(VLOOKUP($A192,#REF!,8,0)),0,(VLOOKUP($A192,#REF!,8,0)))","v":0},0,1,0,0,0,0,{"$f":"IF(ISERROR(VLOOKUP($A192,#REF!,8,0)),0,(VLOOKUP($A192,#REF!,8,0)))","v":0},0,1,0,0,0,0,{"$f":"IF(ISERROR(VLOOKUP($A192,#REF!,8,0)),0,(VLOOKUP($A192,#REF!,8,0)))","v":0},0,1,0,0,0,0,3865.4079940000001,3865.4079940000001,1,0]
["8.33","Fornecimento e instalação de Moldura para porta dos ELEVADORES em granito polido Verde Ubatuba com acabamento reto, sacando 0,005m, com altura de 2,12m e largura de 0,95m, conforme detalhe 25/45.","m",52,48.66,3.3400000000000034,59.524318000000001,3095.2645360000001,2.0526,106.73519999999999,0,0,61.576917999999999,205.66690612000022,2996.3328298799997,null,0,0,0,0,0,null,0,0.93576923076923069,0,0,0,0,null,0,0.93576923076923069,0,0,0,0,null,0,0.93576923076923069,0,0,0,0,null,0,0.93576923076923069,0,0,0,0,null,0,0.93576923076923069,0,0,0,0,{"$f":"IF(ISERROR(VLOOKUP(A201,'7ª MEDIÇÃO'!$A$5:$J$1048576,8,0)),0,(VLOOKUP(A201,'7ª MEDIÇÃO'!$A$5:$J$1048576,8,0)))","v":0},0,0.93576923076923069,0,0,0,0,{"$f":"IF(ISERROR(VLOOKUP(A201,'8ª MEDIÇÃO'!$A$5:$J$1048576,8,0)),0,(VLOOKUP(A201,'8ª MEDIÇÃO'!$A$5:$J$1048576,8,0)))","v":0},0,0.93576923076923069,0,0,0,0,{"$f":"IF(ISERROR(VLOOKUP(A201,'9ª MEDIÇÃO'!$A$5:$J$1048576,8,0)),0,(VLOOKUP(A201,'9ª MEDIÇÃO'!$A$5:$J$1048576,8,0)))","v":0},0,0.93576923076923069,0,0,0,0,{"$f":"IF(ISERROR(VLOOKUP(A201,#REF!,8,0)),0,(VLOOKUP(A201,#REF!,8,0)))","v":0},0,0.93576923076923069,0,0,0,0,{"$f":"IF(ISERROR(VLOOKUP($A201,#REF!,8,0)),0,(VLOOKUP($A201,#REF!,8,0)))","v":0},0,0.93576923076923069,0,0,0,0,{"$f":"IF(ISERROR(VLOOKUP($A201,#REF!,8,0)),0,(VLOOKUP($A201,#REF!,8,0)))","v":0},0,0.93576923076923069,0,0,0,0,{"$f":"IF(ISERROR(VLOOKUP($A201,#REF!,8,0)),0,(VLOOKUP($A201,#REF!,8,0)))","v":0},0,0.93576923076923069,0,0,0,0,{"$f":"IF(ISERROR(VLOOKUP($A201,#REF!,8,0)),0,(VLOOKUP($A201,#REF!,8,0)))","v":0},0,0.93576923076923069,0,0,0,0,{"$f":"IF(ISERROR(VLOOKUP($A201,#REF!,8,0)),0,(VLOOKUP($A201,#REF!,8,0)))","v":0},0,0.93576923076923069,0,0,0,0,{"$f":"IF(ISERROR(VLOOKUP($A201,#REF!,8,0)),0,(VLOOKUP($A201,#REF!,8,0)))","v":0},0,0.93576923076923069,0,0,0,0,{"$f":"IF(ISERROR(VLOOKUP($A201,#REF!,8,0)),0,(VLOOKUP($A201,#REF!,8,0)))","v":0},0,0.93576923076923069,0,0,0,0,{"$f":"IF(ISERROR(VLOOKUP($A201,#REF!,8,0)),0,(VLOOKUP($A201,#REF!,8,0)))","v":0},0,0.93576923076923069,0,0,0,0,{"$f":"IF(ISERROR(VLOOKUP($A201,#REF!,8,0)),0,(VLOOKUP($A201,#REF!,8,0)))","v":0},0,0.93576923076923069,0,0,0,0,{"$f":"IF(ISERROR(VLOOKUP($A201,#REF!,8,0)),0,(VLOOKUP($A201,#REF!,8,0)))","v":0},0,0.93576923076923069,0,0,0,0,{"$f":"IF(ISERROR(VLOOKUP($A201,#REF!,8,0)),0,(VLOOKUP($A201,#REF!,8,0)))","v":0},0,0.93576923076923069,0,0,0,0,{"$f":"IF(ISERROR(VLOOKUP($A201,#REF!,8,0)),0,(VLOOKUP($A201,#REF!,8,0)))","v":0},0,0.93576923076923069,0,0,0,0,{"$f":"IF(ISERROR(VLOOKUP($A201,#REF!,8,0)),0,(VLOOKUP($A201,#REF!,8,0)))","v":0},0,0.93576923076923069,0,0,0,0,{"$f":"IF(ISERROR(VLOOKUP($A201,#REF!,8,0)),0,(VLOOKUP($A201,#REF!,8,0)))","v":0},0,0.93576923076923069,0,0,0,0,{"$f":"IF(ISERROR(VLOOKUP($A201,#REF!,8,0)),0,(VLOOKUP($A201,#REF!,8,0)))","v":0},0,0.93576923076923069,0,0,0,0,{"$f":"IF(ISERROR(VLOOKUP($A201,#REF!,8,0)),0,(VLOOKUP($A201,#REF!,8,0)))","v":0},0,0.93576923076923069,0,0,0,0,{"$f":"IF(ISERROR(VLOOKUP($A201,#REF!,8,0)),0,(VLOOKUP($A201,#REF!,8,0)))","v":0},0,0.93576923076923069,0,0,0,0,{"$f":"IF(ISERROR(VLOOKUP($A201,#REF!,8,0)),0,(VLOOKUP($A201,#REF!,8,0)))","v":0},0,0.93576923076923069,0,0,0,0,{"$f":"IF(ISERROR(VLOOKUP($A201,#REF!,8,0)),0,(VLOOKUP($A201,#REF!,8,0)))","v":0},0,0.93576923076923069,0,0,0,0,{"$f":"IF(ISERROR(VLOOKUP($A201,#REF!,8,0)),0,(VLOOKUP($A201,#REF!,8,0)))","v":0},0,0.93576923076923069,0,0,0,0,{"$f":"IF(ISERROR(VLOOKUP($A201,#REF!,8,0)),0,(VLOOKUP($A201,#REF!,8,0)))","v":0},0,0.93576923076923069,0,0,0,0,{"$f":"IF(ISERROR(VLOOKUP($A201,#REF!,8,0)),0,(VLOOKUP($A201,#REF!,8,0)))","v":0},0,0.93576923076923069,0,0,0,0,{"$f":"IF(ISERROR(VLOOKUP($A201,#REF!,8,0)),0,(VLOOKUP($A201,#REF!,8,0)))","v":0},0,0.93576923076923069,0,0,0,0,{"$f":"IF(ISERROR(VLOOKUP($A201,#REF!,8,0)),0,(VLOOKUP($A201,#REF!,8,0)))","v":0},0,0.93576923076923069,0,0,0,0,{"$f":"IF(ISERROR(VLOOKUP($A201,#REF!,8,0)),0,(VLOOKUP($A201,#REF!,8,0)))","v":0},0,0.93576923076923069,0,0,0,0,{"$f":"IF(ISERROR(VLOOKUP($A201,#REF!,8,0)),0,(VLOOKUP($A201,#REF!,8,0)))","v":0},0,0.93576923076923069,0,0,0,0,{"$f":"IF(ISERROR(VLOOKUP($A201,#REF!,8,0)),0,(VLOOKUP($A201,#REF!,8,0)))","v":0},0,0.93576923076923069,0,0,0,0,{"$f":"IF(ISERROR(VLOOKUP($A201,#REF!,8,0)),0,(VLOOKUP($A201,#REF!,8,0)))","v":0},0,0.93576923076923069,0,0,0,0,{"$f":"IF(ISERROR(VLOOKUP($A201,#REF!,8,0)),0,(VLOOKUP($A201,#REF!,8,0)))","v":0},0,0.93576923076923069,0,0,0,0,{"$f":"IF(ISERROR(VLOOKUP($A201,#REF!,8,0)),0,(VLOOKUP($A201,#REF!,8,0)))","v":0},0,0.93576923076923069,0,0,0,0,{"$f":"IF(ISERROR(VLOOKUP($A201,#REF!,8,0)),0,(VLOOKUP($A201,#REF!,8,0)))","v":0},0,0.93576923076923069,0,0,0,0,{"$f":"IF(ISERROR(VLOOKUP($A201,#REF!,8,0)),0,(VLOOKUP($A201,#REF!,8,0)))","v":0},0,0.93576923076923069,0,0,0,0,{"$f":"IF(ISERROR(VLOOKUP($A201,#REF!,8,0)),0,(VLOOKUP($A201,#REF!,8,0)))","v":0},0,0.93576923076923069,0,0,0,0,{"$f":"IF(ISERROR(VLOOKUP($A201,#REF!,8,0)),0,(VLOOKUP($A201,#REF!,8,0)))","v":0},0,0.93576923076923069,0,0,0,0,{"$f":"IF(ISERROR(VLOOKUP($A201,#REF!,8,0)),0,(VLOOKUP($A201,#REF!,8,0)))","v":0},0,0.93576923076923069,0,0,0,0,{"$f":"IF(ISERROR(VLOOKUP($A201,#REF!,8,0)),0,(VLOOKUP($A201,#REF!,8,0)))","v":0},0,0.93576923076923069,0,0,0,0,{"$f":"IF(ISERROR(VLOOKUP($A201,#REF!,8,0)),0,(VLOOKUP($A201,#REF!,8,0)))","v":0},0,0.93576923076923069,0,0,0,0,{"$f":"IF(ISERROR(VLOOKUP($A201,#REF!,8,0)),0,(VLOOKUP($A201,#REF!,8,0)))","v":0},0,0.93576923076923069,0,0,0,0,{"$f":"IF(ISERROR(VLOOKUP($A201,#REF!,8,0)),0,(VLOOKUP($A201,#REF!,8,0)))","v":0},0,0.93576923076923069,0,0,0,0,{"$f":"IF(ISERROR(VLOOKUP($A201,#REF!,8,0)),0,(VLOOKUP($A201,#REF!,8,0)))","v":0},0,0.93576923076923069,0,0,0,0,{"$f":"IF(ISERROR(VLOOKUP($A201,#REF!,8,0)),0,(VLOOKUP($A201,#REF!,8,0)))","v":0},0,0.93576923076923069,0,0,0,0,{"$f":"IF(ISERROR(VLOOKUP($A201,#REF!,8,0)),0,(VLOOKUP($A201,#REF!,8,0)))","v":0},0,0.93576923076923069,0,0,0,0,{"$f":"IF(ISERROR(VLOOKUP($A201,#REF!,8,0)),0,(VLOOKUP($A201,#REF!,8,0)))","v":0},0,0.93576923076923069,0,0,0,0,{"$f":"IF(ISERROR(VLOOKUP($A201,#REF!,8,0)),0,(VLOOKUP($A201,#REF!,8,0)))","v":0},0,0.93576923076923069,0,0,0,0,{"$f":"IF(ISERROR(VLOOKUP($A201,#REF!,8,0)),0,(VLOOKUP($A201,#REF!,8,0)))","v":0},0,0.93576923076923069,0,0,0,0,2996.3328298799997,2996.3328298799997,1,0]
["8.46","Fornecimento e instalação de Revestimento em granito polido Verde Ubatuba em faixa de 5cm de largura, para rampa de acesso principal, conforme detalhe 37/45. (Face interna de contorno da rampa - local assent. Corrimão)","m",48,48,0,29.178355999999997,1400.5610879999999,0.64688000000000001,31.050240000000002,0,0,29.825235999999997,0,1431.611328,null,0,0,0,0,0,null,0,1,0,0,0,0,null,0,1,0,0,0,0,null,0,1,0,0,0,0,null,0,1,0,0,0,0,null,0,1,0,0,0,0,{"$f":"IF(ISERROR(VLOOKUP(A214,'7ª MEDIÇÃO'!$A$5:$J$1048576,8,0)),0,(VLOOKUP(A214,'7ª MEDIÇÃO'!$A$5:$J$1048576,8,0)))","v":0},0,1,0,0,0,0,{"$f":"IF(ISERROR(VLOOKUP(A214,'8ª MEDIÇÃO'!$A$5:$J$1048576,8,0)),0,(VLOOKUP(A214,'8ª MEDIÇÃO'!$A$5:$J$1048576,8,0)))","v":0},0,1,0,0,0,0,{"$f":"IF(ISERROR(VLOOKUP(A214,'9ª MEDIÇÃO'!$A$5:$J$1048576,8,0)),0,(VLOOKUP(A214,'9ª MEDIÇÃO'!$A$5:$J$1048576,8,0)))","v":0},0,1,0,0,0,0,{"$f":"IF(ISERROR(VLOOKUP(A214,#REF!,8,0)),0,(VLOOKUP(A214,#REF!,8,0)))","v":0},0,1,0,0,0,0,{"$f":"IF(ISERROR(VLOOKUP($A214,#REF!,8,0)),0,(VLOOKUP($A214,#REF!,8,0)))","v":0},0,1,0,0,0,0,{"$f":"IF(ISERROR(VLOOKUP($A214,#REF!,8,0)),0,(VLOOKUP($A214,#REF!,8,0)))","v":0},0,1,0,0,0,0,{"$f":"IF(ISERROR(VLOOKUP($A214,#REF!,8,0)),0,(VLOOKUP($A214,#REF!,8,0)))","v":0},0,1,0,0,0,0,{"$f":"IF(ISERROR(VLOOKUP($A214,#REF!,8,0)),0,(VLOOKUP($A214,#REF!,8,0)))","v":0},0,1,0,0,0,0,{"$f":"IF(ISERROR(VLOOKUP($A214,#REF!,8,0)),0,(VLOOKUP($A214,#REF!,8,0)))","v":0},0,1,0,0,0,0,{"$f":"IF(ISERROR(VLOOKUP($A214,#REF!,8,0)),0,(VLOOKUP($A214,#REF!,8,0)))","v":0},0,1,0,0,0,0,{"$f":"IF(ISERROR(VLOOKUP($A214,#REF!,8,0)),0,(VLOOKUP($A214,#REF!,8,0)))","v":0},0,1,0,0,0,0,{"$f":"IF(ISERROR(VLOOKUP($A214,#REF!,8,0)),0,(VLOOKUP($A214,#REF!,8,0)))","v":0},0,1,0,0,0,0,{"$f":"IF(ISERROR(VLOOKUP($A214,#REF!,8,0)),0,(VLOOKUP($A214,#REF!,8,0)))","v":0},0,1,0,0,0,0,{"$f":"IF(ISERROR(VLOOKUP($A214,#REF!,8,0)),0,(VLOOKUP($A214,#REF!,8,0)))","v":0},0,1,0,0,0,0,{"$f":"IF(ISERROR(VLOOKUP($A214,#REF!,8,0)),0,(VLOOKUP($A214,#REF!,8,0)))","v":0},0,1,0,0,0,0,{"$f":"IF(ISERROR(VLOOKUP($A214,#REF!,8,0)),0,(VLOOKUP($A214,#REF!,8,0)))","v":0},0,1,0,0,0,0,{"$f":"IF(ISERROR(VLOOKUP($A214,#REF!,8,0)),0,(VLOOKUP($A214,#REF!,8,0)))","v":0},0,1,0,0,0,0,{"$f":"IF(ISERROR(VLOOKUP($A214,#REF!,8,0)),0,(VLOOKUP($A214,#REF!,8,0)))","v":0},0,1,0,0,0,0,{"$f":"IF(ISERROR(VLOOKUP($A214,#REF!,8,0)),0,(VLOOKUP($A214,#REF!,8,0)))","v":0},0,1,0,0,0,0,{"$f":"IF(ISERROR(VLOOKUP($A214,#REF!,8,0)),0,(VLOOKUP($A214,#REF!,8,0)))","v":0},0,1,0,0,0,0,{"$f":"IF(ISERROR(VLOOKUP($A214,#REF!,8,0)),0,(VLOOKUP($A214,#REF!,8,0)))","v":0},0,1,0,0,0,0,{"$f":"IF(ISERROR(VLOOKUP($A214,#REF!,8,0)),0,(VLOOKUP($A214,#REF!,8,0)))","v":0},0,1,0,0,0,0,{"$f":"IF(ISERROR(VLOOKUP($A214,#REF!,8,0)),0,(VLOOKUP($A214,#REF!,8,0)))","v":0},0,1,0,0,0,0,{"$f":"IF(ISERROR(VLOOKUP($A214,#REF!,8,0)),0,(VLOOKUP($A214,#REF!,8,0)))","v":0},0,1,0,0,0,0,{"$f":"IF(ISERROR(VLOOKUP($A214,#REF!,8,0)),0,(VLOOKUP($A214,#REF!,8,0)))","v":0},0,1,0,0,0,0,{"$f":"IF(ISERROR(VLOOKUP($A214,#REF!,8,0)),0,(VLOOKUP($A214,#REF!,8,0)))","v":0},0,1,0,0,0,0,{"$f":"IF(ISERROR(VLOOKUP($A214,#REF!,8,0)),0,(VLOOKUP($A214,#REF!,8,0)))","v":0},0,1,0,0,0,0,{"$f":"IF(ISERROR(VLOOKUP($A214,#REF!,8,0)),0,(VLOOKUP($A214,#REF!,8,0)))","v":0},0,1,0,0,0,0,{"$f":"IF(ISERROR(VLOOKUP($A214,#REF!,8,0)),0,(VLOOKUP($A214,#REF!,8,0)))","v":0},0,1,0,0,0,0,{"$f":"IF(ISERROR(VLOOKUP($A214,#REF!,8,0)),0,(VLOOKUP($A214,#REF!,8,0)))","v":0},0,1,0,0,0,0,{"$f":"IF(ISERROR(VLOOKUP($A214,#REF!,8,0)),0,(VLOOKUP($A214,#REF!,8,0)))","v":0},0,1,0,0,0,0,{"$f":"IF(ISERROR(VLOOKUP($A214,#REF!,8,0)),0,(VLOOKUP($A214,#REF!,8,0)))","v":0},0,1,0,0,0,0,{"$f":"IF(ISERROR(VLOOKUP($A214,#REF!,8,0)),0,(VLOOKUP($A214,#REF!,8,0)))","v":0},0,1,0,0,0,0,{"$f":"IF(ISERROR(VLOOKUP($A214,#REF!,8,0)),0,(VLOOKUP($A214,#REF!,8,0)))","v":0},0,1,0,0,0,0,{"$f":"IF(ISERROR(VLOOKUP($A214,#REF!,8,0)),0,(VLOOKUP($A214,#REF!,8,0)))","v":0},0,1,0,0,0,0,{"$f":"IF(ISERROR(VLOOKUP($A214,#REF!,8,0)),0,(VLOOKUP($A214,#REF!,8,0)))","v":0},0,1,0,0,0,0,{"$f":"IF(ISERROR(VLOOKUP($A214,#REF!,8,0)),0,(VLOOKUP($A214,#REF!,8,0)))","v":0},0,1,0,0,0,0,{"$f":"IF(ISERROR(VLOOKUP($A214,#REF!,8,0)),0,(VLOOKUP($A214,#REF!,8,0)))","v":0},0,1,0,0,0,0,{"$f":"IF(ISERROR(VLOOKUP($A214,#REF!,8,0)),0,(VLOOKUP($A214,#REF!,8,0)))","v":0},0,1,0,0,0,0,{"$f":"IF(ISERROR(VLOOKUP($A214,#REF!,8,0)),0,(VLOOKUP($A214,#REF!,8,0)))","v":0},0,1,0,0,0,0,{"$f":"IF(ISERROR(VLOOKUP($A214,#REF!,8,0)),0,(VLOOKUP($A214,#REF!,8,0)))","v":0},0,1,0,0,0,0,{"$f":"IF(ISERROR(VLOOKUP($A214,#REF!,8,0)),0,(VLOOKUP($A214,#REF!,8,0)))","v":0},0,1,0,0,0,0,{"$f":"IF(ISERROR(VLOOKUP($A214,#REF!,8,0)),0,(VLOOKUP($A214,#REF!,8,0)))","v":0},0,1,0,0,0,0,{"$f":"IF(ISERROR(VLOOKUP($A214,#REF!,8,0)),0,(VLOOKUP($A214,#REF!,8,0)))","v":0},0,1,0,0,0,0,{"$f":"IF(ISERROR(VLOOKUP($A214,#REF!,8,0)),0,(VLOOKUP($A214,#REF!,8,0)))","v":0},0,1,0,0,0,0,{"$f":"IF(ISERROR(VLOOKUP($A214,#REF!,8,0)),0,(VLOOKUP($A214,#REF!,8,0)))","v":0},0,1,0,0,0,0,{"$f":"IF(ISERROR(VLOOKUP($A214,#REF!,8,0)),0,(VLOOKUP($A214,#REF!,8,0)))","v":0},0,1,0,0,0,0,{"$f":"IF(ISERROR(VLOOKUP($A214,#REF!,8,0)),0,(VLOOKUP($A214,#REF!,8,0)))","v":0},0,1,0,0,0,0,{"$f":"IF(ISERROR(VLOOKUP($A214,#REF!,8,0)),0,(VLOOKUP($A214,#REF!,8,0)))","v":0},0,1,0,0,0,0,1431.611328,1431.611328,1,0]
["9.3","Aplicação manual de pintura com tinta látex acrílica em paredes na cor branco neve, duas demãos. ","m²",9217,7833.9800000000005,1383.0199999999995,4.8709220000000002,44895.288074000004,3.40856,31416.697520000002,0,0,8.2794819999999998,11450.689195639996,64861.296398360006,null,0,0,0,0,0,null,0,0.84994900726917655,0,0,0,0,null,0,0.84994900726917655,0,0,0,0,null,0,0.84994900726917655,0,0,0,0,null,0,0.84994900726917655,0,0,0,0,null,0,0.84994900726917655,0,0,0,0,{"$f":"IF(ISERROR(VLOOKUP(A220,'7ª MEDIÇÃO'!$A$5:$J$1048576,8,0)),0,(VLOOKUP(A220,'7ª MEDIÇÃO'!$A$5:$J$1048576,8,0)))","v":0},0,0.84994900726917655,0,0,0,0,{"$f":"IF(ISERROR(VLOOKUP(A220,'8ª MEDIÇÃO'!$A$5:$J$1048576,8,0)),0,(VLOOKUP(A220,'8ª MEDIÇÃO'!$A$5:$J$1048576,8,0)))","v":0},0,0.84994900726917655,0,0,0,0,{"$f":"IF(ISERROR(VLOOKUP(A220,'9ª MEDIÇÃO'!$A$5:$J$1048576,8,0)),0,(VLOOKUP(A220,'9ª MEDIÇÃO'!$A$5:$J$1048576,8,0)))","v":0},0,0.84994900726917655,0,0,0,0,{"$f":"IF(ISERROR(VLOOKUP(A220,#REF!,8,0)),0,(VLOOKUP(A220,#REF!,8,0)))","v":0},0,0.84994900726917655,0,0,0,0,{"$f":"IF(ISERROR(VLOOKUP($A220,#REF!,8,0)),0,(VLOOKUP($A220,#REF!,8,0)))","v":0},0,0.84994900726917655,0,0,0,0,{"$f":"IF(ISERROR(VLOOKUP($A220,#REF!,8,0)),0,(VLOOKUP($A220,#REF!,8,0)))","v":0},0,0.84994900726917655,0,0,0,0,{"$f":"IF(ISERROR(VLOOKUP($A220,#REF!,8,0)),0,(VLOOKUP($A220,#REF!,8,0)))","v":0},0,0.84994900726917655,0,0,0,0,{"$f":"IF(ISERROR(VLOOKUP($A220,#REF!,8,0)),0,(VLOOKUP($A220,#REF!,8,0)))","v":0},0,0.84994900726917655,0,0,0,0,{"$f":"IF(ISERROR(VLOOKUP($A220,#REF!,8,0)),0,(VLOOKUP($A220,#REF!,8,0)))","v":0},0,0.84994900726917655,0,0,0,0,{"$f":"IF(ISERROR(VLOOKUP($A220,#REF!,8,0)),0,(VLOOKUP($A220,#REF!,8,0)))","v":0},0,0.84994900726917655,0,0,0,0,{"$f":"IF(ISERROR(VLOOKUP($A220,#REF!,8,0)),0,(VLOOKUP($A220,#REF!,8,0)))","v":0},0,0.84994900726917655,0,0,0,0,{"$f":"IF(ISERROR(VLOOKUP($A220,#REF!,8,0)),0,(VLOOKUP($A220,#REF!,8,0)))","v":0},0,0.84994900726917655,0,0,0,0,{"$f":"IF(ISERROR(VLOOKUP($A220,#REF!,8,0)),0,(VLOOKUP($A220,#REF!,8,0)))","v":0},0,0.84994900726917655,0,0,0,0,{"$f":"IF(ISERROR(VLOOKUP($A220,#REF!,8,0)),0,(VLOOKUP($A220,#REF!,8,0)))","v":0},0,0.84994900726917655,0,0,0,0,{"$f":"IF(ISERROR(VLOOKUP($A220,#REF!,8,0)),0,(VLOOKUP($A220,#REF!,8,0)))","v":0},0,0.84994900726917655,0,0,0,0,{"$f":"IF(ISERROR(VLOOKUP($A220,#REF!,8,0)),0,(VLOOKUP($A220,#REF!,8,0)))","v":0},0,0.84994900726917655,0,0,0,0,{"$f":"IF(ISERROR(VLOOKUP($A220,#REF!,8,0)),0,(VLOOKUP($A220,#REF!,8,0)))","v":0},0,0.84994900726917655,0,0,0,0,{"$f":"IF(ISERROR(VLOOKUP($A220,#REF!,8,0)),0,(VLOOKUP($A220,#REF!,8,0)))","v":0},0,0.84994900726917655,0,0,0,0,{"$f":"IF(ISERROR(VLOOKUP($A220,#REF!,8,0)),0,(VLOOKUP($A220,#REF!,8,0)))","v":0},0,0.84994900726917655,0,0,0,0,{"$f":"IF(ISERROR(VLOOKUP($A220,#REF!,8,0)),0,(VLOOKUP($A220,#REF!,8,0)))","v":0},0,0.84994900726917655,0,0,0,0,{"$f":"IF(ISERROR(VLOOKUP($A220,#REF!,8,0)),0,(VLOOKUP($A220,#REF!,8,0)))","v":0},0,0.84994900726917655,0,0,0,0,{"$f":"IF(ISERROR(VLOOKUP($A220,#REF!,8,0)),0,(VLOOKUP($A220,#REF!,8,0)))","v":0},0,0.84994900726917655,0,0,0,0,{"$f":"IF(ISERROR(VLOOKUP($A220,#REF!,8,0)),0,(VLOOKUP($A220,#REF!,8,0)))","v":0},0,0.84994900726917655,0,0,0,0,{"$f":"IF(ISERROR(VLOOKUP($A220,#REF!,8,0)),0,(VLOOKUP($A220,#REF!,8,0)))","v":0},0,0.84994900726917655,0,0,0,0,{"$f":"IF(ISERROR(VLOOKUP($A220,#REF!,8,0)),0,(VLOOKUP($A220,#REF!,8,0)))","v":0},0,0.84994900726917655,0,0,0,0,{"$f":"IF(ISERROR(VLOOKUP($A220,#REF!,8,0)),0,(VLOOKUP($A220,#REF!,8,0)))","v":0},0,0.84994900726917655,0,0,0,0,{"$f":"IF(ISERROR(VLOOKUP($A220,#REF!,8,0)),0,(VLOOKUP($A220,#REF!,8,0)))","v":0},0,0.84994900726917655,0,0,0,0,{"$f":"IF(ISERROR(VLOOKUP($A220,#REF!,8,0)),0,(VLOOKUP($A220,#REF!,8,0)))","v":0},0,0.84994900726917655,0,0,0,0,{"$f":"IF(ISERROR(VLOOKUP($A220,#REF!,8,0)),0,(VLOOKUP($A220,#REF!,8,0)))","v":0},0,0.84994900726917655,0,0,0,0,{"$f":"IF(ISERROR(VLOOKUP($A220,#REF!,8,0)),0,(VLOOKUP($A220,#REF!,8,0)))","v":0},0,0.84994900726917655,0,0,0,0,{"$f":"IF(ISERROR(VLOOKUP($A220,#REF!,8,0)),0,(VLOOKUP($A220,#REF!,8,0)))","v":0},0,0.84994900726917655,0,0,0,0,{"$f":"IF(ISERROR(VLOOKUP($A220,#REF!,8,0)),0,(VLOOKUP($A220,#REF!,8,0)))","v":0},0,0.84994900726917655,0,0,0,0,{"$f":"IF(ISERROR(VLOOKUP($A220,#REF!,8,0)),0,(VLOOKUP($A220,#REF!,8,0)))","v":0},0,0.84994900726917655,0,0,0,0,{"$f":"IF(ISERROR(VLOOKUP($A220,#REF!,8,0)),0,(VLOOKUP($A220,#REF!,8,0)))","v":0},0,0.84994900726917655,0,0,0,0,{"$f":"IF(ISERROR(VLOOKUP($A220,#REF!,8,0)),0,(VLOOKUP($A220,#REF!,8,0)))","v":0},0,0.84994900726917655,0,0,0,0,{"$f":"IF(ISERROR(VLOOKUP($A220,#REF!,8,0)),0,(VLOOKUP($A220,#REF!,8,0)))","v":0},0,0.84994900726917655,0,0,0,0,{"$f":"IF(ISERROR(VLOOKUP($A220,#REF!,8,0)),0,(VLOOKUP($A220,#REF!,8,0)))","v":0},0,0.84994900726917655,0,0,0,0,{"$f":"IF(ISERROR(VLOOKUP($A220,#REF!,8,0)),0,(VLOOKUP($A220,#REF!,8,0)))","v":0},0,0.84994900726917655,0,0,0,0,{"$f":"IF(ISERROR(VLOOKUP($A220,#REF!,8,0)),0,(VLOOKUP($A220,#REF!,8,0)))","v":0},0,0.84994900726917655,0,0,0,0,{"$f":"IF(ISERROR(VLOOKUP($A220,#REF!,8,0)),0,(VLOOKUP($A220,#REF!,8,0)))","v":0},0,0.84994900726917655,0,0,0,0,{"$f":"IF(ISERROR(VLOOKUP($A220,#REF!,8,0)),0,(VLOOKUP($A220,#REF!,8,0)))","v":0},0,0.84994900726917655,0,0,0,0,{"$f":"IF(ISERROR(VLOOKUP($A220,#REF!,8,0)),0,(VLOOKUP($A220,#REF!,8,0)))","v":0},0,0.84994900726917655,0,0,0,0,{"$f":"IF(ISERROR(VLOOKUP($A220,#REF!,8,0)),0,(VLOOKUP($A220,#REF!,8,0)))","v":0},0,0.84994900726917655,0,0,0,0,{"$f":"IF(ISERROR(VLOOKUP($A220,#REF!,8,0)),0,(VLOOKUP($A220,#REF!,8,0)))","v":0},0,0.84994900726917655,0,0,0,0,{"$f":"IF(ISERROR(VLOOKUP($A220,#REF!,8,0)),0,(VLOOKUP($A220,#REF!,8,0)))","v":0},0,0.84994900726917655,0,0,0,0,{"$f":"IF(ISERROR(VLOOKUP($A220,#REF!,8,0)),0,(VLOOKUP($A220,#REF!,8,0)))","v":0},0,0.84994900726917655,0,0,0,0,{"$f":"IF(ISERROR(VLOOKUP($A220,#REF!,8,0)),0,(VLOOKUP($A220,#REF!,8,0)))","v":0},0,0.84994900726917655,0,0,0,0,{"$f":"IF(ISERROR(VLOOKUP($A220,#REF!,8,0)),0,(VLOOKUP($A220,#REF!,8,0)))","v":0},0,0.84994900726917655,0,0,0,0,{"$f":"IF(ISERROR(VLOOKUP($A220,#REF!,8,0)),0,(VLOOKUP($A220,#REF!,8,0)))","v":0},0,0.84994900726917655,0,0,0,0,64861.296398360006,64861.296398360006,1,0]
["10.0","ESQUADRIAS",null,null,0,0,null,0,null,0,null,0,0,0,0,null,0,0,0,0,0,null,0,0,0,0,0,0,null,0,0,0,0,0,0,null,0,0,0,0,0,0,null,0,0,0,0,0,0,null,0,0,0,0,0,0,{"$f":"IF(ISERROR(VLOOKUP(A229,'7ª MEDIÇÃO'!$A$5:$J$1048576,8,0)),0,(VLOOKUP(A229,'7ª MEDIÇÃO'!$A$5:$J$1048576,8,0)))","v":0},0,0,0,0,0,0,{"$f":"IF(ISERROR(VLOOKUP(A229,'8ª MEDIÇÃO'!$A$5:$J$1048576,8,0)),0,(VLOOKUP(A229,'8ª MEDIÇÃO'!$A$5:$J$1048576,8,0)))","v":0},0,0,0,0,0,0,{"$f":"IF(ISERROR(VLOOKUP(A229,'9ª MEDIÇÃO'!$A$5:$J$1048576,8,0)),0,(VLOOKUP(A229,'9ª MEDIÇÃO'!$A$5:$J$1048576,8,0)))","v":0},0,0,0,0,0,0,{"$f":"IF(ISERROR(VLOOKUP(A229,#REF!,8,0)),0,(VLOOKUP(A229,#REF!,8,0)))","v":0},0,0,0,0,0,0,{"$f":"IF(ISERROR(VLOOKUP($A229,#REF!,8,0)),0,(VLOOKUP($A229,#REF!,8,0)))","v":0},0,0,0,0,0,0,{"$f":"IF(ISERROR(VLOOKUP($A229,#REF!,8,0)),0,(VLOOKUP($A229,#REF!,8,0)))","v":0},0,0,0,0,0,0,{"$f":"IF(ISERROR(VLOOKUP($A229,#REF!,8,0)),0,(VLOOKUP($A229,#REF!,8,0)))","v":0},0,0,0,0,0,0,{"$f":"IF(ISERROR(VLOOKUP($A229,#REF!,8,0)),0,(VLOOKUP($A229,#REF!,8,0)))","v":0},0,0,0,0,0,0,{"$f":"IF(ISERROR(VLOOKUP($A229,#REF!,8,0)),0,(VLOOKUP($A229,#REF!,8,0)))","v":0},0,0,0,0,0,0,{"$f":"IF(ISERROR(VLOOKUP($A229,#REF!,8,0)),0,(VLOOKUP($A229,#REF!,8,0)))","v":0},0,0,0,0,0,0,{"$f":"IF(ISERROR(VLOOKUP($A229,#REF!,8,0)),0,(VLOOKUP($A229,#REF!,8,0)))","v":0},0,0,0,0,0,0,{"$f":"IF(ISERROR(VLOOKUP($A229,#REF!,8,0)),0,(VLOOKUP($A229,#REF!,8,0)))","v":0},0,0,0,0,0,0,{"$f":"IF(ISERROR(VLOOKUP($A229,#REF!,8,0)),0,(VLOOKUP($A229,#REF!,8,0)))","v":0},0,0,0,0,0,0,{"$f":"IF(ISERROR(VLOOKUP($A229,#REF!,8,0)),0,(VLOOKUP($A229,#REF!,8,0)))","v":0},0,0,0,0,0,0,{"$f":"IF(ISERROR(VLOOKUP($A229,#REF!,8,0)),0,(VLOOKUP($A229,#REF!,8,0)))","v":0},0,0,0,0,0,0,{"$f":"IF(ISERROR(VLOOKUP($A229,#REF!,8,0)),0,(VLOOKUP($A229,#REF!,8,0)))","v":0},0,0,0,0,0,0,{"$f":"IF(ISERROR(VLOOKUP($A229,#REF!,8,0)),0,(VLOOKUP($A229,#REF!,8,0)))","v":0},0,0,0,0,0,0,{"$f":"IF(ISERROR(VLOOKUP($A229,#REF!,8,0)),0,(VLOOKUP($A229,#REF!,8,0)))","v":0},0,0,0,0,0,0,{"$f":"IF(ISERROR(VLOOKUP($A229,#REF!,8,0)),0,(VLOOKUP($A229,#REF!,8,0)))","v":0},0,0,0,0,0,0,{"$f":"IF(ISERROR(VLOOKUP($A229,#REF!,8,0)),0,(VLOOKUP($A229,#REF!,8,0)))","v":0},0,0,0,0,0,0,{"$f":"IF(ISERROR(VLOOKUP($A229,#REF!,8,0)),0,(VLOOKUP($A229,#REF!,8,0)))","v":0},0,0,0,0,0,0,{"$f":"IF(ISERROR(VLOOKUP($A229,#REF!,8,0)),0,(VLOOKUP($A229,#REF!,8,0)))","v":0},0,0,0,0,0,0,{"$f":"IF(ISERROR(VLOOKUP($A229,#REF!,8,0)),0,(VLOOKUP($A229,#REF!,8,0)))","v":0},0,0,0,0,0,0,{"$f":"IF(ISERROR(VLOOKUP($A229,#REF!,8,0)),0,(VLOOKUP($A229,#REF!,8,0)))","v":0},0,0,0,0,0,0,{"$f":"IF(ISERROR(VLOOKUP($A229,#REF!,8,0)),0,(VLOOKUP($A229,#REF!,8,0)))","v":0},0,0,0,0,0,0,{"$f":"IF(ISERROR(VLOOKUP($A229,#REF!,8,0)),0,(VLOOKUP($A229,#REF!,8,0)))","v":0},0,0,0,0,0,0,{"$f":"IF(ISERROR(VLOOKUP($A229,#REF!,8,0)),0,(VLOOKUP($A229,#REF!,8,0)))","v":0},0,0,0,0,0,0,{"$f":"IF(ISERROR(VLOOKUP($A229,#REF!,8,0)),0,(VLOOKUP($A229,#REF!,8,0)))","v":0},0,0,0,0,0,0,{"$f":"IF(ISERROR(VLOOKUP($A229,#REF!,8,0)),0,(VLOOKUP($A229,#REF!,8,0)))","v":0},0,0,0,0,0,0,{"$f":"IF(ISERROR(VLOOKUP($A229,#REF!,8,0)),0,(VLOOKUP($A229,#REF!,8,0)))","v":0},0,0,0,0,0,0,{"$f":"IF(ISERROR(VLOOKUP($A229,#REF!,8,0)),0,(VLOOKUP($A229,#REF!,8,0)))","v":0},0,0,0,0,0,0,{"$f":"IF(ISERROR(VLOOKUP($A229,#REF!,8,0)),0,(VLOOKUP($A229,#REF!,8,0)))","v":0},0,0,0,0,0,0,{"$f":"IF(ISERROR(VLOOKUP($A229,#REF!,8,0)),0,(VLOOKUP($A229,#REF!,8,0)))","v":0},0,0,0,0,0,0,{"$f":"IF(ISERROR(VLOOKUP($A229,#REF!,8,0)),0,(VLOOKUP($A229,#REF!,8,0)))","v":0},0,0,0,0,0,0,{"$f":"IF(ISERROR(VLOOKUP($A229,#REF!,8,0)),0,(VLOOKUP($A229,#REF!,8,0)))","v":0},0,0,0,0,0,0,{"$f":"IF(ISERROR(VLOOKUP($A229,#REF!,8,0)),0,(VLOOKUP($A229,#REF!,8,0)))","v":0},0,0,0,0,0,0,{"$f":"IF(ISERROR(VLOOKUP($A229,#REF!,8,0)),0,(VLOOKUP($A229,#REF!,8,0)))","v":0},0,0,0,0,0,0,{"$f":"IF(ISERROR(VLOOKUP($A229,#REF!,8,0)),0,(VLOOKUP($A229,#REF!,8,0)))","v":0},0,0,0,0,0,0,{"$f":"IF(ISERROR(VLOOKUP($A229,#REF!,8,0)),0,(VLOOKUP($A229,#REF!,8,0)))","v":0},0,0,0,0,0,0,{"$f":"IF(ISERROR(VLOOKUP($A229,#REF!,8,0)),0,(VLOOKUP($A229,#REF!,8,0)))","v":0},0,0,0,0,0,0,{"$f":"IF(ISERROR(VLOOKUP($A229,#REF!,8,0)),0,(VLOOKUP($A229,#REF!,8,0)))","v":0},0,0,0,0,0,0,{"$f":"IF(ISERROR(VLOOKUP($A229,#REF!,8,0)),0,(VLOOKUP($A229,#REF!,8,0)))","v":0},0,0,0,0,0,0,{"$f":"IF(ISERROR(VLOOKUP($A229,#REF!,8,0)),0,(VLOOKUP($A229,#REF!,8,0)))","v":0},0,0,0,0,0,0,{"$f":"IF(ISERROR(VLOOKUP($A229,#REF!,8,0)),0,(VLOOKUP($A229,#REF!,8,0)))","v":0},0,0,0,0,0,0,{"$f":"IF(ISERROR(VLOOKUP($A229,#REF!,8,0)),0,(VLOOKUP($A229,#REF!,8,0)))","v":0},0,0,0,0,0,0,{"$f":"IF(ISERROR(VLOOKUP($A229,#REF!,8,0)),0,(VLOOKUP($A229,#REF!,8,0)))","v":0},0,0,0,0,0,0,{"$f":"IF(ISERROR(VLOOKUP($A229,#REF!,8,0)),0,(VLOOKUP($A229,#REF!,8,0)))","v":0},0,0,0,0,0,0,{"$f":"IF(ISERROR(VLOOKUP($A229,#REF!,8,0)),0,(VLOOKUP($A229,#REF!,8,0)))","v":0},0,0,0,0,0,0,{"$f":"IF(ISERROR(VLOOKUP($A229,#REF!,8,0)),0,(VLOOKUP($A229,#REF!,8,0)))","v":0},0,0,0,0,0,0,{"$f":"SUM(OJ230:OJ280)","v":979244.37581687968},{"$f":"SUM(OK230:OK280)","v":979244.37581687968},1,0]
["10.8","Fornecimento e assentamento de porta corta fogo (PCF), conforme NBR 1174 ABNT, de abrir com 01 folha tipo leve (60 min de isolação), pintada com esmalte sintético na cor platina sobre emassamento de fundo anticorrosivo, com fechamento automático e barra de abertura anti-pânico, nas dimensões: (1,20x2,10)m, inclusive grade, ferragens, acessórios, conforme detalhe. (Escadas)","un ",11,11,0,5068.5068819999997,55753.575701999995,164.28264000000001,1807.1090400000003,0,0,5232.789522,0,57560.684741999998,null,0,0,0,0,0,null,0,1,0,0,0,0,null,0,1,0,0,0,0,null,0,1,0,0,0,0,null,0,1,0,0,0,0,null,0,1,0,0,0,0,{"$f":"IF(ISERROR(VLOOKUP(A238,'7ª MEDIÇÃO'!$A$5:$J$1048576,8,0)),0,(VLOOKUP(A238,'7ª MEDIÇÃO'!$A$5:$J$1048576,8,0)))","v":0},0,1,0,0,0,0,{"$f":"IF(ISERROR(VLOOKUP(A238,'8ª MEDIÇÃO'!$A$5:$J$1048576,8,0)),0,(VLOOKUP(A238,'8ª MEDIÇÃO'!$A$5:$J$1048576,8,0)))","v":0},0,1,0,0,0,0,{"$f":"IF(ISERROR(VLOOKUP(A238,'9ª MEDIÇÃO'!$A$5:$J$1048576,8,0)),0,(VLOOKUP(A238,'9ª MEDIÇÃO'!$A$5:$J$1048576,8,0)))","v":0},0,1,0,0,0,0,{"$f":"IF(ISERROR(VLOOKUP(A238,#REF!,8,0)),0,(VLOOKUP(A238,#REF!,8,0)))","v":0},0,1,0,0,0,0,{"$f":"IF(ISERROR(VLOOKUP($A238,#REF!,8,0)),0,(VLOOKUP($A238,#REF!,8,0)))","v":0},0,1,0,0,0,0,{"$f":"IF(ISERROR(VLOOKUP($A238,#REF!,8,0)),0,(VLOOKUP($A238,#REF!,8,0)))","v":0},0,1,0,0,0,0,{"$f":"IF(ISERROR(VLOOKUP($A238,#REF!,8,0)),0,(VLOOKUP($A238,#REF!,8,0)))","v":0},0,1,0,0,0,0,{"$f":"IF(ISERROR(VLOOKUP($A238,#REF!,8,0)),0,(VLOOKUP($A238,#REF!,8,0)))","v":0},0,1,0,0,0,0,{"$f":"IF(ISERROR(VLOOKUP($A238,#REF!,8,0)),0,(VLOOKUP($A238,#REF!,8,0)))","v":0},0,1,0,0,0,0,{"$f":"IF(ISERROR(VLOOKUP($A238,#REF!,8,0)),0,(VLOOKUP($A238,#REF!,8,0)))","v":0},0,1,0,0,0,0,{"$f":"IF(ISERROR(VLOOKUP($A238,#REF!,8,0)),0,(VLOOKUP($A238,#REF!,8,0)))","v":0},0,1,0,0,0,0,{"$f":"IF(ISERROR(VLOOKUP($A238,#REF!,8,0)),0,(VLOOKUP($A238,#REF!,8,0)))","v":0},0,1,0,0,0,0,{"$f":"IF(ISERROR(VLOOKUP($A238,#REF!,8,0)),0,(VLOOKUP($A238,#REF!,8,0)))","v":0},0,1,0,0,0,0,{"$f":"IF(ISERROR(VLOOKUP($A238,#REF!,8,0)),0,(VLOOKUP($A238,#REF!,8,0)))","v":0},0,1,0,0,0,0,{"$f":"IF(ISERROR(VLOOKUP($A238,#REF!,8,0)),0,(VLOOKUP($A238,#REF!,8,0)))","v":0},0,1,0,0,0,0,{"$f":"IF(ISERROR(VLOOKUP($A238,#REF!,8,0)),0,(VLOOKUP($A238,#REF!,8,0)))","v":0},0,1,0,0,0,0,{"$f":"IF(ISERROR(VLOOKUP($A238,#REF!,8,0)),0,(VLOOKUP($A238,#REF!,8,0)))","v":0},0,1,0,0,0,0,{"$f":"IF(ISERROR(VLOOKUP($A238,#REF!,8,0)),0,(VLOOKUP($A238,#REF!,8,0)))","v":0},0,1,0,0,0,0,{"$f":"IF(ISERROR(VLOOKUP($A238,#REF!,8,0)),0,(VLOOKUP($A238,#REF!,8,0)))","v":0},0,1,0,0,0,0,{"$f":"IF(ISERROR(VLOOKUP($A238,#REF!,8,0)),0,(VLOOKUP($A238,#REF!,8,0)))","v":0},0,1,0,0,0,0,{"$f":"IF(ISERROR(VLOOKUP($A238,#REF!,8,0)),0,(VLOOKUP($A238,#REF!,8,0)))","v":0},0,1,0,0,0,0,{"$f":"IF(ISERROR(VLOOKUP($A238,#REF!,8,0)),0,(VLOOKUP($A238,#REF!,8,0)))","v":0},0,1,0,0,0,0,{"$f":"IF(ISERROR(VLOOKUP($A238,#REF!,8,0)),0,(VLOOKUP($A238,#REF!,8,0)))","v":0},0,1,0,0,0,0,{"$f":"IF(ISERROR(VLOOKUP($A238,#REF!,8,0)),0,(VLOOKUP($A238,#REF!,8,0)))","v":0},0,1,0,0,0,0,{"$f":"IF(ISERROR(VLOOKUP($A238,#REF!,8,0)),0,(VLOOKUP($A238,#REF!,8,0)))","v":0},0,1,0,0,0,0,{"$f":"IF(ISERROR(VLOOKUP($A238,#REF!,8,0)),0,(VLOOKUP($A238,#REF!,8,0)))","v":0},0,1,0,0,0,0,{"$f":"IF(ISERROR(VLOOKUP($A238,#REF!,8,0)),0,(VLOOKUP($A238,#REF!,8,0)))","v":0},0,1,0,0,0,0,{"$f":"IF(ISERROR(VLOOKUP($A238,#REF!,8,0)),0,(VLOOKUP($A238,#REF!,8,0)))","v":0},0,1,0,0,0,0,{"$f":"IF(ISERROR(VLOOKUP($A238,#REF!,8,0)),0,(VLOOKUP($A238,#REF!,8,0)))","v":0},0,1,0,0,0,0,{"$f":"IF(ISERROR(VLOOKUP($A238,#REF!,8,0)),0,(VLOOKUP($A238,#REF!,8,0)))","v":0},0,1,0,0,0,0,{"$f":"IF(ISERROR(VLOOKUP($A238,#REF!,8,0)),0,(VLOOKUP($A238,#REF!,8,0)))","v":0},0,1,0,0,0,0,{"$f":"IF(ISERROR(VLOOKUP($A238,#REF!,8,0)),0,(VLOOKUP($A238,#REF!,8,0)))","v":0},0,1,0,0,0,0,{"$f":"IF(ISERROR(VLOOKUP($A238,#REF!,8,0)),0,(VLOOKUP($A238,#REF!,8,0)))","v":0},0,1,0,0,0,0,{"$f":"IF(ISERROR(VLOOKUP($A238,#REF!,8,0)),0,(VLOOKUP($A238,#REF!,8,0)))","v":0},0,1,0,0,0,0,{"$f":"IF(ISERROR(VLOOKUP($A238,#REF!,8,0)),0,(VLOOKUP($A238,#REF!,8,0)))","v":0},0,1,0,0,0,0,{"$f":"IF(ISERROR(VLOOKUP($A238,#REF!,8,0)),0,(VLOOKUP($A238,#REF!,8,0)))","v":0},0,1,0,0,0,0,{"$f":"IF(ISERROR(VLOOKUP($A238,#REF!,8,0)),0,(VLOOKUP($A238,#REF!,8,0)))","v":0},0,1,0,0,0,0,{"$f":"IF(ISERROR(VLOOKUP($A238,#REF!,8,0)),0,(VLOOKUP($A238,#REF!,8,0)))","v":0},0,1,0,0,0,0,{"$f":"IF(ISERROR(VLOOKUP($A238,#REF!,8,0)),0,(VLOOKUP($A238,#REF!,8,0)))","v":0},0,1,0,0,0,0,{"$f":"IF(ISERROR(VLOOKUP($A238,#REF!,8,0)),0,(VLOOKUP($A238,#REF!,8,0)))","v":0},0,1,0,0,0,0,{"$f":"IF(ISERROR(VLOOKUP($A238,#REF!,8,0)),0,(VLOOKUP($A238,#REF!,8,0)))","v":0},0,1,0,0,0,0,{"$f":"IF(ISERROR(VLOOKUP($A238,#REF!,8,0)),0,(VLOOKUP($A238,#REF!,8,0)))","v":0},0,1,0,0,0,0,{"$f":"IF(ISERROR(VLOOKUP($A238,#REF!,8,0)),0,(VLOOKUP($A238,#REF!,8,0)))","v":0},0,1,0,0,0,0,{"$f":"IF(ISERROR(VLOOKUP($A238,#REF!,8,0)),0,(VLOOKUP($A238,#REF!,8,0)))","v":0},0,1,0,0,0,0,{"$f":"IF(ISERROR(VLOOKUP($A238,#REF!,8,0)),0,(VLOOKUP($A238,#REF!,8,0)))","v":0},0,1,0,0,0,0,{"$f":"IF(ISERROR(VLOOKUP($A238,#REF!,8,0)),0,(VLOOKUP($A238,#REF!,8,0)))","v":0},0,1,0,0,0,0,{"$f":"IF(ISERROR(VLOOKUP($A238,#REF!,8,0)),0,(VLOOKUP($A238,#REF!,8,0)))","v":0},0,1,0,0,0,0,{"$f":"IF(ISERROR(VLOOKUP($A238,#REF!,8,0)),0,(VLOOKUP($A238,#REF!,8,0)))","v":0},0,1,0,0,0,0,{"$f":"IF(ISERROR(VLOOKUP($A238,#REF!,8,0)),0,(VLOOKUP($A238,#REF!,8,0)))","v":0},0,1,0,0,0,0,57560.684741999998,57560.684741999998,1,0]
["10.17","Fornecimento e assentamento de Porta (PA7) em esquadria de alumínio anodizado bronze com venezianas industriais, de giro com uma folha, medindo (0,90x2,20)m, para fechamento dos Shaft´s das Salas Técnicas. (Shaft das salas técnicas)","un ",24,0,24,482.07974999999999,11569.914000000001,338.99,8135.76,0,0,821.06975,19705.673999999999,0,null,0,0,0,0,0,null,0,0,0,0,0,0,null,0,0,0,0,0,0,null,0,0,0,0,0,0,null,0,0,0,0,0,0,null,0,0,0,0,0,0,{"$f":"IF(ISERROR(VLOOKUP(A247,'7ª MEDIÇÃO'!$A$5:$J$1048576,8,0)),0,(VLOOKUP(A247,'7ª MEDIÇÃO'!$A$5:$J$1048576,8,0)))","v":0},0,0,0,0,0,0,{"$f":"IF(ISERROR(VLOOKUP(A247,'8ª MEDIÇÃO'!$A$5:$J$1048576,8,0)),0,(VLOOKUP(A247,'8ª MEDIÇÃO'!$A$5:$J$1048576,8,0)))","v":0},0,0,0,0,0,0,{"$f":"IF(ISERROR(VLOOKUP(A247,'9ª MEDIÇÃO'!$A$5:$J$1048576,8,0)),0,(VLOOKUP(A247,'9ª MEDIÇÃO'!$A$5:$J$1048576,8,0)))","v":0},0,0,0,0,0,0,{"$f":"IF(ISERROR(VLOOKUP(A247,#REF!,8,0)),0,(VLOOKUP(A247,#REF!,8,0)))","v":0},0,0,0,0,0,0,{"$f":"IF(ISERROR(VLOOKUP($A247,#REF!,8,0)),0,(VLOOKUP($A247,#REF!,8,0)))","v":0},0,0,0,0,0,0,{"$f":"IF(ISERROR(VLOOKUP($A247,#REF!,8,0)),0,(VLOOKUP($A247,#REF!,8,0)))","v":0},0,0,0,0,0,0,{"$f":"IF(ISERROR(VLOOKUP($A247,#REF!,8,0)),0,(VLOOKUP($A247,#REF!,8,0)))","v":0},0,0,0,0,0,0,{"$f":"IF(ISERROR(VLOOKUP($A247,#REF!,8,0)),0,(VLOOKUP($A247,#REF!,8,0)))","v":0},0,0,0,0,0,0,{"$f":"IF(ISERROR(VLOOKUP($A247,#REF!,8,0)),0,(VLOOKUP($A247,#REF!,8,0)))","v":0},0,0,0,0,0,0,{"$f":"IF(ISERROR(VLOOKUP($A247,#REF!,8,0)),0,(VLOOKUP($A247,#REF!,8,0)))","v":0},0,0,0,0,0,0,{"$f":"IF(ISERROR(VLOOKUP($A247,#REF!,8,0)),0,(VLOOKUP($A247,#REF!,8,0)))","v":0},0,0,0,0,0,0,{"$f":"IF(ISERROR(VLOOKUP($A247,#REF!,8,0)),0,(VLOOKUP($A247,#REF!,8,0)))","v":0},0,0,0,0,0,0,{"$f":"IF(ISERROR(VLOOKUP($A247,#REF!,8,0)),0,(VLOOKUP($A247,#REF!,8,0)))","v":0},0,0,0,0,0,0,{"$f":"IF(ISERROR(VLOOKUP($A247,#REF!,8,0)),0,(VLOOKUP($A247,#REF!,8,0)))","v":0},0,0,0,0,0,0,{"$f":"IF(ISERROR(VLOOKUP($A247,#REF!,8,0)),0,(VLOOKUP($A247,#REF!,8,0)))","v":0},0,0,0,0,0,0,{"$f":"IF(ISERROR(VLOOKUP($A247,#REF!,8,0)),0,(VLOOKUP($A247,#REF!,8,0)))","v":0},0,0,0,0,0,0,{"$f":"IF(ISERROR(VLOOKUP($A247,#REF!,8,0)),0,(VLOOKUP($A247,#REF!,8,0)))","v":0},0,0,0,0,0,0,{"$f":"IF(ISERROR(VLOOKUP($A247,#REF!,8,0)),0,(VLOOKUP($A247,#REF!,8,0)))","v":0},0,0,0,0,0,0,{"$f":"IF(ISERROR(VLOOKUP($A247,#REF!,8,0)),0,(VLOOKUP($A247,#REF!,8,0)))","v":0},0,0,0,0,0,0,{"$f":"IF(ISERROR(VLOOKUP($A247,#REF!,8,0)),0,(VLOOKUP($A247,#REF!,8,0)))","v":0},0,0,0,0,0,0,{"$f":"IF(ISERROR(VLOOKUP($A247,#REF!,8,0)),0,(VLOOKUP($A247,#REF!,8,0)))","v":0},0,0,0,0,0,0,{"$f":"IF(ISERROR(VLOOKUP($A247,#REF!,8,0)),0,(VLOOKUP($A247,#REF!,8,0)))","v":0},0,0,0,0,0,0,{"$f":"IF(ISERROR(VLOOKUP($A247,#REF!,8,0)),0,(VLOOKUP($A247,#REF!,8,0)))","v":0},0,0,0,0,0,0,{"$f":"IF(ISERROR(VLOOKUP($A247,#REF!,8,0)),0,(VLOOKUP($A247,#REF!,8,0)))","v":0},0,0,0,0,0,0,{"$f":"IF(ISERROR(VLOOKUP($A247,#REF!,8,0)),0,(VLOOKUP($A247,#REF!,8,0)))","v":0},0,0,0,0,0,0,{"$f":"IF(ISERROR(VLOOKUP($A247,#REF!,8,0)),0,(VLOOKUP($A247,#REF!,8,0)))","v":0},0,0,0,0,0,0,{"$f":"IF(ISERROR(VLOOKUP($A247,#REF!,8,0)),0,(VLOOKUP($A247,#REF!,8,0)))","v":0},0,0,0,0,0,0,{"$f":"IF(ISERROR(VLOOKUP($A247,#REF!,8,0)),0,(VLOOKUP($A247,#REF!,8,0)))","v":0},0,0,0,0,0,0,{"$f":"IF(ISERROR(VLOOKUP($A247,#REF!,8,0)),0,(VLOOKUP($A247,#REF!,8,0)))","v":0},0,0,0,0,0,0,{"$f":"IF(ISERROR(VLOOKUP($A247,#REF!,8,0)),0,(VLOOKUP($A247,#REF!,8,0)))","v":0},0,0,0,0,0,0,{"$f":"IF(ISERROR(VLOOKUP($A247,#REF!,8,0)),0,(VLOOKUP($A247,#REF!,8,0)))","v":0},0,0,0,0,0,0,{"$f":"IF(ISERROR(VLOOKUP($A247,#REF!,8,0)),0,(VLOOKUP($A247,#REF!,8,0)))","v":0},0,0,0,0,0,0,{"$f":"IF(ISERROR(VLOOKUP($A247,#REF!,8,0)),0,(VLOOKUP($A247,#REF!,8,0)))","v":0},0,0,0,0,0,0,{"$f":"IF(ISERROR(VLOOKUP($A247,#REF!,8,0)),0,(VLOOKUP($A247,#REF!,8,0)))","v":0},0,0,0,0,0,0,{"$f":"IF(ISERROR(VLOOKUP($A247,#REF!,8,0)),0,(VLOOKUP($A247,#REF!,8,0)))","v":0},0,0,0,0,0,0,{"$f":"IF(ISERROR(VLOOKUP($A247,#REF!,8,0)),0,(VLOOKUP($A247,#REF!,8,0)))","v":0},0,0,0,0,0,0,{"$f":"IF(ISERROR(VLOOKUP($A247,#REF!,8,0)),0,(VLOOKUP($A247,#REF!,8,0)))","v":0},0,0,0,0,0,0,{"$f":"IF(ISERROR(VLOOKUP($A247,#REF!,8,0)),0,(VLOOKUP($A247,#REF!,8,0)))","v":0},0,0,0,0,0,0,{"$f":"IF(ISERROR(VLOOKUP($A247,#REF!,8,0)),0,(VLOOKUP($A247,#REF!,8,0)))","v":0},0,0,0,0,0,0,{"$f":"IF(ISERROR(VLOOKUP($A247,#REF!,8,0)),0,(VLOOKUP($A247,#REF!,8,0)))","v":0},0,0,0,0,0,0,{"$f":"IF(ISERROR(VLOOKUP($A247,#REF!,8,0)),0,(VLOOKUP($A247,#REF!,8,0)))","v":0},0,0,0,0,0,0,{"$f":"IF(ISERROR(VLOOKUP($A247,#REF!,8,0)),0,(VLOOKUP($A247,#REF!,8,0)))","v":0},0,0,0,0,0,0,{"$f":"IF(ISERROR(VLOOKUP($A247,#REF!,8,0)),0,(VLOOKUP($A247,#REF!,8,0)))","v":0},0,0,0,0,0,0,{"$f":"IF(ISERROR(VLOOKUP($A247,#REF!,8,0)),0,(VLOOKUP($A247,#REF!,8,0)))","v":0},0,0,0,0,0,0,{"$f":"IF(ISERROR(VLOOKUP($A247,#REF!,8,0)),0,(VLOOKUP($A247,#REF!,8,0)))","v":0},0,0,0,0,0,0,{"$f":"IF(ISERROR(VLOOKUP($A247,#REF!,8,0)),0,(VLOOKUP($A247,#REF!,8,0)))","v":0},0,0,0,0,0,0,{"$f":"IF(ISERROR(VLOOKUP($A247,#REF!,8,0)),0,(VLOOKUP($A247,#REF!,8,0)))","v":0},0,0,0,0,0,0,{"$f":"IF(ISERROR(VLOOKUP($A247,#REF!,8,0)),0,(VLOOKUP($A247,#REF!,8,0)))","v":0},0,0,0,0,0,0,{"$f":"IF(ISERROR(VLOOKUP($A247,#REF!,8,0)),0,(VLOOKUP($A247,#REF!,8,0)))","v":0},0,0,0,0,0,0,0,0,{"$error":"#DIV/0!"},0]
["10.18","Fornecimento e assentamento de Porta (PF1) em fibra de vidro lisa Modelglass ou equivalente, cor branco gelo, medindo (1,83x0,70)m, para fechamento dos Shaft´s dos Wc´s, DML, Depósito e Salão do Júri. (Shaft wc's e DML, depósito e salão do Júri)","un ",26,0,26,190.225426,4945.8610760000001,133.75487999999999,3477.6268799999998,0,0,323.98030599999998,8423.487955999999,0,null,0,0,0,0,0,null,0,0,0,0,0,0,null,0,0,0,0,0,0,null,0,0,0,0,0,0,null,0,0,0,0,0,0,null,0,0,0,0,0,0,{"$f":"IF(ISERROR(VLOOKUP(A248,'7ª MEDIÇÃO'!$A$5:$J$1048576,8,0)),0,(VLOOKUP(A248,'7ª MEDIÇÃO'!$A$5:$J$1048576,8,0)))","v":0},0,0,0,0,0,0,{"$f":"IF(ISERROR(VLOOKUP(A248,'8ª MEDIÇÃO'!$A$5:$J$1048576,8,0)),0,(VLOOKUP(A248,'8ª MEDIÇÃO'!$A$5:$J$1048576,8,0)))","v":0},0,0,0,0,0,0,{"$f":"IF(ISERROR(VLOOKUP(A248,'9ª MEDIÇÃO'!$A$5:$J$1048576,8,0)),0,(VLOOKUP(A248,'9ª MEDIÇÃO'!$A$5:$J$1048576,8,0)))","v":0},0,0,0,0,0,0,{"$f":"IF(ISERROR(VLOOKUP(A248,#REF!,8,0)),0,(VLOOKUP(A248,#REF!,8,0)))","v":0},0,0,0,0,0,0,{"$f":"IF(ISERROR(VLOOKUP($A248,#REF!,8,0)),0,(VLOOKUP($A248,#REF!,8,0)))","v":0},0,0,0,0,0,0,{"$f":"IF(ISERROR(VLOOKUP($A248,#REF!,8,0)),0,(VLOOKUP($A248,#REF!,8,0)))","v":0},0,0,0,0,0,0,{"$f":"IF(ISERROR(VLOOKUP($A248,#REF!,8,0)),0,(VLOOKUP($A248,#REF!,8,0)))","v":0},0,0,0,0,0,0,{"$f":"IF(ISERROR(VLOOKUP($A248,#REF!,8,0)),0,(VLOOKUP($A248,#REF!,8,0)))","v":0},0,0,0,0,0,0,{"$f":"IF(ISERROR(VLOOKUP($A248,#REF!,8,0)),0,(VLOOKUP($A248,#REF!,8,0)))","v":0},0,0,0,0,0,0,{"$f":"IF(ISERROR(VLOOKUP($A248,#REF!,8,0)),0,(VLOOKUP($A248,#REF!,8,0)))","v":0},0,0,0,0,0,0,{"$f":"IF(ISERROR(VLOOKUP($A248,#REF!,8,0)),0,(VLOOKUP($A248,#REF!,8,0)))","v":0},0,0,0,0,0,0,{"$f":"IF(ISERROR(VLOOKUP($A248,#REF!,8,0)),0,(VLOOKUP($A248,#REF!,8,0)))","v":0},0,0,0,0,0,0,{"$f":"IF(ISERROR(VLOOKUP($A248,#REF!,8,0)),0,(VLOOKUP($A248,#REF!,8,0)))","v":0},0,0,0,0,0,0,{"$f":"IF(ISERROR(VLOOKUP($A248,#REF!,8,0)),0,(VLOOKUP($A248,#REF!,8,0)))","v":0},0,0,0,0,0,0,{"$f":"IF(ISERROR(VLOOKUP($A248,#REF!,8,0)),0,(VLOOKUP($A248,#REF!,8,0)))","v":0},0,0,0,0,0,0,{"$f":"IF(ISERROR(VLOOKUP($A248,#REF!,8,0)),0,(VLOOKUP($A248,#REF!,8,0)))","v":0},0,0,0,0,0,0,{"$f":"IF(ISERROR(VLOOKUP($A248,#REF!,8,0)),0,(VLOOKUP($A248,#REF!,8,0)))","v":0},0,0,0,0,0,0,{"$f":"IF(ISERROR(VLOOKUP($A248,#REF!,8,0)),0,(VLOOKUP($A248,#REF!,8,0)))","v":0},0,0,0,0,0,0,{"$f":"IF(ISERROR(VLOOKUP($A248,#REF!,8,0)),0,(VLOOKUP($A248,#REF!,8,0)))","v":0},0,0,0,0,0,0,{"$f":"IF(ISERROR(VLOOKUP($A248,#REF!,8,0)),0,(VLOOKUP($A248,#REF!,8,0)))","v":0},0,0,0,0,0,0,{"$f":"IF(ISERROR(VLOOKUP($A248,#REF!,8,0)),0,(VLOOKUP($A248,#REF!,8,0)))","v":0},0,0,0,0,0,0,{"$f":"IF(ISERROR(VLOOKUP($A248,#REF!,8,0)),0,(VLOOKUP($A248,#REF!,8,0)))","v":0},0,0,0,0,0,0,{"$f":"IF(ISERROR(VLOOKUP($A248,#REF!,8,0)),0,(VLOOKUP($A248,#REF!,8,0)))","v":0},0,0,0,0,0,0,{"$f":"IF(ISERROR(VLOOKUP($A248,#REF!,8,0)),0,(VLOOKUP($A248,#REF!,8,0)))","v":0},0,0,0,0,0,0,{"$f":"IF(ISERROR(VLOOKUP($A248,#REF!,8,0)),0,(VLOOKUP($A248,#REF!,8,0)))","v":0},0,0,0,0,0,0,{"$f":"IF(ISERROR(VLOOKUP($A248,#REF!,8,0)),0,(VLOOKUP($A248,#REF!,8,0)))","v":0},0,0,0,0,0,0,{"$f":"IF(ISERROR(VLOOKUP($A248,#REF!,8,0)),0,(VLOOKUP($A248,#REF!,8,0)))","v":0},0,0,0,0,0,0,{"$f":"IF(ISERROR(VLOOKUP($A248,#REF!,8,0)),0,(VLOOKUP($A248,#REF!,8,0)))","v":0},0,0,0,0,0,0,{"$f":"IF(ISERROR(VLOOKUP($A248,#REF!,8,0)),0,(VLOOKUP($A248,#REF!,8,0)))","v":0},0,0,0,0,0,0,{"$f":"IF(ISERROR(VLOOKUP($A248,#REF!,8,0)),0,(VLOOKUP($A248,#REF!,8,0)))","v":0},0,0,0,0,0,0,{"$f":"IF(ISERROR(VLOOKUP($A248,#REF!,8,0)),0,(VLOOKUP($A248,#REF!,8,0)))","v":0},0,0,0,0,0,0,{"$f":"IF(ISERROR(VLOOKUP($A248,#REF!,8,0)),0,(VLOOKUP($A248,#REF!,8,0)))","v":0},0,0,0,0,0,0,{"$f":"IF(ISERROR(VLOOKUP($A248,#REF!,8,0)),0,(VLOOKUP($A248,#REF!,8,0)))","v":0},0,0,0,0,0,0,{"$f":"IF(ISERROR(VLOOKUP($A248,#REF!,8,0)),0,(VLOOKUP($A248,#REF!,8,0)))","v":0},0,0,0,0,0,0,{"$f":"IF(ISERROR(VLOOKUP($A248,#REF!,8,0)),0,(VLOOKUP($A248,#REF!,8,0)))","v":0},0,0,0,0,0,0,{"$f":"IF(ISERROR(VLOOKUP($A248,#REF!,8,0)),0,(VLOOKUP($A248,#REF!,8,0)))","v":0},0,0,0,0,0,0,{"$f":"IF(ISERROR(VLOOKUP($A248,#REF!,8,0)),0,(VLOOKUP($A248,#REF!,8,0)))","v":0},0,0,0,0,0,0,{"$f":"IF(ISERROR(VLOOKUP($A248,#REF!,8,0)),0,(VLOOKUP($A248,#REF!,8,0)))","v":0},0,0,0,0,0,0,{"$f":"IF(ISERROR(VLOOKUP($A248,#REF!,8,0)),0,(VLOOKUP($A248,#REF!,8,0)))","v":0},0,0,0,0,0,0,{"$f":"IF(ISERROR(VLOOKUP($A248,#REF!,8,0)),0,(VLOOKUP($A248,#REF!,8,0)))","v":0},0,0,0,0,0,0,{"$f":"IF(ISERROR(VLOOKUP($A248,#REF!,8,0)),0,(VLOOKUP($A248,#REF!,8,0)))","v":0},0,0,0,0,0,0,{"$f":"IF(ISERROR(VLOOKUP($A248,#REF!,8,0)),0,(VLOOKUP($A248,#REF!,8,0)))","v":0},0,0,0,0,0,0,{"$f":"IF(ISERROR(VLOOKUP($A248,#REF!,8,0)),0,(VLOOKUP($A248,#REF!,8,0)))","v":0},0,0,0,0,0,0,{"$f":"IF(ISERROR(VLOOKUP($A248,#REF!,8,0)),0,(VLOOKUP($A248,#REF!,8,0)))","v":0},0,0,0,0,0,0,{"$f":"IF(ISERROR(VLOOKUP($A248,#REF!,8,0)),0,(VLOOKUP($A248,#REF!,8,0)))","v":0},0,0,0,0,0,0,{"$f":"IF(ISERROR(VLOOKUP($A248,#REF!,8,0)),0,(VLOOKUP($A248,#REF!,8,0)))","v":0},0,0,0,0,0,0,{"$f":"IF(ISERROR(VLOOKUP($A248,#REF!,8,0)),0,(VLOOKUP($A248,#REF!,8,0)))","v":0},0,0,0,0,0,0,{"$f":"IF(ISERROR(VLOOKUP($A248,#REF!,8,0)),0,(VLOOKUP($A248,#REF!,8,0)))","v":0},0,0,0,0,0,0,{"$f":"IF(ISERROR(VLOOKUP($A248,#REF!,8,0)),0,(VLOOKUP($A248,#REF!,8,0)))","v":0},0,0,0,0,0,0,0,0,{"$error":"#DIV/0!"},0]
["10.26","Fornecimento e instalação de janela em alumínio anodizado bronze tipo correr e uma folha fixa, com vidro liso verde, espessura de 6mm, dimensão (7,28x0,90)m - JAV6. (Laje condensadores - DET 05/36)","un",4,4,0,1748.4133240000001,6993.6532960000004,1229.4451999999999,4917.7807999999995,0,0,2977.8585240000002,0,11911.434096000001,null,0,0,0,0,0,null,0,1,0,0,0,0,null,0,1,0,0,0,0,null,0,1,0,0,0,0,null,0,1,0,0,0,0,null,0,1,0,0,0,0,{"$f":"IF(ISERROR(VLOOKUP(A257,'7ª MEDIÇÃO'!$A$5:$J$1048576,8,0)),0,(VLOOKUP(A257,'7ª MEDIÇÃO'!$A$5:$J$1048576,8,0)))","v":0},0,1,0,0,0,0,{"$f":"IF(ISERROR(VLOOKUP(A257,'8ª MEDIÇÃO'!$A$5:$J$1048576,8,0)),0,(VLOOKUP(A257,'8ª MEDIÇÃO'!$A$5:$J$1048576,8,0)))","v":0},0,1,0,0,0,0,{"$f":"IF(ISERROR(VLOOKUP(A257,'9ª MEDIÇÃO'!$A$5:$J$1048576,8,0)),0,(VLOOKUP(A257,'9ª MEDIÇÃO'!$A$5:$J$1048576,8,0)))","v":0},0,1,0,0,0,0,{"$f":"IF(ISERROR(VLOOKUP(A257,#REF!,8,0)),0,(VLOOKUP(A257,#REF!,8,0)))","v":0},0,1,0,0,0,0,{"$f":"IF(ISERROR(VLOOKUP($A257,#REF!,8,0)),0,(VLOOKUP($A257,#REF!,8,0)))","v":0},0,1,0,0,0,0,{"$f":"IF(ISERROR(VLOOKUP($A257,#REF!,8,0)),0,(VLOOKUP($A257,#REF!,8,0)))","v":0},0,1,0,0,0,0,{"$f":"IF(ISERROR(VLOOKUP($A257,#REF!,8,0)),0,(VLOOKUP($A257,#REF!,8,0)))","v":0},0,1,0,0,0,0,{"$f":"IF(ISERROR(VLOOKUP($A257,#REF!,8,0)),0,(VLOOKUP($A257,#REF!,8,0)))","v":0},0,1,0,0,0,0,{"$f":"IF(ISERROR(VLOOKUP($A257,#REF!,8,0)),0,(VLOOKUP($A257,#REF!,8,0)))","v":0},0,1,0,0,0,0,{"$f":"IF(ISERROR(VLOOKUP($A257,#REF!,8,0)),0,(VLOOKUP($A257,#REF!,8,0)))","v":0},0,1,0,0,0,0,{"$f":"IF(ISERROR(VLOOKUP($A257,#REF!,8,0)),0,(VLOOKUP($A257,#REF!,8,0)))","v":0},0,1,0,0,0,0,{"$f":"IF(ISERROR(VLOOKUP($A257,#REF!,8,0)),0,(VLOOKUP($A257,#REF!,8,0)))","v":0},0,1,0,0,0,0,{"$f":"IF(ISERROR(VLOOKUP($A257,#REF!,8,0)),0,(VLOOKUP($A257,#REF!,8,0)))","v":0},0,1,0,0,0,0,{"$f":"IF(ISERROR(VLOOKUP($A257,#REF!,8,0)),0,(VLOOKUP($A257,#REF!,8,0)))","v":0},0,1,0,0,0,0,{"$f":"IF(ISERROR(VLOOKUP($A257,#REF!,8,0)),0,(VLOOKUP($A257,#REF!,8,0)))","v":0},0,1,0,0,0,0,{"$f":"IF(ISERROR(VLOOKUP($A257,#REF!,8,0)),0,(VLOOKUP($A257,#REF!,8,0)))","v":0},0,1,0,0,0,0,{"$f":"IF(ISERROR(VLOOKUP($A257,#REF!,8,0)),0,(VLOOKUP($A257,#REF!,8,0)))","v":0},0,1,0,0,0,0,{"$f":"IF(ISERROR(VLOOKUP($A257,#REF!,8,0)),0,(VLOOKUP($A257,#REF!,8,0)))","v":0},0,1,0,0,0,0,{"$f":"IF(ISERROR(VLOOKUP($A257,#REF!,8,0)),0,(VLOOKUP($A257,#REF!,8,0)))","v":0},0,1,0,0,0,0,{"$f":"IF(ISERROR(VLOOKUP($A257,#REF!,8,0)),0,(VLOOKUP($A257,#REF!,8,0)))","v":0},0,1,0,0,0,0,{"$f":"IF(ISERROR(VLOOKUP($A257,#REF!,8,0)),0,(VLOOKUP($A257,#REF!,8,0)))","v":0},0,1,0,0,0,0,{"$f":"IF(ISERROR(VLOOKUP($A257,#REF!,8,0)),0,(VLOOKUP($A257,#REF!,8,0)))","v":0},0,1,0,0,0,0,{"$f":"IF(ISERROR(VLOOKUP($A257,#REF!,8,0)),0,(VLOOKUP($A257,#REF!,8,0)))","v":0},0,1,0,0,0,0,{"$f":"IF(ISERROR(VLOOKUP($A257,#REF!,8,0)),0,(VLOOKUP($A257,#REF!,8,0)))","v":0},0,1,0,0,0,0,{"$f":"IF(ISERROR(VLOOKUP($A257,#REF!,8,0)),0,(VLOOKUP($A257,#REF!,8,0)))","v":0},0,1,0,0,0,0,{"$f":"IF(ISERROR(VLOOKUP($A257,#REF!,8,0)),0,(VLOOKUP($A257,#REF!,8,0)))","v":0},0,1,0,0,0,0,{"$f":"IF(ISERROR(VLOOKUP($A257,#REF!,8,0)),0,(VLOOKUP($A257,#REF!,8,0)))","v":0},0,1,0,0,0,0,{"$f":"IF(ISERROR(VLOOKUP($A257,#REF!,8,0)),0,(VLOOKUP($A257,#REF!,8,0)))","v":0},0,1,0,0,0,0,{"$f":"IF(ISERROR(VLOOKUP($A257,#REF!,8,0)),0,(VLOOKUP($A257,#REF!,8,0)))","v":0},0,1,0,0,0,0,{"$f":"IF(ISERROR(VLOOKUP($A257,#REF!,8,0)),0,(VLOOKUP($A257,#REF!,8,0)))","v":0},0,1,0,0,0,0,{"$f":"IF(ISERROR(VLOOKUP($A257,#REF!,8,0)),0,(VLOOKUP($A257,#REF!,8,0)))","v":0},0,1,0,0,0,0,{"$f":"IF(ISERROR(VLOOKUP($A257,#REF!,8,0)),0,(VLOOKUP($A257,#REF!,8,0)))","v":0},0,1,0,0,0,0,{"$f":"IF(ISERROR(VLOOKUP($A257,#REF!,8,0)),0,(VLOOKUP($A257,#REF!,8,0)))","v":0},0,1,0,0,0,0,{"$f":"IF(ISERROR(VLOOKUP($A257,#REF!,8,0)),0,(VLOOKUP($A257,#REF!,8,0)))","v":0},0,1,0,0,0,0,{"$f":"IF(ISERROR(VLOOKUP($A257,#REF!,8,0)),0,(VLOOKUP($A257,#REF!,8,0)))","v":0},0,1,0,0,0,0,{"$f":"IF(ISERROR(VLOOKUP($A257,#REF!,8,0)),0,(VLOOKUP($A257,#REF!,8,0)))","v":0},0,1,0,0,0,0,{"$f":"IF(ISERROR(VLOOKUP($A257,#REF!,8,0)),0,(VLOOKUP($A257,#REF!,8,0)))","v":0},0,1,0,0,0,0,{"$f":"IF(ISERROR(VLOOKUP($A257,#REF!,8,0)),0,(VLOOKUP($A257,#REF!,8,0)))","v":0},0,1,0,0,0,0,{"$f":"IF(ISERROR(VLOOKUP($A257,#REF!,8,0)),0,(VLOOKUP($A257,#REF!,8,0)))","v":0},0,1,0,0,0,0,{"$f":"IF(ISERROR(VLOOKUP($A257,#REF!,8,0)),0,(VLOOKUP($A257,#REF!,8,0)))","v":0},0,1,0,0,0,0,{"$f":"IF(ISERROR(VLOOKUP($A257,#REF!,8,0)),0,(VLOOKUP($A257,#REF!,8,0)))","v":0},0,1,0,0,0,0,{"$f":"IF(ISERROR(VLOOKUP($A257,#REF!,8,0)),0,(VLOOKUP($A257,#REF!,8,0)))","v":0},0,1,0,0,0,0,{"$f":"IF(ISERROR(VLOOKUP($A257,#REF!,8,0)),0,(VLOOKUP($A257,#REF!,8,0)))","v":0},0,1,0,0,0,0,{"$f":"IF(ISERROR(VLOOKUP($A257,#REF!,8,0)),0,(VLOOKUP($A257,#REF!,8,0)))","v":0},0,1,0,0,0,0,{"$f":"IF(ISERROR(VLOOKUP($A257,#REF!,8,0)),0,(VLOOKUP($A257,#REF!,8,0)))","v":0},0,1,0,0,0,0,{"$f":"IF(ISERROR(VLOOKUP($A257,#REF!,8,0)),0,(VLOOKUP($A257,#REF!,8,0)))","v":0},0,1,0,0,0,0,{"$f":"IF(ISERROR(VLOOKUP($A257,#REF!,8,0)),0,(VLOOKUP($A257,#REF!,8,0)))","v":0},0,1,0,0,0,0,{"$f":"IF(ISERROR(VLOOKUP($A257,#REF!,8,0)),0,(VLOOKUP($A257,#REF!,8,0)))","v":0},0,1,0,0,0,0,{"$f":"IF(ISERROR(VLOOKUP($A257,#REF!,8,0)),0,(VLOOKUP($A257,#REF!,8,0)))","v":0},0,1,0,0,0,0,11911.434096000001,11911.434096000001,1,0]
["10.36","Fornecimento e instalação de janela em alumínio anodizado bronze tipo correr, com vidro liso verde, espessura de 6mm, dimensão (4,80x0,90)m - JAV18. (Laje para condensadores - DET 15/36)","un",5,5,0,1247.2744699999998,6236.3723499999996,877.05732,4385.2866000000004,0,0,2124.3317899999997,0,10621.658949999999,null,0,0,0,0,0,null,0,1,0,0,0,0,null,0,1,0,0,0,0,null,0,1,0,0,0,0,null,0,1,0,0,0,0,null,0,1,0,0,0,0,{"$f":"IF(ISERROR(VLOOKUP(A267,'7ª MEDIÇÃO'!$A$5:$J$1048576,8,0)),0,(VLOOKUP(A267,'7ª MEDIÇÃO'!$A$5:$J$1048576,8,0)))","v":0},0,1,0,0,0,0,{"$f":"IF(ISERROR(VLOOKUP(A267,'8ª MEDIÇÃO'!$A$5:$J$1048576,8,0)),0,(VLOOKUP(A267,'8ª MEDIÇÃO'!$A$5:$J$1048576,8,0)))","v":0},0,1,0,0,0,0,{"$f":"IF(ISERROR(VLOOKUP(A267,'9ª MEDIÇÃO'!$A$5:$J$1048576,8,0)),0,(VLOOKUP(A267,'9ª MEDIÇÃO'!$A$5:$J$1048576,8,0)))","v":0},0,1,0,0,0,0,{"$f":"IF(ISERROR(VLOOKUP(A267,#REF!,8,0)),0,(VLOOKUP(A267,#REF!,8,0)))","v":0},0,1,0,0,0,0,{"$f":"IF(ISERROR(VLOOKUP($A267,#REF!,8,0)),0,(VLOOKUP($A267,#REF!,8,0)))","v":0},0,1,0,0,0,0,{"$f":"IF(ISERROR(VLOOKUP($A267,#REF!,8,0)),0,(VLOOKUP($A267,#REF!,8,0)))","v":0},0,1,0,0,0,0,{"$f":"IF(ISERROR(VLOOKUP($A267,#REF!,8,0)),0,(VLOOKUP($A267,#REF!,8,0)))","v":0},0,1,0,0,0,0,{"$f":"IF(ISERROR(VLOOKUP($A267,#REF!,8,0)),0,(VLOOKUP($A267,#REF!,8,0)))","v":0},0,1,0,0,0,0,{"$f":"IF(ISERROR(VLOOKUP($A267,#REF!,8,0)),0,(VLOOKUP($A267,#REF!,8,0)))","v":0},0,1,0,0,0,0,{"$f":"IF(ISERROR(VLOOKUP($A267,#REF!,8,0)),0,(VLOOKUP($A267,#REF!,8,0)))","v":0},0,1,0,0,0,0,{"$f":"IF(ISERROR(VLOOKUP($A267,#REF!,8,0)),0,(VLOOKUP($A267,#REF!,8,0)))","v":0},0,1,0,0,0,0,{"$f":"IF(ISERROR(VLOOKUP($A267,#REF!,8,0)),0,(VLOOKUP($A267,#REF!,8,0)))","v":0},0,1,0,0,0,0,{"$f":"IF(ISERROR(VLOOKUP($A267,#REF!,8,0)),0,(VLOOKUP($A267,#REF!,8,0)))","v":0},0,1,0,0,0,0,{"$f":"IF(ISERROR(VLOOKUP($A267,#REF!,8,0)),0,(VLOOKUP($A267,#REF!,8,0)))","v":0},0,1,0,0,0,0,{"$f":"IF(ISERROR(VLOOKUP($A267,#REF!,8,0)),0,(VLOOKUP($A267,#REF!,8,0)))","v":0},0,1,0,0,0,0,{"$f":"IF(ISERROR(VLOOKUP($A267,#REF!,8,0)),0,(VLOOKUP($A267,#REF!,8,0)))","v":0},0,1,0,0,0,0,{"$f":"IF(ISERROR(VLOOKUP($A267,#REF!,8,0)),0,(VLOOKUP($A267,#REF!,8,0)))","v":0},0,1,0,0,0,0,{"$f":"IF(ISERROR(VLOOKUP($A267,#REF!,8,0)),0,(VLOOKUP($A267,#REF!,8,0)))","v":0},0,1,0,0,0,0,{"$f":"IF(ISERROR(VLOOKUP($A267,#REF!,8,0)),0,(VLOOKUP($A267,#REF!,8,0)))","v":0},0,1,0,0,0,0,{"$f":"IF(ISERROR(VLOOKUP($A267,#REF!,8,0)),0,(VLOOKUP($A267,#REF!,8,0)))","v":0},{"$f":"IF($D267>0,GH267/$D267,0)","v":0},1,0,0,0,{"$f":"ROUND($M267*GH267,2)","v":0},{"$f":"IF(ISERROR(VLOOKUP($A267,#REF!,8,0)),0,(VLOOKUP($A267,#REF!,8,0)))","v":0},{"$f":"IF($D267>0,GO267/$D267,0)","v":0},1,0,0,0,{"$f":"ROUND($M267*GO267,2)","v":0},{"$f":"IF(ISERROR(VLOOKUP($A267,#REF!,8,0)),0,(VLOOKUP($A267,#REF!,8,0)))","v":0},{"$f":"IF($D267>0,GV267/$D267,0)","v":0},1,0,0,0,{"$f":"ROUND($M267*GV267,2)","v":0},{"$f":"IF(ISERROR(VLOOKUP($A267,#REF!,8,0)),0,(VLOOKUP($A267,#REF!,8,0)))","v":0},{"$f":"IF($D267>0,HC267/$D267,0)","v":0},1,0,0,0,{"$f":"ROUND($M267*HC267,2)","v":0},{"$f":"IF(ISERROR(VLOOKUP($A267,#REF!,8,0)),0,(VLOOKUP($A267,#REF!,8,0)))","v":0},{"$f":"IF($D267>0,HJ267/$D267,0)","v":0},1,0,0,0,{"$f":"ROUND($M267*HJ267,2)","v":0},{"$f":"IF(ISERROR(VLOOKUP($A267,#REF!,8,0)),0,(VLOOKUP($A267,#REF!,8,0)))","v":0},{"$f":"IF($D267>0,HQ267/$D267,0)","v":0},1,0,0,0,{"$f":"ROUND($M267*HQ267,2)","v":0},{"$f":"IF(ISERROR(VLOOKUP($A267,#REF!,8,0)),0,(VLOOKUP($A267,#REF!,8,0)))","v":0},{"$f":"IF($D267>0,HX267/$D267,0)","v":0},1,0,0,0,{"$f":"ROUND($M267*HX267,2)","v":0},{"$f":"IF(ISERROR(VLOOKUP($A267,#REF!,8,0)),0,(VLOOKUP($A267,#REF!,8,0)))","v":0},{"$f":"IF($D267>0,IE267/$D267,0)","v":0},1,0,0,0,{"$f":"ROUND($M267*IE267,2)","v":0},{"$f":"IF(ISERROR(VLOOKUP($A267,#REF!,8,0)),0,(VLOOKUP($A267,#REF!,8,0)))","v":0},{"$f":"IF($D267>0,IL267/$D267,0)","v":0},1,0,0,0,{"$f":"ROUND($M267*IL267,2)","v":0},{"$f":"IF(ISERROR(VLOOKUP($A267,#REF!,8,0)),0,(VLOOKUP($A267,#REF!,8,0)))","v":0},{"$f":"IF($D267>0,IS267/$D267,0)","v":0},1,0,0,0,{"$f":"ROUND($M267*IS267,2)","v":0},{"$f":"IF(ISERROR(VLOOKUP($A267,#REF!,8,0)),0,(VLOOKUP($A267,#REF!,8,0)))","v":0},{"$f":"IF($D267>0,IZ267/$D267,0)","v":0},1,0,0,0,{"$f":"ROUND($M267*IZ267,2)","v":0},{"$f":"IF(ISERROR(VLOOKUP($A267,#REF!,8,0)),0,(VLOOKUP($A267,#REF!,8,0)))","v":0},{"$f":"IF($D267>0,JG267/$D267,0)","v":0},1,0,0,0,{"$f":"ROUND($M267*JG267,2)","v":0},{"$f":"IF(ISERROR(VLOOKUP($A267,#REF!,8,0)),0,(VLOOKUP($A267,#REF!,8,0)))","v":0},{"$f":"IF($D267>0,JN267/$D267,0)","v":0},1,0,0,0,{"$f":"ROUND($M267*JN267,2)","v":0},{"$f":"IF(ISERROR(VLOOKUP($A267,#REF!,8,0)),0,(VLOOKUP($A267,#REF!,8,0)))","v":0},{"$f":"IF($D267>0,JU267/$D267,0)","v":0},1,0,0,0,{"$f":"ROUND($M267*JU267,2)","v":0},{"$f":"IF(ISERROR(VLOOKUP($A267,#REF!,8,0)),0,(VLOOKUP($A267,#REF!,8,0)))","v":0},{"$f":"IF($D267>0,KB267/$D267,0)","v":0},1,0,0,0,{"$f":"ROUND($M267*KB267,2)","v":0},{"$f":"IF(ISERROR(VLOOKUP($A267,#REF!,8,0)),0,(VLOOKUP($A267,#REF!,8,0)))","v":0},{"$f":"IF($D267>0,KI267/$D267,0)","v":0},1,0,0,0,{"$f":"ROUND($M267*KI267,2)","v":0},{"$f":"IF(ISERROR(VLOOKUP($A267,#REF!,8,0)),0,(VLOOKUP($A267,#REF!,8,0)))","v":0},{"$f":"IF($D267>0,KP267/$D267,0)","v":0},1,0,0,0,{"$f":"ROUND($M267*KP267,2)","v":0},{"$f":"IF(ISERROR(VLOOKUP($A267,#REF!,8,0)),0,(VLOOKUP($A267,#REF!,8,0)))","v":0},{"$f":"IF($D267>0,KW267/$D267,0)","v":0},1,0,0,0,{"$f":"ROUND($M267*KW267,2)","v":0},{"$f":"IF(ISERROR(VLOOKUP($A267,#REF!,8,0)),0,(VLOOKUP($A267,#REF!,8,0)))","v":0},{"$f":"IF($D267>0,LD267/$D267,0)","v":0},1,0,0,0,{"$f":"ROUND($M267*LD267,2)","v":0},{"$f":"IF(ISERROR(VLOOKUP($A267,#REF!,8,0)),0,(VLOOKUP($A267,#REF!,8,0)))","v":0},{"$f":"IF($D267>0,LK267/$D267,0)","v":0},1,0,0,0,{"$f":"ROUND($M267*LK267,2)","v":0},{"$f":"IF(ISERROR(VLOOKUP($A267,#REF!,8,0)),0,(VLOOKUP($A267,#REF!,8,0)))","v":0},{"$f":"IF($D267>0,LR267/$D267,0)","v":0},1,0,0,0,{"$f":"ROUND($M267*LR267,2)","v":0},{"$f":"IF(ISERROR(VLOOKUP($A267,#REF!,8,0)),0,(VLOOKUP($A267,#REF!,8,0)))","v":0},{"$f":"IF($D267>0,LY267/$D267,0)","v":0},1,0,0,0,{"$f":"ROUND($M267*LY267,2)","v":0},{"$f":"IF(ISERROR(VLOOKUP($A267,#REF!,8,0)),0,(VLOOKUP($A267,#REF!,8,0)))","v":0},{"$f":"IF($D267>0,MF267/$D267,0)","v":0},1,0,0,0,{"$f":"ROUND($M267*MF267,2)","v":0},{"$f":"IF(ISERROR(VLOOKUP($A267,#REF!,8,0)),0,(VLOOKUP($A267,#REF!,8,0)))","v":0},{"$f":"IF($D267>0,MM267/$D267,0)","v":0},1,0,0,0,{"$f":"ROUND($M267*MM267,2)","v":0},{"$f":"IF(ISERROR(VLOOKUP($A267,#REF!,8,0)),0,(VLOOKUP($A267,#REF!,8,0)))","v":0},{"$f":"IF($D267>0,MT267/$D267,0)","v":0},1,0,0,0,{"$f":"ROUND($M267*MT267,2)","v":0},{"$f":"IF(ISERROR(VLOOKUP($A267,#REF!,8,0)),0,(VLOOKUP($A267,#REF!,8,0)))","v":0},{"$f":"IF($D267>0,NA267/$D267,0)","v":0},1,0,0,0,{"$f":"ROUND($M267*NA267,2)","v":0},{"$f":"IF(ISERROR(VLOOKUP($A267,#REF!,8,0)),0,(VLOOKUP($A267,#REF!,8,0)))","v":0},{"$f":"IF($D267>0,NH267/$D267,0)","v":0},1,0,0,0,{"$f":"ROUND($M267*NH267,2)","v":0},{"$f":"IF(ISERROR(VLOOKUP($A267,#REF!,8,0)),0,(VLOOKUP($A267,#REF!,8,0)))","v":0},{"$f":"IF($D267>0,NO267/$D267,0)","v":0},1,0,0,0,{"$f":"ROUND($M267*NO267,2)","v":0},{"$f":"IF(ISERROR(VLOOKUP($A267,#REF!,8,0)),0,(VLOOKUP($A267,#REF!,8,0)))","v":0},{"$f":"IF($D267>0,NV267/$D267,0)","v":0},1,0,0,0,{"$f":"ROUND($M267*NV267,2)","v":0},{"$f":"IF(ISERROR(VLOOKUP($A267,#REF!,8,0)),0,(VLOOKUP($A267,#REF!,8,0)))","v":0},{"$f":"IF($D267>0,OC267/$D267,0)","v":0},1,0,0,0,{"$f":"ROUND($M267*OC267,2)","v":0},10621.658949999999,10621.658949999999,{"$f":"OJ267/OK267","v":1},0]
["10.45","Fornecimento e instalação de veneziana fixa em alumínio anodizado na cor  bronze, dimensão (4,07x0,90)m - JA06. ( Semi enterrado) DET (20/36)","un",1,1,0,1291.50197,1291.50197,908.16976,908.16976,0,0,2199.67173,0,2199.67173,null,0,0,0,0,0,null,0,{"$f":"IF($E276>0,$E276/$D276,0)","v":1},0,0,0,0,null,0,{"$f":"IF($E276>0,$E276/$D276,0)","v":1},0,0,0,0,null,0,{"$f":"IF($E276>0,$E276/$D276,0)","v":1},0,0,0,0,null,0,{"$f":"IF($E276>0,$E276/$D276,0)","v":1},0,0,0,0,null,0,{"$f":"IF($E276>0,$E276/$D276,0)","v":1},0,0,0,0,{"$f":"IF(ISERROR(VLOOKUP(A276,'7ª MEDIÇÃO'!$A$5:$J$1048576,8,0)),0,(VLOOKUP(A276,'7ª MEDIÇÃO'!$A$5:$J$1048576,8,0)))","v":0},0,{"$f":"IF($E276>0,$E276/$D276,0)","v":1},0,0,0,0,{"$f":"IF(ISERROR(VLOOKUP(A276,'8ª MEDIÇÃO'!$A$5:$J$1048576,8,0)),0,(VLOOKUP(A276,'8ª MEDIÇÃO'!$A$5:$J$1048576,8,0)))","v":0},0,{"$f":"IF($E276>0,$E276/$D276,0)","v":1},0,0,0,0,{"$f":"IF(ISERROR(VLOOKUP(A276,'9ª MEDIÇÃO'!$A$5:$J$1048576,8,0)),0,(VLOOKUP(A276,'9ª MEDIÇÃO'!$A$5:$J$1048576,8,0)))","v":0},0,{"$f":"IF($E276>0,$E276/$D276,0)","v":1},0,0,0,0,{"$f":"IF(ISERROR(VLOOKUP(A276,#REF!,8,0)),0,(VLOOKUP(A276,#REF!,8,0)))","v":0},0,{"$f":"IF($E276>0,$E276/$D276,0)","v":1},0,0,0,0,{"$f":"IF(ISERROR(VLOOKUP($A276,#REF!,8,0)),0,(VLOOKUP($A276,#REF!,8,0)))","v":0},0,{"$f":"IF($E276>0,$E276/$D276,0)","v":1},0,0,0,0,{"$f":"IF(ISERROR(VLOOKUP($A276,#REF!,8,0)),0,(VLOOKUP($A276,#REF!,8,0)))","v":0},0,{"$f":"IF($E276>0,$E276/$D276,0)","v":1},0,0,0,0,{"$f":"IF(ISERROR(VLOOKUP($A276,#REF!,8,0)),0,(VLOOKUP($A276,#REF!,8,0)))","v":0},0,{"$f":"IF($E276>0,$E276/$D276,0)","v":1},0,0,0,0,{"$f":"IF(ISERROR(VLOOKUP($A276,#REF!,8,0)),0,(VLOOKUP($A276,#REF!,8,0)))","v":0},0,{"$f":"IF($E276>0,$E276/$D276,0)","v":1},0,0,0,0,{"$f":"IF(ISERROR(VLOOKUP($A276,#REF!,8,0)),0,(VLOOKUP($A276,#REF!,8,0)))","v":0},0,{"$f":"IF($E276>0,$E276/$D276,0)","v":1},0,0,0,0,{"$f":"IF(ISERROR(VLOOKUP($A276,#REF!,8,0)),0,(VLOOKUP($A276,#REF!,8,0)))","v":0},0,{"$f":"IF($E276>0,$E276/$D276,0)","v":1},0,0,0,0,{"$f":"IF(ISERROR(VLOOKUP($A276,#REF!,8,0)),0,(VLOOKUP($A276,#REF!,8,0)))","v":0},0,{"$f":"IF($E276>0,$E276/$D276,0)","v":1},0,0,0,0,{"$f":"IF(ISERROR(VLOOKUP($A276,#REF!,8,0)),0,(VLOOKUP($A276,#REF!,8,0)))","v":0},0,{"$f":"IF($E276>0,$E276/$D276,0)","v":1},0,0,0,0,{"$f":"IF(ISERROR(VLOOKUP($A276,#REF!,8,0)),0,(VLOOKUP($A276,#REF!,8,0)))","v":0},0,{"$f":"IF($E276>0,$E276/$D276,0)","v":1},0,0,0,0,{"$f":"IF(ISERROR(VLOOKUP($A276,#REF!,8,0)),0,(VLOOKUP($A276,#REF!,8,0)))","v":0},0,{"$f":"IF($E276>0,$E276/$D276,0)","v":1},0,0,0,0,{"$f":"IF(ISERROR(VLOOKUP($A276,#REF!,8,0)),0,(VLOOKUP($A276,#REF!,8,0)))","v":0},0,{"$f":"IF($E276>0,$E276/$D276,0)","v":1},0,0,0,0,{"$f":"IF(ISERROR(VLOOKUP($A276,#REF!,8,0)),0,(VLOOKUP($A276,#REF!,8,0)))","v":0},0,{"$f":"IF($E276>0,$E276/$D276,0)","v":1},0,0,0,0,{"$f":"IF(ISERROR(VLOOKUP($A276,#REF!,8,0)),0,(VLOOKUP($A276,#REF!,8,0)))","v":0},0,{"$f":"IF($E276>0,$E276/$D276,0)","v":1},0,0,0,0,{"$f":"IF(ISERROR(VLOOKUP($A276,#REF!,8,0)),0,(VLOOKUP($A276,#REF!,8,0)))","v":0},0,{"$f":"IF($E276>0,$E276/$D276,0)","v":1},0,0,0,0,{"$f":"IF(ISERROR(VLOOKUP($A276,#REF!,8,0)),0,(VLOOKUP($A276,#REF!,8,0)))","v":0},0,{"$f":"IF($E276>0,$E276/$D276,0)","v":1},0,0,0,0,{"$f":"IF(ISERROR(VLOOKUP($A276,#REF!,8,0)),0,(VLOOKUP($A276,#REF!,8,0)))","v":0},0,{"$f":"IF($E276>0,$E276/$D276,0)","v":1},0,0,0,0,{"$f":"IF(ISERROR(VLOOKUP($A276,#REF!,8,0)),0,(VLOOKUP($A276,#REF!,8,0)))","v":0},0,{"$f":"IF($E276>0,$E276/$D276,0)","v":1},0,0,0,0,{"$f":"IF(ISERROR(VLOOKUP($A276,#REF!,8,0)),0,(VLOOKUP($A276,#REF!,8,0)))","v":0},0,{"$f":"IF($E276>0,$E276/$D276,0)","v":1},0,0,0,0,{"$f":"IF(ISERROR(VLOOKUP($A276,#REF!,8,0)),0,(VLOOKUP($A276,#REF!,8,0)))","v":0},0,{"$f":"IF($E276>0,$E276/$D276,0)","v":1},0,0,0,0,{"$f":"IF(ISERROR(VLOOKUP($A276,#REF!,8,0)),0,(VLOOKUP($A276,#REF!,8,0)))","v":0},0,{"$f":"IF($E276>0,$E276/$D276,0)","v":1},0,0,0,0,{"$f":"IF(ISERROR(VLOOKUP($A276,#REF!,8,0)),0,(VLOOKUP($A276,#REF!,8,0)))","v":0},0,{"$f":"IF($E276>0,$E276/$D276,0)","v":1},0,0,0,0,{"$f":"IF(ISERROR(VLOOKUP($A276,#REF!,8,0)),0,(VLOOKUP($A276,#REF!,8,0)))","v":0},0,{"$f":"IF($E276>0,$E276/$D276,0)","v":1},0,0,0,0,{"$f":"IF(ISERROR(VLOOKUP($A276,#REF!,8,0)),0,(VLOOKUP($A276,#REF!,8,0)))","v":0},0,{"$f":"IF($E276>0,$E276/$D276,0)","v":1},0,0,0,0,{"$f":"IF(ISERROR(VLOOKUP($A276,#REF!,8,0)),0,(VLOOKUP($A276,#REF!,8,0)))","v":0},0,{"$f":"IF($E276>0,$E276/$D276,0)","v":1},0,0,0,0,{"$f":"IF(ISERROR(VLOOKUP($A276,#REF!,8,0)),0,(VLOOKUP($A276,#REF!,8,0)))","v":0},0,{"$f":"IF($E276>0,$E276/$D276,0)","v":1},0,0,0,0,{"$f":"IF(ISERROR(VLOOKUP($A276,#REF!,8,0)),0,(VLOOKUP($A276,#REF!,8,0)))","v":0},0,{"$f":"IF($E276>0,$E276/$D276,0)","v":1},0,0,0,0,{"$f":"IF(ISERROR(VLOOKUP($A276,#REF!,8,0)),0,(VLOOKUP($A276,#REF!,8,0)))","v":0},0,{"$f":"IF($E276>0,$E276/$D276,0)","v":1},0,0,0,0,{"$f":"IF(ISERROR(VLOOKUP($A276,#REF!,8,0)),0,(VLOOKUP($A276,#REF!,8,0)))","v":0},0,{"$f":"IF($E276>0,$E276/$D276,0)","v":1},0,0,0,0,{"$f":"IF(ISERROR(VLOOKUP($A276,#REF!,8,0)),0,(VLOOKUP($A276,#REF!,8,0)))","v":0},0,{"$f":"IF($E276>0,$E276/$D276,0)","v":1},0,0,0,0,{"$f":"IF(ISERROR(VLOOKUP($A276,#REF!,8,0)),0,(VLOOKUP($A276,#REF!,8,0)))","v":0},0,{"$f":"IF($E276>0,$E276/$D276,0)","v":1},0,0,0,0,{"$f":"IF(ISERROR(VLOOKUP($A276,#REF!,8,0)),0,(VLOOKUP($A276,#REF!,8,0)))","v":0},0,{"$f":"IF($E276>0,$E276/$D276,0)","v":1},0,0,0,0,{"$f":"IF(ISERROR(VLOOKUP($A276,#REF!,8,0)),0,(VLOOKUP($A276,#REF!,8,0)))","v":0},0,{"$f":"IF($E276>0,$E276/$D276,0)","v":1},0,0,0,0,{"$f":"IF(ISERROR(VLOOKUP($A276,#REF!,8,0)),0,(VLOOKUP($A276,#REF!,8,0)))","v":0},0,{"$f":"IF($E276>0,$E276/$D276,0)","v":1},0,0,0,0,{"$f":"IF(ISERROR(VLOOKUP($A276,#REF!,8,0)),0,(VLOOKUP($A276,#REF!,8,0)))","v":0},0,{"$f":"IF($E276>0,$E276/$D276,0)","v":1},0,0,0,0,{"$f":"IF(ISERROR(VLOOKUP($A276,#REF!,8,0)),0,(VLOOKUP($A276,#REF!,8,0)))","v":0},0,{"$f":"IF($E276>0,$E276/$D276,0)","v":1},0,0,0,0,{"$f":"IF(ISERROR(VLOOKUP($A276,#REF!,8,0)),0,(VLOOKUP($A276,#REF!,8,0)))","v":0},0,{"$f":"IF($E276>0,$E276/$D276,0)","v":1},0,0,0,0,{"$f":"IF(ISERROR(VLOOKUP($A276,#REF!,8,0)),0,(VLOOKUP($A276,#REF!,8,0)))","v":0},0,{"$f":"IF($E276>0,$E276/$D276,0)","v":1},0,0,0,0,{"$f":"IF(ISERROR(VLOOKUP($A276,#REF!,8,0)),0,(VLOOKUP($A276,#REF!,8,0)))","v":0},0,{"$f":"IF($E276>0,$E276/$D276,0)","v":1},0,0,0,0,{"$f":"IF(ISERROR(VLOOKUP($A276,#REF!,8,0)),0,(VLOOKUP($A276,#REF!,8,0)))","v":0},0,{"$f":"IF($E276>0,$E276/$D276,0)","v":1},0,0,0,0,{"$f":"IF(ISERROR(VLOOKUP($A276,#REF!,8,0)),0,(VLOOKUP($A276,#REF!,8,0)))","v":0},0,{"$f":"IF($E276>0,$E276/$D276,0)","v":1},0,0,0,0,{"$f":"IF(ISERROR(VLOOKUP($A276,#REF!,8,0)),0,(VLOOKUP($A276,#REF!,8,0)))","v":0},0,{"$f":"IF($E276>0,$E276/$D276,0)","v":1},0,0,0,0,{"$f":"IF(ISERROR(VLOOKUP($A276,#REF!,8,0)),0,(VLOOKUP($A276,#REF!,8,0)))","v":0},0,{"$f":"IF($E276>0,$E276/$D276,0)","v":1},0,0,0,0,{"$f":"IF(ISERROR(VLOOKUP($A276,#REF!,8,0)),0,(VLOOKUP($A276,#REF!,8,0)))","v":0},0,{"$f":"IF($E276>0,$E276/$D276,0)","v":1},0,0,0,0,{"$f":"IF(ISERROR(VLOOKUP($A276,#REF!,8,0)),0,(VLOOKUP($A276,#REF!,8,0)))","v":0},0,{"$f":"IF($E276>0,$E276/$D276,0)","v":1},0,0,0,0,{"$f":"IF(ISERROR(VLOOKUP($A276,#REF!,8,0)),0,(VLOOKUP($A276,#REF!,8,0)))","v":0},0,{"$f":"IF($E276>0,$E276/$D276,0)","v":1},0,0,0,0,2199.67173,2199.67173,1,0]
["11.4","Fornecimento e instalação de PORTÃO pivotante para acesso PEDESTRES, medindo (5,10x2,11)m, com arame em aço MTC, camada de zinco, revestimento em Poliéster aplicado eletrostaticamente com camadas de 100 a 200 micons, montantes em tubo industrial com pintura eletrostática cor verde, referência Eletrogradi - da SITELA ou equivalente da BELGO modelo Nylofor 3D, conforme detalhe 33/45.","un",1,1,0,3086.8082380000001,3086.8082380000001,651.17180000000008,651.17180000000008,0,0,3737.9800380000001,0,3737.9800380000001,null,0,0,0,0,0,null,0,1,0,0,0,0,null,0,1,0,0,0,0,null,0,1,0,0,0,0,null,0,1,0,0,0,0,null,0,1,0,0,0,0,{"$f":"IF(ISERROR(VLOOKUP(A285,'7ª MEDIÇÃO'!$A$5:$J$1048576,8,0)),0,(VLOOKUP(A285,'7ª MEDIÇÃO'!$A$5:$J$1048576,8,0)))","v":0},0,1,0,0,0,0,{"$f":"IF(ISERROR(VLOOKUP(A285,'8ª MEDIÇÃO'!$A$5:$J$1048576,8,0)),0,(VLOOKUP(A285,'8ª MEDIÇÃO'!$A$5:$J$1048576,8,0)))","v":0},0,1,0,0,0,0,{"$f":"IF(ISERROR(VLOOKUP(A285,'9ª MEDIÇÃO'!$A$5:$J$1048576,8,0)),0,(VLOOKUP(A285,'9ª MEDIÇÃO'!$A$5:$J$1048576,8,0)))","v":0},0,1,0,0,0,0,{"$f":"IF(ISERROR(VLOOKUP(A285,#REF!,8,0)),0,(VLOOKUP(A285,#REF!,8,0)))","v":0},0,1,0,0,0,0,{"$f":"IF(ISERROR(VLOOKUP($A285,#REF!,8,0)),0,(VLOOKUP($A285,#REF!,8,0)))","v":0},0,1,0,0,0,0,{"$f":"IF(ISERROR(VLOOKUP($A285,#REF!,8,0)),0,(VLOOKUP($A285,#REF!,8,0)))","v":0},0,1,0,0,0,0,{"$f":"IF(ISERROR(VLOOKUP($A285,#REF!,8,0)),0,(VLOOKUP($A285,#REF!,8,0)))","v":0},0,1,0,0,0,0,{"$f":"IF(ISERROR(VLOOKUP($A285,#REF!,8,0)),0,(VLOOKUP($A285,#REF!,8,0)))","v":0},0,1,0,0,0,0,{"$f":"IF(ISERROR(VLOOKUP($A285,#REF!,8,0)),0,(VLOOKUP($A285,#REF!,8,0)))","v":0},0,1,0,0,0,0,{"$f":"IF(ISERROR(VLOOKUP($A285,#REF!,8,0)),0,(VLOOKUP($A285,#REF!,8,0)))","v":0},0,1,0,0,0,0,{"$f":"IF(ISERROR(VLOOKUP($A285,#REF!,8,0)),0,(VLOOKUP($A285,#REF!,8,0)))","v":0},0,1,0,0,0,0,{"$f":"IF(ISERROR(VLOOKUP($A285,#REF!,8,0)),0,(VLOOKUP($A285,#REF!,8,0)))","v":0},0,1,0,0,0,0,{"$f":"IF(ISERROR(VLOOKUP($A285,#REF!,8,0)),0,(VLOOKUP($A285,#REF!,8,0)))","v":0},0,1,0,0,0,0,{"$f":"IF(ISERROR(VLOOKUP($A285,#REF!,8,0)),0,(VLOOKUP($A285,#REF!,8,0)))","v":0},0,1,0,0,0,0,{"$f":"IF(ISERROR(VLOOKUP($A285,#REF!,8,0)),0,(VLOOKUP($A285,#REF!,8,0)))","v":0},0,1,0,0,0,0,{"$f":"IF(ISERROR(VLOOKUP($A285,#REF!,8,0)),0,(VLOOKUP($A285,#REF!,8,0)))","v":0},0,1,0,0,0,0,{"$f":"IF(ISERROR(VLOOKUP($A285,#REF!,8,0)),0,(VLOOKUP($A285,#REF!,8,0)))","v":0},0,1,0,0,0,0,{"$f":"IF(ISERROR(VLOOKUP($A285,#REF!,8,0)),0,(VLOOKUP($A285,#REF!,8,0)))","v":0},0,1,0,0,0,0,{"$f":"IF(ISERROR(VLOOKUP($A285,#REF!,8,0)),0,(VLOOKUP($A285,#REF!,8,0)))","v":0},0,1,0,0,0,0,{"$f":"IF(ISERROR(VLOOKUP($A285,#REF!,8,0)),0,(VLOOKUP($A285,#REF!,8,0)))","v":0},0,1,0,0,0,0,{"$f":"IF(ISERROR(VLOOKUP($A285,#REF!,8,0)),0,(VLOOKUP($A285,#REF!,8,0)))","v":0},0,1,0,0,0,0,{"$f":"IF(ISERROR(VLOOKUP($A285,#REF!,8,0)),0,(VLOOKUP($A285,#REF!,8,0)))","v":0},0,1,0,0,0,0,{"$f":"IF(ISERROR(VLOOKUP($A285,#REF!,8,0)),0,(VLOOKUP($A285,#REF!,8,0)))","v":0},0,1,0,0,0,0,{"$f":"IF(ISERROR(VLOOKUP($A285,#REF!,8,0)),0,(VLOOKUP($A285,#REF!,8,0)))","v":0},0,1,0,0,0,0,{"$f":"IF(ISERROR(VLOOKUP($A285,#REF!,8,0)),0,(VLOOKUP($A285,#REF!,8,0)))","v":0},0,1,0,0,0,0,{"$f":"IF(ISERROR(VLOOKUP($A285,#REF!,8,0)),0,(VLOOKUP($A285,#REF!,8,0)))","v":0},0,1,0,0,0,0,{"$f":"IF(ISERROR(VLOOKUP($A285,#REF!,8,0)),0,(VLOOKUP($A285,#REF!,8,0)))","v":0},0,1,0,0,0,0,{"$f":"IF(ISERROR(VLOOKUP($A285,#REF!,8,0)),0,(VLOOKUP($A285,#REF!,8,0)))","v":0},0,1,0,0,0,0,{"$f":"IF(ISERROR(VLOOKUP($A285,#REF!,8,0)),0,(VLOOKUP($A285,#REF!,8,0)))","v":0},0,1,0,0,0,0,{"$f":"IF(ISERROR(VLOOKUP($A285,#REF!,8,0)),0,(VLOOKUP($A285,#REF!,8,0)))","v":0},0,1,0,0,0,0,{"$f":"IF(ISERROR(VLOOKUP($A285,#REF!,8,0)),0,(VLOOKUP($A285,#REF!,8,0)))","v":0},0,1,0,0,0,0,{"$f":"IF(ISERROR(VLOOKUP($A285,#REF!,8,0)),0,(VLOOKUP($A285,#REF!,8,0)))","v":0},0,1,0,0,0,0,{"$f":"IF(ISERROR(VLOOKUP($A285,#REF!,8,0)),0,(VLOOKUP($A285,#REF!,8,0)))","v":0},0,1,0,0,0,0,{"$f":"IF(ISERROR(VLOOKUP($A285,#REF!,8,0)),0,(VLOOKUP($A285,#REF!,8,0)))","v":0},0,1,0,0,0,0,{"$f":"IF(ISERROR(VLOOKUP($A285,#REF!,8,0)),0,(VLOOKUP($A285,#REF!,8,0)))","v":0},0,1,0,0,0,0,{"$f":"IF(ISERROR(VLOOKUP($A285,#REF!,8,0)),0,(VLOOKUP($A285,#REF!,8,0)))","v":0},0,1,0,0,0,0,{"$f":"IF(ISERROR(VLOOKUP($A285,#REF!,8,0)),0,(VLOOKUP($A285,#REF!,8,0)))","v":0},0,1,0,0,0,0,{"$f":"IF(ISERROR(VLOOKUP($A285,#REF!,8,0)),0,(VLOOKUP($A285,#REF!,8,0)))","v":0},0,1,0,0,0,0,{"$f":"IF(ISERROR(VLOOKUP($A285,#REF!,8,0)),0,(VLOOKUP($A285,#REF!,8,0)))","v":0},0,1,0,0,0,0,{"$f":"IF(ISERROR(VLOOKUP($A285,#REF!,8,0)),0,(VLOOKUP($A285,#REF!,8,0)))","v":0},0,1,0,0,0,0,{"$f":"IF(ISERROR(VLOOKUP($A285,#REF!,8,0)),0,(VLOOKUP($A285,#REF!,8,0)))","v":0},0,1,0,0,0,0,{"$f":"IF(ISERROR(VLOOKUP($A285,#REF!,8,0)),0,(VLOOKUP($A285,#REF!,8,0)))","v":0},0,1,0,0,0,0,{"$f":"IF(ISERROR(VLOOKUP($A285,#REF!,8,0)),0,(VLOOKUP($A285,#REF!,8,0)))","v":0},0,1,0,0,0,0,{"$f":"IF(ISERROR(VLOOKUP($A285,#REF!,8,0)),0,(VLOOKUP($A285,#REF!,8,0)))","v":0},0,1,0,0,0,0,{"$f":"IF(ISERROR(VLOOKUP($A285,#REF!,8,0)),0,(VLOOKUP($A285,#REF!,8,0)))","v":0},0,1,0,0,0,0,{"$f":"IF(ISERROR(VLOOKUP($A285,#REF!,8,0)),0,(VLOOKUP($A285,#REF!,8,0)))","v":0},0,1,0,0,0,0,{"$f":"IF(ISERROR(VLOOKUP($A285,#REF!,8,0)),0,(VLOOKUP($A285,#REF!,8,0)))","v":0},0,1,0,0,0,0,{"$f":"IF(ISERROR(VLOOKUP($A285,#REF!,8,0)),0,(VLOOKUP($A285,#REF!,8,0)))","v":0},0,1,0,0,0,0,{"$f":"IF(ISERROR(VLOOKUP($A285,#REF!,8,0)),0,(VLOOKUP($A285,#REF!,8,0)))","v":0},0,1,0,0,0,0,3737.9800380000001,3737.9800380000001,1,0]
["12.3","Fornecimento e instalação de Corrimão em aço inox escovado, composto por guarda corpo com diâmetro de 1 e 1/2\", longarinas intermediárias com diâmetro de 1/2\", e corrimão duplo (NOS DOIS LADOS DO GUARDA CORPO) com diâmetro de 1 e 1/2\". Altura do guarda corpo de 1,10m e do corrimão duplo de 0,92m (parte superior) e 0,70m (parte inferior). Balaústres com diâmetro de 1 e 1/2\", fixados ao chão com roseta de fixação. Detalhe 18/46 Escada de acesso principal. CORRIMÃO INOX PISO - TIPO 3.","m",3,3,0,281.32228200000003,843.96684600000003,247.28232,741.84695999999997,0,0,528.604602,0,1585.8138060000001,null,0,0,0,0,0,null,0,1,0,0,0,0,null,0,1,0,0,0,0,null,0,1,0,0,0,0,null,0,1,0,0,0,0,null,0,1,0,0,0,0,{"$f":"IF(ISERROR(VLOOKUP(A294,'7ª MEDIÇÃO'!$A$5:$J$1048576,8,0)),0,(VLOOKUP(A294,'7ª MEDIÇÃO'!$A$5:$J$1048576,8,0)))","v":0},0,1,0,0,0,0,{"$f":"IF(ISERROR(VLOOKUP(A294,'8ª MEDIÇÃO'!$A$5:$J$1048576,8,0)),0,(VLOOKUP(A294,'8ª MEDIÇÃO'!$A$5:$J$1048576,8,0)))","v":0},0,1,0,0,0,0,{"$f":"IF(ISERROR(VLOOKUP(A294,'9ª MEDIÇÃO'!$A$5:$J$1048576,8,0)),0,(VLOOKUP(A294,'9ª MEDIÇÃO'!$A$5:$J$1048576,8,0)))","v":0},0,1,0,0,0,0,{"$f":"IF(ISERROR(VLOOKUP(A294,#REF!,8,0)),0,(VLOOKUP(A294,#REF!,8,0)))","v":0},0,1,0,0,0,0,{"$f":"IF(ISERROR(VLOOKUP($A294,#REF!,8,0)),0,(VLOOKUP($A294,#REF!,8,0)))","v":0},0,1,0,0,0,0,{"$f":"IF(ISERROR(VLOOKUP($A294,#REF!,8,0)),0,(VLOOKUP($A294,#REF!,8,0)))","v":0},0,1,0,0,0,0,{"$f":"IF(ISERROR(VLOOKUP($A294,#REF!,8,0)),0,(VLOOKUP($A294,#REF!,8,0)))","v":0},0,1,0,0,0,0,{"$f":"IF(ISERROR(VLOOKUP($A294,#REF!,8,0)),0,(VLOOKUP($A294,#REF!,8,0)))","v":0},0,1,0,0,0,0,{"$f":"IF(ISERROR(VLOOKUP($A294,#REF!,8,0)),0,(VLOOKUP($A294,#REF!,8,0)))","v":0},0,1,0,0,0,0,{"$f":"IF(ISERROR(VLOOKUP($A294,#REF!,8,0)),0,(VLOOKUP($A294,#REF!,8,0)))","v":0},0,1,0,0,0,0,{"$f":"IF(ISERROR(VLOOKUP($A294,#REF!,8,0)),0,(VLOOKUP($A294,#REF!,8,0)))","v":0},0,1,0,0,0,0,{"$f":"IF(ISERROR(VLOOKUP($A294,#REF!,8,0)),0,(VLOOKUP($A294,#REF!,8,0)))","v":0},0,1,0,0,0,0,{"$f":"IF(ISERROR(VLOOKUP($A294,#REF!,8,0)),0,(VLOOKUP($A294,#REF!,8,0)))","v":0},0,1,0,0,0,0,{"$f":"IF(ISERROR(VLOOKUP($A294,#REF!,8,0)),0,(VLOOKUP($A294,#REF!,8,0)))","v":0},0,1,0,0,0,0,{"$f":"IF(ISERROR(VLOOKUP($A294,#REF!,8,0)),0,(VLOOKUP($A294,#REF!,8,0)))","v":0},0,1,0,0,0,0,{"$f":"IF(ISERROR(VLOOKUP($A294,#REF!,8,0)),0,(VLOOKUP($A294,#REF!,8,0)))","v":0},0,1,0,0,0,0,{"$f":"IF(ISERROR(VLOOKUP($A294,#REF!,8,0)),0,(VLOOKUP($A294,#REF!,8,0)))","v":0},0,1,0,0,0,0,{"$f":"IF(ISERROR(VLOOKUP($A294,#REF!,8,0)),0,(VLOOKUP($A294,#REF!,8,0)))","v":0},0,1,0,0,0,0,{"$f":"IF(ISERROR(VLOOKUP($A294,#REF!,8,0)),0,(VLOOKUP($A294,#REF!,8,0)))","v":0},0,1,0,0,0,0,{"$f":"IF(ISERROR(VLOOKUP($A294,#REF!,8,0)),0,(VLOOKUP($A294,#REF!,8,0)))","v":0},0,1,0,0,0,0,{"$f":"IF(ISERROR(VLOOKUP($A294,#REF!,8,0)),0,(VLOOKUP($A294,#REF!,8,0)))","v":0},0,1,0,0,0,0,{"$f":"IF(ISERROR(VLOOKUP($A294,#REF!,8,0)),0,(VLOOKUP($A294,#REF!,8,0)))","v":0},0,1,0,0,0,0,{"$f":"IF(ISERROR(VLOOKUP($A294,#REF!,8,0)),0,(VLOOKUP($A294,#REF!,8,0)))","v":0},0,1,0,0,0,0,{"$f":"IF(ISERROR(VLOOKUP($A294,#REF!,8,0)),0,(VLOOKUP($A294,#REF!,8,0)))","v":0},0,1,0,0,0,0,{"$f":"IF(ISERROR(VLOOKUP($A294,#REF!,8,0)),0,(VLOOKUP($A294,#REF!,8,0)))","v":0},0,1,0,0,0,0,{"$f":"IF(ISERROR(VLOOKUP($A294,#REF!,8,0)),0,(VLOOKUP($A294,#REF!,8,0)))","v":0},0,1,0,0,0,0,{"$f":"IF(ISERROR(VLOOKUP($A294,#REF!,8,0)),0,(VLOOKUP($A294,#REF!,8,0)))","v":0},0,1,0,0,0,0,{"$f":"IF(ISERROR(VLOOKUP($A294,#REF!,8,0)),0,(VLOOKUP($A294,#REF!,8,0)))","v":0},0,1,0,0,0,0,{"$f":"IF(ISERROR(VLOOKUP($A294,#REF!,8,0)),0,(VLOOKUP($A294,#REF!,8,0)))","v":0},0,1,0,0,0,0,{"$f":"IF(ISERROR(VLOOKUP($A294,#REF!,8,0)),0,(VLOOKUP($A294,#REF!,8,0)))","v":0},0,1,0,0,0,0,{"$f":"IF(ISERROR(VLOOKUP($A294,#REF!,8,0)),0,(VLOOKUP($A294,#REF!,8,0)))","v":0},0,1,0,0,0,0,{"$f":"IF(ISERROR(VLOOKUP($A294,#REF!,8,0)),0,(VLOOKUP($A294,#REF!,8,0)))","v":0},0,1,0,0,0,0,{"$f":"IF(ISERROR(VLOOKUP($A294,#REF!,8,0)),0,(VLOOKUP($A294,#REF!,8,0)))","v":0},0,1,0,0,0,0,{"$f":"IF(ISERROR(VLOOKUP($A294,#REF!,8,0)),0,(VLOOKUP($A294,#REF!,8,0)))","v":0},0,1,0,0,0,0,{"$f":"IF(ISERROR(VLOOKUP($A294,#REF!,8,0)),0,(VLOOKUP($A294,#REF!,8,0)))","v":0},0,1,0,0,0,0,{"$f":"IF(ISERROR(VLOOKUP($A294,#REF!,8,0)),0,(VLOOKUP($A294,#REF!,8,0)))","v":0},0,1,0,0,0,0,{"$f":"IF(ISERROR(VLOOKUP($A294,#REF!,8,0)),0,(VLOOKUP($A294,#REF!,8,0)))","v":0},0,1,0,0,0,0,{"$f":"IF(ISERROR(VLOOKUP($A294,#REF!,8,0)),0,(VLOOKUP($A294,#REF!,8,0)))","v":0},0,1,0,0,0,0,{"$f":"IF(ISERROR(VLOOKUP($A294,#REF!,8,0)),0,(VLOOKUP($A294,#REF!,8,0)))","v":0},0,1,0,0,0,0,{"$f":"IF(ISERROR(VLOOKUP($A294,#REF!,8,0)),0,(VLOOKUP($A294,#REF!,8,0)))","v":0},0,1,0,0,0,0,{"$f":"IF(ISERROR(VLOOKUP($A294,#REF!,8,0)),0,(VLOOKUP($A294,#REF!,8,0)))","v":0},0,1,0,0,0,0,{"$f":"IF(ISERROR(VLOOKUP($A294,#REF!,8,0)),0,(VLOOKUP($A294,#REF!,8,0)))","v":0},0,1,0,0,0,0,{"$f":"IF(ISERROR(VLOOKUP($A294,#REF!,8,0)),0,(VLOOKUP($A294,#REF!,8,0)))","v":0},0,1,0,0,0,0,{"$f":"IF(ISERROR(VLOOKUP($A294,#REF!,8,0)),0,(VLOOKUP($A294,#REF!,8,0)))","v":0},0,1,0,0,0,0,{"$f":"IF(ISERROR(VLOOKUP($A294,#REF!,8,0)),0,(VLOOKUP($A294,#REF!,8,0)))","v":0},0,1,0,0,0,0,{"$f":"IF(ISERROR(VLOOKUP($A294,#REF!,8,0)),0,(VLOOKUP($A294,#REF!,8,0)))","v":0},0,1,0,0,0,0,{"$f":"IF(ISERROR(VLOOKUP($A294,#REF!,8,0)),0,(VLOOKUP($A294,#REF!,8,0)))","v":0},0,1,0,0,0,0,{"$f":"IF(ISERROR(VLOOKUP($A294,#REF!,8,0)),0,(VLOOKUP($A294,#REF!,8,0)))","v":0},0,1,0,0,0,0,{"$f":"IF(ISERROR(VLOOKUP($A294,#REF!,8,0)),0,(VLOOKUP($A294,#REF!,8,0)))","v":0},0,1,0,0,0,0,1585.8138060000001,1585.8138060000001,1,0]
["13.4","Proteção mecânica de superfície com argamassa cimento e areia traço 1:3 e= 2,0cm. (Demais áreas molhadas)","m²",498,495.87,2.1299999999999955,4.977068,2478.5798639999998,14.952879999999999,7446.534239999999,0,0,19.929948,42.450789239999906,9882.6633147600005,null,0,0,0,0,0,null,0,0.99572289156626503,0,0,0,0,null,0,0.99572289156626503,0,0,0,0,null,0,0.99572289156626503,0,0,0,0,null,0,0.99572289156626503,0,0,0,0,null,0,0.99572289156626503,0,0,0,0,{"$f":"IF(ISERROR(VLOOKUP(A303,'7ª MEDIÇÃO'!$A$5:$J$1048576,8,0)),0,(VLOOKUP(A303,'7ª MEDIÇÃO'!$A$5:$J$1048576,8,0)))","v":0},0,0.99572289156626503,0,0,0,0,{"$f":"IF(ISERROR(VLOOKUP(A303,'8ª MEDIÇÃO'!$A$5:$J$1048576,8,0)),0,(VLOOKUP(A303,'8ª MEDIÇÃO'!$A$5:$J$1048576,8,0)))","v":0},0,0.99572289156626503,0,0,0,0,{"$f":"IF(ISERROR(VLOOKUP(A303,'9ª MEDIÇÃO'!$A$5:$J$1048576,8,0)),0,(VLOOKUP(A303,'9ª MEDIÇÃO'!$A$5:$J$1048576,8,0)))","v":0},0,0.99572289156626503,0,0,0,0,{"$f":"IF(ISERROR(VLOOKUP(A303,#REF!,8,0)),0,(VLOOKUP(A303,#REF!,8,0)))","v":0},0,0.99572289156626503,0,0,0,0,{"$f":"IF(ISERROR(VLOOKUP($A303,#REF!,8,0)),0,(VLOOKUP($A303,#REF!,8,0)))","v":0},0,0.99572289156626503,0,0,0,0,{"$f":"IF(ISERROR(VLOOKUP($A303,#REF!,8,0)),0,(VLOOKUP($A303,#REF!,8,0)))","v":0},0,0.99572289156626503,0,0,0,0,{"$f":"IF(ISERROR(VLOOKUP($A303,#REF!,8,0)),0,(VLOOKUP($A303,#REF!,8,0)))","v":0},0,0.99572289156626503,0,0,0,0,{"$f":"IF(ISERROR(VLOOKUP($A303,#REF!,8,0)),0,(VLOOKUP($A303,#REF!,8,0)))","v":0},0,0.99572289156626503,0,0,0,0,{"$f":"IF(ISERROR(VLOOKUP($A303,#REF!,8,0)),0,(VLOOKUP($A303,#REF!,8,0)))","v":0},0,0.99572289156626503,0,0,0,0,{"$f":"IF(ISERROR(VLOOKUP($A303,#REF!,8,0)),0,(VLOOKUP($A303,#REF!,8,0)))","v":0},0,0.99572289156626503,0,0,0,0,{"$f":"IF(ISERROR(VLOOKUP($A303,#REF!,8,0)),0,(VLOOKUP($A303,#REF!,8,0)))","v":0},0,0.99572289156626503,0,0,0,0,{"$f":"IF(ISERROR(VLOOKUP($A303,#REF!,8,0)),0,(VLOOKUP($A303,#REF!,8,0)))","v":0},0,0.99572289156626503,0,0,0,0,{"$f":"IF(ISERROR(VLOOKUP($A303,#REF!,8,0)),0,(VLOOKUP($A303,#REF!,8,0)))","v":0},0,0.99572289156626503,0,0,0,0,{"$f":"IF(ISERROR(VLOOKUP($A303,#REF!,8,0)),0,(VLOOKUP($A303,#REF!,8,0)))","v":0},0,0.99572289156626503,0,0,0,0,{"$f":"IF(ISERROR(VLOOKUP($A303,#REF!,8,0)),0,(VLOOKUP($A303,#REF!,8,0)))","v":0},0,0.99572289156626503,0,0,0,0,{"$f":"IF(ISERROR(VLOOKUP($A303,#REF!,8,0)),0,(VLOOKUP($A303,#REF!,8,0)))","v":0},0,0.99572289156626503,0,0,0,0,{"$f":"IF(ISERROR(VLOOKUP($A303,#REF!,8,0)),0,(VLOOKUP($A303,#REF!,8,0)))","v":0},0,0.99572289156626503,0,0,0,0,{"$f":"IF(ISERROR(VLOOKUP($A303,#REF!,8,0)),0,(VLOOKUP($A303,#REF!,8,0)))","v":0},0,0.99572289156626503,0,0,0,0,{"$f":"IF(ISERROR(VLOOKUP($A303,#REF!,8,0)),0,(VLOOKUP($A303,#REF!,8,0)))","v":0},0,0.99572289156626503,0,0,0,0,{"$f":"IF(ISERROR(VLOOKUP($A303,#REF!,8,0)),0,(VLOOKUP($A303,#REF!,8,0)))","v":0},0,0.99572289156626503,0,0,0,0,{"$f":"IF(ISERROR(VLOOKUP($A303,#REF!,8,0)),0,(VLOOKUP($A303,#REF!,8,0)))","v":0},0,0.99572289156626503,0,0,0,0,{"$f":"IF(ISERROR(VLOOKUP($A303,#REF!,8,0)),0,(VLOOKUP($A303,#REF!,8,0)))","v":0},0,0.99572289156626503,0,0,0,0,{"$f":"IF(ISERROR(VLOOKUP($A303,#REF!,8,0)),0,(VLOOKUP($A303,#REF!,8,0)))","v":0},0,0.99572289156626503,0,0,0,0,{"$f":"IF(ISERROR(VLOOKUP($A303,#REF!,8,0)),0,(VLOOKUP($A303,#REF!,8,0)))","v":0},0,0.99572289156626503,0,0,0,0,{"$f":"IF(ISERROR(VLOOKUP($A303,#REF!,8,0)),0,(VLOOKUP($A303,#REF!,8,0)))","v":0},0,0.99572289156626503,0,0,0,0,{"$f":"IF(ISERROR(VLOOKUP($A303,#REF!,8,0)),0,(VLOOKUP($A303,#REF!,8,0)))","v":0},0,0.99572289156626503,0,0,0,0,{"$f":"IF(ISERROR(VLOOKUP($A303,#REF!,8,0)),0,(VLOOKUP($A303,#REF!,8,0)))","v":0},0,0.99572289156626503,0,0,0,0,{"$f":"IF(ISERROR(VLOOKUP($A303,#REF!,8,0)),0,(VLOOKUP($A303,#REF!,8,0)))","v":0},0,0.99572289156626503,0,0,0,0,{"$f":"IF(ISERROR(VLOOKUP($A303,#REF!,8,0)),0,(VLOOKUP($A303,#REF!,8,0)))","v":0},0,0.99572289156626503,0,0,0,0,{"$f":"IF(ISERROR(VLOOKUP($A303,#REF!,8,0)),0,(VLOOKUP($A303,#REF!,8,0)))","v":0},0,0.99572289156626503,0,0,0,0,{"$f":"IF(ISERROR(VLOOKUP($A303,#REF!,8,0)),0,(VLOOKUP($A303,#REF!,8,0)))","v":0},0,0.99572289156626503,0,0,0,0,{"$f":"IF(ISERROR(VLOOKUP($A303,#REF!,8,0)),0,(VLOOKUP($A303,#REF!,8,0)))","v":0},0,0.99572289156626503,0,0,0,0,{"$f":"IF(ISERROR(VLOOKUP($A303,#REF!,8,0)),0,(VLOOKUP($A303,#REF!,8,0)))","v":0},0,0.99572289156626503,0,0,0,0,{"$f":"IF(ISERROR(VLOOKUP($A303,#REF!,8,0)),0,(VLOOKUP($A303,#REF!,8,0)))","v":0},0,0.99572289156626503,0,0,0,0,{"$f":"IF(ISERROR(VLOOKUP($A303,#REF!,8,0)),0,(VLOOKUP($A303,#REF!,8,0)))","v":0},0,0.99572289156626503,0,0,0,0,{"$f":"IF(ISERROR(VLOOKUP($A303,#REF!,8,0)),0,(VLOOKUP($A303,#REF!,8,0)))","v":0},0,0.99572289156626503,0,0,0,0,{"$f":"IF(ISERROR(VLOOKUP($A303,#REF!,8,0)),0,(VLOOKUP($A303,#REF!,8,0)))","v":0},0,0.99572289156626503,0,0,0,0,{"$f":"IF(ISERROR(VLOOKUP($A303,#REF!,8,0)),0,(VLOOKUP($A303,#REF!,8,0)))","v":0},0,0.99572289156626503,0,0,0,0,{"$f":"IF(ISERROR(VLOOKUP($A303,#REF!,8,0)),0,(VLOOKUP($A303,#REF!,8,0)))","v":0},0,0.99572289156626503,0,0,0,0,{"$f":"IF(ISERROR(VLOOKUP($A303,#REF!,8,0)),0,(VLOOKUP($A303,#REF!,8,0)))","v":0},0,0.99572289156626503,0,0,0,0,{"$f":"IF(ISERROR(VLOOKUP($A303,#REF!,8,0)),0,(VLOOKUP($A303,#REF!,8,0)))","v":0},0,0.99572289156626503,0,0,0,0,{"$f":"IF(ISERROR(VLOOKUP($A303,#REF!,8,0)),0,(VLOOKUP($A303,#REF!,8,0)))","v":0},0,0.99572289156626503,0,0,0,0,{"$f":"IF(ISERROR(VLOOKUP($A303,#REF!,8,0)),0,(VLOOKUP($A303,#REF!,8,0)))","v":0},0,0.99572289156626503,0,0,0,0,{"$f":"IF(ISERROR(VLOOKUP($A303,#REF!,8,0)),0,(VLOOKUP($A303,#REF!,8,0)))","v":0},0,0.99572289156626503,0,0,0,0,{"$f":"IF(ISERROR(VLOOKUP($A303,#REF!,8,0)),0,(VLOOKUP($A303,#REF!,8,0)))","v":0},0,0.99572289156626503,0,0,0,0,{"$f":"IF(ISERROR(VLOOKUP($A303,#REF!,8,0)),0,(VLOOKUP($A303,#REF!,8,0)))","v":0},0,0.99572289156626503,0,0,0,0,{"$f":"IF(ISERROR(VLOOKUP($A303,#REF!,8,0)),0,(VLOOKUP($A303,#REF!,8,0)))","v":0},0,0.99572289156626503,0,0,0,0,{"$f":"IF(ISERROR(VLOOKUP($A303,#REF!,8,0)),0,(VLOOKUP($A303,#REF!,8,0)))","v":0},0,0.99572289156626503,0,0,0,0,{"$f":"IF(ISERROR(VLOOKUP($A303,#REF!,8,0)),0,(VLOOKUP($A303,#REF!,8,0)))","v":0},0,0.99572289156626503,0,0,0,0,{"$f":"E303*M303","v":9882.6633147600005},{"$f":"O303","v":9882.6633147600005},1,0]
["15.4","Fornecimento e aplicação de borda de acabamento em forro de gesso em placas 60 x 60 cm, espessura 1,2 cm, inclusive fixação com arame, conforme planta de paginação de forro.","m²",593,0,593,7.4420139999999995,4413.114302,11.643839999999999,6904.7971199999993,0,0,19.085853999999998,11317.911421999999,0,null,0,0,0,0,0,null,0,0,0,0,0,0,null,0,0,0,0,0,0,null,0,0,0,0,0,0,null,0,0,0,0,0,0,null,0,0,0,0,0,0,{"$f":"IF(ISERROR(VLOOKUP(A313,'7ª MEDIÇÃO'!$A$5:$J$1048576,8,0)),0,(VLOOKUP(A313,'7ª MEDIÇÃO'!$A$5:$J$1048576,8,0)))","v":0},0,0,0,0,0,0,{"$f":"IF(ISERROR(VLOOKUP(A313,'8ª MEDIÇÃO'!$A$5:$J$1048576,8,0)),0,(VLOOKUP(A313,'8ª MEDIÇÃO'!$A$5:$J$1048576,8,0)))","v":0},0,0,0,0,0,0,{"$f":"IF(ISERROR(VLOOKUP(A313,'9ª MEDIÇÃO'!$A$5:$J$1048576,8,0)),0,(VLOOKUP(A313,'9ª MEDIÇÃO'!$A$5:$J$1048576,8,0)))","v":0},0,0,0,0,0,0,{"$f":"IF(ISERROR(VLOOKUP(A313,#REF!,8,0)),0,(VLOOKUP(A313,#REF!,8,0)))","v":0},0,0,0,0,0,0,{"$f":"IF(ISERROR(VLOOKUP($A313,#REF!,8,0)),0,(VLOOKUP($A313,#REF!,8,0)))","v":0},0,0,0,0,0,0,{"$f":"IF(ISERROR(VLOOKUP($A313,#REF!,8,0)),0,(VLOOKUP($A313,#REF!,8,0)))","v":0},0,0,0,0,0,0,{"$f":"IF(ISERROR(VLOOKUP($A313,#REF!,8,0)),0,(VLOOKUP($A313,#REF!,8,0)))","v":0},0,0,0,0,0,0,{"$f":"IF(ISERROR(VLOOKUP($A313,#REF!,8,0)),0,(VLOOKUP($A313,#REF!,8,0)))","v":0},0,0,0,0,0,0,{"$f":"IF(ISERROR(VLOOKUP($A313,#REF!,8,0)),0,(VLOOKUP($A313,#REF!,8,0)))","v":0},0,0,0,0,0,0,{"$f":"IF(ISERROR(VLOOKUP($A313,#REF!,8,0)),0,(VLOOKUP($A313,#REF!,8,0)))","v":0},0,0,0,0,0,0,{"$f":"IF(ISERROR(VLOOKUP($A313,#REF!,8,0)),0,(VLOOKUP($A313,#REF!,8,0)))","v":0},0,0,0,0,0,0,{"$f":"IF(ISERROR(VLOOKUP($A313,#REF!,8,0)),0,(VLOOKUP($A313,#REF!,8,0)))","v":0},0,0,0,0,0,0,{"$f":"IF(ISERROR(VLOOKUP($A313,#REF!,8,0)),0,(VLOOKUP($A313,#REF!,8,0)))","v":0},0,0,0,0,0,0,{"$f":"IF(ISERROR(VLOOKUP($A313,#REF!,8,0)),0,(VLOOKUP($A313,#REF!,8,0)))","v":0},0,0,0,0,0,0,{"$f":"IF(ISERROR(VLOOKUP($A313,#REF!,8,0)),0,(VLOOKUP($A313,#REF!,8,0)))","v":0},0,0,0,0,0,0,{"$f":"IF(ISERROR(VLOOKUP($A313,#REF!,8,0)),0,(VLOOKUP($A313,#REF!,8,0)))","v":0},0,0,0,0,0,0,{"$f":"IF(ISERROR(VLOOKUP($A313,#REF!,8,0)),0,(VLOOKUP($A313,#REF!,8,0)))","v":0},0,0,0,0,0,0,{"$f":"IF(ISERROR(VLOOKUP($A313,#REF!,8,0)),0,(VLOOKUP($A313,#REF!,8,0)))","v":0},0,0,0,0,0,0,{"$f":"IF(ISERROR(VLOOKUP($A313,#REF!,8,0)),0,(VLOOKUP($A313,#REF!,8,0)))","v":0},0,0,0,0,0,0,{"$f":"IF(ISERROR(VLOOKUP($A313,#REF!,8,0)),0,(VLOOKUP($A313,#REF!,8,0)))","v":0},0,0,0,0,0,0,{"$f":"IF(ISERROR(VLOOKUP($A313,#REF!,8,0)),0,(VLOOKUP($A313,#REF!,8,0)))","v":0},0,0,0,0,0,0,{"$f":"IF(ISERROR(VLOOKUP($A313,#REF!,8,0)),0,(VLOOKUP($A313,#REF!,8,0)))","v":0},0,0,0,0,0,0,{"$f":"IF(ISERROR(VLOOKUP($A313,#REF!,8,0)),0,(VLOOKUP($A313,#REF!,8,0)))","v":0},0,0,0,0,0,0,{"$f":"IF(ISERROR(VLOOKUP($A313,#REF!,8,0)),0,(VLOOKUP($A313,#REF!,8,0)))","v":0},0,0,0,0,0,0,{"$f":"IF(ISERROR(VLOOKUP($A313,#REF!,8,0)),0,(VLOOKUP($A313,#REF!,8,0)))","v":0},0,0,0,0,0,0,{"$f":"IF(ISERROR(VLOOKUP($A313,#REF!,8,0)),0,(VLOOKUP($A313,#REF!,8,0)))","v":0},0,0,0,0,0,0,{"$f":"IF(ISERROR(VLOOKUP($A313,#REF!,8,0)),0,(VLOOKUP($A313,#REF!,8,0)))","v":0},0,0,0,0,0,0,{"$f":"IF(ISERROR(VLOOKUP($A313,#REF!,8,0)),0,(VLOOKUP($A313,#REF!,8,0)))","v":0},0,0,0,0,0,0,{"$f":"IF(ISERROR(VLOOKUP($A313,#REF!,8,0)),0,(VLOOKUP($A313,#REF!,8,0)))","v":0},0,0,0,0,0,0,{"$f":"IF(ISERROR(VLOOKUP($A313,#REF!,8,0)),0,(VLOOKUP($A313,#REF!,8,0)))","v":0},0,0,0,0,0,0,{"$f":"IF(ISERROR(VLOOKUP($A313,#REF!,8,0)),0,(VLOOKUP($A313,#REF!,8,0)))","v":0},0,0,0,0,0,0,{"$f":"IF(ISERROR(VLOOKUP($A313,#REF!,8,0)),0,(VLOOKUP($A313,#REF!,8,0)))","v":0},0,0,0,0,0,0,{"$f":"IF(ISERROR(VLOOKUP($A313,#REF!,8,0)),0,(VLOOKUP($A313,#REF!,8,0)))","v":0},0,0,0,0,0,0,{"$f":"IF(ISERROR(VLOOKUP($A313,#REF!,8,0)),0,(VLOOKUP($A313,#REF!,8,0)))","v":0},0,0,0,0,0,0,{"$f":"IF(ISERROR(VLOOKUP($A313,#REF!,8,0)),0,(VLOOKUP($A313,#REF!,8,0)))","v":0},0,0,0,0,0,0,{"$f":"IF(ISERROR(VLOOKUP($A313,#REF!,8,0)),0,(VLOOKUP($A313,#REF!,8,0)))","v":0},0,0,0,0,0,0,{"$f":"IF(ISERROR(VLOOKUP($A313,#REF!,8,0)),0,(VLOOKUP($A313,#REF!,8,0)))","v":0},0,0,0,0,0,0,{"$f":"IF(ISERROR(VLOOKUP($A313,#REF!,8,0)),0,(VLOOKUP($A313,#REF!,8,0)))","v":0},0,0,0,0,0,0,{"$f":"IF(ISERROR(VLOOKUP($A313,#REF!,8,0)),0,(VLOOKUP($A313,#REF!,8,0)))","v":0},0,0,0,0,0,0,{"$f":"IF(ISERROR(VLOOKUP($A313,#REF!,8,0)),0,(VLOOKUP($A313,#REF!,8,0)))","v":0},0,0,0,0,0,0,{"$f":"IF(ISERROR(VLOOKUP($A313,#REF!,8,0)),0,(VLOOKUP($A313,#REF!,8,0)))","v":0},0,0,0,0,0,0,{"$f":"IF(ISERROR(VLOOKUP($A313,#REF!,8,0)),0,(VLOOKUP($A313,#REF!,8,0)))","v":0},0,0,0,0,0,0,{"$f":"IF(ISERROR(VLOOKUP($A313,#REF!,8,0)),0,(VLOOKUP($A313,#REF!,8,0)))","v":0},0,0,0,0,0,0,{"$f":"IF(ISERROR(VLOOKUP($A313,#REF!,8,0)),0,(VLOOKUP($A313,#REF!,8,0)))","v":0},0,0,0,0,0,0,{"$f":"IF(ISERROR(VLOOKUP($A313,#REF!,8,0)),0,(VLOOKUP($A313,#REF!,8,0)))","v":0},0,0,0,0,0,0,{"$f":"IF(ISERROR(VLOOKUP($A313,#REF!,8,0)),0,(VLOOKUP($A313,#REF!,8,0)))","v":0},0,0,0,0,0,0,{"$f":"IF(ISERROR(VLOOKUP($A313,#REF!,8,0)),0,(VLOOKUP($A313,#REF!,8,0)))","v":0},0,0,0,0,0,0,{"$f":"IF(ISERROR(VLOOKUP($A313,#REF!,8,0)),0,(VLOOKUP($A313,#REF!,8,0)))","v":0},0,0,0,0,0,0,{"$f":"IF(ISERROR(VLOOKUP($A313,#REF!,8,0)),0,(VLOOKUP($A313,#REF!,8,0)))","v":0},0,0,0,0,0,0,{"$f":"E313*M313","v":0},{"$f":"O313","v":0},{"$error":"#DIV/0!"},0]
["16.0","INSTALAÇÕES HIDROSSANITÁRIAS / SISTEMA DE DESTINO FINAL DE ESGOTO  ",null,null,0,0,null,0,null,0,null,0,0,0,0,null,0,0,0,0,0,null,0,0,0,0,0,0,null,0,0,0,0,0,0,null,0,0,0,0,0,0,null,0,0,0,0,0,0,null,0,0,0,0,0,0,{"$f":"IF(ISERROR(VLOOKUP(A314,'7ª MEDIÇÃO'!$A$5:$J$1048576,8,0)),0,(VLOOKUP(A314,'7ª MEDIÇÃO'!$A$5:$J$1048576,8,0)))","v":0},0,0,0,0,0,0,{"$f":"IF(ISERROR(VLOOKUP(A314,'8ª MEDIÇÃO'!$A$5:$J$1048576,8,0)),0,(VLOOKUP(A314,'8ª MEDIÇÃO'!$A$5:$J$1048576,8,0)))","v":0},0,0,0,0,0,0,{"$f":"IF(ISERROR(VLOOKUP(A314,'9ª MEDIÇÃO'!$A$5:$J$1048576,8,0)),0,(VLOOKUP(A314,'9ª MEDIÇÃO'!$A$5:$J$1048576,8,0)))","v":0},0,0,0,0,0,0,{"$f":"IF(ISERROR(VLOOKUP(A314,#REF!,8,0)),0,(VLOOKUP(A314,#REF!,8,0)))","v":0},0,0,0,0,0,0,{"$f":"IF(ISERROR(VLOOKUP($A314,#REF!,8,0)),0,(VLOOKUP($A314,#REF!,8,0)))","v":0},0,0,0,0,0,0,{"$f":"IF(ISERROR(VLOOKUP($A314,#REF!,8,0)),0,(VLOOKUP($A314,#REF!,8,0)))","v":0},0,0,0,0,0,0,{"$f":"IF(ISERROR(VLOOKUP($A314,#REF!,8,0)),0,(VLOOKUP($A314,#REF!,8,0)))","v":0},0,0,0,0,0,0,{"$f":"IF(ISERROR(VLOOKUP($A314,#REF!,8,0)),0,(VLOOKUP($A314,#REF!,8,0)))","v":0},0,0,0,0,0,0,{"$f":"IF(ISERROR(VLOOKUP($A314,#REF!,8,0)),0,(VLOOKUP($A314,#REF!,8,0)))","v":0},0,0,0,0,0,0,{"$f":"IF(ISERROR(VLOOKUP($A314,#REF!,8,0)),0,(VLOOKUP($A314,#REF!,8,0)))","v":0},0,0,0,0,0,0,{"$f":"IF(ISERROR(VLOOKUP($A314,#REF!,8,0)),0,(VLOOKUP($A314,#REF!,8,0)))","v":0},0,0,0,0,0,0,{"$f":"IF(ISERROR(VLOOKUP($A314,#REF!,8,0)),0,(VLOOKUP($A314,#REF!,8,0)))","v":0},0,0,0,0,0,0,{"$f":"IF(ISERROR(VLOOKUP($A314,#REF!,8,0)),0,(VLOOKUP($A314,#REF!,8,0)))","v":0},0,0,0,0,0,0,{"$f":"IF(ISERROR(VLOOKUP($A314,#REF!,8,0)),0,(VLOOKUP($A314,#REF!,8,0)))","v":0},0,0,0,0,0,0,{"$f":"IF(ISERROR(VLOOKUP($A314,#REF!,8,0)),0,(VLOOKUP($A314,#REF!,8,0)))","v":0},0,0,0,0,0,0,{"$f":"IF(ISERROR(VLOOKUP($A314,#REF!,8,0)),0,(VLOOKUP($A314,#REF!,8,0)))","v":0},0,0,0,0,0,0,{"$f":"IF(ISERROR(VLOOKUP($A314,#REF!,8,0)),0,(VLOOKUP($A314,#REF!,8,0)))","v":0},0,0,0,0,0,0,{"$f":"IF(ISERROR(VLOOKUP($A314,#REF!,8,0)),0,(VLOOKUP($A314,#REF!,8,0)))","v":0},0,0,0,0,0,0,{"$f":"IF(ISERROR(VLOOKUP($A314,#REF!,8,0)),0,(VLOOKUP($A314,#REF!,8,0)))","v":0},0,0,0,0,0,0,{"$f":"IF(ISERROR(VLOOKUP($A314,#REF!,8,0)),0,(VLOOKUP($A314,#REF!,8,0)))","v":0},0,0,0,0,0,0,{"$f":"IF(ISERROR(VLOOKUP($A314,#REF!,8,0)),0,(VLOOKUP($A314,#REF!,8,0)))","v":0},0,0,0,0,0,0,{"$f":"IF(ISERROR(VLOOKUP($A314,#REF!,8,0)),0,(VLOOKUP($A314,#REF!,8,0)))","v":0},0,0,0,0,0,0,{"$f":"IF(ISERROR(VLOOKUP($A314,#REF!,8,0)),0,(VLOOKUP($A314,#REF!,8,0)))","v":0},0,0,0,0,0,0,{"$f":"IF(ISERROR(VLOOKUP($A314,#REF!,8,0)),0,(VLOOKUP($A314,#REF!,8,0)))","v":0},0,0,0,0,0,0,{"$f":"IF(ISERROR(VLOOKUP($A314,#REF!,8,0)),0,(VLOOKUP($A314,#REF!,8,0)))","v":0},0,0,0,0,0,0,{"$f":"IF(ISERROR(VLOOKUP($A314,#REF!,8,0)),0,(VLOOKUP($A314,#REF!,8,0)))","v":0},0,0,0,0,0,0,{"$f":"IF(ISERROR(VLOOKUP($A314,#REF!,8,0)),0,(VLOOKUP($A314,#REF!,8,0)))","v":0},0,0,0,0,0,0,{"$f":"IF(ISERROR(VLOOKUP($A314,#REF!,8,0)),0,(VLOOKUP($A314,#REF!,8,0)))","v":0},0,0,0,0,0,0,{"$f":"IF(ISERROR(VLOOKUP($A314,#REF!,8,0)),0,(VLOOKUP($A314,#REF!,8,0)))","v":0},0,0,0,0,0,0,{"$f":"IF(ISERROR(VLOOKUP($A314,#REF!,8,0)),0,(VLOOKUP($A314,#REF!,8,0)))","v":0},0,0,0,0,0,0,{"$f":"IF(ISERROR(VLOOKUP($A314,#REF!,8,0)),0,(VLOOKUP($A314,#REF!,8,0)))","v":0},0,0,0,0,0,0,{"$f":"IF(ISERROR(VLOOKUP($A314,#REF!,8,0)),0,(VLOOKUP($A314,#REF!,8,0)))","v":0},0,0,0,0,0,0,{"$f":"IF(ISERROR(VLOOKUP($A314,#REF!,8,0)),0,(VLOOKUP($A314,#REF!,8,0)))","v":0},0,0,0,0,0,0,{"$f":"IF(ISERROR(VLOOKUP($A314,#REF!,8,0)),0,(VLOOKUP($A314,#REF!,8,0)))","v":0},0,0,0,0,0,0,{"$f":"IF(ISERROR(VLOOKUP($A314,#REF!,8,0)),0,(VLOOKUP($A314,#REF!,8,0)))","v":0},0,0,0,0,0,0,{"$f":"IF(ISERROR(VLOOKUP($A314,#REF!,8,0)),0,(VLOOKUP($A314,#REF!,8,0)))","v":0},0,0,0,0,0,0,{"$f":"IF(ISERROR(VLOOKUP($A314,#REF!,8,0)),0,(VLOOKUP($A314,#REF!,8,0)))","v":0},0,0,0,0,0,0,{"$f":"IF(ISERROR(VLOOKUP($A314,#REF!,8,0)),0,(VLOOKUP($A314,#REF!,8,0)))","v":0},0,0,0,0,0,0,{"$f":"IF(ISERROR(VLOOKUP($A314,#REF!,8,0)),0,(VLOOKUP($A314,#REF!,8,0)))","v":0},0,0,0,0,0,0,{"$f":"IF(ISERROR(VLOOKUP($A314,#REF!,8,0)),0,(VLOOKUP($A314,#REF!,8,0)))","v":0},0,0,0,0,0,0,{"$f":"IF(ISERROR(VLOOKUP($A314,#REF!,8,0)),0,(VLOOKUP($A314,#REF!,8,0)))","v":0},0,0,0,0,0,0,{"$f":"IF(ISERROR(VLOOKUP($A314,#REF!,8,0)),0,(VLOOKUP($A314,#REF!,8,0)))","v":0},0,0,0,0,0,0,{"$f":"IF(ISERROR(VLOOKUP($A314,#REF!,8,0)),0,(VLOOKUP($A314,#REF!,8,0)))","v":0},0,0,0,0,0,0,{"$f":"IF(ISERROR(VLOOKUP($A314,#REF!,8,0)),0,(VLOOKUP($A314,#REF!,8,0)))","v":0},0,0,0,0,0,0,{"$f":"IF(ISERROR(VLOOKUP($A314,#REF!,8,0)),0,(VLOOKUP($A314,#REF!,8,0)))","v":0},0,0,0,0,0,0,{"$f":"IF(ISERROR(VLOOKUP($A314,#REF!,8,0)),0,(VLOOKUP($A314,#REF!,8,0)))","v":0},0,0,0,0,0,0,{"$f":"IF(ISERROR(VLOOKUP($A314,#REF!,8,0)),0,(VLOOKUP($A314,#REF!,8,0)))","v":0},0,0,0,0,0,0,{"$f":"IF(ISERROR(VLOOKUP($A314,#REF!,8,0)),0,(VLOOKUP($A314,#REF!,8,0)))","v":0},0,0,0,0,0,0,{"$f":"IF(ISERROR(VLOOKUP($A314,#REF!,8,0)),0,(VLOOKUP($A314,#REF!,8,0)))","v":0},0,0,0,0,0,0,{"$f":"SUM(OJ315:OJ373)","v":224060.01734205999},{"$f":"SUM(OK315:OK373)","v":224060.01734205999},1,0]
["16.9","Fornecimento e assentamento de tubos soldáveis de PVC rígido diâmetro 25 mm, inclusive conexões  abertura e fechamento de valas.","m",273,260,13,4.0099599999999995,1094.7190799999998,6.3817199999999996,1742.2095599999998,0,0,10.391679999999999,135.09183999999999,2701.8367999999996,null,0,0,0,0,0,null,0,0.95238095238095233,0,0,0,0,null,0,0.95238095238095233,0,0,0,0,null,0,0.95238095238095233,0,0,0,0,null,0,0.95238095238095233,0,0,0,0,null,0,0.95238095238095233,0,0,0,0,{"$f":"IF(ISERROR(VLOOKUP(A323,'7ª MEDIÇÃO'!$A$5:$J$1048576,8,0)),0,(VLOOKUP(A323,'7ª MEDIÇÃO'!$A$5:$J$1048576,8,0)))","v":0},0,0.95238095238095233,0,0,0,0,{"$f":"IF(ISERROR(VLOOKUP(A323,'8ª MEDIÇÃO'!$A$5:$J$1048576,8,0)),0,(VLOOKUP(A323,'8ª MEDIÇÃO'!$A$5:$J$1048576,8,0)))","v":0},0,0.95238095238095233,0,0,0,0,{"$f":"IF(ISERROR(VLOOKUP(A323,'9ª MEDIÇÃO'!$A$5:$J$1048576,8,0)),0,(VLOOKUP(A323,'9ª MEDIÇÃO'!$A$5:$J$1048576,8,0)))","v":0},0,0.95238095238095233,0,0,0,0,{"$f":"IF(ISERROR(VLOOKUP(A323,#REF!,8,0)),0,(VLOOKUP(A323,#REF!,8,0)))","v":0},0,0.95238095238095233,0,0,0,0,{"$f":"IF(ISERROR(VLOOKUP($A323,#REF!,8,0)),0,(VLOOKUP($A323,#REF!,8,0)))","v":0},0,0.95238095238095233,0,0,0,0,{"$f":"IF(ISERROR(VLOOKUP($A323,#REF!,8,0)),0,(VLOOKUP($A323,#REF!,8,0)))","v":0},0,0.95238095238095233,0,0,0,0,{"$f":"IF(ISERROR(VLOOKUP($A323,#REF!,8,0)),0,(VLOOKUP($A323,#REF!,8,0)))","v":0},0,0.95238095238095233,0,0,0,0,{"$f":"IF(ISERROR(VLOOKUP($A323,#REF!,8,0)),0,(VLOOKUP($A323,#REF!,8,0)))","v":0},0,0.95238095238095233,0,0,0,0,{"$f":"IF(ISERROR(VLOOKUP($A323,#REF!,8,0)),0,(VLOOKUP($A323,#REF!,8,0)))","v":0},0,0.95238095238095233,0,0,0,0,{"$f":"IF(ISERROR(VLOOKUP($A323,#REF!,8,0)),0,(VLOOKUP($A323,#REF!,8,0)))","v":0},0,0.95238095238095233,0,0,0,0,{"$f":"IF(ISERROR(VLOOKUP($A323,#REF!,8,0)),0,(VLOOKUP($A323,#REF!,8,0)))","v":0},0,0.95238095238095233,0,0,0,0,{"$f":"IF(ISERROR(VLOOKUP($A323,#REF!,8,0)),0,(VLOOKUP($A323,#REF!,8,0)))","v":0},0,0.95238095238095233,0,0,0,0,{"$f":"IF(ISERROR(VLOOKUP($A323,#REF!,8,0)),0,(VLOOKUP($A323,#REF!,8,0)))","v":0},0,0.95238095238095233,0,0,0,0,{"$f":"IF(ISERROR(VLOOKUP($A323,#REF!,8,0)),0,(VLOOKUP($A323,#REF!,8,0)))","v":0},0,0.95238095238095233,0,0,0,0,{"$f":"IF(ISERROR(VLOOKUP($A323,#REF!,8,0)),0,(VLOOKUP($A323,#REF!,8,0)))","v":0},0,0.95238095238095233,0,0,0,0,{"$f":"IF(ISERROR(VLOOKUP($A323,#REF!,8,0)),0,(VLOOKUP($A323,#REF!,8,0)))","v":0},0,0.95238095238095233,0,0,0,0,{"$f":"IF(ISERROR(VLOOKUP($A323,#REF!,8,0)),0,(VLOOKUP($A323,#REF!,8,0)))","v":0},0,0.95238095238095233,0,0,0,0,{"$f":"IF(ISERROR(VLOOKUP($A323,#REF!,8,0)),0,(VLOOKUP($A323,#REF!,8,0)))","v":0},0,0.95238095238095233,0,0,0,0,{"$f":"IF(ISERROR(VLOOKUP($A323,#REF!,8,0)),0,(VLOOKUP($A323,#REF!,8,0)))","v":0},0,0.95238095238095233,0,0,0,0,{"$f":"IF(ISERROR(VLOOKUP($A323,#REF!,8,0)),0,(VLOOKUP($A323,#REF!,8,0)))","v":0},0,0.95238095238095233,0,0,0,0,{"$f":"IF(ISERROR(VLOOKUP($A323,#REF!,8,0)),0,(VLOOKUP($A323,#REF!,8,0)))","v":0},0,0.95238095238095233,0,0,0,0,{"$f":"IF(ISERROR(VLOOKUP($A323,#REF!,8,0)),0,(VLOOKUP($A323,#REF!,8,0)))","v":0},0,0.95238095238095233,0,0,0,0,{"$f":"IF(ISERROR(VLOOKUP($A323,#REF!,8,0)),0,(VLOOKUP($A323,#REF!,8,0)))","v":0},0,0.95238095238095233,0,0,0,0,{"$f":"IF(ISERROR(VLOOKUP($A323,#REF!,8,0)),0,(VLOOKUP($A323,#REF!,8,0)))","v":0},0,0.95238095238095233,0,0,0,0,{"$f":"IF(ISERROR(VLOOKUP($A323,#REF!,8,0)),0,(VLOOKUP($A323,#REF!,8,0)))","v":0},0,0.95238095238095233,0,0,0,0,{"$f":"IF(ISERROR(VLOOKUP($A323,#REF!,8,0)),0,(VLOOKUP($A323,#REF!,8,0)))","v":0},0,0.95238095238095233,0,0,0,0,{"$f":"IF(ISERROR(VLOOKUP($A323,#REF!,8,0)),0,(VLOOKUP($A323,#REF!,8,0)))","v":0},0,0.95238095238095233,0,0,0,0,{"$f":"IF(ISERROR(VLOOKUP($A323,#REF!,8,0)),0,(VLOOKUP($A323,#REF!,8,0)))","v":0},0,0.95238095238095233,0,0,0,0,{"$f":"IF(ISERROR(VLOOKUP($A323,#REF!,8,0)),0,(VLOOKUP($A323,#REF!,8,0)))","v":0},0,0.95238095238095233,0,0,0,0,{"$f":"IF(ISERROR(VLOOKUP($A323,#REF!,8,0)),0,(VLOOKUP($A323,#REF!,8,0)))","v":0},0,0.95238095238095233,0,0,0,0,{"$f":"IF(ISERROR(VLOOKUP($A323,#REF!,8,0)),0,(VLOOKUP($A323,#REF!,8,0)))","v":0},0,0.95238095238095233,0,0,0,0,{"$f":"IF(ISERROR(VLOOKUP($A323,#REF!,8,0)),0,(VLOOKUP($A323,#REF!,8,0)))","v":0},0,0.95238095238095233,0,0,0,0,{"$f":"IF(ISERROR(VLOOKUP($A323,#REF!,8,0)),0,(VLOOKUP($A323,#REF!,8,0)))","v":0},0,0.95238095238095233,0,0,0,0,{"$f":"IF(ISERROR(VLOOKUP($A323,#REF!,8,0)),0,(VLOOKUP($A323,#REF!,8,0)))","v":0},0,0.95238095238095233,0,0,0,0,{"$f":"IF(ISERROR(VLOOKUP($A323,#REF!,8,0)),0,(VLOOKUP($A323,#REF!,8,0)))","v":0},0,0.95238095238095233,0,0,0,0,{"$f":"IF(ISERROR(VLOOKUP($A323,#REF!,8,0)),0,(VLOOKUP($A323,#REF!,8,0)))","v":0},0,0.95238095238095233,0,0,0,0,{"$f":"IF(ISERROR(VLOOKUP($A323,#REF!,8,0)),0,(VLOOKUP($A323,#REF!,8,0)))","v":0},0,0.95238095238095233,0,0,0,0,{"$f":"IF(ISERROR(VLOOKUP($A323,#REF!,8,0)),0,(VLOOKUP($A323,#REF!,8,0)))","v":0},0,0.95238095238095233,0,0,0,0,{"$f":"IF(ISERROR(VLOOKUP($A323,#REF!,8,0)),0,(VLOOKUP($A323,#REF!,8,0)))","v":0},0,0.95238095238095233,0,0,0,0,{"$f":"IF(ISERROR(VLOOKUP($A323,#REF!,8,0)),0,(VLOOKUP($A323,#REF!,8,0)))","v":0},0,0.95238095238095233,0,0,0,0,{"$f":"IF(ISERROR(VLOOKUP($A323,#REF!,8,0)),0,(VLOOKUP($A323,#REF!,8,0)))","v":0},0,0.95238095238095233,0,0,0,0,{"$f":"IF(ISERROR(VLOOKUP($A323,#REF!,8,0)),0,(VLOOKUP($A323,#REF!,8,0)))","v":0},0,0.95238095238095233,0,0,0,0,{"$f":"IF(ISERROR(VLOOKUP($A323,#REF!,8,0)),0,(VLOOKUP($A323,#REF!,8,0)))","v":0},0,0.95238095238095233,0,0,0,0,{"$f":"IF(ISERROR(VLOOKUP($A323,#REF!,8,0)),0,(VLOOKUP($A323,#REF!,8,0)))","v":0},0,0.95238095238095233,0,0,0,0,{"$f":"IF(ISERROR(VLOOKUP($A323,#REF!,8,0)),0,(VLOOKUP($A323,#REF!,8,0)))","v":0},0,0.95238095238095233,0,0,0,0,{"$f":"IF(ISERROR(VLOOKUP($A323,#REF!,8,0)),0,(VLOOKUP($A323,#REF!,8,0)))","v":0},0,0.95238095238095233,0,0,0,0,{"$f":"IF(ISERROR(VLOOKUP($A323,#REF!,8,0)),0,(VLOOKUP($A323,#REF!,8,0)))","v":0},0,0.95238095238095233,0,0,0,0,{"$f":"IF(ISERROR(VLOOKUP($A323,#REF!,8,0)),0,(VLOOKUP($A323,#REF!,8,0)))","v":0},0,0.95238095238095233,0,0,0,0,{"$f":"IF(ISERROR(VLOOKUP($A323,#REF!,8,0)),0,(VLOOKUP($A323,#REF!,8,0)))","v":0},0,0.95238095238095233,0,0,0,0,2701.8367999999996,2701.8367999999996,1,0]
["16.18","Fornecimento e assentamento de tubos de PVC rígidos soldáveis diâmetro 150mm para coletores e sub-coletores de esgoto ou águas pluviais, inclusive abertura e fechamento de valas.","m",213,213.00000000000003,0,27.208758,5795.4654540000001,19.070519999999998,4062.0207599999994,0,0,46.279277999999998,0,9857.4862140000005,null,0,0,0,0,0,null,0,1.0000000000000002,0,0,0,0,null,0,1.0000000000000002,0,0,0,0,null,0,1.0000000000000002,0,0,0,0,null,0,1.0000000000000002,0,0,0,0,null,0,1.0000000000000002,0,0,0,0,{"$f":"IF(ISERROR(VLOOKUP(A332,'7ª MEDIÇÃO'!$A$5:$J$1048576,8,0)),0,(VLOOKUP(A332,'7ª MEDIÇÃO'!$A$5:$J$1048576,8,0)))","v":0},0,1.0000000000000002,0,0,0,0,{"$f":"IF(ISERROR(VLOOKUP(A332,'8ª MEDIÇÃO'!$A$5:$J$1048576,8,0)),0,(VLOOKUP(A332,'8ª MEDIÇÃO'!$A$5:$J$1048576,8,0)))","v":0},0,1.0000000000000002,0,0,0,0,{"$f":"IF(ISERROR(VLOOKUP(A332,'9ª MEDIÇÃO'!$A$5:$J$1048576,8,0)),0,(VLOOKUP(A332,'9ª MEDIÇÃO'!$A$5:$J$1048576,8,0)))","v":0},0,1.0000000000000002,0,0,0,0,{"$f":"IF(ISERROR(VLOOKUP(A332,#REF!,8,0)),0,(VLOOKUP(A332,#REF!,8,0)))","v":0},0,1.0000000000000002,0,0,0,0,{"$f":"IF(ISERROR(VLOOKUP($A332,#REF!,8,0)),0,(VLOOKUP($A332,#REF!,8,0)))","v":0},0,1.0000000000000002,0,0,0,0,{"$f":"IF(ISERROR(VLOOKUP($A332,#REF!,8,0)),0,(VLOOKUP($A332,#REF!,8,0)))","v":0},0,1.0000000000000002,0,0,0,0,{"$f":"IF(ISERROR(VLOOKUP($A332,#REF!,8,0)),0,(VLOOKUP($A332,#REF!,8,0)))","v":0},0,1.0000000000000002,0,0,0,0,{"$f":"IF(ISERROR(VLOOKUP($A332,#REF!,8,0)),0,(VLOOKUP($A332,#REF!,8,0)))","v":0},0,1.0000000000000002,0,0,0,0,{"$f":"IF(ISERROR(VLOOKUP($A332,#REF!,8,0)),0,(VLOOKUP($A332,#REF!,8,0)))","v":0},0,1.0000000000000002,0,0,0,0,{"$f":"IF(ISERROR(VLOOKUP($A332,#REF!,8,0)),0,(VLOOKUP($A332,#REF!,8,0)))","v":0},0,1.0000000000000002,0,0,0,0,{"$f":"IF(ISERROR(VLOOKUP($A332,#REF!,8,0)),0,(VLOOKUP($A332,#REF!,8,0)))","v":0},0,1.0000000000000002,0,0,0,0,{"$f":"IF(ISERROR(VLOOKUP($A332,#REF!,8,0)),0,(VLOOKUP($A332,#REF!,8,0)))","v":0},0,1.0000000000000002,0,0,0,0,{"$f":"IF(ISERROR(VLOOKUP($A332,#REF!,8,0)),0,(VLOOKUP($A332,#REF!,8,0)))","v":0},0,1.0000000000000002,0,0,0,0,{"$f":"IF(ISERROR(VLOOKUP($A332,#REF!,8,0)),0,(VLOOKUP($A332,#REF!,8,0)))","v":0},0,1.0000000000000002,0,0,0,0,{"$f":"IF(ISERROR(VLOOKUP($A332,#REF!,8,0)),0,(VLOOKUP($A332,#REF!,8,0)))","v":0},0,1.0000000000000002,0,0,0,0,{"$f":"IF(ISERROR(VLOOKUP($A332,#REF!,8,0)),0,(VLOOKUP($A332,#REF!,8,0)))","v":0},0,1.0000000000000002,0,0,0,0,{"$f":"IF(ISERROR(VLOOKUP($A332,#REF!,8,0)),0,(VLOOKUP($A332,#REF!,8,0)))","v":0},0,1.0000000000000002,0,0,0,0,{"$f":"IF(ISERROR(VLOOKUP($A332,#REF!,8,0)),0,(VLOOKUP($A332,#REF!,8,0)))","v":0},0,1.0000000000000002,0,0,0,0,{"$f":"IF(ISERROR(VLOOKUP($A332,#REF!,8,0)),0,(VLOOKUP($A332,#REF!,8,0)))","v":0},0,1.0000000000000002,0,0,0,0,{"$f":"IF(ISERROR(VLOOKUP($A332,#REF!,8,0)),0,(VLOOKUP($A332,#REF!,8,0)))","v":0},0,1.0000000000000002,0,0,0,0,{"$f":"IF(ISERROR(VLOOKUP($A332,#REF!,8,0)),0,(VLOOKUP($A332,#REF!,8,0)))","v":0},0,1.0000000000000002,0,0,0,0,{"$f":"IF(ISERROR(VLOOKUP($A332,#REF!,8,0)),0,(VLOOKUP($A332,#REF!,8,0)))","v":0},0,1.0000000000000002,0,0,0,0,{"$f":"IF(ISERROR(VLOOKUP($A332,#REF!,8,0)),0,(VLOOKUP($A332,#REF!,8,0)))","v":0},0,1.0000000000000002,0,0,0,0,{"$f":"IF(ISERROR(VLOOKUP($A332,#REF!,8,0)),0,(VLOOKUP($A332,#REF!,8,0)))","v":0},0,1.0000000000000002,0,0,0,0,{"$f":"IF(ISERROR(VLOOKUP($A332,#REF!,8,0)),0,(VLOOKUP($A332,#REF!,8,0)))","v":0},0,1.0000000000000002,0,0,0,0,{"$f":"IF(ISERROR(VLOOKUP($A332,#REF!,8,0)),0,(VLOOKUP($A332,#REF!,8,0)))","v":0},0,1.0000000000000002,0,0,0,0,{"$f":"IF(ISERROR(VLOOKUP($A332,#REF!,8,0)),0,(VLOOKUP($A332,#REF!,8,0)))","v":0},0,1.0000000000000002,0,0,0,0,{"$f":"IF(ISERROR(VLOOKUP($A332,#REF!,8,0)),0,(VLOOKUP($A332,#REF!,8,0)))","v":0},0,1.0000000000000002,0,0,0,0,{"$f":"IF(ISERROR(VLOOKUP($A332,#REF!,8,0)),0,(VLOOKUP($A332,#REF!,8,0)))","v":0},0,1.0000000000000002,0,0,0,0,{"$f":"IF(ISERROR(VLOOKUP($A332,#REF!,8,0)),0,(VLOOKUP($A332,#REF!,8,0)))","v":0},0,1.0000000000000002,0,0,0,0,{"$f":"IF(ISERROR(VLOOKUP($A332,#REF!,8,0)),0,(VLOOKUP($A332,#REF!,8,0)))","v":0},0,1.0000000000000002,0,0,0,0,{"$f":"IF(ISERROR(VLOOKUP($A332,#REF!,8,0)),0,(VLOOKUP($A332,#REF!,8,0)))","v":0},0,1.0000000000000002,0,0,0,0,{"$f":"IF(ISERROR(VLOOKUP($A332,#REF!,8,0)),0,(VLOOKUP($A332,#REF!,8,0)))","v":0},0,1.0000000000000002,0,0,0,0,{"$f":"IF(ISERROR(VLOOKUP($A332,#REF!,8,0)),0,(VLOOKUP($A332,#REF!,8,0)))","v":0},0,1.0000000000000002,0,0,0,0,{"$f":"IF(ISERROR(VLOOKUP($A332,#REF!,8,0)),0,(VLOOKUP($A332,#REF!,8,0)))","v":0},0,1.0000000000000002,0,0,0,0,{"$f":"IF(ISERROR(VLOOKUP($A332,#REF!,8,0)),0,(VLOOKUP($A332,#REF!,8,0)))","v":0},0,1.0000000000000002,0,0,0,0,{"$f":"IF(ISERROR(VLOOKUP($A332,#REF!,8,0)),0,(VLOOKUP($A332,#REF!,8,0)))","v":0},0,1.0000000000000002,0,0,0,0,{"$f":"IF(ISERROR(VLOOKUP($A332,#REF!,8,0)),0,(VLOOKUP($A332,#REF!,8,0)))","v":0},0,1.0000000000000002,0,0,0,0,{"$f":"IF(ISERROR(VLOOKUP($A332,#REF!,8,0)),0,(VLOOKUP($A332,#REF!,8,0)))","v":0},0,1.0000000000000002,0,0,0,0,{"$f":"IF(ISERROR(VLOOKUP($A332,#REF!,8,0)),0,(VLOOKUP($A332,#REF!,8,0)))","v":0},0,1.0000000000000002,0,0,0,0,{"$f":"IF(ISERROR(VLOOKUP($A332,#REF!,8,0)),0,(VLOOKUP($A332,#REF!,8,0)))","v":0},0,1.0000000000000002,0,0,0,0,{"$f":"IF(ISERROR(VLOOKUP($A332,#REF!,8,0)),0,(VLOOKUP($A332,#REF!,8,0)))","v":0},0,1.0000000000000002,0,0,0,0,{"$f":"IF(ISERROR(VLOOKUP($A332,#REF!,8,0)),0,(VLOOKUP($A332,#REF!,8,0)))","v":0},0,1.0000000000000002,0,0,0,0,{"$f":"IF(ISERROR(VLOOKUP($A332,#REF!,8,0)),0,(VLOOKUP($A332,#REF!,8,0)))","v":0},0,1.0000000000000002,0,0,0,0,{"$f":"IF(ISERROR(VLOOKUP($A332,#REF!,8,0)),0,(VLOOKUP($A332,#REF!,8,0)))","v":0},0,1.0000000000000002,0,0,0,0,{"$f":"IF(ISERROR(VLOOKUP($A332,#REF!,8,0)),0,(VLOOKUP($A332,#REF!,8,0)))","v":0},0,1.0000000000000002,0,0,0,0,{"$f":"IF(ISERROR(VLOOKUP($A332,#REF!,8,0)),0,(VLOOKUP($A332,#REF!,8,0)))","v":0},0,1.0000000000000002,0,0,0,0,{"$f":"IF(ISERROR(VLOOKUP($A332,#REF!,8,0)),0,(VLOOKUP($A332,#REF!,8,0)))","v":0},0,1.0000000000000002,0,0,0,0,{"$f":"IF(ISERROR(VLOOKUP($A332,#REF!,8,0)),0,(VLOOKUP($A332,#REF!,8,0)))","v":0},0,1.0000000000000002,0,0,0,0,9857.4862140000005,9857.4862140000005,1,{"$f":"OK332-OJ332","v":0}]
["16.27","Fornecimento e assentamento de bacia sanitária com caixa acoplada Confort Vougue Plus em louça branca, Linha Deca ou equivalente, inclusive engate e anel de vedação.","un",75,75,0,726.25093199999992,54468.819899999995,62.287080000000003,4671.5309999999999,0,0,788.53801199999998,0,59140.350899999998,null,{"$f":"IF($D341>0,P341/$D341,0)","v":0},{"$f":"P341*$G341","v":0},{"$f":"$I341*P341","v":0},{"$f":"$K341*P341","v":0},{"$f":"ROUND($M341*P341,2)","v":0},null,{"$f":"IF($D341>0,V341/$D341,0)","v":0},1,{"$f":"V341*$G341","v":0},{"$f":"$I341*V341","v":0},{"$f":"$K341*V341","v":0},{"$f":"ROUND($M341*V341,2)","v":0},null,{"$f":"IF($D341>0,AC341/$D341,0)","v":0},1,{"$f":"AC341*$G341","v":0},{"$f":"$I341*AC341","v":0},{"$f":"$K341*AC341","v":0},{"$f":"ROUND($M341*AC341,2)","v":0},null,{"$f":"IF($D341>0,AJ341/$D341,0)","v":0},1,{"$f":"AJ341*$G341","v":0},{"$f":"$I341*AJ341","v":0},{"$f":"$K341*AJ341","v":0},{"$f":"ROUND($M341*AJ341,2)","v":0},null,{"$f":"IF($D341>0,AQ341/$D341,0)","v":0},1,{"$f":"AQ341*$G341","v":0},{"$f":"$I341*AQ341","v":0},{"$f":"$K341*AQ341","v":0},{"$f":"ROUND($M341*AQ341,2)","v":0},null,{"$f":"IF($D341>0,AX341/$D341,0)","v":0},1,{"$f":"AX341*$G341","v":0},{"$f":"$I341*AX341","v":0},{"$f":"$K341*AX341","v":0},{"$f":"ROUND($M341*AX341,2)","v":0},{"$f":"IF(ISERROR(VLOOKUP(A341,'7ª MEDIÇÃO'!$A$5:$J$1048576,8,0)),0,(VLOOKUP(A341,'7ª MEDIÇÃO'!$A$5:$J$1048576,8,0)))","v":0},{"$f":"IF($D341>0,BE341/$D341,0)","v":0},1,{"$f":"BE341*$G341","v":0},{"$f":"$I341*BE341","v":0},{"$f":"$K341*BE341","v":0},{"$f":"ROUND($M341*BE341,2)","v":0},{"$f":"IF(ISERROR(VLOOKUP(A341,'8ª MEDIÇÃO'!$A$5:$J$1048576,8,0)),0,(VLOOKUP(A341,'8ª MEDIÇÃO'!$A$5:$J$1048576,8,0)))","v":0},{"$f":"IF($D341>0,BL341/$D341,0)","v":0},1,{"$f":"BL341*$G341","v":0},{"$f":"$I341*BL341","v":0},{"$f":"$K341*BL341","v":0},{"$f":"ROUND($M341*BL341,2)","v":0},{"$f":"IF(ISERROR(VLOOKUP(A341,'9ª MEDIÇÃO'!$A$5:$J$1048576,8,0)),0,(VLOOKUP(A341,'9ª MEDIÇÃO'!$A$5:$J$1048576,8,0)))","v":0},{"$f":"IF($D341>0,BS341/$D341,0)","v":0},1,{"$f":"BS341*$G341","v":0},{"$f":"$I341*BS341","v":0},{"$f":"$K341*BS341","v":0},{"$f":"ROUND($M341*BS341,2)","v":0},{"$f":"IF(ISERROR(VLOOKUP(A341,#REF!,8,0)),0,(VLOOKUP(A341,#REF!,8,0)))","v":0},{"$f":"IF($D341>0,BZ341/$D341,0)","v":0},1,{"$f":"BZ341*$G341","v":0},{"$f":"$I341*BZ341","v":0},{"$f":"$K341*BZ341","v":0},{"$f":"ROUND($M341*BZ341,2)","v":0},{"$f":"IF(ISERROR(VLOOKUP($A341,#REF!,8,0)),0,(VLOOKUP($A341,#REF!,8,0)))","v":0},{"$f":"IF($D341>0,CG341/$D341,0)","v":0},1,{"$f":"CG341*$G341","v":0},{"$f":"$I341*CG341","v":0},{"$f":"$K341*CG341","v":0},{"$f":"ROUND($M341*CG341,2)","v":0},{"$f":"IF(ISERROR(VLOOKUP($A341,#REF!,8,0)),0,(VLOOKUP($A341,#REF!,8,0)))","v":0},{"$f":"IF($D341>0,CN341/$D341,0)","v":0},1,{"$f":"CN341*$G341","v":0},{"$f":"$I341*CN341","v":0},{"$f":"$K341*CN341","v":0},{"$f":"ROUND($M341*CN341,2)","v":0},{"$f":"IF(ISERROR(VLOOKUP($A341,#REF!,8,0)),0,(VLOOKUP($A341,#REF!,8,0)))","v":0},{"$f":"IF($D341>0,CU341/$D341,0)","v":0},1,{"$f":"CU341*$G341","v":0},{"$f":"$I341*CU341","v":0},{"$f":"$K341*CU341","v":0},{"$f":"ROUND($M341*CU341,2)","v":0},{"$f":"IF(ISERROR(VLOOKUP($A341,#REF!,8,0)),0,(VLOOKUP($A341,#REF!,8,0)))","v":0},{"$f":"IF($D341>0,DB341/$D341,0)","v":0},1,{"$f":"DB341*$G341","v":0},{"$f":"$I341*DB341","v":0},{"$f":"$K341*DB341","v":0},{"$f":"ROUND($M341*DB341,2)","v":0},{"$f":"IF(ISERROR(VLOOKUP($A341,#REF!,8,0)),0,(VLOOKUP($A341,#REF!,8,0)))","v":0},{"$f":"IF($D341>0,DI341/$D341,0)","v":0},1,{"$f":"DI341*$G341","v":0},{"$f":"$I341*DI341","v":0},{"$f":"$K341*DI341","v":0},{"$f":"ROUND($M341*DI341,2)","v":0},{"$f":"IF(ISERROR(VLOOKUP($A341,#REF!,8,0)),0,(VLOOKUP($A341,#REF!,8,0)))","v":0},{"$f":"IF($D341>0,DP341/$D341,0)","v":0},1,{"$f":"DP341*$G341","v":0},{"$f":"$I341*DP341","v":0},{"$f":"$K341*DP341","v":0},{"$f":"ROUND($M341*DP341,2)","v":0},{"$f":"IF(ISERROR(VLOOKUP($A341,#REF!,8,0)),0,(VLOOKUP($A341,#REF!,8,0)))","v":0},{"$f":"IF($D341>0,DW341/$D341,0)","v":0},1,{"$f":"DW341*$G341","v":0},{"$f":"$I341*DW341","v":0},{"$f":"$K341*DW341","v":0},{"$f":"ROUND($M341*DW341,2)","v":0},{"$f":"IF(ISERROR(VLOOKUP($A341,#REF!,8,0)),0,(VLOOKUP($A341,#REF!,8,0)))","v":0},{"$f":"IF($D341>0,ED341/$D341,0)","v":0},1,{"$f":"ED341*$G341","v":0},{"$f":"$I341*ED341","v":0},{"$f":"$K341*ED341","v":0},{"$f":"ROUND($M341*ED341,2)","v":0},{"$f":"IF(ISERROR(VLOOKUP($A341,#REF!,8,0)),0,(VLOOKUP($A341,#REF!,8,0)))","v":0},{"$f":"IF($D341>0,EK341/$D341,0)","v":0},1,{"$f":"EK341*$G341","v":0},{"$f":"$I341*EK341","v":0},{"$f":"$K341*EK341","v":0},{"$f":"ROUND($M341*EK341,2)","v":0},{"$f":"IF(ISERROR(VLOOKUP($A341,#REF!,8,0)),0,(VLOOKUP($A341,#REF!,8,0)))","v":0},{"$f":"IF($D341>0,ER341/$D341,0)","v":0},1,{"$f":"ER341*$G341","v":0},{"$f":"$I341*ER341","v":0},{"$f":"$K341*ER341","v":0},{"$f":"ROUND($M341*ER341,2)","v":0},{"$f":"IF(ISERROR(VLOOKUP($A341,#REF!,8,0)),0,(VLOOKUP($A341,#REF!,8,0)))","v":0},{"$f":"IF($D341>0,EY341/$D341,0)","v":0},1,{"$f":"EY341*$G341","v":0},{"$f":"$I341*EY341","v":0},{"$f":"$K341*EY341","v":0},{"$f":"ROUND($M341*EY341,2)","v":0},{"$f":"IF(ISERROR(VLOOKUP($A341,#REF!,8,0)),0,(VLOOKUP($A341,#REF!,8,0)))","v":0},{"$f":"IF($D341>0,FF341/$D341,0)","v":0},1,{"$f":"FF341*$G341","v":0},{"$f":"$I341*FF341","v":0},{"$f":"$K341*FF341","v":0},{"$f":"ROUND($M341*FF341,2)","v":0},{"$f":"IF(ISERROR(VLOOKUP($A341,#REF!,8,0)),0,(VLOOKUP($A341,#REF!,8,0)))","v":0},{"$f":"IF($D341>0,FM341/$D341,0)","v":0},1,{"$f":"FM341*$G341","v":0},{"$f":"$I341*FM341","v":0},{"$f":"$K341*FM341","v":0},{"$f":"ROUND($M341*FM341,2)","v":0},{"$f":"IF(ISERROR(VLOOKUP($A341,#REF!,8,0)),0,(VLOOKUP($A341,#REF!,8,0)))","v":0},{"$f":"IF($D341>0,FT341/$D341,0)","v":0},1,{"$f":"FT341*$G341","v":0},{"$f":"$I341*FT341","v":0},{"$f":"$K341*FT341","v":0},{"$f":"ROUND($M341*FT341,2)","v":0},{"$f":"IF(ISERROR(VLOOKUP($A341,#REF!,8,0)),0,(VLOOKUP($A341,#REF!,8,0)))","v":0},{"$f":"IF($D341>0,GA341/$D341,0)","v":0},1,{"$f":"GA341*$G341","v":0},{"$f":"$I341*GA341","v":0},{"$f":"$K341*GA341","v":0},{"$f":"ROUND($M341*GA341,2)","v":0},{"$f":"IF(ISERROR(VLOOKUP($A341,#REF!,8,0)),0,(VLOOKUP($A341,#REF!,8,0)))","v":0},0,1,0,0,0,0,{"$f":"IF(ISERROR(VLOOKUP($A341,#REF!,8,0)),0,(VLOOKUP($A341,#REF!,8,0)))","v":0},0,1,0,0,0,0,{"$f":"IF(ISERROR(VLOOKUP($A341,#REF!,8,0)),0,(VLOOKUP($A341,#REF!,8,0)))","v":0},0,1,0,0,0,0,{"$f":"IF(ISERROR(VLOOKUP($A341,#REF!,8,0)),0,(VLOOKUP($A341,#REF!,8,0)))","v":0},0,1,0,0,0,0,{"$f":"IF(ISERROR(VLOOKUP($A341,#REF!,8,0)),0,(VLOOKUP($A341,#REF!,8,0)))","v":0},0,1,0,0,0,0,{"$f":"IF(ISERROR(VLOOKUP($A341,#REF!,8,0)),0,(VLOOKUP($A341,#REF!,8,0)))","v":0},0,1,0,0,0,0,{"$f":"IF(ISERROR(VLOOKUP($A341,#REF!,8,0)),0,(VLOOKUP($A341,#REF!,8,0)))","v":0},0,1,0,0,0,0,{"$f":"IF(ISERROR(VLOOKUP($A341,#REF!,8,0)),0,(VLOOKUP($A341,#REF!,8,0)))","v":0},0,1,0,0,0,0,{"$f":"IF(ISERROR(VLOOKUP($A341,#REF!,8,0)),0,(VLOOKUP($A341,#REF!,8,0)))","v":0},0,1,0,0,0,0,{"$f":"IF(ISERROR(VLOOKUP($A341,#REF!,8,0)),0,(VLOOKUP($A341,#REF!,8,0)))","v":0},0,1,0,0,0,0,{"$f":"IF(ISERROR(VLOOKUP($A341,#REF!,8,0)),0,(VLOOKUP($A341,#REF!,8,0)))","v":0},0,1,0,0,0,0,{"$f":"IF(ISERROR(VLOOKUP($A341,#REF!,8,0)),0,(VLOOKUP($A341,#REF!,8,0)))","v":0},0,1,0,0,0,0,{"$f":"IF(ISERROR(VLOOKUP($A341,#REF!,8,0)),0,(VLOOKUP($A341,#REF!,8,0)))","v":0},0,1,0,0,0,0,{"$f":"IF(ISERROR(VLOOKUP($A341,#REF!,8,0)),0,(VLOOKUP($A341,#REF!,8,0)))","v":0},0,1,0,0,0,0,{"$f":"IF(ISERROR(VLOOKUP($A341,#REF!,8,0)),0,(VLOOKUP($A341,#REF!,8,0)))","v":0},0,1,0,0,0,0,{"$f":"IF(ISERROR(VLOOKUP($A341,#REF!,8,0)),0,(VLOOKUP($A341,#REF!,8,0)))","v":0},0,1,0,0,0,0,{"$f":"IF(ISERROR(VLOOKUP($A341,#REF!,8,0)),0,(VLOOKUP($A341,#REF!,8,0)))","v":0},0,1,0,0,0,0,{"$f":"IF(ISERROR(VLOOKUP($A341,#REF!,8,0)),0,(VLOOKUP($A341,#REF!,8,0)))","v":0},0,1,0,0,0,0,{"$f":"IF(ISERROR(VLOOKUP($A341,#REF!,8,0)),0,(VLOOKUP($A341,#REF!,8,0)))","v":0},0,1,0,0,0,0,{"$f":"IF(ISERROR(VLOOKUP($A341,#REF!,8,0)),0,(VLOOKUP($A341,#REF!,8,0)))","v":0},0,1,0,0,0,0,{"$f":"IF(ISERROR(VLOOKUP($A341,#REF!,8,0)),0,(VLOOKUP($A341,#REF!,8,0)))","v":0},0,1,0,0,0,0,{"$f":"IF(ISERROR(VLOOKUP($A341,#REF!,8,0)),0,(VLOOKUP($A341,#REF!,8,0)))","v":0},0,1,0,0,0,0,{"$f":"IF(ISERROR(VLOOKUP($A341,#REF!,8,0)),0,(VLOOKUP($A341,#REF!,8,0)))","v":0},0,1,0,0,0,0,{"$f":"IF(ISERROR(VLOOKUP($A341,#REF!,8,0)),0,(VLOOKUP($A341,#REF!,8,0)))","v":0},0,1,0,0,0,0,{"$f":"IF(ISERROR(VLOOKUP($A341,#REF!,8,0)),0,(VLOOKUP($A341,#REF!,8,0)))","v":0},0,1,0,0,0,0,{"$f":"IF(ISERROR(VLOOKUP($A341,#REF!,8,0)),0,(VLOOKUP($A341,#REF!,8,0)))","v":0},0,1,0,0,0,0,{"$f":"IF(ISERROR(VLOOKUP($A341,#REF!,8,0)),0,(VLOOKUP($A341,#REF!,8,0)))","v":0},0,1,0,0,0,0,{"$f":"IF(ISERROR(VLOOKUP($A341,#REF!,8,0)),0,(VLOOKUP($A341,#REF!,8,0)))","v":0},0,1,0,0,0,0,{"$f":"IF(ISERROR(VLOOKUP($A341,#REF!,8,0)),0,(VLOOKUP($A341,#REF!,8,0)))","v":0},0,1,0,0,0,0,{"$f":"IF(ISERROR(VLOOKUP($A341,#REF!,8,0)),0,(VLOOKUP($A341,#REF!,8,0)))","v":0},0,1,0,0,0,0,59140.350899999998,59140.350899999998,1,0]
["16.37","Cuba de embutir oval em louça branca, 35 x 50cm ou equivalente, incluso válvula em metal cromado e sifão flexível em pvc - fornecimento e instalação.","un",98,84,14,98.019934000000006,9605.9535320000014,18.68488,1831.11824,0,0,116.704814,1633.8673960000001,9803.2043759999997,null,0,0,0,0,0,null,0,0.8571428571428571,0,0,0,0,null,0,0.8571428571428571,0,0,0,0,null,0,0.8571428571428571,0,0,0,0,null,0,0.8571428571428571,0,0,0,0,null,0,0.8571428571428571,0,0,0,0,{"$f":"IF(ISERROR(VLOOKUP(A351,'7ª MEDIÇÃO'!$A$5:$J$1048576,8,0)),0,(VLOOKUP(A351,'7ª MEDIÇÃO'!$A$5:$J$1048576,8,0)))","v":0},0,0.8571428571428571,0,0,0,0,{"$f":"IF(ISERROR(VLOOKUP(A351,'8ª MEDIÇÃO'!$A$5:$J$1048576,8,0)),0,(VLOOKUP(A351,'8ª MEDIÇÃO'!$A$5:$J$1048576,8,0)))","v":0},0,0.8571428571428571,0,0,0,0,{"$f":"IF(ISERROR(VLOOKUP(A351,'9ª MEDIÇÃO'!$A$5:$J$1048576,8,0)),0,(VLOOKUP(A351,'9ª MEDIÇÃO'!$A$5:$J$1048576,8,0)))","v":0},0,0.8571428571428571,0,0,0,0,{"$f":"IF(ISERROR(VLOOKUP(A351,#REF!,8,0)),0,(VLOOKUP(A351,#REF!,8,0)))","v":0},0,0.8571428571428571,0,0,0,0,{"$f":"IF(ISERROR(VLOOKUP($A351,#REF!,8,0)),0,(VLOOKUP($A351,#REF!,8,0)))","v":0},0,0.8571428571428571,0,0,0,0,{"$f":"IF(ISERROR(VLOOKUP($A351,#REF!,8,0)),0,(VLOOKUP($A351,#REF!,8,0)))","v":0},0,0.8571428571428571,0,0,0,0,{"$f":"IF(ISERROR(VLOOKUP($A351,#REF!,8,0)),0,(VLOOKUP($A351,#REF!,8,0)))","v":0},0,0.8571428571428571,0,0,0,0,{"$f":"IF(ISERROR(VLOOKUP($A351,#REF!,8,0)),0,(VLOOKUP($A351,#REF!,8,0)))","v":0},0,0.8571428571428571,0,0,0,0,{"$f":"IF(ISERROR(VLOOKUP($A351,#REF!,8,0)),0,(VLOOKUP($A351,#REF!,8,0)))","v":0},0,0.8571428571428571,0,0,0,0,{"$f":"IF(ISERROR(VLOOKUP($A351,#REF!,8,0)),0,(VLOOKUP($A351,#REF!,8,0)))","v":0},0,0.8571428571428571,0,0,0,0,{"$f":"IF(ISERROR(VLOOKUP($A351,#REF!,8,0)),0,(VLOOKUP($A351,#REF!,8,0)))","v":0},0,0.8571428571428571,0,0,0,0,{"$f":"IF(ISERROR(VLOOKUP($A351,#REF!,8,0)),0,(VLOOKUP($A351,#REF!,8,0)))","v":0},0,0.8571428571428571,0,0,0,0,{"$f":"IF(ISERROR(VLOOKUP($A351,#REF!,8,0)),0,(VLOOKUP($A351,#REF!,8,0)))","v":0},0,0.8571428571428571,0,0,0,0,{"$f":"IF(ISERROR(VLOOKUP($A351,#REF!,8,0)),0,(VLOOKUP($A351,#REF!,8,0)))","v":0},0,0.8571428571428571,0,0,0,0,{"$f":"IF(ISERROR(VLOOKUP($A351,#REF!,8,0)),0,(VLOOKUP($A351,#REF!,8,0)))","v":0},0,0.8571428571428571,0,0,0,0,{"$f":"IF(ISERROR(VLOOKUP($A351,#REF!,8,0)),0,(VLOOKUP($A351,#REF!,8,0)))","v":0},0,0.8571428571428571,0,0,0,0,{"$f":"IF(ISERROR(VLOOKUP($A351,#REF!,8,0)),0,(VLOOKUP($A351,#REF!,8,0)))","v":0},0,0.8571428571428571,0,0,0,0,{"$f":"IF(ISERROR(VLOOKUP($A351,#REF!,8,0)),0,(VLOOKUP($A351,#REF!,8,0)))","v":0},0,0.8571428571428571,0,0,0,0,{"$f":"IF(ISERROR(VLOOKUP($A351,#REF!,8,0)),0,(VLOOKUP($A351,#REF!,8,0)))","v":0},0,0.8571428571428571,0,0,0,0,{"$f":"IF(ISERROR(VLOOKUP($A351,#REF!,8,0)),0,(VLOOKUP($A351,#REF!,8,0)))","v":0},0,0.8571428571428571,0,0,0,0,{"$f":"IF(ISERROR(VLOOKUP($A351,#REF!,8,0)),0,(VLOOKUP($A351,#REF!,8,0)))","v":0},0,0.8571428571428571,0,0,0,0,{"$f":"IF(ISERROR(VLOOKUP($A351,#REF!,8,0)),0,(VLOOKUP($A351,#REF!,8,0)))","v":0},0,0.8571428571428571,0,0,0,0,{"$f":"IF(ISERROR(VLOOKUP($A351,#REF!,8,0)),0,(VLOOKUP($A351,#REF!,8,0)))","v":0},0,0.8571428571428571,0,0,0,0,{"$f":"IF(ISERROR(VLOOKUP($A351,#REF!,8,0)),0,(VLOOKUP($A351,#REF!,8,0)))","v":0},0,0.8571428571428571,0,0,0,0,{"$f":"IF(ISERROR(VLOOKUP($A351,#REF!,8,0)),0,(VLOOKUP($A351,#REF!,8,0)))","v":0},0,0.8571428571428571,0,0,0,0,{"$f":"IF(ISERROR(VLOOKUP($A351,#REF!,8,0)),0,(VLOOKUP($A351,#REF!,8,0)))","v":0},0,0.8571428571428571,0,0,0,0,{"$f":"IF(ISERROR(VLOOKUP($A351,#REF!,8,0)),0,(VLOOKUP($A351,#REF!,8,0)))","v":0},0,0.8571428571428571,0,0,0,0,{"$f":"IF(ISERROR(VLOOKUP($A351,#REF!,8,0)),0,(VLOOKUP($A351,#REF!,8,0)))","v":0},0,0.8571428571428571,0,0,0,0,{"$f":"IF(ISERROR(VLOOKUP($A351,#REF!,8,0)),0,(VLOOKUP($A351,#REF!,8,0)))","v":0},0,0.8571428571428571,0,0,0,0,{"$f":"IF(ISERROR(VLOOKUP($A351,#REF!,8,0)),0,(VLOOKUP($A351,#REF!,8,0)))","v":0},0,0.8571428571428571,0,0,0,0,{"$f":"IF(ISERROR(VLOOKUP($A351,#REF!,8,0)),0,(VLOOKUP($A351,#REF!,8,0)))","v":0},0,0.8571428571428571,0,0,0,0,{"$f":"IF(ISERROR(VLOOKUP($A351,#REF!,8,0)),0,(VLOOKUP($A351,#REF!,8,0)))","v":0},0,0.8571428571428571,0,0,0,0,{"$f":"IF(ISERROR(VLOOKUP($A351,#REF!,8,0)),0,(VLOOKUP($A351,#REF!,8,0)))","v":0},0,0.8571428571428571,0,0,0,0,{"$f":"IF(ISERROR(VLOOKUP($A351,#REF!,8,0)),0,(VLOOKUP($A351,#REF!,8,0)))","v":0},0,0.8571428571428571,0,0,0,0,{"$f":"IF(ISERROR(VLOOKUP($A351,#REF!,8,0)),0,(VLOOKUP($A351,#REF!,8,0)))","v":0},0,0.8571428571428571,0,0,0,0,{"$f":"IF(ISERROR(VLOOKUP($A351,#REF!,8,0)),0,(VLOOKUP($A351,#REF!,8,0)))","v":0},0,0.8571428571428571,0,0,0,0,{"$f":"IF(ISERROR(VLOOKUP($A351,#REF!,8,0)),0,(VLOOKUP($A351,#REF!,8,0)))","v":0},0,0.8571428571428571,0,0,0,0,{"$f":"IF(ISERROR(VLOOKUP($A351,#REF!,8,0)),0,(VLOOKUP($A351,#REF!,8,0)))","v":0},0,0.8571428571428571,0,0,0,0,{"$f":"IF(ISERROR(VLOOKUP($A351,#REF!,8,0)),0,(VLOOKUP($A351,#REF!,8,0)))","v":0},0,0.8571428571428571,0,0,0,0,{"$f":"IF(ISERROR(VLOOKUP($A351,#REF!,8,0)),0,(VLOOKUP($A351,#REF!,8,0)))","v":0},0,0.8571428571428571,0,0,0,0,{"$f":"IF(ISERROR(VLOOKUP($A351,#REF!,8,0)),0,(VLOOKUP($A351,#REF!,8,0)))","v":0},0,0.8571428571428571,0,0,0,0,{"$f":"IF(ISERROR(VLOOKUP($A351,#REF!,8,0)),0,(VLOOKUP($A351,#REF!,8,0)))","v":0},0,0.8571428571428571,0,0,0,0,{"$f":"IF(ISERROR(VLOOKUP($A351,#REF!,8,0)),0,(VLOOKUP($A351,#REF!,8,0)))","v":0},0,0.8571428571428571,0,0,0,0,{"$f":"IF(ISERROR(VLOOKUP($A351,#REF!,8,0)),0,(VLOOKUP($A351,#REF!,8,0)))","v":0},0,0.8571428571428571,0,0,0,0,{"$f":"IF(ISERROR(VLOOKUP($A351,#REF!,8,0)),0,(VLOOKUP($A351,#REF!,8,0)))","v":0},0,0.8571428571428571,0,0,0,0,{"$f":"IF(ISERROR(VLOOKUP($A351,#REF!,8,0)),0,(VLOOKUP($A351,#REF!,8,0)))","v":0},0,0.8571428571428571,0,0,0,0,{"$f":"IF(ISERROR(VLOOKUP($A351,#REF!,8,0)),0,(VLOOKUP($A351,#REF!,8,0)))","v":0},0,0.8571428571428571,0,0,0,0,{"$f":"IF(ISERROR(VLOOKUP($A351,#REF!,8,0)),0,(VLOOKUP($A351,#REF!,8,0)))","v":0},0,0.8571428571428571,0,0,0,0,{"$f":"IF(ISERROR(VLOOKUP($A351,#REF!,8,0)),0,(VLOOKUP($A351,#REF!,8,0)))","v":0},0,0.8571428571428571,0,0,0,0,9803.2043759999997,9803.2043759999997,1,0]
["16.46","Fornecimento de registro de gaveta bruto, diâmetro 3 pol., inclusive fixação.","un",1,0,1,342.73364000000004,342.73364000000004,28.686639999999997,28.686639999999997,0,0,371.42028000000005,371.42028000000005,0,null,0,0,0,0,0,null,0,0,0,0,0,0,null,0,0,0,0,0,0,null,0,0,0,0,0,0,null,0,0,0,0,0,0,null,0,0,0,0,0,0,{"$f":"IF(ISERROR(VLOOKUP(A360,'7ª MEDIÇÃO'!$A$5:$J$1048576,8,0)),0,(VLOOKUP(A360,'7ª MEDIÇÃO'!$A$5:$J$1048576,8,0)))","v":0},0,0,0,0,0,0,{"$f":"IF(ISERROR(VLOOKUP(A360,'8ª MEDIÇÃO'!$A$5:$J$1048576,8,0)),0,(VLOOKUP(A360,'8ª MEDIÇÃO'!$A$5:$J$1048576,8,0)))","v":0},0,0,0,0,0,0,{"$f":"IF(ISERROR(VLOOKUP(A360,'9ª MEDIÇÃO'!$A$5:$J$1048576,8,0)),0,(VLOOKUP(A360,'9ª MEDIÇÃO'!$A$5:$J$1048576,8,0)))","v":0},0,0,0,0,0,0,{"$f":"IF(ISERROR(VLOOKUP(A360,#REF!,8,0)),0,(VLOOKUP(A360,#REF!,8,0)))","v":0},0,0,0,0,0,0,{"$f":"IF(ISERROR(VLOOKUP($A360,#REF!,8,0)),0,(VLOOKUP($A360,#REF!,8,0)))","v":0},0,0,0,0,0,0,{"$f":"IF(ISERROR(VLOOKUP($A360,#REF!,8,0)),0,(VLOOKUP($A360,#REF!,8,0)))","v":0},0,0,0,0,0,0,{"$f":"IF(ISERROR(VLOOKUP($A360,#REF!,8,0)),0,(VLOOKUP($A360,#REF!,8,0)))","v":0},0,0,0,0,0,0,{"$f":"IF(ISERROR(VLOOKUP($A360,#REF!,8,0)),0,(VLOOKUP($A360,#REF!,8,0)))","v":0},0,0,0,0,0,0,{"$f":"IF(ISERROR(VLOOKUP($A360,#REF!,8,0)),0,(VLOOKUP($A360,#REF!,8,0)))","v":0},0,0,0,0,0,0,{"$f":"IF(ISERROR(VLOOKUP($A360,#REF!,8,0)),0,(VLOOKUP($A360,#REF!,8,0)))","v":0},0,0,0,0,0,0,{"$f":"IF(ISERROR(VLOOKUP($A360,#REF!,8,0)),0,(VLOOKUP($A360,#REF!,8,0)))","v":0},0,0,0,0,0,0,{"$f":"IF(ISERROR(VLOOKUP($A360,#REF!,8,0)),0,(VLOOKUP($A360,#REF!,8,0)))","v":0},0,0,0,0,0,0,{"$f":"IF(ISERROR(VLOOKUP($A360,#REF!,8,0)),0,(VLOOKUP($A360,#REF!,8,0)))","v":0},0,0,0,0,0,0,{"$f":"IF(ISERROR(VLOOKUP($A360,#REF!,8,0)),0,(VLOOKUP($A360,#REF!,8,0)))","v":0},0,0,0,0,0,0,{"$f":"IF(ISERROR(VLOOKUP($A360,#REF!,8,0)),0,(VLOOKUP($A360,#REF!,8,0)))","v":0},0,0,0,0,0,0,{"$f":"IF(ISERROR(VLOOKUP($A360,#REF!,8,0)),0,(VLOOKUP($A360,#REF!,8,0)))","v":0},0,0,0,0,0,0,{"$f":"IF(ISERROR(VLOOKUP($A360,#REF!,8,0)),0,(VLOOKUP($A360,#REF!,8,0)))","v":0},0,0,0,0,0,0,{"$f":"IF(ISERROR(VLOOKUP($A360,#REF!,8,0)),0,(VLOOKUP($A360,#REF!,8,0)))","v":0},0,0,0,0,0,0,{"$f":"IF(ISERROR(VLOOKUP($A360,#REF!,8,0)),0,(VLOOKUP($A360,#REF!,8,0)))","v":0},0,0,0,0,0,0,{"$f":"IF(ISERROR(VLOOKUP($A360,#REF!,8,0)),0,(VLOOKUP($A360,#REF!,8,0)))","v":0},0,0,0,0,0,0,{"$f":"IF(ISERROR(VLOOKUP($A360,#REF!,8,0)),0,(VLOOKUP($A360,#REF!,8,0)))","v":0},0,0,0,0,0,0,{"$f":"IF(ISERROR(VLOOKUP($A360,#REF!,8,0)),0,(VLOOKUP($A360,#REF!,8,0)))","v":0},0,0,0,0,0,0,{"$f":"IF(ISERROR(VLOOKUP($A360,#REF!,8,0)),0,(VLOOKUP($A360,#REF!,8,0)))","v":0},0,0,0,0,0,0,{"$f":"IF(ISERROR(VLOOKUP($A360,#REF!,8,0)),0,(VLOOKUP($A360,#REF!,8,0)))","v":0},0,0,0,0,0,0,{"$f":"IF(ISERROR(VLOOKUP($A360,#REF!,8,0)),0,(VLOOKUP($A360,#REF!,8,0)))","v":0},0,0,0,0,0,0,{"$f":"IF(ISERROR(VLOOKUP($A360,#REF!,8,0)),0,(VLOOKUP($A360,#REF!,8,0)))","v":0},0,0,0,0,0,0,{"$f":"IF(ISERROR(VLOOKUP($A360,#REF!,8,0)),0,(VLOOKUP($A360,#REF!,8,0)))","v":0},0,0,0,0,0,0,{"$f":"IF(ISERROR(VLOOKUP($A360,#REF!,8,0)),0,(VLOOKUP($A360,#REF!,8,0)))","v":0},0,0,0,0,0,0,{"$f":"IF(ISERROR(VLOOKUP($A360,#REF!,8,0)),0,(VLOOKUP($A360,#REF!,8,0)))","v":0},0,0,0,0,0,0,{"$f":"IF(ISERROR(VLOOKUP($A360,#REF!,8,0)),0,(VLOOKUP($A360,#REF!,8,0)))","v":0},0,0,0,0,0,0,{"$f":"IF(ISERROR(VLOOKUP($A360,#REF!,8,0)),0,(VLOOKUP($A360,#REF!,8,0)))","v":0},0,0,0,0,0,0,{"$f":"IF(ISERROR(VLOOKUP($A360,#REF!,8,0)),0,(VLOOKUP($A360,#REF!,8,0)))","v":0},0,0,0,0,0,0,{"$f":"IF(ISERROR(VLOOKUP($A360,#REF!,8,0)),0,(VLOOKUP($A360,#REF!,8,0)))","v":0},0,0,0,0,0,0,{"$f":"IF(ISERROR(VLOOKUP($A360,#REF!,8,0)),0,(VLOOKUP($A360,#REF!,8,0)))","v":0},0,0,0,0,0,0,{"$f":"IF(ISERROR(VLOOKUP($A360,#REF!,8,0)),0,(VLOOKUP($A360,#REF!,8,0)))","v":0},0,0,0,0,0,0,{"$f":"IF(ISERROR(VLOOKUP($A360,#REF!,8,0)),0,(VLOOKUP($A360,#REF!,8,0)))","v":0},0,0,0,0,0,0,{"$f":"IF(ISERROR(VLOOKUP($A360,#REF!,8,0)),0,(VLOOKUP($A360,#REF!,8,0)))","v":0},0,0,0,0,0,0,{"$f":"IF(ISERROR(VLOOKUP($A360,#REF!,8,0)),0,(VLOOKUP($A360,#REF!,8,0)))","v":0},0,0,0,0,0,0,{"$f":"IF(ISERROR(VLOOKUP($A360,#REF!,8,0)),0,(VLOOKUP($A360,#REF!,8,0)))","v":0},0,0,0,0,0,0,{"$f":"IF(ISERROR(VLOOKUP($A360,#REF!,8,0)),0,(VLOOKUP($A360,#REF!,8,0)))","v":0},0,0,0,0,0,0,{"$f":"IF(ISERROR(VLOOKUP($A360,#REF!,8,0)),0,(VLOOKUP($A360,#REF!,8,0)))","v":0},0,0,0,0,0,0,{"$f":"IF(ISERROR(VLOOKUP($A360,#REF!,8,0)),0,(VLOOKUP($A360,#REF!,8,0)))","v":0},0,0,0,0,0,0,{"$f":"IF(ISERROR(VLOOKUP($A360,#REF!,8,0)),0,(VLOOKUP($A360,#REF!,8,0)))","v":0},0,0,0,0,0,0,{"$f":"IF(ISERROR(VLOOKUP($A360,#REF!,8,0)),0,(VLOOKUP($A360,#REF!,8,0)))","v":0},0,0,0,0,0,0,{"$f":"IF(ISERROR(VLOOKUP($A360,#REF!,8,0)),0,(VLOOKUP($A360,#REF!,8,0)))","v":0},0,0,0,0,0,0,{"$f":"IF(ISERROR(VLOOKUP($A360,#REF!,8,0)),0,(VLOOKUP($A360,#REF!,8,0)))","v":0},0,0,0,0,0,0,{"$f":"IF(ISERROR(VLOOKUP($A360,#REF!,8,0)),0,(VLOOKUP($A360,#REF!,8,0)))","v":0},0,0,0,0,0,0,{"$f":"IF(ISERROR(VLOOKUP($A360,#REF!,8,0)),0,(VLOOKUP($A360,#REF!,8,0)))","v":0},0,0,0,0,0,0,{"$f":"IF(ISERROR(VLOOKUP($A360,#REF!,8,0)),0,(VLOOKUP($A360,#REF!,8,0)))","v":0},0,0,0,0,0,0,0,0,{"$error":"#DIV/0!"},0]
["16.55","Fornecimento e assentamento de saboneteira plástica de parede, tipo dispenser para sabonete líquido, com reservatório de 800 a 1.500ml.","un",34,28,6,41.986640000000001,1427.54576,4.2669199999999998,145.07527999999999,0,0,46.25356,277.52136000000002,1295.09968,null,0,0,0,0,0,null,0,0.82352941176470584,0,0,0,0,null,0,0.82352941176470584,0,0,0,0,null,0,0.82352941176470584,0,0,0,0,null,0,0.82352941176470584,0,0,0,0,null,0,0.82352941176470584,0,0,0,0,{"$f":"IF(ISERROR(VLOOKUP(A369,'7ª MEDIÇÃO'!$A$5:$J$1048576,8,0)),0,(VLOOKUP(A369,'7ª MEDIÇÃO'!$A$5:$J$1048576,8,0)))","v":0},0,0.82352941176470584,0,0,0,0,{"$f":"IF(ISERROR(VLOOKUP(A369,'8ª MEDIÇÃO'!$A$5:$J$1048576,8,0)),0,(VLOOKUP(A369,'8ª MEDIÇÃO'!$A$5:$J$1048576,8,0)))","v":0},0,0.82352941176470584,0,0,0,0,{"$f":"IF(ISERROR(VLOOKUP(A369,'9ª MEDIÇÃO'!$A$5:$J$1048576,8,0)),0,(VLOOKUP(A369,'9ª MEDIÇÃO'!$A$5:$J$1048576,8,0)))","v":0},0,0.82352941176470584,0,0,0,0,{"$f":"IF(ISERROR(VLOOKUP(A369,#REF!,8,0)),0,(VLOOKUP(A369,#REF!,8,0)))","v":0},0,0.82352941176470584,0,0,0,0,{"$f":"IF(ISERROR(VLOOKUP($A369,#REF!,8,0)),0,(VLOOKUP($A369,#REF!,8,0)))","v":0},0,0.82352941176470584,0,0,0,0,{"$f":"IF(ISERROR(VLOOKUP($A369,#REF!,8,0)),0,(VLOOKUP($A369,#REF!,8,0)))","v":0},0,0.82352941176470584,0,0,0,0,{"$f":"IF(ISERROR(VLOOKUP($A369,#REF!,8,0)),0,(VLOOKUP($A369,#REF!,8,0)))","v":0},0,0.82352941176470584,0,0,0,0,{"$f":"IF(ISERROR(VLOOKUP($A369,#REF!,8,0)),0,(VLOOKUP($A369,#REF!,8,0)))","v":0},0,0.82352941176470584,0,0,0,0,{"$f":"IF(ISERROR(VLOOKUP($A369,#REF!,8,0)),0,(VLOOKUP($A369,#REF!,8,0)))","v":0},0,0.82352941176470584,0,0,0,0,{"$f":"IF(ISERROR(VLOOKUP($A369,#REF!,8,0)),0,(VLOOKUP($A369,#REF!,8,0)))","v":0},0,0.82352941176470584,0,0,0,0,{"$f":"IF(ISERROR(VLOOKUP($A369,#REF!,8,0)),0,(VLOOKUP($A369,#REF!,8,0)))","v":0},0,0.82352941176470584,0,0,0,0,{"$f":"IF(ISERROR(VLOOKUP($A369,#REF!,8,0)),0,(VLOOKUP($A369,#REF!,8,0)))","v":0},0,0.82352941176470584,0,0,0,0,{"$f":"IF(ISERROR(VLOOKUP($A369,#REF!,8,0)),0,(VLOOKUP($A369,#REF!,8,0)))","v":0},0,0.82352941176470584,0,0,0,0,{"$f":"IF(ISERROR(VLOOKUP($A369,#REF!,8,0)),0,(VLOOKUP($A369,#REF!,8,0)))","v":0},0,0.82352941176470584,0,0,0,0,{"$f":"IF(ISERROR(VLOOKUP($A369,#REF!,8,0)),0,(VLOOKUP($A369,#REF!,8,0)))","v":0},0,0.82352941176470584,0,0,0,0,{"$f":"IF(ISERROR(VLOOKUP($A369,#REF!,8,0)),0,(VLOOKUP($A369,#REF!,8,0)))","v":0},0,0.82352941176470584,0,0,0,0,{"$f":"IF(ISERROR(VLOOKUP($A369,#REF!,8,0)),0,(VLOOKUP($A369,#REF!,8,0)))","v":0},0,0.82352941176470584,0,0,0,0,{"$f":"IF(ISERROR(VLOOKUP($A369,#REF!,8,0)),0,(VLOOKUP($A369,#REF!,8,0)))","v":0},0,0.82352941176470584,0,0,0,0,{"$f":"IF(ISERROR(VLOOKUP($A369,#REF!,8,0)),0,(VLOOKUP($A369,#REF!,8,0)))","v":0},0,0.82352941176470584,0,0,0,0,{"$f":"IF(ISERROR(VLOOKUP($A369,#REF!,8,0)),0,(VLOOKUP($A369,#REF!,8,0)))","v":0},0,0.82352941176470584,0,0,0,0,{"$f":"IF(ISERROR(VLOOKUP($A369,#REF!,8,0)),0,(VLOOKUP($A369,#REF!,8,0)))","v":0},0,0.82352941176470584,0,0,0,0,{"$f":"IF(ISERROR(VLOOKUP($A369,#REF!,8,0)),0,(VLOOKUP($A369,#REF!,8,0)))","v":0},0,0.82352941176470584,0,0,0,0,{"$f":"IF(ISERROR(VLOOKUP($A369,#REF!,8,0)),0,(VLOOKUP($A369,#REF!,8,0)))","v":0},0,0.82352941176470584,0,0,0,0,{"$f":"IF(ISERROR(VLOOKUP($A369,#REF!,8,0)),0,(VLOOKUP($A369,#REF!,8,0)))","v":0},0,0.82352941176470584,0,0,0,0,{"$f":"IF(ISERROR(VLOOKUP($A369,#REF!,8,0)),0,(VLOOKUP($A369,#REF!,8,0)))","v":0},0,0.82352941176470584,0,0,0,0,{"$f":"IF(ISERROR(VLOOKUP($A369,#REF!,8,0)),0,(VLOOKUP($A369,#REF!,8,0)))","v":0},0,0.82352941176470584,0,0,0,0,{"$f":"IF(ISERROR(VLOOKUP($A369,#REF!,8,0)),0,(VLOOKUP($A369,#REF!,8,0)))","v":0},0,0.82352941176470584,0,0,0,0,{"$f":"IF(ISERROR(VLOOKUP($A369,#REF!,8,0)),0,(VLOOKUP($A369,#REF!,8,0)))","v":0},0,0.82352941176470584,0,0,0,0,{"$f":"IF(ISERROR(VLOOKUP($A369,#REF!,8,0)),0,(VLOOKUP($A369,#REF!,8,0)))","v":0},0,0.82352941176470584,0,0,0,0,{"$f":"IF(ISERROR(VLOOKUP($A369,#REF!,8,0)),0,(VLOOKUP($A369,#REF!,8,0)))","v":0},0,0.82352941176470584,0,0,0,0,{"$f":"IF(ISERROR(VLOOKUP($A369,#REF!,8,0)),0,(VLOOKUP($A369,#REF!,8,0)))","v":0},0,0.82352941176470584,0,0,0,0,{"$f":"IF(ISERROR(VLOOKUP($A369,#REF!,8,0)),0,(VLOOKUP($A369,#REF!,8,0)))","v":0},0,0.82352941176470584,0,0,0,0,{"$f":"IF(ISERROR(VLOOKUP($A369,#REF!,8,0)),0,(VLOOKUP($A369,#REF!,8,0)))","v":0},0,0.82352941176470584,0,0,0,0,{"$f":"IF(ISERROR(VLOOKUP($A369,#REF!,8,0)),0,(VLOOKUP($A369,#REF!,8,0)))","v":0},0,0.82352941176470584,0,0,0,0,{"$f":"IF(ISERROR(VLOOKUP($A369,#REF!,8,0)),0,(VLOOKUP($A369,#REF!,8,0)))","v":0},0,0.82352941176470584,0,0,0,0,{"$f":"IF(ISERROR(VLOOKUP($A369,#REF!,8,0)),0,(VLOOKUP($A369,#REF!,8,0)))","v":0},0,0.82352941176470584,0,0,0,0,{"$f":"IF(ISERROR(VLOOKUP($A369,#REF!,8,0)),0,(VLOOKUP($A369,#REF!,8,0)))","v":0},0,0.82352941176470584,0,0,0,0,{"$f":"IF(ISERROR(VLOOKUP($A369,#REF!,8,0)),0,(VLOOKUP($A369,#REF!,8,0)))","v":0},0,0.82352941176470584,0,0,0,0,{"$f":"IF(ISERROR(VLOOKUP($A369,#REF!,8,0)),0,(VLOOKUP($A369,#REF!,8,0)))","v":0},0,0.82352941176470584,0,0,0,0,{"$f":"IF(ISERROR(VLOOKUP($A369,#REF!,8,0)),0,(VLOOKUP($A369,#REF!,8,0)))","v":0},0,0.82352941176470584,0,0,0,0,{"$f":"IF(ISERROR(VLOOKUP($A369,#REF!,8,0)),0,(VLOOKUP($A369,#REF!,8,0)))","v":0},0,0.82352941176470584,0,0,0,0,{"$f":"IF(ISERROR(VLOOKUP($A369,#REF!,8,0)),0,(VLOOKUP($A369,#REF!,8,0)))","v":0},0,0.82352941176470584,0,0,0,0,{"$f":"IF(ISERROR(VLOOKUP($A369,#REF!,8,0)),0,(VLOOKUP($A369,#REF!,8,0)))","v":0},0,0.82352941176470584,0,0,0,0,{"$f":"IF(ISERROR(VLOOKUP($A369,#REF!,8,0)),0,(VLOOKUP($A369,#REF!,8,0)))","v":0},0,0.82352941176470584,0,0,0,0,{"$f":"IF(ISERROR(VLOOKUP($A369,#REF!,8,0)),0,(VLOOKUP($A369,#REF!,8,0)))","v":0},0,0.82352941176470584,0,0,0,0,{"$f":"IF(ISERROR(VLOOKUP($A369,#REF!,8,0)),0,(VLOOKUP($A369,#REF!,8,0)))","v":0},0,0.82352941176470584,0,0,0,0,{"$f":"IF(ISERROR(VLOOKUP($A369,#REF!,8,0)),0,(VLOOKUP($A369,#REF!,8,0)))","v":0},0,0.82352941176470584,0,0,0,0,{"$f":"IF(ISERROR(VLOOKUP($A369,#REF!,8,0)),0,(VLOOKUP($A369,#REF!,8,0)))","v":0},0,0.82352941176470584,0,0,0,0,{"$f":"IF(ISERROR(VLOOKUP($A369,#REF!,8,0)),0,(VLOOKUP($A369,#REF!,8,0)))","v":0},0,0.82352941176470584,0,0,0,0,1295.09968,1295.09968,1,0]
["17.4","Reaterro de vala com compactação manual.","m³",185,177.61,7.3899999999999864,0,0,32.169840000000001,5951.4204,0,0,32.169840000000001,237.73511759999957,5713.6852824000007,null,0,0,0,0,0,null,0,0.96005405405405408,0,0,0,0,null,0,0.96005405405405408,0,0,0,0,null,0,0.96005405405405408,0,0,0,0,null,0,0.96005405405405408,0,0,0,0,null,0,0.96005405405405408,0,0,0,0,13.33,7.2054054054054059E-2,0.96005405405405408,0,428.82396720000003,0,428.82,73.89,0.39940540540540542,0.96005405405405408,0,2377.0294776000001,0,2377.0300000000002,{"$f":"IF(ISERROR(VLOOKUP(A378,'9ª MEDIÇÃO'!$A$5:$J$1048576,8,0)),0,(VLOOKUP(A378,'9ª MEDIÇÃO'!$A$5:$J$1048576,8,0)))","v":0},0,0.96005405405405408,0,0,0,0,{"$f":"IF(ISERROR(VLOOKUP(A378,#REF!,8,0)),0,(VLOOKUP(A378,#REF!,8,0)))","v":0},0,0.96005405405405408,0,0,0,0,{"$f":"IF(ISERROR(VLOOKUP($A378,#REF!,8,0)),0,(VLOOKUP($A378,#REF!,8,0)))","v":0},0,0.96005405405405408,0,0,0,0,{"$f":"IF(ISERROR(VLOOKUP($A378,#REF!,8,0)),0,(VLOOKUP($A378,#REF!,8,0)))","v":0},0,0.96005405405405408,0,0,0,0,{"$f":"IF(ISERROR(VLOOKUP($A378,#REF!,8,0)),0,(VLOOKUP($A378,#REF!,8,0)))","v":0},0,0.96005405405405408,0,0,0,0,{"$f":"IF(ISERROR(VLOOKUP($A378,#REF!,8,0)),0,(VLOOKUP($A378,#REF!,8,0)))","v":0},0,0.96005405405405408,0,0,0,0,{"$f":"IF(ISERROR(VLOOKUP($A378,#REF!,8,0)),0,(VLOOKUP($A378,#REF!,8,0)))","v":0},0,0.96005405405405408,0,0,0,0,{"$f":"IF(ISERROR(VLOOKUP($A378,#REF!,8,0)),0,(VLOOKUP($A378,#REF!,8,0)))","v":0},0,0.96005405405405408,0,0,0,0,{"$f":"IF(ISERROR(VLOOKUP($A378,#REF!,8,0)),0,(VLOOKUP($A378,#REF!,8,0)))","v":0},0,0.96005405405405408,0,0,0,0,{"$f":"IF(ISERROR(VLOOKUP($A378,#REF!,8,0)),0,(VLOOKUP($A378,#REF!,8,0)))","v":0},0,0.96005405405405408,0,0,0,0,{"$f":"IF(ISERROR(VLOOKUP($A378,#REF!,8,0)),0,(VLOOKUP($A378,#REF!,8,0)))","v":0},0,0.96005405405405408,0,0,0,0,{"$f":"IF(ISERROR(VLOOKUP($A378,#REF!,8,0)),0,(VLOOKUP($A378,#REF!,8,0)))","v":0},0,0.96005405405405408,0,0,0,0,{"$f":"IF(ISERROR(VLOOKUP($A378,#REF!,8,0)),0,(VLOOKUP($A378,#REF!,8,0)))","v":0},0,0.96005405405405408,0,0,0,0,{"$f":"IF(ISERROR(VLOOKUP($A378,#REF!,8,0)),0,(VLOOKUP($A378,#REF!,8,0)))","v":0},0,0.96005405405405408,0,0,0,0,{"$f":"IF(ISERROR(VLOOKUP($A378,#REF!,8,0)),0,(VLOOKUP($A378,#REF!,8,0)))","v":0},0,0.96005405405405408,0,0,0,0,{"$f":"IF(ISERROR(VLOOKUP($A378,#REF!,8,0)),0,(VLOOKUP($A378,#REF!,8,0)))","v":0},0,0.96005405405405408,0,0,0,0,{"$f":"IF(ISERROR(VLOOKUP($A378,#REF!,8,0)),0,(VLOOKUP($A378,#REF!,8,0)))","v":0},0,0.96005405405405408,0,0,0,0,{"$f":"IF(ISERROR(VLOOKUP($A378,#REF!,8,0)),0,(VLOOKUP($A378,#REF!,8,0)))","v":0},0,0.96005405405405408,0,0,0,0,{"$f":"IF(ISERROR(VLOOKUP($A378,#REF!,8,0)),0,(VLOOKUP($A378,#REF!,8,0)))","v":0},0,0.96005405405405408,0,0,0,0,{"$f":"IF(ISERROR(VLOOKUP($A378,#REF!,8,0)),0,(VLOOKUP($A378,#REF!,8,0)))","v":0},0,0.96005405405405408,0,0,0,0,{"$f":"IF(ISERROR(VLOOKUP($A378,#REF!,8,0)),0,(VLOOKUP($A378,#REF!,8,0)))","v":0},0,0.96005405405405408,0,0,0,0,{"$f":"IF(ISERROR(VLOOKUP($A378,#REF!,8,0)),0,(VLOOKUP($A378,#REF!,8,0)))","v":0},0,0.96005405405405408,0,0,0,0,{"$f":"IF(ISERROR(VLOOKUP($A378,#REF!,8,0)),0,(VLOOKUP($A378,#REF!,8,0)))","v":0},0,0.96005405405405408,0,0,0,0,{"$f":"IF(ISERROR(VLOOKUP($A378,#REF!,8,0)),0,(VLOOKUP($A378,#REF!,8,0)))","v":0},0,0.96005405405405408,0,0,0,0,{"$f":"IF(ISERROR(VLOOKUP($A378,#REF!,8,0)),0,(VLOOKUP($A378,#REF!,8,0)))","v":0},0,0.96005405405405408,0,0,0,0,{"$f":"IF(ISERROR(VLOOKUP($A378,#REF!,8,0)),0,(VLOOKUP($A378,#REF!,8,0)))","v":0},0,0.96005405405405408,0,0,0,0,{"$f":"IF(ISERROR(VLOOKUP($A378,#REF!,8,0)),0,(VLOOKUP($A378,#REF!,8,0)))","v":0},0,0.96005405405405408,0,0,0,0,{"$f":"IF(ISERROR(VLOOKUP($A378,#REF!,8,0)),0,(VLOOKUP($A378,#REF!,8,0)))","v":0},0,0.96005405405405408,0,0,0,0,{"$f":"IF(ISERROR(VLOOKUP($A378,#REF!,8,0)),0,(VLOOKUP($A378,#REF!,8,0)))","v":0},0,0.96005405405405408,0,0,0,0,{"$f":"IF(ISERROR(VLOOKUP($A378,#REF!,8,0)),0,(VLOOKUP($A378,#REF!,8,0)))","v":0},0,0.96005405405405408,0,0,0,0,{"$f":"IF(ISERROR(VLOOKUP($A378,#REF!,8,0)),0,(VLOOKUP($A378,#REF!,8,0)))","v":0},0,0.96005405405405408,0,0,0,0,{"$f":"IF(ISERROR(VLOOKUP($A378,#REF!,8,0)),0,(VLOOKUP($A378,#REF!,8,0)))","v":0},0,0.96005405405405408,0,0,0,0,{"$f":"IF(ISERROR(VLOOKUP($A378,#REF!,8,0)),0,(VLOOKUP($A378,#REF!,8,0)))","v":0},0,0.96005405405405408,0,0,0,0,{"$f":"IF(ISERROR(VLOOKUP($A378,#REF!,8,0)),0,(VLOOKUP($A378,#REF!,8,0)))","v":0},0,0.96005405405405408,0,0,0,0,{"$f":"IF(ISERROR(VLOOKUP($A378,#REF!,8,0)),0,(VLOOKUP($A378,#REF!,8,0)))","v":0},0,0.96005405405405408,0,0,0,0,{"$f":"IF(ISERROR(VLOOKUP($A378,#REF!,8,0)),0,(VLOOKUP($A378,#REF!,8,0)))","v":0},0,0.96005405405405408,0,0,0,0,{"$f":"IF(ISERROR(VLOOKUP($A378,#REF!,8,0)),0,(VLOOKUP($A378,#REF!,8,0)))","v":0},0,0.96005405405405408,0,0,0,0,{"$f":"IF(ISERROR(VLOOKUP($A378,#REF!,8,0)),0,(VLOOKUP($A378,#REF!,8,0)))","v":0},0,0.96005405405405408,0,0,0,0,{"$f":"IF(ISERROR(VLOOKUP($A378,#REF!,8,0)),0,(VLOOKUP($A378,#REF!,8,0)))","v":0},0,0.96005405405405408,0,0,0,0,{"$f":"IF(ISERROR(VLOOKUP($A378,#REF!,8,0)),0,(VLOOKUP($A378,#REF!,8,0)))","v":0},0,0.96005405405405408,0,0,0,0,{"$f":"IF(ISERROR(VLOOKUP($A378,#REF!,8,0)),0,(VLOOKUP($A378,#REF!,8,0)))","v":0},0,0.96005405405405408,0,0,0,0,{"$f":"IF(ISERROR(VLOOKUP($A378,#REF!,8,0)),0,(VLOOKUP($A378,#REF!,8,0)))","v":0},0,0.96005405405405408,0,0,0,0,{"$f":"IF(ISERROR(VLOOKUP($A378,#REF!,8,0)),0,(VLOOKUP($A378,#REF!,8,0)))","v":0},0,0.96005405405405408,0,0,0,0,{"$f":"IF(ISERROR(VLOOKUP($A378,#REF!,8,0)),0,(VLOOKUP($A378,#REF!,8,0)))","v":0},0,0.96005405405405408,0,0,0,0,{"$f":"IF(ISERROR(VLOOKUP($A378,#REF!,8,0)),0,(VLOOKUP($A378,#REF!,8,0)))","v":0},0,0.96005405405405408,0,0,0,0,{"$f":"IF(ISERROR(VLOOKUP($A378,#REF!,8,0)),0,(VLOOKUP($A378,#REF!,8,0)))","v":0},0,0.96005405405405408,0,0,0,0,{"$f":"IF(ISERROR(VLOOKUP($A378,#REF!,8,0)),0,(VLOOKUP($A378,#REF!,8,0)))","v":0},0,0.96005405405405408,0,0,0,0,5713.6852824000007,5713.6852824000007,1,0]
["17.5","Concreto magro para lastro, traço 1:4,5:4,5 (cimento/ areia média/ brita 1)  - preparo mecânico com betoneira 400 L.","m³",12.5,12.239999999999998,0.26000000000000156,137.506246,1718.8280750000001,45.66724,570.84050000000002,0,0,183.173486,47.625106360000288,2242.0434686399999,null,0,0,0,0,0,null,0,0.97919999999999985,0,0,0,0,null,0,0.97919999999999985,0,0,0,0,null,0,0.97919999999999985,0,0,0,0,8.86,0.70879999999999999,0.97919999999999985,1218.30533956,404.61174639999996,0,1622.92,3.38,0.27039999999999997,0.97919999999999985,464.77111148,154.3552712,0,619.13,{"$f":"IF(ISERROR(VLOOKUP(A379,'7ª MEDIÇÃO'!$A$5:$J$1048576,8,0)),0,(VLOOKUP(A379,'7ª MEDIÇÃO'!$A$5:$J$1048576,8,0)))","v":0},0,0.97919999999999985,0,0,0,0,{"$f":"IF(ISERROR(VLOOKUP(A379,'8ª MEDIÇÃO'!$A$5:$J$1048576,8,0)),0,(VLOOKUP(A379,'8ª MEDIÇÃO'!$A$5:$J$1048576,8,0)))","v":0},0,0.97919999999999985,0,0,0,0,{"$f":"IF(ISERROR(VLOOKUP(A379,'9ª MEDIÇÃO'!$A$5:$J$1048576,8,0)),0,(VLOOKUP(A379,'9ª MEDIÇÃO'!$A$5:$J$1048576,8,0)))","v":0},0,0.97919999999999985,0,0,0,0,{"$f":"IF(ISERROR(VLOOKUP(A379,#REF!,8,0)),0,(VLOOKUP(A379,#REF!,8,0)))","v":0},0,0.97919999999999985,0,0,0,0,{"$f":"IF(ISERROR(VLOOKUP($A379,#REF!,8,0)),0,(VLOOKUP($A379,#REF!,8,0)))","v":0},0,0.97919999999999985,0,0,0,0,{"$f":"IF(ISERROR(VLOOKUP($A379,#REF!,8,0)),0,(VLOOKUP($A379,#REF!,8,0)))","v":0},0,0.97919999999999985,0,0,0,0,{"$f":"IF(ISERROR(VLOOKUP($A379,#REF!,8,0)),0,(VLOOKUP($A379,#REF!,8,0)))","v":0},0,0.97919999999999985,0,0,0,0,{"$f":"IF(ISERROR(VLOOKUP($A379,#REF!,8,0)),0,(VLOOKUP($A379,#REF!,8,0)))","v":0},0,0.97919999999999985,0,0,0,0,{"$f":"IF(ISERROR(VLOOKUP($A379,#REF!,8,0)),0,(VLOOKUP($A379,#REF!,8,0)))","v":0},0,0.97919999999999985,0,0,0,0,{"$f":"IF(ISERROR(VLOOKUP($A379,#REF!,8,0)),0,(VLOOKUP($A379,#REF!,8,0)))","v":0},0,0.97919999999999985,0,0,0,0,{"$f":"IF(ISERROR(VLOOKUP($A379,#REF!,8,0)),0,(VLOOKUP($A379,#REF!,8,0)))","v":0},0,0.97919999999999985,0,0,0,0,{"$f":"IF(ISERROR(VLOOKUP($A379,#REF!,8,0)),0,(VLOOKUP($A379,#REF!,8,0)))","v":0},0,0.97919999999999985,0,0,0,0,{"$f":"IF(ISERROR(VLOOKUP($A379,#REF!,8,0)),0,(VLOOKUP($A379,#REF!,8,0)))","v":0},0,0.97919999999999985,0,0,0,0,{"$f":"IF(ISERROR(VLOOKUP($A379,#REF!,8,0)),0,(VLOOKUP($A379,#REF!,8,0)))","v":0},0,0.97919999999999985,0,0,0,0,{"$f":"IF(ISERROR(VLOOKUP($A379,#REF!,8,0)),0,(VLOOKUP($A379,#REF!,8,0)))","v":0},0,0.97919999999999985,0,0,0,0,{"$f":"IF(ISERROR(VLOOKUP($A379,#REF!,8,0)),0,(VLOOKUP($A379,#REF!,8,0)))","v":0},0,0.97919999999999985,0,0,0,0,{"$f":"IF(ISERROR(VLOOKUP($A379,#REF!,8,0)),0,(VLOOKUP($A379,#REF!,8,0)))","v":0},0,0.97919999999999985,0,0,0,0,{"$f":"IF(ISERROR(VLOOKUP($A379,#REF!,8,0)),0,(VLOOKUP($A379,#REF!,8,0)))","v":0},0,0.97919999999999985,0,0,0,0,{"$f":"IF(ISERROR(VLOOKUP($A379,#REF!,8,0)),0,(VLOOKUP($A379,#REF!,8,0)))","v":0},0,0.97919999999999985,0,0,0,0,{"$f":"IF(ISERROR(VLOOKUP($A379,#REF!,8,0)),0,(VLOOKUP($A379,#REF!,8,0)))","v":0},0,0.97919999999999985,0,0,0,0,{"$f":"IF(ISERROR(VLOOKUP($A379,#REF!,8,0)),0,(VLOOKUP($A379,#REF!,8,0)))","v":0},0,0.97919999999999985,0,0,0,0,{"$f":"IF(ISERROR(VLOOKUP($A379,#REF!,8,0)),0,(VLOOKUP($A379,#REF!,8,0)))","v":0},0,0.97919999999999985,0,0,0,0,{"$f":"IF(ISERROR(VLOOKUP($A379,#REF!,8,0)),0,(VLOOKUP($A379,#REF!,8,0)))","v":0},0,0.97919999999999985,0,0,0,0,{"$f":"IF(ISERROR(VLOOKUP($A379,#REF!,8,0)),0,(VLOOKUP($A379,#REF!,8,0)))","v":0},0,0.97919999999999985,0,0,0,0,{"$f":"IF(ISERROR(VLOOKUP($A379,#REF!,8,0)),0,(VLOOKUP($A379,#REF!,8,0)))","v":0},0,0.97919999999999985,0,0,0,0,{"$f":"IF(ISERROR(VLOOKUP($A379,#REF!,8,0)),0,(VLOOKUP($A379,#REF!,8,0)))","v":0},0,0.97919999999999985,0,0,0,0,{"$f":"IF(ISERROR(VLOOKUP($A379,#REF!,8,0)),0,(VLOOKUP($A379,#REF!,8,0)))","v":0},0,0.97919999999999985,0,0,0,0,{"$f":"IF(ISERROR(VLOOKUP($A379,#REF!,8,0)),0,(VLOOKUP($A379,#REF!,8,0)))","v":0},0,0.97919999999999985,0,0,0,0,{"$f":"IF(ISERROR(VLOOKUP($A379,#REF!,8,0)),0,(VLOOKUP($A379,#REF!,8,0)))","v":0},0,0.97919999999999985,0,0,0,0,{"$f":"IF(ISERROR(VLOOKUP($A379,#REF!,8,0)),0,(VLOOKUP($A379,#REF!,8,0)))","v":0},0,0.97919999999999985,0,0,0,0,{"$f":"IF(ISERROR(VLOOKUP($A379,#REF!,8,0)),0,(VLOOKUP($A379,#REF!,8,0)))","v":0},0,0.97919999999999985,0,0,0,0,{"$f":"IF(ISERROR(VLOOKUP($A379,#REF!,8,0)),0,(VLOOKUP($A379,#REF!,8,0)))","v":0},0,0.97919999999999985,0,0,0,0,{"$f":"IF(ISERROR(VLOOKUP($A379,#REF!,8,0)),0,(VLOOKUP($A379,#REF!,8,0)))","v":0},0,0.97919999999999985,0,0,0,0,{"$f":"IF(ISERROR(VLOOKUP($A379,#REF!,8,0)),0,(VLOOKUP($A379,#REF!,8,0)))","v":0},0,0.97919999999999985,0,0,0,0,{"$f":"IF(ISERROR(VLOOKUP($A379,#REF!,8,0)),0,(VLOOKUP($A379,#REF!,8,0)))","v":0},0,0.97919999999999985,0,0,0,0,{"$f":"IF(ISERROR(VLOOKUP($A379,#REF!,8,0)),0,(VLOOKUP($A379,#REF!,8,0)))","v":0},0,0.97919999999999985,0,0,0,0,{"$f":"IF(ISERROR(VLOOKUP($A379,#REF!,8,0)),0,(VLOOKUP($A379,#REF!,8,0)))","v":0},0,0.97919999999999985,0,0,0,0,{"$f":"IF(ISERROR(VLOOKUP($A379,#REF!,8,0)),0,(VLOOKUP($A379,#REF!,8,0)))","v":0},0,0.97919999999999985,0,0,0,0,{"$f":"IF(ISERROR(VLOOKUP($A379,#REF!,8,0)),0,(VLOOKUP($A379,#REF!,8,0)))","v":0},0,0.97919999999999985,0,0,0,0,{"$f":"IF(ISERROR(VLOOKUP($A379,#REF!,8,0)),0,(VLOOKUP($A379,#REF!,8,0)))","v":0},0,0.97919999999999985,0,0,0,0,{"$f":"IF(ISERROR(VLOOKUP($A379,#REF!,8,0)),0,(VLOOKUP($A379,#REF!,8,0)))","v":0},0,0.97919999999999985,0,0,0,0,{"$f":"IF(ISERROR(VLOOKUP($A379,#REF!,8,0)),0,(VLOOKUP($A379,#REF!,8,0)))","v":0},0,0.97919999999999985,0,0,0,0,{"$f":"IF(ISERROR(VLOOKUP($A379,#REF!,8,0)),0,(VLOOKUP($A379,#REF!,8,0)))","v":0},0,0.97919999999999985,0,0,0,0,{"$f":"IF(ISERROR(VLOOKUP($A379,#REF!,8,0)),0,(VLOOKUP($A379,#REF!,8,0)))","v":0},0,0.97919999999999985,0,0,0,0,{"$f":"IF(ISERROR(VLOOKUP($A379,#REF!,8,0)),0,(VLOOKUP($A379,#REF!,8,0)))","v":0},0,0.97919999999999985,0,0,0,0,{"$f":"IF(ISERROR(VLOOKUP($A379,#REF!,8,0)),0,(VLOOKUP($A379,#REF!,8,0)))","v":0},0,0.97919999999999985,0,0,0,0,{"$f":"IF(ISERROR(VLOOKUP($A379,#REF!,8,0)),0,(VLOOKUP($A379,#REF!,8,0)))","v":0},0,0.97919999999999985,0,0,0,0,{"$f":"IF(ISERROR(VLOOKUP($A379,#REF!,8,0)),0,(VLOOKUP($A379,#REF!,8,0)))","v":0},0,0.97919999999999985,0,0,0,0,{"$f":"IF(ISERROR(VLOOKUP($A379,#REF!,8,0)),0,(VLOOKUP($A379,#REF!,8,0)))","v":0},0,0.97919999999999985,0,0,0,0,2242.0434686399999,2242.0434686399999,1,0]
[null,"INFRAESTRUTURA",null,null,0,0,null,0,null,0,null,0,0,0,0,null,0,0,0,0,0,null,0,0,0,0,0,0,null,0,0,0,0,0,0,null,0,0,0,0,0,0,null,0,0,0,0,0,0,null,0,0,0,0,0,0,{"$f":"IF(ISERROR(VLOOKUP(A388,'7ª MEDIÇÃO'!$A$5:$J$1048576,8,0)),0,(VLOOKUP(A388,'7ª MEDIÇÃO'!$A$5:$J$1048576,8,0)))","v":0},0,0,0,0,0,0,{"$f":"IF(ISERROR(VLOOKUP(A388,'8ª MEDIÇÃO'!$A$5:$J$1048576,8,0)),0,(VLOOKUP(A388,'8ª MEDIÇÃO'!$A$5:$J$1048576,8,0)))","v":0},0,0,0,0,0,0,{"$f":"IF(ISERROR(VLOOKUP(A388,'9ª MEDIÇÃO'!$A$5:$J$1048576,8,0)),0,(VLOOKUP(A388,'9ª MEDIÇÃO'!$A$5:$J$1048576,8,0)))","v":0},0,0,0,0,0,0,{"$f":"IF(ISERROR(VLOOKUP(A388,#REF!,8,0)),0,(VLOOKUP(A388,#REF!,8,0)))","v":0},0,0,0,0,0,0,{"$f":"IF(ISERROR(VLOOKUP($A388,#REF!,8,0)),0,(VLOOKUP($A388,#REF!,8,0)))","v":0},0,0,0,0,0,0,{"$f":"IF(ISERROR(VLOOKUP($A388,#REF!,8,0)),0,(VLOOKUP($A388,#REF!,8,0)))","v":0},0,0,0,0,0,0,{"$f":"IF(ISERROR(VLOOKUP($A388,#REF!,8,0)),0,(VLOOKUP($A388,#REF!,8,0)))","v":0},0,0,0,0,0,0,{"$f":"IF(ISERROR(VLOOKUP($A388,#REF!,8,0)),0,(VLOOKUP($A388,#REF!,8,0)))","v":0},0,0,0,0,0,0,{"$f":"IF(ISERROR(VLOOKUP($A388,#REF!,8,0)),0,(VLOOKUP($A388,#REF!,8,0)))","v":0},0,0,0,0,0,0,{"$f":"IF(ISERROR(VLOOKUP($A388,#REF!,8,0)),0,(VLOOKUP($A388,#REF!,8,0)))","v":0},0,0,0,0,0,0,{"$f":"IF(ISERROR(VLOOKUP($A388,#REF!,8,0)),0,(VLOOKUP($A388,#REF!,8,0)))","v":0},0,0,0,0,0,0,{"$f":"IF(ISERROR(VLOOKUP($A388,#REF!,8,0)),0,(VLOOKUP($A388,#REF!,8,0)))","v":0},0,0,0,0,0,0,{"$f":"IF(ISERROR(VLOOKUP($A388,#REF!,8,0)),0,(VLOOKUP($A388,#REF!,8,0)))","v":0},0,0,0,0,0,0,{"$f":"IF(ISERROR(VLOOKUP($A388,#REF!,8,0)),0,(VLOOKUP($A388,#REF!,8,0)))","v":0},0,0,0,0,0,0,{"$f":"IF(ISERROR(VLOOKUP($A388,#REF!,8,0)),0,(VLOOKUP($A388,#REF!,8,0)))","v":0},0,0,0,0,0,0,{"$f":"IF(ISERROR(VLOOKUP($A388,#REF!,8,0)),0,(VLOOKUP($A388,#REF!,8,0)))","v":0},0,0,0,0,0,0,{"$f":"IF(ISERROR(VLOOKUP($A388,#REF!,8,0)),0,(VLOOKUP($A388,#REF!,8,0)))","v":0},0,0,0,0,0,0,{"$f":"IF(ISERROR(VLOOKUP($A388,#REF!,8,0)),0,(VLOOKUP($A388,#REF!,8,0)))","v":0},0,0,0,0,0,0,{"$f":"IF(ISERROR(VLOOKUP($A388,#REF!,8,0)),0,(VLOOKUP($A388,#REF!,8,0)))","v":0},0,0,0,0,0,0,{"$f":"IF(ISERROR(VLOOKUP($A388,#REF!,8,0)),0,(VLOOKUP($A388,#REF!,8,0)))","v":0},0,0,0,0,0,0,{"$f":"IF(ISERROR(VLOOKUP($A388,#REF!,8,0)),0,(VLOOKUP($A388,#REF!,8,0)))","v":0},0,0,0,0,0,0,{"$f":"IF(ISERROR(VLOOKUP($A388,#REF!,8,0)),0,(VLOOKUP($A388,#REF!,8,0)))","v":0},0,0,0,0,0,0,{"$f":"IF(ISERROR(VLOOKUP($A388,#REF!,8,0)),0,(VLOOKUP($A388,#REF!,8,0)))","v":0},0,0,0,0,0,0,{"$f":"IF(ISERROR(VLOOKUP($A388,#REF!,8,0)),0,(VLOOKUP($A388,#REF!,8,0)))","v":0},0,0,0,0,0,0,{"$f":"IF(ISERROR(VLOOKUP($A388,#REF!,8,0)),0,(VLOOKUP($A388,#REF!,8,0)))","v":0},0,0,0,0,0,0,{"$f":"IF(ISERROR(VLOOKUP($A388,#REF!,8,0)),0,(VLOOKUP($A388,#REF!,8,0)))","v":0},0,0,0,0,0,0,{"$f":"IF(ISERROR(VLOOKUP($A388,#REF!,8,0)),0,(VLOOKUP($A388,#REF!,8,0)))","v":0},0,0,0,0,0,0,{"$f":"IF(ISERROR(VLOOKUP($A388,#REF!,8,0)),0,(VLOOKUP($A388,#REF!,8,0)))","v":0},0,0,0,0,0,0,{"$f":"IF(ISERROR(VLOOKUP($A388,#REF!,8,0)),0,(VLOOKUP($A388,#REF!,8,0)))","v":0},0,0,0,0,0,0,{"$f":"IF(ISERROR(VLOOKUP($A388,#REF!,8,0)),0,(VLOOKUP($A388,#REF!,8,0)))","v":0},0,0,0,0,0,0,{"$f":"IF(ISERROR(VLOOKUP($A388,#REF!,8,0)),0,(VLOOKUP($A388,#REF!,8,0)))","v":0},0,0,0,0,0,0,{"$f":"IF(ISERROR(VLOOKUP($A388,#REF!,8,0)),0,(VLOOKUP($A388,#REF!,8,0)))","v":0},0,0,0,0,0,0,{"$f":"IF(ISERROR(VLOOKUP($A388,#REF!,8,0)),0,(VLOOKUP($A388,#REF!,8,0)))","v":0},0,0,0,0,0,0,{"$f":"IF(ISERROR(VLOOKUP($A388,#REF!,8,0)),0,(VLOOKUP($A388,#REF!,8,0)))","v":0},0,0,0,0,0,0,{"$f":"IF(ISERROR(VLOOKUP($A388,#REF!,8,0)),0,(VLOOKUP($A388,#REF!,8,0)))","v":0},0,0,0,0,0,0,{"$f":"IF(ISERROR(VLOOKUP($A388,#REF!,8,0)),0,(VLOOKUP($A388,#REF!,8,0)))","v":0},0,0,0,0,0,0,{"$f":"IF(ISERROR(VLOOKUP($A388,#REF!,8,0)),0,(VLOOKUP($A388,#REF!,8,0)))","v":0},0,0,0,0,0,0,{"$f":"IF(ISERROR(VLOOKUP($A388,#REF!,8,0)),0,(VLOOKUP($A388,#REF!,8,0)))","v":0},0,0,0,0,0,0,{"$f":"IF(ISERROR(VLOOKUP($A388,#REF!,8,0)),0,(VLOOKUP($A388,#REF!,8,0)))","v":0},0,0,0,0,0,0,{"$f":"IF(ISERROR(VLOOKUP($A388,#REF!,8,0)),0,(VLOOKUP($A388,#REF!,8,0)))","v":0},0,0,0,0,0,0,{"$f":"IF(ISERROR(VLOOKUP($A388,#REF!,8,0)),0,(VLOOKUP($A388,#REF!,8,0)))","v":0},0,0,0,0,0,0,{"$f":"IF(ISERROR(VLOOKUP($A388,#REF!,8,0)),0,(VLOOKUP($A388,#REF!,8,0)))","v":0},0,0,0,0,0,0,{"$f":"IF(ISERROR(VLOOKUP($A388,#REF!,8,0)),0,(VLOOKUP($A388,#REF!,8,0)))","v":0},0,0,0,0,0,0,{"$f":"IF(ISERROR(VLOOKUP($A388,#REF!,8,0)),0,(VLOOKUP($A388,#REF!,8,0)))","v":0},0,0,0,0,0,0,{"$f":"IF(ISERROR(VLOOKUP($A388,#REF!,8,0)),0,(VLOOKUP($A388,#REF!,8,0)))","v":0},0,0,0,0,0,0,{"$f":"IF(ISERROR(VLOOKUP($A388,#REF!,8,0)),0,(VLOOKUP($A388,#REF!,8,0)))","v":0},0,0,0,0,0,0,{"$f":"IF(ISERROR(VLOOKUP($A388,#REF!,8,0)),0,(VLOOKUP($A388,#REF!,8,0)))","v":0},0,0,0,0,0,0,{"$f":"IF(ISERROR(VLOOKUP($A388,#REF!,8,0)),0,(VLOOKUP($A388,#REF!,8,0)))","v":0},0,0,0,0,0,0,{"$f":"IF(ISERROR(VLOOKUP($A388,#REF!,8,0)),0,(VLOOKUP($A388,#REF!,8,0)))","v":0},0,0,0,0,0,0,{"$f":"E388*M388","v":0},{"$f":"O388","v":0},{"$error":"#DIV/0!"},0]
["18.10","Concreto usinado BOMBEADO Fck=40mpa, inclusive colocação, espalhamento e acabamento. ","m³",14.6,14.540000000000001,5.9999999999998721E-2,349.30289800000003,5099.8223108000002,17.988240000000001,262.62830400000001,0,0,367.29113800000005,22.037468279999533,5340.4131465200007,null,0,0,0,0,0,null,0,0.99589041095890418,0,0,0,0,null,0,0.99589041095890418,0,0,0,0,null,0,0.99589041095890418,0,0,0,0,null,0,0.99589041095890418,0,0,0,0,null,0,0.99589041095890418,0,0,0,0,{"$f":"IF(ISERROR(VLOOKUP(A398,'7ª MEDIÇÃO'!$A$5:$J$1048576,8,0)),0,(VLOOKUP(A398,'7ª MEDIÇÃO'!$A$5:$J$1048576,8,0)))","v":0},0,0.99589041095890418,0,0,0,0,{"$f":"IF(ISERROR(VLOOKUP(A398,'8ª MEDIÇÃO'!$A$5:$J$1048576,8,0)),0,(VLOOKUP(A398,'8ª MEDIÇÃO'!$A$5:$J$1048576,8,0)))","v":0},0,0.99589041095890418,0,0,0,0,{"$f":"IF(ISERROR(VLOOKUP(A398,'9ª MEDIÇÃO'!$A$5:$J$1048576,8,0)),0,(VLOOKUP(A398,'9ª MEDIÇÃO'!$A$5:$J$1048576,8,0)))","v":0},0,0.99589041095890418,0,0,0,0,{"$f":"IF(ISERROR(VLOOKUP(A398,#REF!,8,0)),0,(VLOOKUP(A398,#REF!,8,0)))","v":0},0,0.99589041095890418,0,0,0,0,{"$f":"IF(ISERROR(VLOOKUP($A398,#REF!,8,0)),0,(VLOOKUP($A398,#REF!,8,0)))","v":0},0,0.99589041095890418,0,0,0,0,{"$f":"IF(ISERROR(VLOOKUP($A398,#REF!,8,0)),0,(VLOOKUP($A398,#REF!,8,0)))","v":0},0,0.99589041095890418,0,0,0,0,{"$f":"IF(ISERROR(VLOOKUP($A398,#REF!,8,0)),0,(VLOOKUP($A398,#REF!,8,0)))","v":0},0,0.99589041095890418,0,0,0,0,{"$f":"IF(ISERROR(VLOOKUP($A398,#REF!,8,0)),0,(VLOOKUP($A398,#REF!,8,0)))","v":0},0,0.99589041095890418,0,0,0,0,{"$f":"IF(ISERROR(VLOOKUP($A398,#REF!,8,0)),0,(VLOOKUP($A398,#REF!,8,0)))","v":0},0,0.99589041095890418,0,0,0,0,{"$f":"IF(ISERROR(VLOOKUP($A398,#REF!,8,0)),0,(VLOOKUP($A398,#REF!,8,0)))","v":0},0,0.99589041095890418,0,0,0,0,{"$f":"IF(ISERROR(VLOOKUP($A398,#REF!,8,0)),0,(VLOOKUP($A398,#REF!,8,0)))","v":0},0,0.99589041095890418,0,0,0,0,{"$f":"IF(ISERROR(VLOOKUP($A398,#REF!,8,0)),0,(VLOOKUP($A398,#REF!,8,0)))","v":0},0,0.99589041095890418,0,0,0,0,{"$f":"IF(ISERROR(VLOOKUP($A398,#REF!,8,0)),0,(VLOOKUP($A398,#REF!,8,0)))","v":0},0,0.99589041095890418,0,0,0,0,{"$f":"IF(ISERROR(VLOOKUP($A398,#REF!,8,0)),0,(VLOOKUP($A398,#REF!,8,0)))","v":0},0,0.99589041095890418,0,0,0,0,{"$f":"IF(ISERROR(VLOOKUP($A398,#REF!,8,0)),0,(VLOOKUP($A398,#REF!,8,0)))","v":0},0,0.99589041095890418,0,0,0,0,{"$f":"IF(ISERROR(VLOOKUP($A398,#REF!,8,0)),0,(VLOOKUP($A398,#REF!,8,0)))","v":0},0,0.99589041095890418,0,0,0,0,{"$f":"IF(ISERROR(VLOOKUP($A398,#REF!,8,0)),0,(VLOOKUP($A398,#REF!,8,0)))","v":0},0,0.99589041095890418,0,0,0,0,{"$f":"IF(ISERROR(VLOOKUP($A398,#REF!,8,0)),0,(VLOOKUP($A398,#REF!,8,0)))","v":0},0,0.99589041095890418,0,0,0,0,{"$f":"IF(ISERROR(VLOOKUP($A398,#REF!,8,0)),0,(VLOOKUP($A398,#REF!,8,0)))","v":0},0,0.99589041095890418,0,0,0,0,{"$f":"IF(ISERROR(VLOOKUP($A398,#REF!,8,0)),0,(VLOOKUP($A398,#REF!,8,0)))","v":0},0,0.99589041095890418,0,0,0,0,{"$f":"IF(ISERROR(VLOOKUP($A398,#REF!,8,0)),0,(VLOOKUP($A398,#REF!,8,0)))","v":0},0,0.99589041095890418,0,0,0,0,{"$f":"IF(ISERROR(VLOOKUP($A398,#REF!,8,0)),0,(VLOOKUP($A398,#REF!,8,0)))","v":0},0,0.99589041095890418,0,0,0,0,{"$f":"IF(ISERROR(VLOOKUP($A398,#REF!,8,0)),0,(VLOOKUP($A398,#REF!,8,0)))","v":0},0,0.99589041095890418,0,0,0,0,{"$f":"IF(ISERROR(VLOOKUP($A398,#REF!,8,0)),0,(VLOOKUP($A398,#REF!,8,0)))","v":0},0,0.99589041095890418,0,0,0,0,{"$f":"IF(ISERROR(VLOOKUP($A398,#REF!,8,0)),0,(VLOOKUP($A398,#REF!,8,0)))","v":0},0,0.99589041095890418,0,0,0,0,{"$f":"IF(ISERROR(VLOOKUP($A398,#REF!,8,0)),0,(VLOOKUP($A398,#REF!,8,0)))","v":0},0,0.99589041095890418,0,0,0,0,{"$f":"IF(ISERROR(VLOOKUP($A398,#REF!,8,0)),0,(VLOOKUP($A398,#REF!,8,0)))","v":0},0,0.99589041095890418,0,0,0,0,{"$f":"IF(ISERROR(VLOOKUP($A398,#REF!,8,0)),0,(VLOOKUP($A398,#REF!,8,0)))","v":0},0,0.99589041095890418,0,0,0,0,{"$f":"IF(ISERROR(VLOOKUP($A398,#REF!,8,0)),0,(VLOOKUP($A398,#REF!,8,0)))","v":0},0,0.99589041095890418,0,0,0,0,{"$f":"IF(ISERROR(VLOOKUP($A398,#REF!,8,0)),0,(VLOOKUP($A398,#REF!,8,0)))","v":0},0,0.99589041095890418,0,0,0,0,{"$f":"IF(ISERROR(VLOOKUP($A398,#REF!,8,0)),0,(VLOOKUP($A398,#REF!,8,0)))","v":0},0,0.99589041095890418,0,0,0,0,{"$f":"IF(ISERROR(VLOOKUP($A398,#REF!,8,0)),0,(VLOOKUP($A398,#REF!,8,0)))","v":0},0,0.99589041095890418,0,0,0,0,{"$f":"IF(ISERROR(VLOOKUP($A398,#REF!,8,0)),0,(VLOOKUP($A398,#REF!,8,0)))","v":0},0,0.99589041095890418,0,0,0,0,{"$f":"IF(ISERROR(VLOOKUP($A398,#REF!,8,0)),0,(VLOOKUP($A398,#REF!,8,0)))","v":0},0,0.99589041095890418,0,0,0,0,{"$f":"IF(ISERROR(VLOOKUP($A398,#REF!,8,0)),0,(VLOOKUP($A398,#REF!,8,0)))","v":0},0,0.99589041095890418,0,0,0,0,{"$f":"IF(ISERROR(VLOOKUP($A398,#REF!,8,0)),0,(VLOOKUP($A398,#REF!,8,0)))","v":0},0,0.99589041095890418,0,0,0,0,{"$f":"IF(ISERROR(VLOOKUP($A398,#REF!,8,0)),0,(VLOOKUP($A398,#REF!,8,0)))","v":0},0,0.99589041095890418,0,0,0,0,{"$f":"IF(ISERROR(VLOOKUP($A398,#REF!,8,0)),0,(VLOOKUP($A398,#REF!,8,0)))","v":0},0,0.99589041095890418,0,0,0,0,{"$f":"IF(ISERROR(VLOOKUP($A398,#REF!,8,0)),0,(VLOOKUP($A398,#REF!,8,0)))","v":0},0,0.99589041095890418,0,0,0,0,{"$f":"IF(ISERROR(VLOOKUP($A398,#REF!,8,0)),0,(VLOOKUP($A398,#REF!,8,0)))","v":0},0,0.99589041095890418,0,0,0,0,{"$f":"IF(ISERROR(VLOOKUP($A398,#REF!,8,0)),0,(VLOOKUP($A398,#REF!,8,0)))","v":0},0,0.99589041095890418,0,0,0,0,{"$f":"IF(ISERROR(VLOOKUP($A398,#REF!,8,0)),0,(VLOOKUP($A398,#REF!,8,0)))","v":0},0,0.99589041095890418,0,0,0,0,{"$f":"IF(ISERROR(VLOOKUP($A398,#REF!,8,0)),0,(VLOOKUP($A398,#REF!,8,0)))","v":0},0,0.99589041095890418,0,0,0,0,{"$f":"IF(ISERROR(VLOOKUP($A398,#REF!,8,0)),0,(VLOOKUP($A398,#REF!,8,0)))","v":0},0,0.99589041095890418,0,0,0,0,{"$f":"IF(ISERROR(VLOOKUP($A398,#REF!,8,0)),0,(VLOOKUP($A398,#REF!,8,0)))","v":0},0,0.99589041095890418,0,0,0,0,{"$f":"IF(ISERROR(VLOOKUP($A398,#REF!,8,0)),0,(VLOOKUP($A398,#REF!,8,0)))","v":0},0,0.99589041095890418,0,0,0,0,{"$f":"IF(ISERROR(VLOOKUP($A398,#REF!,8,0)),0,(VLOOKUP($A398,#REF!,8,0)))","v":0},0,0.99589041095890418,0,0,0,0,{"$f":"IF(ISERROR(VLOOKUP($A398,#REF!,8,0)),0,(VLOOKUP($A398,#REF!,8,0)))","v":0},0,0.99589041095890418,0,0,0,0,{"$f":"IF(ISERROR(VLOOKUP($A398,#REF!,8,0)),0,(VLOOKUP($A398,#REF!,8,0)))","v":0},0,0.99589041095890418,0,0,0,0,5340.4131465200007,5340.4131465200007,1,0]
["18.18","Armação de pilar ou viga de uma estrutura convencional de concreto armado em um edifício de múltiplos pavimentos utilizando aço CA-50 de 10.0 mm - Montagem. ","kg",276,276,0,4.1161060000000003,1136.0452560000001,2.53776,700.42175999999995,0,0,6.6538660000000007,0,1836.4670160000003,null,0,0,0,0,0,null,0,1,0,0,0,0,null,0,1,0,0,0,0,null,0,1,0,0,0,0,null,0,1,0,0,0,0,null,0,1,0,0,0,0,{"$f":"IF(ISERROR(VLOOKUP(A407,'7ª MEDIÇÃO'!$A$5:$J$1048576,8,0)),0,(VLOOKUP(A407,'7ª MEDIÇÃO'!$A$5:$J$1048576,8,0)))","v":0},0,1,0,0,0,0,{"$f":"IF(ISERROR(VLOOKUP(A407,'8ª MEDIÇÃO'!$A$5:$J$1048576,8,0)),0,(VLOOKUP(A407,'8ª MEDIÇÃO'!$A$5:$J$1048576,8,0)))","v":0},0,1,0,0,0,0,{"$f":"IF(ISERROR(VLOOKUP(A407,'9ª MEDIÇÃO'!$A$5:$J$1048576,8,0)),0,(VLOOKUP(A407,'9ª MEDIÇÃO'!$A$5:$J$1048576,8,0)))","v":0},0,1,0,0,0,0,{"$f":"IF(ISERROR(VLOOKUP(A407,#REF!,8,0)),0,(VLOOKUP(A407,#REF!,8,0)))","v":0},0,1,0,0,0,0,{"$f":"IF(ISERROR(VLOOKUP($A407,#REF!,8,0)),0,(VLOOKUP($A407,#REF!,8,0)))","v":0},0,1,0,0,0,0,{"$f":"IF(ISERROR(VLOOKUP($A407,#REF!,8,0)),0,(VLOOKUP($A407,#REF!,8,0)))","v":0},0,1,0,0,0,0,{"$f":"IF(ISERROR(VLOOKUP($A407,#REF!,8,0)),0,(VLOOKUP($A407,#REF!,8,0)))","v":0},0,1,0,0,0,0,{"$f":"IF(ISERROR(VLOOKUP($A407,#REF!,8,0)),0,(VLOOKUP($A407,#REF!,8,0)))","v":0},0,1,0,0,0,0,{"$f":"IF(ISERROR(VLOOKUP($A407,#REF!,8,0)),0,(VLOOKUP($A407,#REF!,8,0)))","v":0},0,1,0,0,0,0,{"$f":"IF(ISERROR(VLOOKUP($A407,#REF!,8,0)),0,(VLOOKUP($A407,#REF!,8,0)))","v":0},0,1,0,0,0,0,{"$f":"IF(ISERROR(VLOOKUP($A407,#REF!,8,0)),0,(VLOOKUP($A407,#REF!,8,0)))","v":0},0,1,0,0,0,0,{"$f":"IF(ISERROR(VLOOKUP($A407,#REF!,8,0)),0,(VLOOKUP($A407,#REF!,8,0)))","v":0},0,1,0,0,0,0,{"$f":"IF(ISERROR(VLOOKUP($A407,#REF!,8,0)),0,(VLOOKUP($A407,#REF!,8,0)))","v":0},0,1,0,0,0,0,{"$f":"IF(ISERROR(VLOOKUP($A407,#REF!,8,0)),0,(VLOOKUP($A407,#REF!,8,0)))","v":0},0,1,0,0,0,0,{"$f":"IF(ISERROR(VLOOKUP($A407,#REF!,8,0)),0,(VLOOKUP($A407,#REF!,8,0)))","v":0},0,1,0,0,0,0,{"$f":"IF(ISERROR(VLOOKUP($A407,#REF!,8,0)),0,(VLOOKUP($A407,#REF!,8,0)))","v":0},0,1,0,0,0,0,{"$f":"IF(ISERROR(VLOOKUP($A407,#REF!,8,0)),0,(VLOOKUP($A407,#REF!,8,0)))","v":0},0,1,0,0,0,0,{"$f":"IF(ISERROR(VLOOKUP($A407,#REF!,8,0)),0,(VLOOKUP($A407,#REF!,8,0)))","v":0},0,1,0,0,0,0,{"$f":"IF(ISERROR(VLOOKUP($A407,#REF!,8,0)),0,(VLOOKUP($A407,#REF!,8,0)))","v":0},0,1,0,0,0,0,{"$f":"IF(ISERROR(VLOOKUP($A407,#REF!,8,0)),0,(VLOOKUP($A407,#REF!,8,0)))","v":0},0,1,0,0,0,0,{"$f":"IF(ISERROR(VLOOKUP($A407,#REF!,8,0)),0,(VLOOKUP($A407,#REF!,8,0)))","v":0},0,1,0,0,0,0,{"$f":"IF(ISERROR(VLOOKUP($A407,#REF!,8,0)),0,(VLOOKUP($A407,#REF!,8,0)))","v":0},0,1,0,0,0,0,{"$f":"IF(ISERROR(VLOOKUP($A407,#REF!,8,0)),0,(VLOOKUP($A407,#REF!,8,0)))","v":0},0,1,0,0,0,0,{"$f":"IF(ISERROR(VLOOKUP($A407,#REF!,8,0)),0,(VLOOKUP($A407,#REF!,8,0)))","v":0},0,1,0,0,0,0,{"$f":"IF(ISERROR(VLOOKUP($A407,#REF!,8,0)),0,(VLOOKUP($A407,#REF!,8,0)))","v":0},0,1,0,0,0,0,{"$f":"IF(ISERROR(VLOOKUP($A407,#REF!,8,0)),0,(VLOOKUP($A407,#REF!,8,0)))","v":0},0,1,0,0,0,0,{"$f":"IF(ISERROR(VLOOKUP($A407,#REF!,8,0)),0,(VLOOKUP($A407,#REF!,8,0)))","v":0},0,1,0,0,0,0,{"$f":"IF(ISERROR(VLOOKUP($A407,#REF!,8,0)),0,(VLOOKUP($A407,#REF!,8,0)))","v":0},0,1,0,0,0,0,{"$f":"IF(ISERROR(VLOOKUP($A407,#REF!,8,0)),0,(VLOOKUP($A407,#REF!,8,0)))","v":0},0,1,0,0,0,0,{"$f":"IF(ISERROR(VLOOKUP($A407,#REF!,8,0)),0,(VLOOKUP($A407,#REF!,8,0)))","v":0},0,1,0,0,0,0,{"$f":"IF(ISERROR(VLOOKUP($A407,#REF!,8,0)),0,(VLOOKUP($A407,#REF!,8,0)))","v":0},0,1,0,0,0,0,{"$f":"IF(ISERROR(VLOOKUP($A407,#REF!,8,0)),0,(VLOOKUP($A407,#REF!,8,0)))","v":0},0,1,0,0,0,0,{"$f":"IF(ISERROR(VLOOKUP($A407,#REF!,8,0)),0,(VLOOKUP($A407,#REF!,8,0)))","v":0},0,1,0,0,0,0,{"$f":"IF(ISERROR(VLOOKUP($A407,#REF!,8,0)),0,(VLOOKUP($A407,#REF!,8,0)))","v":0},0,1,0,0,0,0,{"$f":"IF(ISERROR(VLOOKUP($A407,#REF!,8,0)),0,(VLOOKUP($A407,#REF!,8,0)))","v":0},0,1,0,0,0,0,{"$f":"IF(ISERROR(VLOOKUP($A407,#REF!,8,0)),0,(VLOOKUP($A407,#REF!,8,0)))","v":0},0,1,0,0,0,0,{"$f":"IF(ISERROR(VLOOKUP($A407,#REF!,8,0)),0,(VLOOKUP($A407,#REF!,8,0)))","v":0},0,1,0,0,0,0,{"$f":"IF(ISERROR(VLOOKUP($A407,#REF!,8,0)),0,(VLOOKUP($A407,#REF!,8,0)))","v":0},0,1,0,0,0,0,{"$f":"IF(ISERROR(VLOOKUP($A407,#REF!,8,0)),0,(VLOOKUP($A407,#REF!,8,0)))","v":0},0,1,0,0,0,0,{"$f":"IF(ISERROR(VLOOKUP($A407,#REF!,8,0)),0,(VLOOKUP($A407,#REF!,8,0)))","v":0},0,1,0,0,0,0,{"$f":"IF(ISERROR(VLOOKUP($A407,#REF!,8,0)),0,(VLOOKUP($A407,#REF!,8,0)))","v":0},0,1,0,0,0,0,{"$f":"IF(ISERROR(VLOOKUP($A407,#REF!,8,0)),0,(VLOOKUP($A407,#REF!,8,0)))","v":0},0,1,0,0,0,0,{"$f":"IF(ISERROR(VLOOKUP($A407,#REF!,8,0)),0,(VLOOKUP($A407,#REF!,8,0)))","v":0},0,1,0,0,0,0,{"$f":"IF(ISERROR(VLOOKUP($A407,#REF!,8,0)),0,(VLOOKUP($A407,#REF!,8,0)))","v":0},0,1,0,0,0,0,{"$f":"IF(ISERROR(VLOOKUP($A407,#REF!,8,0)),0,(VLOOKUP($A407,#REF!,8,0)))","v":0},0,1,0,0,0,0,{"$f":"IF(ISERROR(VLOOKUP($A407,#REF!,8,0)),0,(VLOOKUP($A407,#REF!,8,0)))","v":0},0,1,0,0,0,0,{"$f":"IF(ISERROR(VLOOKUP($A407,#REF!,8,0)),0,(VLOOKUP($A407,#REF!,8,0)))","v":0},0,1,0,0,0,0,{"$f":"IF(ISERROR(VLOOKUP($A407,#REF!,8,0)),0,(VLOOKUP($A407,#REF!,8,0)))","v":0},0,1,0,0,0,0,{"$f":"IF(ISERROR(VLOOKUP($A407,#REF!,8,0)),0,(VLOOKUP($A407,#REF!,8,0)))","v":0},0,1,0,0,0,0,1836.4670160000003,1836.4670160000003,1,0]
["18.27","Verga pré-moldada para janelas com mais de 1,5 m de vão. ","m",22,16,6,15.74499,346.38977999999997,6.61808,145.59775999999999,0,0,22.36307,134.17842000000002,357.80912000000001,null,0,0,0,0,0,null,0,0.72727272727272729,0,0,0,0,null,0,0.72727272727272729,0,0,0,0,null,0,0.72727272727272729,0,0,0,0,null,0,0.72727272727272729,0,0,0,0,null,0,0.72727272727272729,0,0,0,0,{"$f":"IF(ISERROR(VLOOKUP(A416,'7ª MEDIÇÃO'!$A$5:$J$1048576,8,0)),0,(VLOOKUP(A416,'7ª MEDIÇÃO'!$A$5:$J$1048576,8,0)))","v":0},0,0.72727272727272729,0,0,0,0,{"$f":"IF(ISERROR(VLOOKUP(A416,'8ª MEDIÇÃO'!$A$5:$J$1048576,8,0)),0,(VLOOKUP(A416,'8ª MEDIÇÃO'!$A$5:$J$1048576,8,0)))","v":0},0,0.72727272727272729,0,0,0,0,{"$f":"IF(ISERROR(VLOOKUP(A416,'9ª MEDIÇÃO'!$A$5:$J$1048576,8,0)),0,(VLOOKUP(A416,'9ª MEDIÇÃO'!$A$5:$J$1048576,8,0)))","v":0},0,0.72727272727272729,0,0,0,0,{"$f":"IF(ISERROR(VLOOKUP(A416,#REF!,8,0)),0,(VLOOKUP(A416,#REF!,8,0)))","v":0},0,0.72727272727272729,0,0,0,0,{"$f":"IF(ISERROR(VLOOKUP($A416,#REF!,8,0)),0,(VLOOKUP($A416,#REF!,8,0)))","v":0},0,0.72727272727272729,0,0,0,0,{"$f":"IF(ISERROR(VLOOKUP($A416,#REF!,8,0)),0,(VLOOKUP($A416,#REF!,8,0)))","v":0},0,0.72727272727272729,0,0,0,0,{"$f":"IF(ISERROR(VLOOKUP($A416,#REF!,8,0)),0,(VLOOKUP($A416,#REF!,8,0)))","v":0},0,0.72727272727272729,0,0,0,0,{"$f":"IF(ISERROR(VLOOKUP($A416,#REF!,8,0)),0,(VLOOKUP($A416,#REF!,8,0)))","v":0},0,0.72727272727272729,0,0,0,0,{"$f":"IF(ISERROR(VLOOKUP($A416,#REF!,8,0)),0,(VLOOKUP($A416,#REF!,8,0)))","v":0},0,0.72727272727272729,0,0,0,0,{"$f":"IF(ISERROR(VLOOKUP($A416,#REF!,8,0)),0,(VLOOKUP($A416,#REF!,8,0)))","v":0},0,0.72727272727272729,0,0,0,0,{"$f":"IF(ISERROR(VLOOKUP($A416,#REF!,8,0)),0,(VLOOKUP($A416,#REF!,8,0)))","v":0},0,0.72727272727272729,0,0,0,0,{"$f":"IF(ISERROR(VLOOKUP($A416,#REF!,8,0)),0,(VLOOKUP($A416,#REF!,8,0)))","v":0},0,0.72727272727272729,0,0,0,0,{"$f":"IF(ISERROR(VLOOKUP($A416,#REF!,8,0)),0,(VLOOKUP($A416,#REF!,8,0)))","v":0},0,0.72727272727272729,0,0,0,0,{"$f":"IF(ISERROR(VLOOKUP($A416,#REF!,8,0)),0,(VLOOKUP($A416,#REF!,8,0)))","v":0},0,0.72727272727272729,0,0,0,0,{"$f":"IF(ISERROR(VLOOKUP($A416,#REF!,8,0)),0,(VLOOKUP($A416,#REF!,8,0)))","v":0},0,0.72727272727272729,0,0,0,0,{"$f":"IF(ISERROR(VLOOKUP($A416,#REF!,8,0)),0,(VLOOKUP($A416,#REF!,8,0)))","v":0},0,0.72727272727272729,0,0,0,0,{"$f":"IF(ISERROR(VLOOKUP($A416,#REF!,8,0)),0,(VLOOKUP($A416,#REF!,8,0)))","v":0},0,0.72727272727272729,0,0,0,0,{"$f":"IF(ISERROR(VLOOKUP($A416,#REF!,8,0)),0,(VLOOKUP($A416,#REF!,8,0)))","v":0},0,0.72727272727272729,0,0,0,0,{"$f":"IF(ISERROR(VLOOKUP($A416,#REF!,8,0)),0,(VLOOKUP($A416,#REF!,8,0)))","v":0},0,0.72727272727272729,0,0,0,0,{"$f":"IF(ISERROR(VLOOKUP($A416,#REF!,8,0)),0,(VLOOKUP($A416,#REF!,8,0)))","v":0},0,0.72727272727272729,0,0,0,0,{"$f":"IF(ISERROR(VLOOKUP($A416,#REF!,8,0)),0,(VLOOKUP($A416,#REF!,8,0)))","v":0},0,0.72727272727272729,0,0,0,0,{"$f":"IF(ISERROR(VLOOKUP($A416,#REF!,8,0)),0,(VLOOKUP($A416,#REF!,8,0)))","v":0},0,0.72727272727272729,0,0,0,0,{"$f":"IF(ISERROR(VLOOKUP($A416,#REF!,8,0)),0,(VLOOKUP($A416,#REF!,8,0)))","v":0},0,0.72727272727272729,0,0,0,0,{"$f":"IF(ISERROR(VLOOKUP($A416,#REF!,8,0)),0,(VLOOKUP($A416,#REF!,8,0)))","v":0},0,0.72727272727272729,0,0,0,0,{"$f":"IF(ISERROR(VLOOKUP($A416,#REF!,8,0)),0,(VLOOKUP($A416,#REF!,8,0)))","v":0},0,0.72727272727272729,0,0,0,0,{"$f":"IF(ISERROR(VLOOKUP($A416,#REF!,8,0)),0,(VLOOKUP($A416,#REF!,8,0)))","v":0},0,0.72727272727272729,0,0,0,0,{"$f":"IF(ISERROR(VLOOKUP($A416,#REF!,8,0)),0,(VLOOKUP($A416,#REF!,8,0)))","v":0},0,0.72727272727272729,0,0,0,0,{"$f":"IF(ISERROR(VLOOKUP($A416,#REF!,8,0)),0,(VLOOKUP($A416,#REF!,8,0)))","v":0},0,0.72727272727272729,0,0,0,0,{"$f":"IF(ISERROR(VLOOKUP($A416,#REF!,8,0)),0,(VLOOKUP($A416,#REF!,8,0)))","v":0},0,0.72727272727272729,0,0,0,0,{"$f":"IF(ISERROR(VLOOKUP($A416,#REF!,8,0)),0,(VLOOKUP($A416,#REF!,8,0)))","v":0},0,0.72727272727272729,0,0,0,0,{"$f":"IF(ISERROR(VLOOKUP($A416,#REF!,8,0)),0,(VLOOKUP($A416,#REF!,8,0)))","v":0},0,0.72727272727272729,0,0,0,0,{"$f":"IF(ISERROR(VLOOKUP($A416,#REF!,8,0)),0,(VLOOKUP($A416,#REF!,8,0)))","v":0},0,0.72727272727272729,0,0,0,0,{"$f":"IF(ISERROR(VLOOKUP($A416,#REF!,8,0)),0,(VLOOKUP($A416,#REF!,8,0)))","v":0},0,0.72727272727272729,0,0,0,0,{"$f":"IF(ISERROR(VLOOKUP($A416,#REF!,8,0)),0,(VLOOKUP($A416,#REF!,8,0)))","v":0},0,0.72727272727272729,0,0,0,0,{"$f":"IF(ISERROR(VLOOKUP($A416,#REF!,8,0)),0,(VLOOKUP($A416,#REF!,8,0)))","v":0},0,0.72727272727272729,0,0,0,0,{"$f":"IF(ISERROR(VLOOKUP($A416,#REF!,8,0)),0,(VLOOKUP($A416,#REF!,8,0)))","v":0},0,0.72727272727272729,0,0,0,0,{"$f":"IF(ISERROR(VLOOKUP($A416,#REF!,8,0)),0,(VLOOKUP($A416,#REF!,8,0)))","v":0},0,0.72727272727272729,0,0,0,0,{"$f":"IF(ISERROR(VLOOKUP($A416,#REF!,8,0)),0,(VLOOKUP($A416,#REF!,8,0)))","v":0},0,0.72727272727272729,0,0,0,0,{"$f":"IF(ISERROR(VLOOKUP($A416,#REF!,8,0)),0,(VLOOKUP($A416,#REF!,8,0)))","v":0},0,0.72727272727272729,0,0,0,0,{"$f":"IF(ISERROR(VLOOKUP($A416,#REF!,8,0)),0,(VLOOKUP($A416,#REF!,8,0)))","v":0},0,0.72727272727272729,0,0,0,0,{"$f":"IF(ISERROR(VLOOKUP($A416,#REF!,8,0)),0,(VLOOKUP($A416,#REF!,8,0)))","v":0},0,0.72727272727272729,0,0,0,0,{"$f":"IF(ISERROR(VLOOKUP($A416,#REF!,8,0)),0,(VLOOKUP($A416,#REF!,8,0)))","v":0},0,0.72727272727272729,0,0,0,0,{"$f":"IF(ISERROR(VLOOKUP($A416,#REF!,8,0)),0,(VLOOKUP($A416,#REF!,8,0)))","v":0},0,0.72727272727272729,0,0,0,0,{"$f":"IF(ISERROR(VLOOKUP($A416,#REF!,8,0)),0,(VLOOKUP($A416,#REF!,8,0)))","v":0},0,0.72727272727272729,0,0,0,0,{"$f":"IF(ISERROR(VLOOKUP($A416,#REF!,8,0)),0,(VLOOKUP($A416,#REF!,8,0)))","v":0},0,0.72727272727272729,0,0,0,0,{"$f":"IF(ISERROR(VLOOKUP($A416,#REF!,8,0)),0,(VLOOKUP($A416,#REF!,8,0)))","v":0},0,0.72727272727272729,0,0,0,0,{"$f":"IF(ISERROR(VLOOKUP($A416,#REF!,8,0)),0,(VLOOKUP($A416,#REF!,8,0)))","v":0},0,0.72727272727272729,0,0,0,0,{"$f":"IF(ISERROR(VLOOKUP($A416,#REF!,8,0)),0,(VLOOKUP($A416,#REF!,8,0)))","v":0},0,0.72727272727272729,0,0,0,0,{"$f":"IF(ISERROR(VLOOKUP($A416,#REF!,8,0)),0,(VLOOKUP($A416,#REF!,8,0)))","v":0},0,0.72727272727272729,0,0,0,0,357.80912000000001,357.80912000000001,1,0]
["18.36","Cerâmica para Paredes tipo A, PEI 5, 46,00 x 46,00 cm, linha Titan, Elizabeth ou equivalente, assentado com argamassa pré fabricada AC III, Quartzolit ou equivalente, inclusive rejunte Quartzolit ou equivalente.","m²",315,0,315,24.425374000000001,7693.9928100000006,19.605439999999998,6175.7135999999991,0,0,44.030813999999999,13869.706410000001,0,null,0,0,0,0,0,null,0,0,0,0,0,0,null,0,0,0,0,0,0,null,0,0,0,0,0,0,null,0,0,0,0,0,0,null,0,0,0,0,0,0,{"$f":"IF(ISERROR(VLOOKUP(A425,'7ª MEDIÇÃO'!$A$5:$J$1048576,8,0)),0,(VLOOKUP(A425,'7ª MEDIÇÃO'!$A$5:$J$1048576,8,0)))","v":0},0,0,0,0,0,0,{"$f":"IF(ISERROR(VLOOKUP(A425,'8ª MEDIÇÃO'!$A$5:$J$1048576,8,0)),0,(VLOOKUP(A425,'8ª MEDIÇÃO'!$A$5:$J$1048576,8,0)))","v":0},0,0,0,0,0,0,{"$f":"IF(ISERROR(VLOOKUP(A425,'9ª MEDIÇÃO'!$A$5:$J$1048576,8,0)),0,(VLOOKUP(A425,'9ª MEDIÇÃO'!$A$5:$J$1048576,8,0)))","v":0},0,0,0,0,0,0,{"$f":"IF(ISERROR(VLOOKUP(A425,#REF!,8,0)),0,(VLOOKUP(A425,#REF!,8,0)))","v":0},0,0,0,0,0,0,{"$f":"IF(ISERROR(VLOOKUP($A425,#REF!,8,0)),0,(VLOOKUP($A425,#REF!,8,0)))","v":0},0,0,0,0,0,0,{"$f":"IF(ISERROR(VLOOKUP($A425,#REF!,8,0)),0,(VLOOKUP($A425,#REF!,8,0)))","v":0},0,0,0,0,0,0,{"$f":"IF(ISERROR(VLOOKUP($A425,#REF!,8,0)),0,(VLOOKUP($A425,#REF!,8,0)))","v":0},0,0,0,0,0,0,{"$f":"IF(ISERROR(VLOOKUP($A425,#REF!,8,0)),0,(VLOOKUP($A425,#REF!,8,0)))","v":0},0,0,0,0,0,0,{"$f":"IF(ISERROR(VLOOKUP($A425,#REF!,8,0)),0,(VLOOKUP($A425,#REF!,8,0)))","v":0},0,0,0,0,0,0,{"$f":"IF(ISERROR(VLOOKUP($A425,#REF!,8,0)),0,(VLOOKUP($A425,#REF!,8,0)))","v":0},0,0,0,0,0,0,{"$f":"IF(ISERROR(VLOOKUP($A425,#REF!,8,0)),0,(VLOOKUP($A425,#REF!,8,0)))","v":0},0,0,0,0,0,0,{"$f":"IF(ISERROR(VLOOKUP($A425,#REF!,8,0)),0,(VLOOKUP($A425,#REF!,8,0)))","v":0},0,0,0,0,0,0,{"$f":"IF(ISERROR(VLOOKUP($A425,#REF!,8,0)),0,(VLOOKUP($A425,#REF!,8,0)))","v":0},0,0,0,0,0,0,{"$f":"IF(ISERROR(VLOOKUP($A425,#REF!,8,0)),0,(VLOOKUP($A425,#REF!,8,0)))","v":0},0,0,0,0,0,0,{"$f":"IF(ISERROR(VLOOKUP($A425,#REF!,8,0)),0,(VLOOKUP($A425,#REF!,8,0)))","v":0},0,0,0,0,0,0,{"$f":"IF(ISERROR(VLOOKUP($A425,#REF!,8,0)),0,(VLOOKUP($A425,#REF!,8,0)))","v":0},0,0,0,0,0,0,{"$f":"IF(ISERROR(VLOOKUP($A425,#REF!,8,0)),0,(VLOOKUP($A425,#REF!,8,0)))","v":0},0,0,0,0,0,0,{"$f":"IF(ISERROR(VLOOKUP($A425,#REF!,8,0)),0,(VLOOKUP($A425,#REF!,8,0)))","v":0},0,0,0,0,0,0,{"$f":"IF(ISERROR(VLOOKUP($A425,#REF!,8,0)),0,(VLOOKUP($A425,#REF!,8,0)))","v":0},0,0,0,0,0,0,{"$f":"IF(ISERROR(VLOOKUP($A425,#REF!,8,0)),0,(VLOOKUP($A425,#REF!,8,0)))","v":0},0,0,0,0,0,0,{"$f":"IF(ISERROR(VLOOKUP($A425,#REF!,8,0)),0,(VLOOKUP($A425,#REF!,8,0)))","v":0},0,0,0,0,0,0,{"$f":"IF(ISERROR(VLOOKUP($A425,#REF!,8,0)),0,(VLOOKUP($A425,#REF!,8,0)))","v":0},0,0,0,0,0,0,{"$f":"IF(ISERROR(VLOOKUP($A425,#REF!,8,0)),0,(VLOOKUP($A425,#REF!,8,0)))","v":0},0,0,0,0,0,0,{"$f":"IF(ISERROR(VLOOKUP($A425,#REF!,8,0)),0,(VLOOKUP($A425,#REF!,8,0)))","v":0},0,0,0,0,0,0,{"$f":"IF(ISERROR(VLOOKUP($A425,#REF!,8,0)),0,(VLOOKUP($A425,#REF!,8,0)))","v":0},0,0,0,0,0,0,{"$f":"IF(ISERROR(VLOOKUP($A425,#REF!,8,0)),0,(VLOOKUP($A425,#REF!,8,0)))","v":0},0,0,0,0,0,0,{"$f":"IF(ISERROR(VLOOKUP($A425,#REF!,8,0)),0,(VLOOKUP($A425,#REF!,8,0)))","v":0},0,0,0,0,0,0,{"$f":"IF(ISERROR(VLOOKUP($A425,#REF!,8,0)),0,(VLOOKUP($A425,#REF!,8,0)))","v":0},0,0,0,0,0,0,{"$f":"IF(ISERROR(VLOOKUP($A425,#REF!,8,0)),0,(VLOOKUP($A425,#REF!,8,0)))","v":0},0,0,0,0,0,0,{"$f":"IF(ISERROR(VLOOKUP($A425,#REF!,8,0)),0,(VLOOKUP($A425,#REF!,8,0)))","v":0},0,0,0,0,0,0,{"$f":"IF(ISERROR(VLOOKUP($A425,#REF!,8,0)),0,(VLOOKUP($A425,#REF!,8,0)))","v":0},0,0,0,0,0,0,{"$f":"IF(ISERROR(VLOOKUP($A425,#REF!,8,0)),0,(VLOOKUP($A425,#REF!,8,0)))","v":0},0,0,0,0,0,0,{"$f":"IF(ISERROR(VLOOKUP($A425,#REF!,8,0)),0,(VLOOKUP($A425,#REF!,8,0)))","v":0},0,0,0,0,0,0,{"$f":"IF(ISERROR(VLOOKUP($A425,#REF!,8,0)),0,(VLOOKUP($A425,#REF!,8,0)))","v":0},0,0,0,0,0,0,{"$f":"IF(ISERROR(VLOOKUP($A425,#REF!,8,0)),0,(VLOOKUP($A425,#REF!,8,0)))","v":0},0,0,0,0,0,0,{"$f":"IF(ISERROR(VLOOKUP($A425,#REF!,8,0)),0,(VLOOKUP($A425,#REF!,8,0)))","v":0},0,0,0,0,0,0,{"$f":"IF(ISERROR(VLOOKUP($A425,#REF!,8,0)),0,(VLOOKUP($A425,#REF!,8,0)))","v":0},0,0,0,0,0,0,{"$f":"IF(ISERROR(VLOOKUP($A425,#REF!,8,0)),0,(VLOOKUP($A425,#REF!,8,0)))","v":0},0,0,0,0,0,0,{"$f":"IF(ISERROR(VLOOKUP($A425,#REF!,8,0)),0,(VLOOKUP($A425,#REF!,8,0)))","v":0},0,0,0,0,0,0,{"$f":"IF(ISERROR(VLOOKUP($A425,#REF!,8,0)),0,(VLOOKUP($A425,#REF!,8,0)))","v":0},0,0,0,0,0,0,{"$f":"IF(ISERROR(VLOOKUP($A425,#REF!,8,0)),0,(VLOOKUP($A425,#REF!,8,0)))","v":0},0,0,0,0,0,0,{"$f":"IF(ISERROR(VLOOKUP($A425,#REF!,8,0)),0,(VLOOKUP($A425,#REF!,8,0)))","v":0},0,0,0,0,0,0,{"$f":"IF(ISERROR(VLOOKUP($A425,#REF!,8,0)),0,(VLOOKUP($A425,#REF!,8,0)))","v":0},0,0,0,0,0,0,{"$f":"IF(ISERROR(VLOOKUP($A425,#REF!,8,0)),0,(VLOOKUP($A425,#REF!,8,0)))","v":0},0,0,0,0,0,0,{"$f":"IF(ISERROR(VLOOKUP($A425,#REF!,8,0)),0,(VLOOKUP($A425,#REF!,8,0)))","v":0},0,0,0,0,0,0,{"$f":"IF(ISERROR(VLOOKUP($A425,#REF!,8,0)),0,(VLOOKUP($A425,#REF!,8,0)))","v":0},0,0,0,0,0,0,{"$f":"IF(ISERROR(VLOOKUP($A425,#REF!,8,0)),0,(VLOOKUP($A425,#REF!,8,0)))","v":0},0,0,0,0,0,0,{"$f":"IF(ISERROR(VLOOKUP($A425,#REF!,8,0)),0,(VLOOKUP($A425,#REF!,8,0)))","v":0},0,0,0,0,0,0,{"$f":"IF(ISERROR(VLOOKUP($A425,#REF!,8,0)),0,(VLOOKUP($A425,#REF!,8,0)))","v":0},0,0,0,0,0,0,0,0,{"$error":"#DIV/0!"},0]
["18.45","Fornecimento e assentamento de porta (PVJ1) em vidro temperado jateado 8mm, 0,60x1,80m de giro, 01 (uma) folha, fechadura com batedor tarjeta livre/ocupado, IMAB ou equivalente e dobradiças para fixação em chapa de granito natural.","un",4,0,4,253.28794399999998,1013.1517759999999,178.10347999999999,712.41391999999996,0,0,431.39142399999997,1725.5656959999999,0,null,0,0,0,0,0,null,0,0,0,0,0,0,null,0,0,0,0,0,0,null,0,0,0,0,0,0,null,0,0,0,0,0,0,null,0,0,0,0,0,0,{"$f":"IF(ISERROR(VLOOKUP(A434,'7ª MEDIÇÃO'!$A$5:$J$1048576,8,0)),0,(VLOOKUP(A434,'7ª MEDIÇÃO'!$A$5:$J$1048576,8,0)))","v":0},0,0,0,0,0,0,{"$f":"IF(ISERROR(VLOOKUP(A434,'8ª MEDIÇÃO'!$A$5:$J$1048576,8,0)),0,(VLOOKUP(A434,'8ª MEDIÇÃO'!$A$5:$J$1048576,8,0)))","v":0},0,0,0,0,0,0,{"$f":"IF(ISERROR(VLOOKUP(A434,'9ª MEDIÇÃO'!$A$5:$J$1048576,8,0)),0,(VLOOKUP(A434,'9ª MEDIÇÃO'!$A$5:$J$1048576,8,0)))","v":0},0,0,0,0,0,0,{"$f":"IF(ISERROR(VLOOKUP(A434,#REF!,8,0)),0,(VLOOKUP(A434,#REF!,8,0)))","v":0},0,0,0,0,0,0,{"$f":"IF(ISERROR(VLOOKUP($A434,#REF!,8,0)),0,(VLOOKUP($A434,#REF!,8,0)))","v":0},0,0,0,0,0,0,{"$f":"IF(ISERROR(VLOOKUP($A434,#REF!,8,0)),0,(VLOOKUP($A434,#REF!,8,0)))","v":0},0,0,0,0,0,0,{"$f":"IF(ISERROR(VLOOKUP($A434,#REF!,8,0)),0,(VLOOKUP($A434,#REF!,8,0)))","v":0},0,0,0,0,0,0,{"$f":"IF(ISERROR(VLOOKUP($A434,#REF!,8,0)),0,(VLOOKUP($A434,#REF!,8,0)))","v":0},0,0,0,0,0,0,{"$f":"IF(ISERROR(VLOOKUP($A434,#REF!,8,0)),0,(VLOOKUP($A434,#REF!,8,0)))","v":0},0,0,0,0,0,0,{"$f":"IF(ISERROR(VLOOKUP($A434,#REF!,8,0)),0,(VLOOKUP($A434,#REF!,8,0)))","v":0},0,0,0,0,0,0,{"$f":"IF(ISERROR(VLOOKUP($A434,#REF!,8,0)),0,(VLOOKUP($A434,#REF!,8,0)))","v":0},0,0,0,0,0,0,{"$f":"IF(ISERROR(VLOOKUP($A434,#REF!,8,0)),0,(VLOOKUP($A434,#REF!,8,0)))","v":0},0,0,0,0,0,0,{"$f":"IF(ISERROR(VLOOKUP($A434,#REF!,8,0)),0,(VLOOKUP($A434,#REF!,8,0)))","v":0},0,0,0,0,0,0,{"$f":"IF(ISERROR(VLOOKUP($A434,#REF!,8,0)),0,(VLOOKUP($A434,#REF!,8,0)))","v":0},0,0,0,0,0,0,{"$f":"IF(ISERROR(VLOOKUP($A434,#REF!,8,0)),0,(VLOOKUP($A434,#REF!,8,0)))","v":0},0,0,0,0,0,0,{"$f":"IF(ISERROR(VLOOKUP($A434,#REF!,8,0)),0,(VLOOKUP($A434,#REF!,8,0)))","v":0},0,0,0,0,0,0,{"$f":"IF(ISERROR(VLOOKUP($A434,#REF!,8,0)),0,(VLOOKUP($A434,#REF!,8,0)))","v":0},0,0,0,0,0,0,{"$f":"IF(ISERROR(VLOOKUP($A434,#REF!,8,0)),0,(VLOOKUP($A434,#REF!,8,0)))","v":0},0,0,0,0,0,0,{"$f":"IF(ISERROR(VLOOKUP($A434,#REF!,8,0)),0,(VLOOKUP($A434,#REF!,8,0)))","v":0},0,0,0,0,0,0,{"$f":"IF(ISERROR(VLOOKUP($A434,#REF!,8,0)),0,(VLOOKUP($A434,#REF!,8,0)))","v":0},0,0,0,0,0,0,{"$f":"IF(ISERROR(VLOOKUP($A434,#REF!,8,0)),0,(VLOOKUP($A434,#REF!,8,0)))","v":0},0,0,0,0,0,0,{"$f":"IF(ISERROR(VLOOKUP($A434,#REF!,8,0)),0,(VLOOKUP($A434,#REF!,8,0)))","v":0},0,0,0,0,0,0,{"$f":"IF(ISERROR(VLOOKUP($A434,#REF!,8,0)),0,(VLOOKUP($A434,#REF!,8,0)))","v":0},0,0,0,0,0,0,{"$f":"IF(ISERROR(VLOOKUP($A434,#REF!,8,0)),0,(VLOOKUP($A434,#REF!,8,0)))","v":0},0,0,0,0,0,0,{"$f":"IF(ISERROR(VLOOKUP($A434,#REF!,8,0)),0,(VLOOKUP($A434,#REF!,8,0)))","v":0},0,0,0,0,0,0,{"$f":"IF(ISERROR(VLOOKUP($A434,#REF!,8,0)),0,(VLOOKUP($A434,#REF!,8,0)))","v":0},0,0,0,0,0,0,{"$f":"IF(ISERROR(VLOOKUP($A434,#REF!,8,0)),0,(VLOOKUP($A434,#REF!,8,0)))","v":0},0,0,0,0,0,0,{"$f":"IF(ISERROR(VLOOKUP($A434,#REF!,8,0)),0,(VLOOKUP($A434,#REF!,8,0)))","v":0},0,0,0,0,0,0,{"$f":"IF(ISERROR(VLOOKUP($A434,#REF!,8,0)),0,(VLOOKUP($A434,#REF!,8,0)))","v":0},0,0,0,0,0,0,{"$f":"IF(ISERROR(VLOOKUP($A434,#REF!,8,0)),0,(VLOOKUP($A434,#REF!,8,0)))","v":0},0,0,0,0,0,0,{"$f":"IF(ISERROR(VLOOKUP($A434,#REF!,8,0)),0,(VLOOKUP($A434,#REF!,8,0)))","v":0},0,0,0,0,0,0,{"$f":"IF(ISERROR(VLOOKUP($A434,#REF!,8,0)),0,(VLOOKUP($A434,#REF!,8,0)))","v":0},0,0,0,0,0,0,{"$f":"IF(ISERROR(VLOOKUP($A434,#REF!,8,0)),0,(VLOOKUP($A434,#REF!,8,0)))","v":0},0,0,0,0,0,0,{"$f":"IF(ISERROR(VLOOKUP($A434,#REF!,8,0)),0,(VLOOKUP($A434,#REF!,8,0)))","v":0},0,0,0,0,0,0,{"$f":"IF(ISERROR(VLOOKUP($A434,#REF!,8,0)),0,(VLOOKUP($A434,#REF!,8,0)))","v":0},0,0,0,0,0,0,{"$f":"IF(ISERROR(VLOOKUP($A434,#REF!,8,0)),0,(VLOOKUP($A434,#REF!,8,0)))","v":0},0,0,0,0,0,0,{"$f":"IF(ISERROR(VLOOKUP($A434,#REF!,8,0)),0,(VLOOKUP($A434,#REF!,8,0)))","v":0},0,0,0,0,0,0,{"$f":"IF(ISERROR(VLOOKUP($A434,#REF!,8,0)),0,(VLOOKUP($A434,#REF!,8,0)))","v":0},0,0,0,0,0,0,{"$f":"IF(ISERROR(VLOOKUP($A434,#REF!,8,0)),0,(VLOOKUP($A434,#REF!,8,0)))","v":0},0,0,0,0,0,0,{"$f":"IF(ISERROR(VLOOKUP($A434,#REF!,8,0)),0,(VLOOKUP($A434,#REF!,8,0)))","v":0},0,0,0,0,0,0,{"$f":"IF(ISERROR(VLOOKUP($A434,#REF!,8,0)),0,(VLOOKUP($A434,#REF!,8,0)))","v":0},0,0,0,0,0,0,{"$f":"IF(ISERROR(VLOOKUP($A434,#REF!,8,0)),0,(VLOOKUP($A434,#REF!,8,0)))","v":0},0,0,0,0,0,0,{"$f":"IF(ISERROR(VLOOKUP($A434,#REF!,8,0)),0,(VLOOKUP($A434,#REF!,8,0)))","v":0},0,0,0,0,0,0,{"$f":"IF(ISERROR(VLOOKUP($A434,#REF!,8,0)),0,(VLOOKUP($A434,#REF!,8,0)))","v":0},0,0,0,0,0,0,{"$f":"IF(ISERROR(VLOOKUP($A434,#REF!,8,0)),0,(VLOOKUP($A434,#REF!,8,0)))","v":0},0,0,0,0,0,0,{"$f":"IF(ISERROR(VLOOKUP($A434,#REF!,8,0)),0,(VLOOKUP($A434,#REF!,8,0)))","v":0},0,0,0,0,0,0,{"$f":"IF(ISERROR(VLOOKUP($A434,#REF!,8,0)),0,(VLOOKUP($A434,#REF!,8,0)))","v":0},0,0,0,0,0,0,{"$f":"IF(ISERROR(VLOOKUP($A434,#REF!,8,0)),0,(VLOOKUP($A434,#REF!,8,0)))","v":0},0,0,0,0,0,0,{"$f":"IF(ISERROR(VLOOKUP($A434,#REF!,8,0)),0,(VLOOKUP($A434,#REF!,8,0)))","v":0},0,0,0,0,0,0,0,0,{"$error":"#DIV/0!"},0]
["18.47","Fornecimento e instalação de Balcão para uma cuba em granito polido Verde Ubatuba (2,50mx0,60m),  COPA do ANEXO, com testeira de 6cm e respaldo de 11cm, inclusive mão francesa, conforme detalhe 44/45.","un",1,1,0,639.74194199999999,639.74194199999999,52.845119999999994,52.845119999999994,0,0,692.58706199999995,0,692.58706199999995,null,0,0,0,0,0,null,0,1,0,0,0,0,null,0,1,0,0,0,0,null,0,1,0,0,0,0,null,0,1,0,0,0,0,null,0,1,0,0,0,0,{"$f":"IF(ISERROR(VLOOKUP(A436,'7ª MEDIÇÃO'!$A$5:$J$1048576,8,0)),0,(VLOOKUP(A436,'7ª MEDIÇÃO'!$A$5:$J$1048576,8,0)))","v":0},0,1,0,0,0,0,{"$f":"IF(ISERROR(VLOOKUP(A436,'8ª MEDIÇÃO'!$A$5:$J$1048576,8,0)),0,(VLOOKUP(A436,'8ª MEDIÇÃO'!$A$5:$J$1048576,8,0)))","v":0},0,1,0,0,0,0,{"$f":"IF(ISERROR(VLOOKUP(A436,'9ª MEDIÇÃO'!$A$5:$J$1048576,8,0)),0,(VLOOKUP(A436,'9ª MEDIÇÃO'!$A$5:$J$1048576,8,0)))","v":0},0,1,0,0,0,0,{"$f":"IF(ISERROR(VLOOKUP(A436,#REF!,8,0)),0,(VLOOKUP(A436,#REF!,8,0)))","v":0},0,1,0,0,0,0,{"$f":"IF(ISERROR(VLOOKUP($A436,#REF!,8,0)),0,(VLOOKUP($A436,#REF!,8,0)))","v":0},0,1,0,0,0,0,{"$f":"IF(ISERROR(VLOOKUP($A436,#REF!,8,0)),0,(VLOOKUP($A436,#REF!,8,0)))","v":0},0,1,0,0,0,0,{"$f":"IF(ISERROR(VLOOKUP($A436,#REF!,8,0)),0,(VLOOKUP($A436,#REF!,8,0)))","v":0},0,1,0,0,0,0,{"$f":"IF(ISERROR(VLOOKUP($A436,#REF!,8,0)),0,(VLOOKUP($A436,#REF!,8,0)))","v":0},0,1,0,0,0,0,{"$f":"IF(ISERROR(VLOOKUP($A436,#REF!,8,0)),0,(VLOOKUP($A436,#REF!,8,0)))","v":0},0,1,0,0,0,0,{"$f":"IF(ISERROR(VLOOKUP($A436,#REF!,8,0)),0,(VLOOKUP($A436,#REF!,8,0)))","v":0},0,1,0,0,0,0,{"$f":"IF(ISERROR(VLOOKUP($A436,#REF!,8,0)),0,(VLOOKUP($A436,#REF!,8,0)))","v":0},0,1,0,0,0,0,{"$f":"IF(ISERROR(VLOOKUP($A436,#REF!,8,0)),0,(VLOOKUP($A436,#REF!,8,0)))","v":0},0,1,0,0,0,0,{"$f":"IF(ISERROR(VLOOKUP($A436,#REF!,8,0)),0,(VLOOKUP($A436,#REF!,8,0)))","v":0},0,1,0,0,0,0,{"$f":"IF(ISERROR(VLOOKUP($A436,#REF!,8,0)),0,(VLOOKUP($A436,#REF!,8,0)))","v":0},0,1,0,0,0,0,{"$f":"IF(ISERROR(VLOOKUP($A436,#REF!,8,0)),0,(VLOOKUP($A436,#REF!,8,0)))","v":0},0,1,0,0,0,0,{"$f":"IF(ISERROR(VLOOKUP($A436,#REF!,8,0)),0,(VLOOKUP($A436,#REF!,8,0)))","v":0},0,1,0,0,0,0,{"$f":"IF(ISERROR(VLOOKUP($A436,#REF!,8,0)),0,(VLOOKUP($A436,#REF!,8,0)))","v":0},0,1,0,0,0,0,{"$f":"IF(ISERROR(VLOOKUP($A436,#REF!,8,0)),0,(VLOOKUP($A436,#REF!,8,0)))","v":0},0,1,0,0,0,0,{"$f":"IF(ISERROR(VLOOKUP($A436,#REF!,8,0)),0,(VLOOKUP($A436,#REF!,8,0)))","v":0},0,1,0,0,0,0,{"$f":"IF(ISERROR(VLOOKUP($A436,#REF!,8,0)),0,(VLOOKUP($A436,#REF!,8,0)))","v":0},0,1,0,0,0,0,{"$f":"IF(ISERROR(VLOOKUP($A436,#REF!,8,0)),0,(VLOOKUP($A436,#REF!,8,0)))","v":0},0,1,0,0,0,0,{"$f":"IF(ISERROR(VLOOKUP($A436,#REF!,8,0)),0,(VLOOKUP($A436,#REF!,8,0)))","v":0},0,1,0,0,0,0,{"$f":"IF(ISERROR(VLOOKUP($A436,#REF!,8,0)),0,(VLOOKUP($A436,#REF!,8,0)))","v":0},0,1,0,0,0,0,{"$f":"IF(ISERROR(VLOOKUP($A436,#REF!,8,0)),0,(VLOOKUP($A436,#REF!,8,0)))","v":0},0,1,0,0,0,0,{"$f":"IF(ISERROR(VLOOKUP($A436,#REF!,8,0)),0,(VLOOKUP($A436,#REF!,8,0)))","v":0},0,1,0,0,0,0,{"$f":"IF(ISERROR(VLOOKUP($A436,#REF!,8,0)),0,(VLOOKUP($A436,#REF!,8,0)))","v":0},0,1,0,0,0,0,{"$f":"IF(ISERROR(VLOOKUP($A436,#REF!,8,0)),0,(VLOOKUP($A436,#REF!,8,0)))","v":0},0,1,0,0,0,0,{"$f":"IF(ISERROR(VLOOKUP($A436,#REF!,8,0)),0,(VLOOKUP($A436,#REF!,8,0)))","v":0},0,1,0,0,0,0,{"$f":"IF(ISERROR(VLOOKUP($A436,#REF!,8,0)),0,(VLOOKUP($A436,#REF!,8,0)))","v":0},0,1,0,0,0,0,{"$f":"IF(ISERROR(VLOOKUP($A436,#REF!,8,0)),0,(VLOOKUP($A436,#REF!,8,0)))","v":0},0,1,0,0,0,0,{"$f":"IF(ISERROR(VLOOKUP($A436,#REF!,8,0)),0,(VLOOKUP($A436,#REF!,8,0)))","v":0},0,1,0,0,0,0,{"$f":"IF(ISERROR(VLOOKUP($A436,#REF!,8,0)),0,(VLOOKUP($A436,#REF!,8,0)))","v":0},0,1,0,0,0,0,{"$f":"IF(ISERROR(VLOOKUP($A436,#REF!,8,0)),0,(VLOOKUP($A436,#REF!,8,0)))","v":0},0,1,0,0,0,0,{"$f":"IF(ISERROR(VLOOKUP($A436,#REF!,8,0)),0,(VLOOKUP($A436,#REF!,8,0)))","v":0},0,1,0,0,0,0,{"$f":"IF(ISERROR(VLOOKUP($A436,#REF!,8,0)),0,(VLOOKUP($A436,#REF!,8,0)))","v":0},0,1,0,0,0,0,{"$f":"IF(ISERROR(VLOOKUP($A436,#REF!,8,0)),0,(VLOOKUP($A436,#REF!,8,0)))","v":0},0,1,0,0,0,0,{"$f":"IF(ISERROR(VLOOKUP($A436,#REF!,8,0)),0,(VLOOKUP($A436,#REF!,8,0)))","v":0},0,1,0,0,0,0,{"$f":"IF(ISERROR(VLOOKUP($A436,#REF!,8,0)),0,(VLOOKUP($A436,#REF!,8,0)))","v":0},0,1,0,0,0,0,{"$f":"IF(ISERROR(VLOOKUP($A436,#REF!,8,0)),0,(VLOOKUP($A436,#REF!,8,0)))","v":0},0,1,0,0,0,0,{"$f":"IF(ISERROR(VLOOKUP($A436,#REF!,8,0)),0,(VLOOKUP($A436,#REF!,8,0)))","v":0},0,1,0,0,0,0,{"$f":"IF(ISERROR(VLOOKUP($A436,#REF!,8,0)),0,(VLOOKUP($A436,#REF!,8,0)))","v":0},0,1,0,0,0,0,{"$f":"IF(ISERROR(VLOOKUP($A436,#REF!,8,0)),0,(VLOOKUP($A436,#REF!,8,0)))","v":0},0,1,0,0,0,0,{"$f":"IF(ISERROR(VLOOKUP($A436,#REF!,8,0)),0,(VLOOKUP($A436,#REF!,8,0)))","v":0},0,1,0,0,0,0,{"$f":"IF(ISERROR(VLOOKUP($A436,#REF!,8,0)),0,(VLOOKUP($A436,#REF!,8,0)))","v":0},0,1,0,0,0,0,{"$f":"IF(ISERROR(VLOOKUP($A436,#REF!,8,0)),0,(VLOOKUP($A436,#REF!,8,0)))","v":0},0,1,0,0,0,0,{"$f":"IF(ISERROR(VLOOKUP($A436,#REF!,8,0)),0,(VLOOKUP($A436,#REF!,8,0)))","v":0},0,1,0,0,0,0,{"$f":"IF(ISERROR(VLOOKUP($A436,#REF!,8,0)),0,(VLOOKUP($A436,#REF!,8,0)))","v":0},0,1,0,0,0,0,{"$f":"IF(ISERROR(VLOOKUP($A436,#REF!,8,0)),0,(VLOOKUP($A436,#REF!,8,0)))","v":0},0,1,0,0,0,0,{"$f":"IF(ISERROR(VLOOKUP($A436,#REF!,8,0)),0,(VLOOKUP($A436,#REF!,8,0)))","v":0},0,1,0,0,0,0,692.58706199999995,692.58706199999995,1,0]
["18.56","Ponto de esgoto para ralo sifonado, inclusive ralo, tubulações e conexões em PVC rígido soldáveis, até a coluna ou o sub-coletor.","pt",7,1,6,36.726516000000004,257.08561200000003,32.431080000000001,227.01756,0,0,69.157596000000012,414.94557600000007,69.157596000000012,null,0,0,0,0,0,null,0,0.14285714285714285,0,0,0,0,null,0,0.14285714285714285,0,0,0,0,null,0,0.14285714285714285,0,0,0,0,null,0,0.14285714285714285,0,0,0,0,null,0,0.14285714285714285,0,0,0,0,{"$f":"IF(ISERROR(VLOOKUP(A445,'7ª MEDIÇÃO'!$A$5:$J$1048576,8,0)),0,(VLOOKUP(A445,'7ª MEDIÇÃO'!$A$5:$J$1048576,8,0)))","v":0},0,0.14285714285714285,0,0,0,0,{"$f":"IF(ISERROR(VLOOKUP(A445,'8ª MEDIÇÃO'!$A$5:$J$1048576,8,0)),0,(VLOOKUP(A445,'8ª MEDIÇÃO'!$A$5:$J$1048576,8,0)))","v":0},0,0.14285714285714285,0,0,0,0,{"$f":"IF(ISERROR(VLOOKUP(A445,'9ª MEDIÇÃO'!$A$5:$J$1048576,8,0)),0,(VLOOKUP(A445,'9ª MEDIÇÃO'!$A$5:$J$1048576,8,0)))","v":0},0,0.14285714285714285,0,0,0,0,{"$f":"IF(ISERROR(VLOOKUP(A445,#REF!,8,0)),0,(VLOOKUP(A445,#REF!,8,0)))","v":0},0,0.14285714285714285,0,0,0,0,{"$f":"IF(ISERROR(VLOOKUP($A445,#REF!,8,0)),0,(VLOOKUP($A445,#REF!,8,0)))","v":0},0,0.14285714285714285,0,0,0,0,{"$f":"IF(ISERROR(VLOOKUP($A445,#REF!,8,0)),0,(VLOOKUP($A445,#REF!,8,0)))","v":0},0,0.14285714285714285,0,0,0,0,{"$f":"IF(ISERROR(VLOOKUP($A445,#REF!,8,0)),0,(VLOOKUP($A445,#REF!,8,0)))","v":0},0,0.14285714285714285,0,0,0,0,{"$f":"IF(ISERROR(VLOOKUP($A445,#REF!,8,0)),0,(VLOOKUP($A445,#REF!,8,0)))","v":0},0,0.14285714285714285,0,0,0,0,{"$f":"IF(ISERROR(VLOOKUP($A445,#REF!,8,0)),0,(VLOOKUP($A445,#REF!,8,0)))","v":0},0,0.14285714285714285,0,0,0,0,{"$f":"IF(ISERROR(VLOOKUP($A445,#REF!,8,0)),0,(VLOOKUP($A445,#REF!,8,0)))","v":0},0,0.14285714285714285,0,0,0,0,{"$f":"IF(ISERROR(VLOOKUP($A445,#REF!,8,0)),0,(VLOOKUP($A445,#REF!,8,0)))","v":0},0,0.14285714285714285,0,0,0,0,{"$f":"IF(ISERROR(VLOOKUP($A445,#REF!,8,0)),0,(VLOOKUP($A445,#REF!,8,0)))","v":0},0,0.14285714285714285,0,0,0,0,{"$f":"IF(ISERROR(VLOOKUP($A445,#REF!,8,0)),0,(VLOOKUP($A445,#REF!,8,0)))","v":0},0,0.14285714285714285,0,0,0,0,{"$f":"IF(ISERROR(VLOOKUP($A445,#REF!,8,0)),0,(VLOOKUP($A445,#REF!,8,0)))","v":0},0,0.14285714285714285,0,0,0,0,{"$f":"IF(ISERROR(VLOOKUP($A445,#REF!,8,0)),0,(VLOOKUP($A445,#REF!,8,0)))","v":0},0,0.14285714285714285,0,0,0,0,{"$f":"IF(ISERROR(VLOOKUP($A445,#REF!,8,0)),0,(VLOOKUP($A445,#REF!,8,0)))","v":0},0,0.14285714285714285,0,0,0,0,{"$f":"IF(ISERROR(VLOOKUP($A445,#REF!,8,0)),0,(VLOOKUP($A445,#REF!,8,0)))","v":0},0,0.14285714285714285,0,0,0,0,{"$f":"IF(ISERROR(VLOOKUP($A445,#REF!,8,0)),0,(VLOOKUP($A445,#REF!,8,0)))","v":0},0,0.14285714285714285,0,0,0,0,{"$f":"IF(ISERROR(VLOOKUP($A445,#REF!,8,0)),0,(VLOOKUP($A445,#REF!,8,0)))","v":0},0,0.14285714285714285,0,0,0,0,{"$f":"IF(ISERROR(VLOOKUP($A445,#REF!,8,0)),0,(VLOOKUP($A445,#REF!,8,0)))","v":0},0,0.14285714285714285,0,0,0,0,{"$f":"IF(ISERROR(VLOOKUP($A445,#REF!,8,0)),0,(VLOOKUP($A445,#REF!,8,0)))","v":0},0,0.14285714285714285,0,0,0,0,{"$f":"IF(ISERROR(VLOOKUP($A445,#REF!,8,0)),0,(VLOOKUP($A445,#REF!,8,0)))","v":0},0,0.14285714285714285,0,0,0,0,{"$f":"IF(ISERROR(VLOOKUP($A445,#REF!,8,0)),0,(VLOOKUP($A445,#REF!,8,0)))","v":0},0,0.14285714285714285,0,0,0,0,{"$f":"IF(ISERROR(VLOOKUP($A445,#REF!,8,0)),0,(VLOOKUP($A445,#REF!,8,0)))","v":0},0,0.14285714285714285,0,0,0,0,{"$f":"IF(ISERROR(VLOOKUP($A445,#REF!,8,0)),0,(VLOOKUP($A445,#REF!,8,0)))","v":0},0,0.14285714285714285,0,0,0,0,{"$f":"IF(ISERROR(VLOOKUP($A445,#REF!,8,0)),0,(VLOOKUP($A445,#REF!,8,0)))","v":0},0,0.14285714285714285,0,0,0,0,{"$f":"IF(ISERROR(VLOOKUP($A445,#REF!,8,0)),0,(VLOOKUP($A445,#REF!,8,0)))","v":0},0,0.14285714285714285,0,0,0,0,{"$f":"IF(ISERROR(VLOOKUP($A445,#REF!,8,0)),0,(VLOOKUP($A445,#REF!,8,0)))","v":0},0,0.14285714285714285,0,0,0,0,{"$f":"IF(ISERROR(VLOOKUP($A445,#REF!,8,0)),0,(VLOOKUP($A445,#REF!,8,0)))","v":0},0,0.14285714285714285,0,0,0,0,{"$f":"IF(ISERROR(VLOOKUP($A445,#REF!,8,0)),0,(VLOOKUP($A445,#REF!,8,0)))","v":0},0,0.14285714285714285,0,0,0,0,{"$f":"IF(ISERROR(VLOOKUP($A445,#REF!,8,0)),0,(VLOOKUP($A445,#REF!,8,0)))","v":0},0,0.14285714285714285,0,0,0,0,{"$f":"IF(ISERROR(VLOOKUP($A445,#REF!,8,0)),0,(VLOOKUP($A445,#REF!,8,0)))","v":0},0,0.14285714285714285,0,0,0,0,{"$f":"IF(ISERROR(VLOOKUP($A445,#REF!,8,0)),0,(VLOOKUP($A445,#REF!,8,0)))","v":0},0,0.14285714285714285,0,0,0,0,{"$f":"IF(ISERROR(VLOOKUP($A445,#REF!,8,0)),0,(VLOOKUP($A445,#REF!,8,0)))","v":0},0,0.14285714285714285,0,0,0,0,{"$f":"IF(ISERROR(VLOOKUP($A445,#REF!,8,0)),0,(VLOOKUP($A445,#REF!,8,0)))","v":0},0,0.14285714285714285,0,0,0,0,{"$f":"IF(ISERROR(VLOOKUP($A445,#REF!,8,0)),0,(VLOOKUP($A445,#REF!,8,0)))","v":0},0,0.14285714285714285,0,0,0,0,{"$f":"IF(ISERROR(VLOOKUP($A445,#REF!,8,0)),0,(VLOOKUP($A445,#REF!,8,0)))","v":0},0,0.14285714285714285,0,0,0,0,{"$f":"IF(ISERROR(VLOOKUP($A445,#REF!,8,0)),0,(VLOOKUP($A445,#REF!,8,0)))","v":0},0,0.14285714285714285,0,0,0,0,{"$f":"IF(ISERROR(VLOOKUP($A445,#REF!,8,0)),0,(VLOOKUP($A445,#REF!,8,0)))","v":0},0,0.14285714285714285,0,0,0,0,{"$f":"IF(ISERROR(VLOOKUP($A445,#REF!,8,0)),0,(VLOOKUP($A445,#REF!,8,0)))","v":0},0,0.14285714285714285,0,0,0,0,{"$f":"IF(ISERROR(VLOOKUP($A445,#REF!,8,0)),0,(VLOOKUP($A445,#REF!,8,0)))","v":0},0,0.14285714285714285,0,0,0,0,{"$f":"IF(ISERROR(VLOOKUP($A445,#REF!,8,0)),0,(VLOOKUP($A445,#REF!,8,0)))","v":0},0,0.14285714285714285,0,0,0,0,{"$f":"IF(ISERROR(VLOOKUP($A445,#REF!,8,0)),0,(VLOOKUP($A445,#REF!,8,0)))","v":0},0,0.14285714285714285,0,0,0,0,{"$f":"IF(ISERROR(VLOOKUP($A445,#REF!,8,0)),0,(VLOOKUP($A445,#REF!,8,0)))","v":0},0,0.14285714285714285,0,0,0,0,{"$f":"IF(ISERROR(VLOOKUP($A445,#REF!,8,0)),0,(VLOOKUP($A445,#REF!,8,0)))","v":0},0,0.14285714285714285,0,0,0,0,{"$f":"IF(ISERROR(VLOOKUP($A445,#REF!,8,0)),0,(VLOOKUP($A445,#REF!,8,0)))","v":0},0,0.14285714285714285,0,0,0,0,{"$f":"IF(ISERROR(VLOOKUP($A445,#REF!,8,0)),0,(VLOOKUP($A445,#REF!,8,0)))","v":0},0,0.14285714285714285,0,0,0,0,{"$f":"IF(ISERROR(VLOOKUP($A445,#REF!,8,0)),0,(VLOOKUP($A445,#REF!,8,0)))","v":0},0,0.14285714285714285,0,0,0,0,{"$f":"IF(ISERROR(VLOOKUP($A445,#REF!,8,0)),0,(VLOOKUP($A445,#REF!,8,0)))","v":0},0,0.14285714285714285,0,0,0,0,69.157596000000012,69.157596000000012,1,0]
["18.65","Fornecimento e assentamento de bacia sanitária com caixa acoplada Confort Vougue Plus em louça branca, Linha Deca ou equivalente, inclusive engate e anel de vedação.","un",4,3,1,726.25093199999992,2905.0037279999997,62.287080000000003,249.14832000000001,0,0,788.53801199999998,788.53801199999998,2365.6140359999999,null,0,0,0,0,0,null,0,0.75,0,0,0,0,null,0,0.75,0,0,0,0,null,0,0.75,0,0,0,0,null,0,0.75,0,0,0,0,null,0,0.75,0,0,0,0,{"$f":"IF(ISERROR(VLOOKUP(A454,'7ª MEDIÇÃO'!$A$5:$J$1048576,8,0)),0,(VLOOKUP(A454,'7ª MEDIÇÃO'!$A$5:$J$1048576,8,0)))","v":0},0,0.75,0,0,0,0,{"$f":"IF(ISERROR(VLOOKUP(A454,'8ª MEDIÇÃO'!$A$5:$J$1048576,8,0)),0,(VLOOKUP(A454,'8ª MEDIÇÃO'!$A$5:$J$1048576,8,0)))","v":0},0,0.75,0,0,0,0,{"$f":"IF(ISERROR(VLOOKUP(A454,'9ª MEDIÇÃO'!$A$5:$J$1048576,8,0)),0,(VLOOKUP(A454,'9ª MEDIÇÃO'!$A$5:$J$1048576,8,0)))","v":0},0,0.75,0,0,0,0,{"$f":"IF(ISERROR(VLOOKUP(A454,#REF!,8,0)),0,(VLOOKUP(A454,#REF!,8,0)))","v":0},0,0.75,0,0,0,0,{"$f":"IF(ISERROR(VLOOKUP($A454,#REF!,8,0)),0,(VLOOKUP($A454,#REF!,8,0)))","v":0},0,0.75,0,0,0,0,{"$f":"IF(ISERROR(VLOOKUP($A454,#REF!,8,0)),0,(VLOOKUP($A454,#REF!,8,0)))","v":0},0,0.75,0,0,0,0,{"$f":"IF(ISERROR(VLOOKUP($A454,#REF!,8,0)),0,(VLOOKUP($A454,#REF!,8,0)))","v":0},0,0.75,0,0,0,0,{"$f":"IF(ISERROR(VLOOKUP($A454,#REF!,8,0)),0,(VLOOKUP($A454,#REF!,8,0)))","v":0},0,0.75,0,0,0,0,{"$f":"IF(ISERROR(VLOOKUP($A454,#REF!,8,0)),0,(VLOOKUP($A454,#REF!,8,0)))","v":0},0,0.75,0,0,0,0,{"$f":"IF(ISERROR(VLOOKUP($A454,#REF!,8,0)),0,(VLOOKUP($A454,#REF!,8,0)))","v":0},0,0.75,0,0,0,0,{"$f":"IF(ISERROR(VLOOKUP($A454,#REF!,8,0)),0,(VLOOKUP($A454,#REF!,8,0)))","v":0},0,0.75,0,0,0,0,{"$f":"IF(ISERROR(VLOOKUP($A454,#REF!,8,0)),0,(VLOOKUP($A454,#REF!,8,0)))","v":0},0,0.75,0,0,0,0,{"$f":"IF(ISERROR(VLOOKUP($A454,#REF!,8,0)),0,(VLOOKUP($A454,#REF!,8,0)))","v":0},0,0.75,0,0,0,0,{"$f":"IF(ISERROR(VLOOKUP($A454,#REF!,8,0)),0,(VLOOKUP($A454,#REF!,8,0)))","v":0},0,0.75,0,0,0,0,{"$f":"IF(ISERROR(VLOOKUP($A454,#REF!,8,0)),0,(VLOOKUP($A454,#REF!,8,0)))","v":0},0,0.75,0,0,0,0,{"$f":"IF(ISERROR(VLOOKUP($A454,#REF!,8,0)),0,(VLOOKUP($A454,#REF!,8,0)))","v":0},0,0.75,0,0,0,0,{"$f":"IF(ISERROR(VLOOKUP($A454,#REF!,8,0)),0,(VLOOKUP($A454,#REF!,8,0)))","v":0},0,0.75,0,0,0,0,{"$f":"IF(ISERROR(VLOOKUP($A454,#REF!,8,0)),0,(VLOOKUP($A454,#REF!,8,0)))","v":0},0,0.75,0,0,0,0,{"$f":"IF(ISERROR(VLOOKUP($A454,#REF!,8,0)),0,(VLOOKUP($A454,#REF!,8,0)))","v":0},0,0.75,0,0,0,0,{"$f":"IF(ISERROR(VLOOKUP($A454,#REF!,8,0)),0,(VLOOKUP($A454,#REF!,8,0)))","v":0},0,0.75,0,0,0,0,{"$f":"IF(ISERROR(VLOOKUP($A454,#REF!,8,0)),0,(VLOOKUP($A454,#REF!,8,0)))","v":0},0,0.75,0,0,0,0,{"$f":"IF(ISERROR(VLOOKUP($A454,#REF!,8,0)),0,(VLOOKUP($A454,#REF!,8,0)))","v":0},0,0.75,0,0,0,0,{"$f":"IF(ISERROR(VLOOKUP($A454,#REF!,8,0)),0,(VLOOKUP($A454,#REF!,8,0)))","v":0},0,0.75,0,0,0,0,{"$f":"IF(ISERROR(VLOOKUP($A454,#REF!,8,0)),0,(VLOOKUP($A454,#REF!,8,0)))","v":0},0,0.75,0,0,0,0,{"$f":"IF(ISERROR(VLOOKUP($A454,#REF!,8,0)),0,(VLOOKUP($A454,#REF!,8,0)))","v":0},0,0.75,0,0,0,0,{"$f":"IF(ISERROR(VLOOKUP($A454,#REF!,8,0)),0,(VLOOKUP($A454,#REF!,8,0)))","v":0},0,0.75,0,0,0,0,{"$f":"IF(ISERROR(VLOOKUP($A454,#REF!,8,0)),0,(VLOOKUP($A454,#REF!,8,0)))","v":0},0,0.75,0,0,0,0,{"$f":"IF(ISERROR(VLOOKUP($A454,#REF!,8,0)),0,(VLOOKUP($A454,#REF!,8,0)))","v":0},0,0.75,0,0,0,0,{"$f":"IF(ISERROR(VLOOKUP($A454,#REF!,8,0)),0,(VLOOKUP($A454,#REF!,8,0)))","v":0},0,0.75,0,0,0,0,{"$f":"IF(ISERROR(VLOOKUP($A454,#REF!,8,0)),0,(VLOOKUP($A454,#REF!,8,0)))","v":0},0,0.75,0,0,0,0,{"$f":"IF(ISERROR(VLOOKUP($A454,#REF!,8,0)),0,(VLOOKUP($A454,#REF!,8,0)))","v":0},0,0.75,0,0,0,0,{"$f":"IF(ISERROR(VLOOKUP($A454,#REF!,8,0)),0,(VLOOKUP($A454,#REF!,8,0)))","v":0},0,0.75,0,0,0,0,{"$f":"IF(ISERROR(VLOOKUP($A454,#REF!,8,0)),0,(VLOOKUP($A454,#REF!,8,0)))","v":0},0,0.75,0,0,0,0,{"$f":"IF(ISERROR(VLOOKUP($A454,#REF!,8,0)),0,(VLOOKUP($A454,#REF!,8,0)))","v":0},0,0.75,0,0,0,0,{"$f":"IF(ISERROR(VLOOKUP($A454,#REF!,8,0)),0,(VLOOKUP($A454,#REF!,8,0)))","v":0},0,0.75,0,0,0,0,{"$f":"IF(ISERROR(VLOOKUP($A454,#REF!,8,0)),0,(VLOOKUP($A454,#REF!,8,0)))","v":0},0,0.75,0,0,0,0,{"$f":"IF(ISERROR(VLOOKUP($A454,#REF!,8,0)),0,(VLOOKUP($A454,#REF!,8,0)))","v":0},0,0.75,0,0,0,0,{"$f":"IF(ISERROR(VLOOKUP($A454,#REF!,8,0)),0,(VLOOKUP($A454,#REF!,8,0)))","v":0},0,0.75,0,0,0,0,{"$f":"IF(ISERROR(VLOOKUP($A454,#REF!,8,0)),0,(VLOOKUP($A454,#REF!,8,0)))","v":0},0,0.75,0,0,0,0,{"$f":"IF(ISERROR(VLOOKUP($A454,#REF!,8,0)),0,(VLOOKUP($A454,#REF!,8,0)))","v":0},0,0.75,0,0,0,0,{"$f":"IF(ISERROR(VLOOKUP($A454,#REF!,8,0)),0,(VLOOKUP($A454,#REF!,8,0)))","v":0},0,0.75,0,0,0,0,{"$f":"IF(ISERROR(VLOOKUP($A454,#REF!,8,0)),0,(VLOOKUP($A454,#REF!,8,0)))","v":0},0,0.75,0,0,0,0,{"$f":"IF(ISERROR(VLOOKUP($A454,#REF!,8,0)),0,(VLOOKUP($A454,#REF!,8,0)))","v":0},0,0.75,0,0,0,0,{"$f":"IF(ISERROR(VLOOKUP($A454,#REF!,8,0)),0,(VLOOKUP($A454,#REF!,8,0)))","v":0},0,0.75,0,0,0,0,{"$f":"IF(ISERROR(VLOOKUP($A454,#REF!,8,0)),0,(VLOOKUP($A454,#REF!,8,0)))","v":0},0,0.75,0,0,0,0,{"$f":"IF(ISERROR(VLOOKUP($A454,#REF!,8,0)),0,(VLOOKUP($A454,#REF!,8,0)))","v":0},0,0.75,0,0,0,0,{"$f":"IF(ISERROR(VLOOKUP($A454,#REF!,8,0)),0,(VLOOKUP($A454,#REF!,8,0)))","v":0},0,0.75,0,0,0,0,{"$f":"IF(ISERROR(VLOOKUP($A454,#REF!,8,0)),0,(VLOOKUP($A454,#REF!,8,0)))","v":0},0,0.75,0,0,0,0,{"$f":"IF(ISERROR(VLOOKUP($A454,#REF!,8,0)),0,(VLOOKUP($A454,#REF!,8,0)))","v":0},0,0.75,0,0,0,0,2365.6140359999999,2365.6140359999999,1,0]
["18.74","Fornecimento de registro de gaveta com canopla, acabamento cromado, ref. 1509-C39, Deca ou similar, linha prata, diâmetro de 3/4 pol., inclusive fixação.","un",3,3,0,60.007872000000006,180.023616,15.226560000000001,45.679680000000005,0,0,75.234432000000012,0,225.70329600000002,null,0,0,0,0,0,null,0,1,0,0,0,0,null,0,1,0,0,0,0,null,0,1,0,0,0,0,null,0,1,0,0,0,0,null,0,1,0,0,0,0,{"$f":"IF(ISERROR(VLOOKUP(A463,'7ª MEDIÇÃO'!$A$5:$J$1048576,8,0)),0,(VLOOKUP(A463,'7ª MEDIÇÃO'!$A$5:$J$1048576,8,0)))","v":0},0,1,0,0,0,0,{"$f":"IF(ISERROR(VLOOKUP(A463,'8ª MEDIÇÃO'!$A$5:$J$1048576,8,0)),0,(VLOOKUP(A463,'8ª MEDIÇÃO'!$A$5:$J$1048576,8,0)))","v":0},0,1,0,0,0,0,{"$f":"IF(ISERROR(VLOOKUP(A463,'9ª MEDIÇÃO'!$A$5:$J$1048576,8,0)),0,(VLOOKUP(A463,'9ª MEDIÇÃO'!$A$5:$J$1048576,8,0)))","v":0},0,1,0,0,0,0,{"$f":"IF(ISERROR(VLOOKUP(A463,#REF!,8,0)),0,(VLOOKUP(A463,#REF!,8,0)))","v":0},0,1,0,0,0,0,{"$f":"IF(ISERROR(VLOOKUP($A463,#REF!,8,0)),0,(VLOOKUP($A463,#REF!,8,0)))","v":0},0,1,0,0,0,0,{"$f":"IF(ISERROR(VLOOKUP($A463,#REF!,8,0)),0,(VLOOKUP($A463,#REF!,8,0)))","v":0},0,1,0,0,0,0,{"$f":"IF(ISERROR(VLOOKUP($A463,#REF!,8,0)),0,(VLOOKUP($A463,#REF!,8,0)))","v":0},0,1,0,0,0,0,{"$f":"IF(ISERROR(VLOOKUP($A463,#REF!,8,0)),0,(VLOOKUP($A463,#REF!,8,0)))","v":0},0,1,0,0,0,0,{"$f":"IF(ISERROR(VLOOKUP($A463,#REF!,8,0)),0,(VLOOKUP($A463,#REF!,8,0)))","v":0},0,1,0,0,0,0,{"$f":"IF(ISERROR(VLOOKUP($A463,#REF!,8,0)),0,(VLOOKUP($A463,#REF!,8,0)))","v":0},0,1,0,0,0,0,{"$f":"IF(ISERROR(VLOOKUP($A463,#REF!,8,0)),0,(VLOOKUP($A463,#REF!,8,0)))","v":0},0,1,0,0,0,0,{"$f":"IF(ISERROR(VLOOKUP($A463,#REF!,8,0)),0,(VLOOKUP($A463,#REF!,8,0)))","v":0},0,1,0,0,0,0,{"$f":"IF(ISERROR(VLOOKUP($A463,#REF!,8,0)),0,(VLOOKUP($A463,#REF!,8,0)))","v":0},0,1,0,0,0,0,{"$f":"IF(ISERROR(VLOOKUP($A463,#REF!,8,0)),0,(VLOOKUP($A463,#REF!,8,0)))","v":0},0,1,0,0,0,0,{"$f":"IF(ISERROR(VLOOKUP($A463,#REF!,8,0)),0,(VLOOKUP($A463,#REF!,8,0)))","v":0},0,1,0,0,0,0,{"$f":"IF(ISERROR(VLOOKUP($A463,#REF!,8,0)),0,(VLOOKUP($A463,#REF!,8,0)))","v":0},0,1,0,0,0,0,{"$f":"IF(ISERROR(VLOOKUP($A463,#REF!,8,0)),0,(VLOOKUP($A463,#REF!,8,0)))","v":0},0,1,0,0,0,0,{"$f":"IF(ISERROR(VLOOKUP($A463,#REF!,8,0)),0,(VLOOKUP($A463,#REF!,8,0)))","v":0},0,1,0,0,0,0,{"$f":"IF(ISERROR(VLOOKUP($A463,#REF!,8,0)),0,(VLOOKUP($A463,#REF!,8,0)))","v":0},0,1,0,0,0,0,{"$f":"IF(ISERROR(VLOOKUP($A463,#REF!,8,0)),0,(VLOOKUP($A463,#REF!,8,0)))","v":0},0,1,0,0,0,0,{"$f":"IF(ISERROR(VLOOKUP($A463,#REF!,8,0)),0,(VLOOKUP($A463,#REF!,8,0)))","v":0},0,1,0,0,0,0,{"$f":"IF(ISERROR(VLOOKUP($A463,#REF!,8,0)),0,(VLOOKUP($A463,#REF!,8,0)))","v":0},0,1,0,0,0,0,{"$f":"IF(ISERROR(VLOOKUP($A463,#REF!,8,0)),0,(VLOOKUP($A463,#REF!,8,0)))","v":0},0,1,0,0,0,0,{"$f":"IF(ISERROR(VLOOKUP($A463,#REF!,8,0)),0,(VLOOKUP($A463,#REF!,8,0)))","v":0},0,1,0,0,0,0,{"$f":"IF(ISERROR(VLOOKUP($A463,#REF!,8,0)),0,(VLOOKUP($A463,#REF!,8,0)))","v":0},0,1,0,0,0,0,{"$f":"IF(ISERROR(VLOOKUP($A463,#REF!,8,0)),0,(VLOOKUP($A463,#REF!,8,0)))","v":0},0,1,0,0,0,0,{"$f":"IF(ISERROR(VLOOKUP($A463,#REF!,8,0)),0,(VLOOKUP($A463,#REF!,8,0)))","v":0},0,1,0,0,0,0,{"$f":"IF(ISERROR(VLOOKUP($A463,#REF!,8,0)),0,(VLOOKUP($A463,#REF!,8,0)))","v":0},0,1,0,0,0,0,{"$f":"IF(ISERROR(VLOOKUP($A463,#REF!,8,0)),0,(VLOOKUP($A463,#REF!,8,0)))","v":0},0,1,0,0,0,0,{"$f":"IF(ISERROR(VLOOKUP($A463,#REF!,8,0)),0,(VLOOKUP($A463,#REF!,8,0)))","v":0},0,1,0,0,0,0,{"$f":"IF(ISERROR(VLOOKUP($A463,#REF!,8,0)),0,(VLOOKUP($A463,#REF!,8,0)))","v":0},0,1,0,0,0,0,{"$f":"IF(ISERROR(VLOOKUP($A463,#REF!,8,0)),0,(VLOOKUP($A463,#REF!,8,0)))","v":0},0,1,0,0,0,0,{"$f":"IF(ISERROR(VLOOKUP($A463,#REF!,8,0)),0,(VLOOKUP($A463,#REF!,8,0)))","v":0},0,1,0,0,0,0,{"$f":"IF(ISERROR(VLOOKUP($A463,#REF!,8,0)),0,(VLOOKUP($A463,#REF!,8,0)))","v":0},0,1,0,0,0,0,{"$f":"IF(ISERROR(VLOOKUP($A463,#REF!,8,0)),0,(VLOOKUP($A463,#REF!,8,0)))","v":0},0,1,0,0,0,0,{"$f":"IF(ISERROR(VLOOKUP($A463,#REF!,8,0)),0,(VLOOKUP($A463,#REF!,8,0)))","v":0},0,1,0,0,0,0,{"$f":"IF(ISERROR(VLOOKUP($A463,#REF!,8,0)),0,(VLOOKUP($A463,#REF!,8,0)))","v":0},0,1,0,0,0,0,{"$f":"IF(ISERROR(VLOOKUP($A463,#REF!,8,0)),0,(VLOOKUP($A463,#REF!,8,0)))","v":0},0,1,0,0,0,0,{"$f":"IF(ISERROR(VLOOKUP($A463,#REF!,8,0)),0,(VLOOKUP($A463,#REF!,8,0)))","v":0},0,1,0,0,0,0,{"$f":"IF(ISERROR(VLOOKUP($A463,#REF!,8,0)),0,(VLOOKUP($A463,#REF!,8,0)))","v":0},0,1,0,0,0,0,{"$f":"IF(ISERROR(VLOOKUP($A463,#REF!,8,0)),0,(VLOOKUP($A463,#REF!,8,0)))","v":0},0,1,0,0,0,0,{"$f":"IF(ISERROR(VLOOKUP($A463,#REF!,8,0)),0,(VLOOKUP($A463,#REF!,8,0)))","v":0},0,1,0,0,0,0,{"$f":"IF(ISERROR(VLOOKUP($A463,#REF!,8,0)),0,(VLOOKUP($A463,#REF!,8,0)))","v":0},0,1,0,0,0,0,{"$f":"IF(ISERROR(VLOOKUP($A463,#REF!,8,0)),0,(VLOOKUP($A463,#REF!,8,0)))","v":0},0,1,0,0,0,0,{"$f":"IF(ISERROR(VLOOKUP($A463,#REF!,8,0)),0,(VLOOKUP($A463,#REF!,8,0)))","v":0},0,1,0,0,0,0,{"$f":"IF(ISERROR(VLOOKUP($A463,#REF!,8,0)),0,(VLOOKUP($A463,#REF!,8,0)))","v":0},0,1,0,0,0,0,{"$f":"IF(ISERROR(VLOOKUP($A463,#REF!,8,0)),0,(VLOOKUP($A463,#REF!,8,0)))","v":0},0,1,0,0,0,0,{"$f":"IF(ISERROR(VLOOKUP($A463,#REF!,8,0)),0,(VLOOKUP($A463,#REF!,8,0)))","v":0},0,1,0,0,0,0,{"$f":"IF(ISERROR(VLOOKUP($A463,#REF!,8,0)),0,(VLOOKUP($A463,#REF!,8,0)))","v":0},0,1,0,0,0,0,225.70329600000002,225.70329600000002,1,0]
["18.83","Conjunto moto-bomba (centrífuga), P= 3 CV, Schneider, Dancor ou equivalente, inclusive acessórios, fixação e instalação.","un",2,0,2,1481.491516,2962.9830320000001,69.390320000000003,138.78064000000001,0,0,1550.881836,3101.763672,0,null,0,0,0,0,0,null,0,0,0,0,0,0,null,0,0,0,0,0,0,null,0,0,0,0,0,0,null,0,0,0,0,0,0,null,0,0,0,0,0,0,{"$f":"IF(ISERROR(VLOOKUP(A472,'7ª MEDIÇÃO'!$A$5:$J$1048576,8,0)),0,(VLOOKUP(A472,'7ª MEDIÇÃO'!$A$5:$J$1048576,8,0)))","v":0},0,0,0,0,0,0,{"$f":"IF(ISERROR(VLOOKUP(A472,'8ª MEDIÇÃO'!$A$5:$J$1048576,8,0)),0,(VLOOKUP(A472,'8ª MEDIÇÃO'!$A$5:$J$1048576,8,0)))","v":0},0,0,0,0,0,0,{"$f":"IF(ISERROR(VLOOKUP(A472,'9ª MEDIÇÃO'!$A$5:$J$1048576,8,0)),0,(VLOOKUP(A472,'9ª MEDIÇÃO'!$A$5:$J$1048576,8,0)))","v":0},0,0,0,0,0,0,{"$f":"IF(ISERROR(VLOOKUP(A472,#REF!,8,0)),0,(VLOOKUP(A472,#REF!,8,0)))","v":0},0,0,0,0,0,0,{"$f":"IF(ISERROR(VLOOKUP($A472,#REF!,8,0)),0,(VLOOKUP($A472,#REF!,8,0)))","v":0},0,0,0,0,0,0,{"$f":"IF(ISERROR(VLOOKUP($A472,#REF!,8,0)),0,(VLOOKUP($A472,#REF!,8,0)))","v":0},0,0,0,0,0,0,{"$f":"IF(ISERROR(VLOOKUP($A472,#REF!,8,0)),0,(VLOOKUP($A472,#REF!,8,0)))","v":0},0,0,0,0,0,0,{"$f":"IF(ISERROR(VLOOKUP($A472,#REF!,8,0)),0,(VLOOKUP($A472,#REF!,8,0)))","v":0},0,0,0,0,0,0,{"$f":"IF(ISERROR(VLOOKUP($A472,#REF!,8,0)),0,(VLOOKUP($A472,#REF!,8,0)))","v":0},0,0,0,0,0,0,{"$f":"IF(ISERROR(VLOOKUP($A472,#REF!,8,0)),0,(VLOOKUP($A472,#REF!,8,0)))","v":0},0,0,0,0,0,0,{"$f":"IF(ISERROR(VLOOKUP($A472,#REF!,8,0)),0,(VLOOKUP($A472,#REF!,8,0)))","v":0},0,0,0,0,0,0,{"$f":"IF(ISERROR(VLOOKUP($A472,#REF!,8,0)),0,(VLOOKUP($A472,#REF!,8,0)))","v":0},0,0,0,0,0,0,{"$f":"IF(ISERROR(VLOOKUP($A472,#REF!,8,0)),0,(VLOOKUP($A472,#REF!,8,0)))","v":0},0,0,0,0,0,0,{"$f":"IF(ISERROR(VLOOKUP($A472,#REF!,8,0)),0,(VLOOKUP($A472,#REF!,8,0)))","v":0},0,0,0,0,0,0,{"$f":"IF(ISERROR(VLOOKUP($A472,#REF!,8,0)),0,(VLOOKUP($A472,#REF!,8,0)))","v":0},0,0,0,0,0,0,{"$f":"IF(ISERROR(VLOOKUP($A472,#REF!,8,0)),0,(VLOOKUP($A472,#REF!,8,0)))","v":0},0,0,0,0,0,0,{"$f":"IF(ISERROR(VLOOKUP($A472,#REF!,8,0)),0,(VLOOKUP($A472,#REF!,8,0)))","v":0},0,0,0,0,0,0,{"$f":"IF(ISERROR(VLOOKUP($A472,#REF!,8,0)),0,(VLOOKUP($A472,#REF!,8,0)))","v":0},0,0,0,0,0,0,{"$f":"IF(ISERROR(VLOOKUP($A472,#REF!,8,0)),0,(VLOOKUP($A472,#REF!,8,0)))","v":0},0,0,0,0,0,0,{"$f":"IF(ISERROR(VLOOKUP($A472,#REF!,8,0)),0,(VLOOKUP($A472,#REF!,8,0)))","v":0},0,0,0,0,0,0,{"$f":"IF(ISERROR(VLOOKUP($A472,#REF!,8,0)),0,(VLOOKUP($A472,#REF!,8,0)))","v":0},0,0,0,0,0,0,{"$f":"IF(ISERROR(VLOOKUP($A472,#REF!,8,0)),0,(VLOOKUP($A472,#REF!,8,0)))","v":0},0,0,0,0,0,0,{"$f":"IF(ISERROR(VLOOKUP($A472,#REF!,8,0)),0,(VLOOKUP($A472,#REF!,8,0)))","v":0},0,0,0,0,0,0,{"$f":"IF(ISERROR(VLOOKUP($A472,#REF!,8,0)),0,(VLOOKUP($A472,#REF!,8,0)))","v":0},0,0,0,0,0,0,{"$f":"IF(ISERROR(VLOOKUP($A472,#REF!,8,0)),0,(VLOOKUP($A472,#REF!,8,0)))","v":0},0,0,0,0,0,0,{"$f":"IF(ISERROR(VLOOKUP($A472,#REF!,8,0)),0,(VLOOKUP($A472,#REF!,8,0)))","v":0},0,0,0,0,0,0,{"$f":"IF(ISERROR(VLOOKUP($A472,#REF!,8,0)),0,(VLOOKUP($A472,#REF!,8,0)))","v":0},0,0,0,0,0,0,{"$f":"IF(ISERROR(VLOOKUP($A472,#REF!,8,0)),0,(VLOOKUP($A472,#REF!,8,0)))","v":0},0,0,0,0,0,0,{"$f":"IF(ISERROR(VLOOKUP($A472,#REF!,8,0)),0,(VLOOKUP($A472,#REF!,8,0)))","v":0},0,0,0,0,0,0,{"$f":"IF(ISERROR(VLOOKUP($A472,#REF!,8,0)),0,(VLOOKUP($A472,#REF!,8,0)))","v":0},0,0,0,0,0,0,{"$f":"IF(ISERROR(VLOOKUP($A472,#REF!,8,0)),0,(VLOOKUP($A472,#REF!,8,0)))","v":0},0,0,0,0,0,0,{"$f":"IF(ISERROR(VLOOKUP($A472,#REF!,8,0)),0,(VLOOKUP($A472,#REF!,8,0)))","v":0},0,0,0,0,0,0,{"$f":"IF(ISERROR(VLOOKUP($A472,#REF!,8,0)),0,(VLOOKUP($A472,#REF!,8,0)))","v":0},0,0,0,0,0,0,{"$f":"IF(ISERROR(VLOOKUP($A472,#REF!,8,0)),0,(VLOOKUP($A472,#REF!,8,0)))","v":0},0,0,0,0,0,0,{"$f":"IF(ISERROR(VLOOKUP($A472,#REF!,8,0)),0,(VLOOKUP($A472,#REF!,8,0)))","v":0},0,0,0,0,0,0,{"$f":"IF(ISERROR(VLOOKUP($A472,#REF!,8,0)),0,(VLOOKUP($A472,#REF!,8,0)))","v":0},0,0,0,0,0,0,{"$f":"IF(ISERROR(VLOOKUP($A472,#REF!,8,0)),0,(VLOOKUP($A472,#REF!,8,0)))","v":0},0,0,0,0,0,0,{"$f":"IF(ISERROR(VLOOKUP($A472,#REF!,8,0)),0,(VLOOKUP($A472,#REF!,8,0)))","v":0},0,0,0,0,0,0,{"$f":"IF(ISERROR(VLOOKUP($A472,#REF!,8,0)),0,(VLOOKUP($A472,#REF!,8,0)))","v":0},0,0,0,0,0,0,{"$f":"IF(ISERROR(VLOOKUP($A472,#REF!,8,0)),0,(VLOOKUP($A472,#REF!,8,0)))","v":0},0,0,0,0,0,0,{"$f":"IF(ISERROR(VLOOKUP($A472,#REF!,8,0)),0,(VLOOKUP($A472,#REF!,8,0)))","v":0},0,0,0,0,0,0,{"$f":"IF(ISERROR(VLOOKUP($A472,#REF!,8,0)),0,(VLOOKUP($A472,#REF!,8,0)))","v":0},0,0,0,0,0,0,{"$f":"IF(ISERROR(VLOOKUP($A472,#REF!,8,0)),0,(VLOOKUP($A472,#REF!,8,0)))","v":0},0,0,0,0,0,0,{"$f":"IF(ISERROR(VLOOKUP($A472,#REF!,8,0)),0,(VLOOKUP($A472,#REF!,8,0)))","v":0},0,0,0,0,0,0,{"$f":"IF(ISERROR(VLOOKUP($A472,#REF!,8,0)),0,(VLOOKUP($A472,#REF!,8,0)))","v":0},0,0,0,0,0,0,{"$f":"IF(ISERROR(VLOOKUP($A472,#REF!,8,0)),0,(VLOOKUP($A472,#REF!,8,0)))","v":0},0,0,0,0,0,0,{"$f":"IF(ISERROR(VLOOKUP($A472,#REF!,8,0)),0,(VLOOKUP($A472,#REF!,8,0)))","v":0},0,0,0,0,0,0,{"$f":"IF(ISERROR(VLOOKUP($A472,#REF!,8,0)),0,(VLOOKUP($A472,#REF!,8,0)))","v":0},0,0,0,0,0,0,{"$f":"IF(ISERROR(VLOOKUP($A472,#REF!,8,0)),0,(VLOOKUP($A472,#REF!,8,0)))","v":0},0,0,0,0,0,0,0,0,{"$error":"#DIV/0!"},0]
["19.4","Reaterro de vala com compactação manual","m³",14.7,6.66,8.0399999999999991,0,0,32.169840000000001,472.89664799999997,0,0,32.169840000000001,258.64551359999996,214.25113440000001,null,0,0,0,0,0,null,0,0.45306122448979597,0,0,0,0,null,0,0.45306122448979597,0,0,0,0,null,0,0.45306122448979597,0,0,0,0,null,0,0.45306122448979597,0,0,0,0,null,0,0.45306122448979597,0,0,0,0,{"$f":"IF(ISERROR(VLOOKUP(A482,'7ª MEDIÇÃO'!$A$5:$J$1048576,8,0)),0,(VLOOKUP(A482,'7ª MEDIÇÃO'!$A$5:$J$1048576,8,0)))","v":0},0,0.45306122448979597,0,0,0,0,{"$f":"IF(ISERROR(VLOOKUP(A482,'8ª MEDIÇÃO'!$A$5:$J$1048576,8,0)),0,(VLOOKUP(A482,'8ª MEDIÇÃO'!$A$5:$J$1048576,8,0)))","v":0},0,0.45306122448979597,0,0,0,0,{"$f":"IF(ISERROR(VLOOKUP(A482,'9ª MEDIÇÃO'!$A$5:$J$1048576,8,0)),0,(VLOOKUP(A482,'9ª MEDIÇÃO'!$A$5:$J$1048576,8,0)))","v":0},0,0.45306122448979597,0,0,0,0,{"$f":"IF(ISERROR(VLOOKUP(A482,#REF!,8,0)),0,(VLOOKUP(A482,#REF!,8,0)))","v":0},0,0.45306122448979597,0,0,0,0,{"$f":"IF(ISERROR(VLOOKUP($A482,#REF!,8,0)),0,(VLOOKUP($A482,#REF!,8,0)))","v":0},0,0.45306122448979597,0,0,0,0,{"$f":"IF(ISERROR(VLOOKUP($A482,#REF!,8,0)),0,(VLOOKUP($A482,#REF!,8,0)))","v":0},0,0.45306122448979597,0,0,0,0,{"$f":"IF(ISERROR(VLOOKUP($A482,#REF!,8,0)),0,(VLOOKUP($A482,#REF!,8,0)))","v":0},0,0.45306122448979597,0,0,0,0,{"$f":"IF(ISERROR(VLOOKUP($A482,#REF!,8,0)),0,(VLOOKUP($A482,#REF!,8,0)))","v":0},0,0.45306122448979597,0,0,0,0,{"$f":"IF(ISERROR(VLOOKUP($A482,#REF!,8,0)),0,(VLOOKUP($A482,#REF!,8,0)))","v":0},0,0.45306122448979597,0,0,0,0,{"$f":"IF(ISERROR(VLOOKUP($A482,#REF!,8,0)),0,(VLOOKUP($A482,#REF!,8,0)))","v":0},0,0.45306122448979597,0,0,0,0,{"$f":"IF(ISERROR(VLOOKUP($A482,#REF!,8,0)),0,(VLOOKUP($A482,#REF!,8,0)))","v":0},0,0.45306122448979597,0,0,0,0,{"$f":"IF(ISERROR(VLOOKUP($A482,#REF!,8,0)),0,(VLOOKUP($A482,#REF!,8,0)))","v":0},0,0.45306122448979597,0,0,0,0,{"$f":"IF(ISERROR(VLOOKUP($A482,#REF!,8,0)),0,(VLOOKUP($A482,#REF!,8,0)))","v":0},0,0.45306122448979597,0,0,0,0,{"$f":"IF(ISERROR(VLOOKUP($A482,#REF!,8,0)),0,(VLOOKUP($A482,#REF!,8,0)))","v":0},0,0.45306122448979597,0,0,0,0,{"$f":"IF(ISERROR(VLOOKUP($A482,#REF!,8,0)),0,(VLOOKUP($A482,#REF!,8,0)))","v":0},0,0.45306122448979597,0,0,0,0,{"$f":"IF(ISERROR(VLOOKUP($A482,#REF!,8,0)),0,(VLOOKUP($A482,#REF!,8,0)))","v":0},0,0.45306122448979597,0,0,0,0,{"$f":"IF(ISERROR(VLOOKUP($A482,#REF!,8,0)),0,(VLOOKUP($A482,#REF!,8,0)))","v":0},0,0.45306122448979597,0,0,0,0,{"$f":"IF(ISERROR(VLOOKUP($A482,#REF!,8,0)),0,(VLOOKUP($A482,#REF!,8,0)))","v":0},0,0.45306122448979597,0,0,0,0,{"$f":"IF(ISERROR(VLOOKUP($A482,#REF!,8,0)),0,(VLOOKUP($A482,#REF!,8,0)))","v":0},0,0.45306122448979597,0,0,0,0,{"$f":"IF(ISERROR(VLOOKUP($A482,#REF!,8,0)),0,(VLOOKUP($A482,#REF!,8,0)))","v":0},0,0.45306122448979597,0,0,0,0,{"$f":"IF(ISERROR(VLOOKUP($A482,#REF!,8,0)),0,(VLOOKUP($A482,#REF!,8,0)))","v":0},0,0.45306122448979597,0,0,0,0,{"$f":"IF(ISERROR(VLOOKUP($A482,#REF!,8,0)),0,(VLOOKUP($A482,#REF!,8,0)))","v":0},0,0.45306122448979597,0,0,0,0,{"$f":"IF(ISERROR(VLOOKUP($A482,#REF!,8,0)),0,(VLOOKUP($A482,#REF!,8,0)))","v":0},0,0.45306122448979597,0,0,0,0,{"$f":"IF(ISERROR(VLOOKUP($A482,#REF!,8,0)),0,(VLOOKUP($A482,#REF!,8,0)))","v":0},0,0.45306122448979597,0,0,0,0,{"$f":"IF(ISERROR(VLOOKUP($A482,#REF!,8,0)),0,(VLOOKUP($A482,#REF!,8,0)))","v":0},0,0.45306122448979597,0,0,0,0,{"$f":"IF(ISERROR(VLOOKUP($A482,#REF!,8,0)),0,(VLOOKUP($A482,#REF!,8,0)))","v":0},0,0.45306122448979597,0,0,0,0,{"$f":"IF(ISERROR(VLOOKUP($A482,#REF!,8,0)),0,(VLOOKUP($A482,#REF!,8,0)))","v":0},0,0.45306122448979597,0,0,0,0,{"$f":"IF(ISERROR(VLOOKUP($A482,#REF!,8,0)),0,(VLOOKUP($A482,#REF!,8,0)))","v":0},0,0.45306122448979597,0,0,0,0,{"$f":"IF(ISERROR(VLOOKUP($A482,#REF!,8,0)),0,(VLOOKUP($A482,#REF!,8,0)))","v":0},0,0.45306122448979597,0,0,0,0,{"$f":"IF(ISERROR(VLOOKUP($A482,#REF!,8,0)),0,(VLOOKUP($A482,#REF!,8,0)))","v":0},0,0.45306122448979597,0,0,0,0,{"$f":"IF(ISERROR(VLOOKUP($A482,#REF!,8,0)),0,(VLOOKUP($A482,#REF!,8,0)))","v":0},0,0.45306122448979597,0,0,0,0,{"$f":"IF(ISERROR(VLOOKUP($A482,#REF!,8,0)),0,(VLOOKUP($A482,#REF!,8,0)))","v":0},0,0.45306122448979597,0,0,0,0,{"$f":"IF(ISERROR(VLOOKUP($A482,#REF!,8,0)),0,(VLOOKUP($A482,#REF!,8,0)))","v":0},0,0.45306122448979597,0,0,0,0,{"$f":"IF(ISERROR(VLOOKUP($A482,#REF!,8,0)),0,(VLOOKUP($A482,#REF!,8,0)))","v":0},0,0.45306122448979597,0,0,0,0,{"$f":"IF(ISERROR(VLOOKUP($A482,#REF!,8,0)),0,(VLOOKUP($A482,#REF!,8,0)))","v":0},0,0.45306122448979597,0,0,0,0,{"$f":"IF(ISERROR(VLOOKUP($A482,#REF!,8,0)),0,(VLOOKUP($A482,#REF!,8,0)))","v":0},0,0.45306122448979597,0,0,0,0,{"$f":"IF(ISERROR(VLOOKUP($A482,#REF!,8,0)),0,(VLOOKUP($A482,#REF!,8,0)))","v":0},0,0.45306122448979597,0,0,0,0,{"$f":"IF(ISERROR(VLOOKUP($A482,#REF!,8,0)),0,(VLOOKUP($A482,#REF!,8,0)))","v":0},0,0.45306122448979597,0,0,0,0,{"$f":"IF(ISERROR(VLOOKUP($A482,#REF!,8,0)),0,(VLOOKUP($A482,#REF!,8,0)))","v":0},0,0.45306122448979597,0,0,0,0,{"$f":"IF(ISERROR(VLOOKUP($A482,#REF!,8,0)),0,(VLOOKUP($A482,#REF!,8,0)))","v":0},0,0.45306122448979597,0,0,0,0,{"$f":"IF(ISERROR(VLOOKUP($A482,#REF!,8,0)),0,(VLOOKUP($A482,#REF!,8,0)))","v":0},0,0.45306122448979597,0,0,0,0,{"$f":"IF(ISERROR(VLOOKUP($A482,#REF!,8,0)),0,(VLOOKUP($A482,#REF!,8,0)))","v":0},0,0.45306122448979597,0,0,0,0,{"$f":"IF(ISERROR(VLOOKUP($A482,#REF!,8,0)),0,(VLOOKUP($A482,#REF!,8,0)))","v":0},0,0.45306122448979597,0,0,0,0,{"$f":"IF(ISERROR(VLOOKUP($A482,#REF!,8,0)),0,(VLOOKUP($A482,#REF!,8,0)))","v":0},0,0.45306122448979597,0,0,0,0,{"$f":"IF(ISERROR(VLOOKUP($A482,#REF!,8,0)),0,(VLOOKUP($A482,#REF!,8,0)))","v":0},0,0.45306122448979597,0,0,0,0,{"$f":"IF(ISERROR(VLOOKUP($A482,#REF!,8,0)),0,(VLOOKUP($A482,#REF!,8,0)))","v":0},0,0.45306122448979597,0,0,0,0,{"$f":"IF(ISERROR(VLOOKUP($A482,#REF!,8,0)),0,(VLOOKUP($A482,#REF!,8,0)))","v":0},0,0.45306122448979597,0,0,0,0,{"$f":"IF(ISERROR(VLOOKUP($A482,#REF!,8,0)),0,(VLOOKUP($A482,#REF!,8,0)))","v":0},0,0.45306122448979597,0,0,0,0,{"$f":"IF(ISERROR(VLOOKUP($A482,#REF!,8,0)),0,(VLOOKUP($A482,#REF!,8,0)))","v":0},0,0.45306122448979597,0,0,0,0,214.25113440000001,214.25113440000001,1,0]
["19.13","Armação de fundações e estruturas de concreto armado, exceto vigas, pilares e lajes (de edifícios de múltiplos pavimentos, edificação térrea ou sobrado), utilizando aço CA-50 de 10.0 mm - Montagem. ","kg",16,15.84,0.16000000000000014,4.1161060000000003,65.857696000000004,2.87364,45.97824,0,0,6.9897460000000002,1.118359360000001,110.71757664,null,0,0,0,0,0,null,0,0.99,0,0,0,0,null,0,0.99,0,0,0,0,null,0,0.99,0,0,0,0,null,0,0.99,0,0,0,0,null,0,0.99,0,0,0,0,{"$f":"IF(ISERROR(VLOOKUP(A491,'7ª MEDIÇÃO'!$A$5:$J$1048576,8,0)),0,(VLOOKUP(A491,'7ª MEDIÇÃO'!$A$5:$J$1048576,8,0)))","v":0},0,0.99,0,0,0,0,{"$f":"IF(ISERROR(VLOOKUP(A491,'8ª MEDIÇÃO'!$A$5:$J$1048576,8,0)),0,(VLOOKUP(A491,'8ª MEDIÇÃO'!$A$5:$J$1048576,8,0)))","v":0},0,0.99,0,0,0,0,{"$f":"IF(ISERROR(VLOOKUP(A491,'9ª MEDIÇÃO'!$A$5:$J$1048576,8,0)),0,(VLOOKUP(A491,'9ª MEDIÇÃO'!$A$5:$J$1048576,8,0)))","v":0},0,0.99,0,0,0,0,{"$f":"IF(ISERROR(VLOOKUP(A491,#REF!,8,0)),0,(VLOOKUP(A491,#REF!,8,0)))","v":0},0,0.99,0,0,0,0,{"$f":"IF(ISERROR(VLOOKUP($A491,#REF!,8,0)),0,(VLOOKUP($A491,#REF!,8,0)))","v":0},0,0.99,0,0,0,0,{"$f":"IF(ISERROR(VLOOKUP($A491,#REF!,8,0)),0,(VLOOKUP($A491,#REF!,8,0)))","v":0},0,0.99,0,0,0,0,{"$f":"IF(ISERROR(VLOOKUP($A491,#REF!,8,0)),0,(VLOOKUP($A491,#REF!,8,0)))","v":0},0,0.99,0,0,0,0,{"$f":"IF(ISERROR(VLOOKUP($A491,#REF!,8,0)),0,(VLOOKUP($A491,#REF!,8,0)))","v":0},0,0.99,0,0,0,0,{"$f":"IF(ISERROR(VLOOKUP($A491,#REF!,8,0)),0,(VLOOKUP($A491,#REF!,8,0)))","v":0},0,0.99,0,0,0,0,{"$f":"IF(ISERROR(VLOOKUP($A491,#REF!,8,0)),0,(VLOOKUP($A491,#REF!,8,0)))","v":0},0,0.99,0,0,0,0,{"$f":"IF(ISERROR(VLOOKUP($A491,#REF!,8,0)),0,(VLOOKUP($A491,#REF!,8,0)))","v":0},0,0.99,0,0,0,0,{"$f":"IF(ISERROR(VLOOKUP($A491,#REF!,8,0)),0,(VLOOKUP($A491,#REF!,8,0)))","v":0},0,0.99,0,0,0,0,{"$f":"IF(ISERROR(VLOOKUP($A491,#REF!,8,0)),0,(VLOOKUP($A491,#REF!,8,0)))","v":0},0,0.99,0,0,0,0,{"$f":"IF(ISERROR(VLOOKUP($A491,#REF!,8,0)),0,(VLOOKUP($A491,#REF!,8,0)))","v":0},0,0.99,0,0,0,0,{"$f":"IF(ISERROR(VLOOKUP($A491,#REF!,8,0)),0,(VLOOKUP($A491,#REF!,8,0)))","v":0},0,0.99,0,0,0,0,{"$f":"IF(ISERROR(VLOOKUP($A491,#REF!,8,0)),0,(VLOOKUP($A491,#REF!,8,0)))","v":0},0,0.99,0,0,0,0,{"$f":"IF(ISERROR(VLOOKUP($A491,#REF!,8,0)),0,(VLOOKUP($A491,#REF!,8,0)))","v":0},0,0.99,0,0,0,0,{"$f":"IF(ISERROR(VLOOKUP($A491,#REF!,8,0)),0,(VLOOKUP($A491,#REF!,8,0)))","v":0},0,0.99,0,0,0,0,{"$f":"IF(ISERROR(VLOOKUP($A491,#REF!,8,0)),0,(VLOOKUP($A491,#REF!,8,0)))","v":0},0,0.99,0,0,0,0,{"$f":"IF(ISERROR(VLOOKUP($A491,#REF!,8,0)),0,(VLOOKUP($A491,#REF!,8,0)))","v":0},0,0.99,0,0,0,0,{"$f":"IF(ISERROR(VLOOKUP($A491,#REF!,8,0)),0,(VLOOKUP($A491,#REF!,8,0)))","v":0},0,0.99,0,0,0,0,{"$f":"IF(ISERROR(VLOOKUP($A491,#REF!,8,0)),0,(VLOOKUP($A491,#REF!,8,0)))","v":0},0,0.99,0,0,0,0,{"$f":"IF(ISERROR(VLOOKUP($A491,#REF!,8,0)),0,(VLOOKUP($A491,#REF!,8,0)))","v":0},0,0.99,0,0,0,0,{"$f":"IF(ISERROR(VLOOKUP($A491,#REF!,8,0)),0,(VLOOKUP($A491,#REF!,8,0)))","v":0},0,0.99,0,0,0,0,{"$f":"IF(ISERROR(VLOOKUP($A491,#REF!,8,0)),0,(VLOOKUP($A491,#REF!,8,0)))","v":0},0,0.99,0,0,0,0,{"$f":"IF(ISERROR(VLOOKUP($A491,#REF!,8,0)),0,(VLOOKUP($A491,#REF!,8,0)))","v":0},0,0.99,0,0,0,0,{"$f":"IF(ISERROR(VLOOKUP($A491,#REF!,8,0)),0,(VLOOKUP($A491,#REF!,8,0)))","v":0},0,0.99,0,0,0,0,{"$f":"IF(ISERROR(VLOOKUP($A491,#REF!,8,0)),0,(VLOOKUP($A491,#REF!,8,0)))","v":0},0,0.99,0,0,0,0,{"$f":"IF(ISERROR(VLOOKUP($A491,#REF!,8,0)),0,(VLOOKUP($A491,#REF!,8,0)))","v":0},0,0.99,0,0,0,0,{"$f":"IF(ISERROR(VLOOKUP($A491,#REF!,8,0)),0,(VLOOKUP($A491,#REF!,8,0)))","v":0},0,0.99,0,0,0,0,{"$f":"IF(ISERROR(VLOOKUP($A491,#REF!,8,0)),0,(VLOOKUP($A491,#REF!,8,0)))","v":0},0,0.99,0,0,0,0,{"$f":"IF(ISERROR(VLOOKUP($A491,#REF!,8,0)),0,(VLOOKUP($A491,#REF!,8,0)))","v":0},0,0.99,0,0,0,0,{"$f":"IF(ISERROR(VLOOKUP($A491,#REF!,8,0)),0,(VLOOKUP($A491,#REF!,8,0)))","v":0},0,0.99,0,0,0,0,{"$f":"IF(ISERROR(VLOOKUP($A491,#REF!,8,0)),0,(VLOOKUP($A491,#REF!,8,0)))","v":0},0,0.99,0,0,0,0,{"$f":"IF(ISERROR(VLOOKUP($A491,#REF!,8,0)),0,(VLOOKUP($A491,#REF!,8,0)))","v":0},0,0.99,0,0,0,0,{"$f":"IF(ISERROR(VLOOKUP($A491,#REF!,8,0)),0,(VLOOKUP($A491,#REF!,8,0)))","v":0},0,0.99,0,0,0,0,{"$f":"IF(ISERROR(VLOOKUP($A491,#REF!,8,0)),0,(VLOOKUP($A491,#REF!,8,0)))","v":0},0,0.99,0,0,0,0,{"$f":"IF(ISERROR(VLOOKUP($A491,#REF!,8,0)),0,(VLOOKUP($A491,#REF!,8,0)))","v":0},0,0.99,0,0,0,0,{"$f":"IF(ISERROR(VLOOKUP($A491,#REF!,8,0)),0,(VLOOKUP($A491,#REF!,8,0)))","v":0},0,0.99,0,0,0,0,{"$f":"IF(ISERROR(VLOOKUP($A491,#REF!,8,0)),0,(VLOOKUP($A491,#REF!,8,0)))","v":0},0,0.99,0,0,0,0,{"$f":"IF(ISERROR(VLOOKUP($A491,#REF!,8,0)),0,(VLOOKUP($A491,#REF!,8,0)))","v":0},0,0.99,0,0,0,0,{"$f":"IF(ISERROR(VLOOKUP($A491,#REF!,8,0)),0,(VLOOKUP($A491,#REF!,8,0)))","v":0},0,0.99,0,0,0,0,{"$f":"IF(ISERROR(VLOOKUP($A491,#REF!,8,0)),0,(VLOOKUP($A491,#REF!,8,0)))","v":0},0,0.99,0,0,0,0,{"$f":"IF(ISERROR(VLOOKUP($A491,#REF!,8,0)),0,(VLOOKUP($A491,#REF!,8,0)))","v":0},0,0.99,0,0,0,0,{"$f":"IF(ISERROR(VLOOKUP($A491,#REF!,8,0)),0,(VLOOKUP($A491,#REF!,8,0)))","v":0},0,0.99,0,0,0,0,{"$f":"IF(ISERROR(VLOOKUP($A491,#REF!,8,0)),0,(VLOOKUP($A491,#REF!,8,0)))","v":0},0,0.99,0,0,0,0,{"$f":"IF(ISERROR(VLOOKUP($A491,#REF!,8,0)),0,(VLOOKUP($A491,#REF!,8,0)))","v":0},0,0.99,0,0,0,0,{"$f":"IF(ISERROR(VLOOKUP($A491,#REF!,8,0)),0,(VLOOKUP($A491,#REF!,8,0)))","v":0},0,0.99,0,0,0,0,{"$f":"IF(ISERROR(VLOOKUP($A491,#REF!,8,0)),0,(VLOOKUP($A491,#REF!,8,0)))","v":0},0,0.99,0,0,0,0,110.71757664,110.71757664,1,0]
["19.22","Verga pré-moldada para janelas com até 1,5 m de vão. ","m",1.4,1.4,0,11.664266000000001,16.329972400000003,5.8468,8.1855200000000004,0,0,17.511066,0,24.515492399999999,null,0,0,0,0,0,null,0,1,0,0,0,0,null,0,1,0,0,0,0,null,0,1,0,0,0,0,null,0,1,0,0,0,0,null,0,1,0,0,0,0,{"$f":"IF(ISERROR(VLOOKUP(A500,'7ª MEDIÇÃO'!$A$5:$J$1048576,8,0)),0,(VLOOKUP(A500,'7ª MEDIÇÃO'!$A$5:$J$1048576,8,0)))","v":0},0,1,0,0,0,0,{"$f":"IF(ISERROR(VLOOKUP(A500,'8ª MEDIÇÃO'!$A$5:$J$1048576,8,0)),0,(VLOOKUP(A500,'8ª MEDIÇÃO'!$A$5:$J$1048576,8,0)))","v":0},0,1,0,0,0,0,{"$f":"IF(ISERROR(VLOOKUP(A500,'9ª MEDIÇÃO'!$A$5:$J$1048576,8,0)),0,(VLOOKUP(A500,'9ª MEDIÇÃO'!$A$5:$J$1048576,8,0)))","v":0},0,1,0,0,0,0,{"$f":"IF(ISERROR(VLOOKUP(A500,#REF!,8,0)),0,(VLOOKUP(A500,#REF!,8,0)))","v":0},0,1,0,0,0,0,{"$f":"IF(ISERROR(VLOOKUP($A500,#REF!,8,0)),0,(VLOOKUP($A500,#REF!,8,0)))","v":0},0,1,0,0,0,0,{"$f":"IF(ISERROR(VLOOKUP($A500,#REF!,8,0)),0,(VLOOKUP($A500,#REF!,8,0)))","v":0},0,1,0,0,0,0,{"$f":"IF(ISERROR(VLOOKUP($A500,#REF!,8,0)),0,(VLOOKUP($A500,#REF!,8,0)))","v":0},0,1,0,0,0,0,{"$f":"IF(ISERROR(VLOOKUP($A500,#REF!,8,0)),0,(VLOOKUP($A500,#REF!,8,0)))","v":0},0,1,0,0,0,0,{"$f":"IF(ISERROR(VLOOKUP($A500,#REF!,8,0)),0,(VLOOKUP($A500,#REF!,8,0)))","v":0},0,1,0,0,0,0,{"$f":"IF(ISERROR(VLOOKUP($A500,#REF!,8,0)),0,(VLOOKUP($A500,#REF!,8,0)))","v":0},0,1,0,0,0,0,{"$f":"IF(ISERROR(VLOOKUP($A500,#REF!,8,0)),0,(VLOOKUP($A500,#REF!,8,0)))","v":0},0,1,0,0,0,0,{"$f":"IF(ISERROR(VLOOKUP($A500,#REF!,8,0)),0,(VLOOKUP($A500,#REF!,8,0)))","v":0},0,1,0,0,0,0,{"$f":"IF(ISERROR(VLOOKUP($A500,#REF!,8,0)),0,(VLOOKUP($A500,#REF!,8,0)))","v":0},0,1,0,0,0,0,{"$f":"IF(ISERROR(VLOOKUP($A500,#REF!,8,0)),0,(VLOOKUP($A500,#REF!,8,0)))","v":0},0,1,0,0,0,0,{"$f":"IF(ISERROR(VLOOKUP($A500,#REF!,8,0)),0,(VLOOKUP($A500,#REF!,8,0)))","v":0},0,1,0,0,0,0,{"$f":"IF(ISERROR(VLOOKUP($A500,#REF!,8,0)),0,(VLOOKUP($A500,#REF!,8,0)))","v":0},0,1,0,0,0,0,{"$f":"IF(ISERROR(VLOOKUP($A500,#REF!,8,0)),0,(VLOOKUP($A500,#REF!,8,0)))","v":0},0,1,0,0,0,0,{"$f":"IF(ISERROR(VLOOKUP($A500,#REF!,8,0)),0,(VLOOKUP($A500,#REF!,8,0)))","v":0},0,1,0,0,0,0,{"$f":"IF(ISERROR(VLOOKUP($A500,#REF!,8,0)),0,(VLOOKUP($A500,#REF!,8,0)))","v":0},0,1,0,0,0,0,{"$f":"IF(ISERROR(VLOOKUP($A500,#REF!,8,0)),0,(VLOOKUP($A500,#REF!,8,0)))","v":0},0,1,0,0,0,0,{"$f":"IF(ISERROR(VLOOKUP($A500,#REF!,8,0)),0,(VLOOKUP($A500,#REF!,8,0)))","v":0},0,1,0,0,0,0,{"$f":"IF(ISERROR(VLOOKUP($A500,#REF!,8,0)),0,(VLOOKUP($A500,#REF!,8,0)))","v":0},0,1,0,0,0,0,{"$f":"IF(ISERROR(VLOOKUP($A500,#REF!,8,0)),0,(VLOOKUP($A500,#REF!,8,0)))","v":0},0,1,0,0,0,0,{"$f":"IF(ISERROR(VLOOKUP($A500,#REF!,8,0)),0,(VLOOKUP($A500,#REF!,8,0)))","v":0},0,1,0,0,0,0,{"$f":"IF(ISERROR(VLOOKUP($A500,#REF!,8,0)),0,(VLOOKUP($A500,#REF!,8,0)))","v":0},0,1,0,0,0,0,{"$f":"IF(ISERROR(VLOOKUP($A500,#REF!,8,0)),0,(VLOOKUP($A500,#REF!,8,0)))","v":0},0,1,0,0,0,0,{"$f":"IF(ISERROR(VLOOKUP($A500,#REF!,8,0)),0,(VLOOKUP($A500,#REF!,8,0)))","v":0},0,1,0,0,0,0,{"$f":"IF(ISERROR(VLOOKUP($A500,#REF!,8,0)),0,(VLOOKUP($A500,#REF!,8,0)))","v":0},0,1,0,0,0,0,{"$f":"IF(ISERROR(VLOOKUP($A500,#REF!,8,0)),0,(VLOOKUP($A500,#REF!,8,0)))","v":0},0,1,0,0,0,0,{"$f":"IF(ISERROR(VLOOKUP($A500,#REF!,8,0)),0,(VLOOKUP($A500,#REF!,8,0)))","v":0},0,1,0,0,0,0,{"$f":"IF(ISERROR(VLOOKUP($A500,#REF!,8,0)),0,(VLOOKUP($A500,#REF!,8,0)))","v":0},0,1,0,0,0,0,{"$f":"IF(ISERROR(VLOOKUP($A500,#REF!,8,0)),0,(VLOOKUP($A500,#REF!,8,0)))","v":0},0,1,0,0,0,0,{"$f":"IF(ISERROR(VLOOKUP($A500,#REF!,8,0)),0,(VLOOKUP($A500,#REF!,8,0)))","v":0},0,1,0,0,0,0,{"$f":"IF(ISERROR(VLOOKUP($A500,#REF!,8,0)),0,(VLOOKUP($A500,#REF!,8,0)))","v":0},0,1,0,0,0,0,{"$f":"IF(ISERROR(VLOOKUP($A500,#REF!,8,0)),0,(VLOOKUP($A500,#REF!,8,0)))","v":0},0,1,0,0,0,0,{"$f":"IF(ISERROR(VLOOKUP($A500,#REF!,8,0)),0,(VLOOKUP($A500,#REF!,8,0)))","v":0},0,1,0,0,0,0,{"$f":"IF(ISERROR(VLOOKUP($A500,#REF!,8,0)),0,(VLOOKUP($A500,#REF!,8,0)))","v":0},0,1,0,0,0,0,{"$f":"IF(ISERROR(VLOOKUP($A500,#REF!,8,0)),0,(VLOOKUP($A500,#REF!,8,0)))","v":0},0,1,0,0,0,0,{"$f":"IF(ISERROR(VLOOKUP($A500,#REF!,8,0)),0,(VLOOKUP($A500,#REF!,8,0)))","v":0},0,1,0,0,0,0,{"$f":"IF(ISERROR(VLOOKUP($A500,#REF!,8,0)),0,(VLOOKUP($A500,#REF!,8,0)))","v":0},0,1,0,0,0,0,{"$f":"IF(ISERROR(VLOOKUP($A500,#REF!,8,0)),0,(VLOOKUP($A500,#REF!,8,0)))","v":0},0,1,0,0,0,0,{"$f":"IF(ISERROR(VLOOKUP($A500,#REF!,8,0)),0,(VLOOKUP($A500,#REF!,8,0)))","v":0},0,1,0,0,0,0,{"$f":"IF(ISERROR(VLOOKUP($A500,#REF!,8,0)),0,(VLOOKUP($A500,#REF!,8,0)))","v":0},0,1,0,0,0,0,{"$f":"IF(ISERROR(VLOOKUP($A500,#REF!,8,0)),0,(VLOOKUP($A500,#REF!,8,0)))","v":0},0,1,0,0,0,0,{"$f":"IF(ISERROR(VLOOKUP($A500,#REF!,8,0)),0,(VLOOKUP($A500,#REF!,8,0)))","v":0},0,1,0,0,0,0,{"$f":"IF(ISERROR(VLOOKUP($A500,#REF!,8,0)),0,(VLOOKUP($A500,#REF!,8,0)))","v":0},0,1,0,0,0,0,{"$f":"IF(ISERROR(VLOOKUP($A500,#REF!,8,0)),0,(VLOOKUP($A500,#REF!,8,0)))","v":0},0,1,0,0,0,0,{"$f":"IF(ISERROR(VLOOKUP($A500,#REF!,8,0)),0,(VLOOKUP($A500,#REF!,8,0)))","v":0},0,1,0,0,0,0,{"$f":"IF(ISERROR(VLOOKUP($A500,#REF!,8,0)),0,(VLOOKUP($A500,#REF!,8,0)))","v":0},0,1,0,0,0,0,24.515492399999999,24.515492399999999,1,0]
["19.31","Porcelanato Bianco polido, 62,5x62,5cm Elizabeth ou equivalente, assentadas com argamassa colante AC III Quartzolit ou equivalente e rejuntadas com argamassa de rejuntamento flexível Quartzolit ou equivalente. (Paredes internas)","m²",30,30,0,53.025824,1590.7747199999999,17.83896,535.16880000000003,0,0,70.864784,0,2125.9435199999998,null,0,0,0,0,0,null,0,1,0,0,0,0,null,0,1,0,0,0,0,null,0,1,0,0,0,0,null,0,1,0,0,0,0,null,0,1,0,0,0,0,{"$f":"IF(ISERROR(VLOOKUP(A509,'7ª MEDIÇÃO'!$A$5:$J$1048576,8,0)),0,(VLOOKUP(A509,'7ª MEDIÇÃO'!$A$5:$J$1048576,8,0)))","v":0},0,1,0,0,0,0,{"$f":"IF(ISERROR(VLOOKUP(A509,'8ª MEDIÇÃO'!$A$5:$J$1048576,8,0)),0,(VLOOKUP(A509,'8ª MEDIÇÃO'!$A$5:$J$1048576,8,0)))","v":0},0,1,0,0,0,0,{"$f":"IF(ISERROR(VLOOKUP(A509,'9ª MEDIÇÃO'!$A$5:$J$1048576,8,0)),0,(VLOOKUP(A509,'9ª MEDIÇÃO'!$A$5:$J$1048576,8,0)))","v":0},0,1,0,0,0,0,{"$f":"IF(ISERROR(VLOOKUP(A509,#REF!,8,0)),0,(VLOOKUP(A509,#REF!,8,0)))","v":0},0,1,0,0,0,0,{"$f":"IF(ISERROR(VLOOKUP($A509,#REF!,8,0)),0,(VLOOKUP($A509,#REF!,8,0)))","v":0},0,1,0,0,0,0,{"$f":"IF(ISERROR(VLOOKUP($A509,#REF!,8,0)),0,(VLOOKUP($A509,#REF!,8,0)))","v":0},0,1,0,0,0,0,{"$f":"IF(ISERROR(VLOOKUP($A509,#REF!,8,0)),0,(VLOOKUP($A509,#REF!,8,0)))","v":0},0,1,0,0,0,0,{"$f":"IF(ISERROR(VLOOKUP($A509,#REF!,8,0)),0,(VLOOKUP($A509,#REF!,8,0)))","v":0},0,1,0,0,0,0,{"$f":"IF(ISERROR(VLOOKUP($A509,#REF!,8,0)),0,(VLOOKUP($A509,#REF!,8,0)))","v":0},0,1,0,0,0,0,{"$f":"IF(ISERROR(VLOOKUP($A509,#REF!,8,0)),0,(VLOOKUP($A509,#REF!,8,0)))","v":0},0,1,0,0,0,0,{"$f":"IF(ISERROR(VLOOKUP($A509,#REF!,8,0)),0,(VLOOKUP($A509,#REF!,8,0)))","v":0},0,1,0,0,0,0,{"$f":"IF(ISERROR(VLOOKUP($A509,#REF!,8,0)),0,(VLOOKUP($A509,#REF!,8,0)))","v":0},0,1,0,0,0,0,{"$f":"IF(ISERROR(VLOOKUP($A509,#REF!,8,0)),0,(VLOOKUP($A509,#REF!,8,0)))","v":0},0,1,0,0,0,0,{"$f":"IF(ISERROR(VLOOKUP($A509,#REF!,8,0)),0,(VLOOKUP($A509,#REF!,8,0)))","v":0},0,1,0,0,0,0,{"$f":"IF(ISERROR(VLOOKUP($A509,#REF!,8,0)),0,(VLOOKUP($A509,#REF!,8,0)))","v":0},0,1,0,0,0,0,{"$f":"IF(ISERROR(VLOOKUP($A509,#REF!,8,0)),0,(VLOOKUP($A509,#REF!,8,0)))","v":0},0,1,0,0,0,0,{"$f":"IF(ISERROR(VLOOKUP($A509,#REF!,8,0)),0,(VLOOKUP($A509,#REF!,8,0)))","v":0},0,1,0,0,0,0,{"$f":"IF(ISERROR(VLOOKUP($A509,#REF!,8,0)),0,(VLOOKUP($A509,#REF!,8,0)))","v":0},0,1,0,0,0,0,{"$f":"IF(ISERROR(VLOOKUP($A509,#REF!,8,0)),0,(VLOOKUP($A509,#REF!,8,0)))","v":0},0,1,0,0,0,0,{"$f":"IF(ISERROR(VLOOKUP($A509,#REF!,8,0)),0,(VLOOKUP($A509,#REF!,8,0)))","v":0},0,1,0,0,0,0,{"$f":"IF(ISERROR(VLOOKUP($A509,#REF!,8,0)),0,(VLOOKUP($A509,#REF!,8,0)))","v":0},0,1,0,0,0,0,{"$f":"IF(ISERROR(VLOOKUP($A509,#REF!,8,0)),0,(VLOOKUP($A509,#REF!,8,0)))","v":0},0,1,0,0,0,0,{"$f":"IF(ISERROR(VLOOKUP($A509,#REF!,8,0)),0,(VLOOKUP($A509,#REF!,8,0)))","v":0},0,1,0,0,0,0,{"$f":"IF(ISERROR(VLOOKUP($A509,#REF!,8,0)),0,(VLOOKUP($A509,#REF!,8,0)))","v":0},0,1,0,0,0,0,{"$f":"IF(ISERROR(VLOOKUP($A509,#REF!,8,0)),0,(VLOOKUP($A509,#REF!,8,0)))","v":0},0,1,0,0,0,0,{"$f":"IF(ISERROR(VLOOKUP($A509,#REF!,8,0)),0,(VLOOKUP($A509,#REF!,8,0)))","v":0},0,1,0,0,0,0,{"$f":"IF(ISERROR(VLOOKUP($A509,#REF!,8,0)),0,(VLOOKUP($A509,#REF!,8,0)))","v":0},0,1,0,0,0,0,{"$f":"IF(ISERROR(VLOOKUP($A509,#REF!,8,0)),0,(VLOOKUP($A509,#REF!,8,0)))","v":0},0,1,0,0,0,0,{"$f":"IF(ISERROR(VLOOKUP($A509,#REF!,8,0)),0,(VLOOKUP($A509,#REF!,8,0)))","v":0},0,1,0,0,0,0,{"$f":"IF(ISERROR(VLOOKUP($A509,#REF!,8,0)),0,(VLOOKUP($A509,#REF!,8,0)))","v":0},0,1,0,0,0,0,{"$f":"IF(ISERROR(VLOOKUP($A509,#REF!,8,0)),0,(VLOOKUP($A509,#REF!,8,0)))","v":0},0,1,0,0,0,0,{"$f":"IF(ISERROR(VLOOKUP($A509,#REF!,8,0)),0,(VLOOKUP($A509,#REF!,8,0)))","v":0},0,1,0,0,0,0,{"$f":"IF(ISERROR(VLOOKUP($A509,#REF!,8,0)),0,(VLOOKUP($A509,#REF!,8,0)))","v":0},0,1,0,0,0,0,{"$f":"IF(ISERROR(VLOOKUP($A509,#REF!,8,0)),0,(VLOOKUP($A509,#REF!,8,0)))","v":0},0,1,0,0,0,0,{"$f":"IF(ISERROR(VLOOKUP($A509,#REF!,8,0)),0,(VLOOKUP($A509,#REF!,8,0)))","v":0},0,1,0,0,0,0,{"$f":"IF(ISERROR(VLOOKUP($A509,#REF!,8,0)),0,(VLOOKUP($A509,#REF!,8,0)))","v":0},0,1,0,0,0,0,{"$f":"IF(ISERROR(VLOOKUP($A509,#REF!,8,0)),0,(VLOOKUP($A509,#REF!,8,0)))","v":0},0,1,0,0,0,0,{"$f":"IF(ISERROR(VLOOKUP($A509,#REF!,8,0)),0,(VLOOKUP($A509,#REF!,8,0)))","v":0},0,1,0,0,0,0,{"$f":"IF(ISERROR(VLOOKUP($A509,#REF!,8,0)),0,(VLOOKUP($A509,#REF!,8,0)))","v":0},0,1,0,0,0,0,{"$f":"IF(ISERROR(VLOOKUP($A509,#REF!,8,0)),0,(VLOOKUP($A509,#REF!,8,0)))","v":0},0,1,0,0,0,0,{"$f":"IF(ISERROR(VLOOKUP($A509,#REF!,8,0)),0,(VLOOKUP($A509,#REF!,8,0)))","v":0},0,1,0,0,0,0,{"$f":"IF(ISERROR(VLOOKUP($A509,#REF!,8,0)),0,(VLOOKUP($A509,#REF!,8,0)))","v":0},0,1,0,0,0,0,{"$f":"IF(ISERROR(VLOOKUP($A509,#REF!,8,0)),0,(VLOOKUP($A509,#REF!,8,0)))","v":0},0,1,0,0,0,0,{"$f":"IF(ISERROR(VLOOKUP($A509,#REF!,8,0)),0,(VLOOKUP($A509,#REF!,8,0)))","v":0},0,1,0,0,0,0,{"$f":"IF(ISERROR(VLOOKUP($A509,#REF!,8,0)),0,(VLOOKUP($A509,#REF!,8,0)))","v":0},0,1,0,0,0,0,{"$f":"IF(ISERROR(VLOOKUP($A509,#REF!,8,0)),0,(VLOOKUP($A509,#REF!,8,0)))","v":0},0,1,0,0,0,0,{"$f":"IF(ISERROR(VLOOKUP($A509,#REF!,8,0)),0,(VLOOKUP($A509,#REF!,8,0)))","v":0},0,1,0,0,0,0,{"$f":"IF(ISERROR(VLOOKUP($A509,#REF!,8,0)),0,(VLOOKUP($A509,#REF!,8,0)))","v":0},0,1,0,0,0,0,{"$f":"IF(ISERROR(VLOOKUP($A509,#REF!,8,0)),0,(VLOOKUP($A509,#REF!,8,0)))","v":0},0,1,0,0,0,0,2125.9435199999998,2125.9435199999998,1,0]
["19.32","Fornecimento com assentamento de Pastilhas de Porcelana Esmaltada 5x5cm NGK ou equivalente, nas cores Cinza Parati (75%) e Verde Goiás (25%), assentadas com argamassa colante AC III Quartzolit ou equivalente e rejuntadas com argamassa de rejuntamento flexível Quartzolit  ou equivalente. (Guarita) Detalhe 30/45","m²",16,16,0,128.08284,2049.3254400000001,18.759519999999998,300.15231999999997,0,0,146.84236000000001,0,2349.4777600000002,null,0,0,0,0,0,null,0,1,0,0,0,0,null,0,1,0,0,0,0,null,0,1,0,0,0,0,null,0,1,0,0,0,0,null,0,1,0,0,0,0,{"$f":"IF(ISERROR(VLOOKUP(A510,'7ª MEDIÇÃO'!$A$5:$J$1048576,8,0)),0,(VLOOKUP(A510,'7ª MEDIÇÃO'!$A$5:$J$1048576,8,0)))","v":0},0,1,0,0,0,0,{"$f":"IF(ISERROR(VLOOKUP(A510,'8ª MEDIÇÃO'!$A$5:$J$1048576,8,0)),0,(VLOOKUP(A510,'8ª MEDIÇÃO'!$A$5:$J$1048576,8,0)))","v":0},0,1,0,0,0,0,{"$f":"IF(ISERROR(VLOOKUP(A510,'9ª MEDIÇÃO'!$A$5:$J$1048576,8,0)),0,(VLOOKUP(A510,'9ª MEDIÇÃO'!$A$5:$J$1048576,8,0)))","v":0},0,1,0,0,0,0,{"$f":"IF(ISERROR(VLOOKUP(A510,#REF!,8,0)),0,(VLOOKUP(A510,#REF!,8,0)))","v":0},0,1,0,0,0,0,{"$f":"IF(ISERROR(VLOOKUP($A510,#REF!,8,0)),0,(VLOOKUP($A510,#REF!,8,0)))","v":0},0,1,0,0,0,0,{"$f":"IF(ISERROR(VLOOKUP($A510,#REF!,8,0)),0,(VLOOKUP($A510,#REF!,8,0)))","v":0},0,1,0,0,0,0,{"$f":"IF(ISERROR(VLOOKUP($A510,#REF!,8,0)),0,(VLOOKUP($A510,#REF!,8,0)))","v":0},0,1,0,0,0,0,{"$f":"IF(ISERROR(VLOOKUP($A510,#REF!,8,0)),0,(VLOOKUP($A510,#REF!,8,0)))","v":0},0,1,0,0,0,0,{"$f":"IF(ISERROR(VLOOKUP($A510,#REF!,8,0)),0,(VLOOKUP($A510,#REF!,8,0)))","v":0},0,1,0,0,0,0,{"$f":"IF(ISERROR(VLOOKUP($A510,#REF!,8,0)),0,(VLOOKUP($A510,#REF!,8,0)))","v":0},0,1,0,0,0,0,{"$f":"IF(ISERROR(VLOOKUP($A510,#REF!,8,0)),0,(VLOOKUP($A510,#REF!,8,0)))","v":0},0,1,0,0,0,0,{"$f":"IF(ISERROR(VLOOKUP($A510,#REF!,8,0)),0,(VLOOKUP($A510,#REF!,8,0)))","v":0},0,1,0,0,0,0,{"$f":"IF(ISERROR(VLOOKUP($A510,#REF!,8,0)),0,(VLOOKUP($A510,#REF!,8,0)))","v":0},0,1,0,0,0,0,{"$f":"IF(ISERROR(VLOOKUP($A510,#REF!,8,0)),0,(VLOOKUP($A510,#REF!,8,0)))","v":0},0,1,0,0,0,0,{"$f":"IF(ISERROR(VLOOKUP($A510,#REF!,8,0)),0,(VLOOKUP($A510,#REF!,8,0)))","v":0},0,1,0,0,0,0,{"$f":"IF(ISERROR(VLOOKUP($A510,#REF!,8,0)),0,(VLOOKUP($A510,#REF!,8,0)))","v":0},0,1,0,0,0,0,{"$f":"IF(ISERROR(VLOOKUP($A510,#REF!,8,0)),0,(VLOOKUP($A510,#REF!,8,0)))","v":0},0,1,0,0,0,0,{"$f":"IF(ISERROR(VLOOKUP($A510,#REF!,8,0)),0,(VLOOKUP($A510,#REF!,8,0)))","v":0},0,1,0,0,0,0,{"$f":"IF(ISERROR(VLOOKUP($A510,#REF!,8,0)),0,(VLOOKUP($A510,#REF!,8,0)))","v":0},0,1,0,0,0,0,{"$f":"IF(ISERROR(VLOOKUP($A510,#REF!,8,0)),0,(VLOOKUP($A510,#REF!,8,0)))","v":0},0,1,0,0,0,0,{"$f":"IF(ISERROR(VLOOKUP($A510,#REF!,8,0)),0,(VLOOKUP($A510,#REF!,8,0)))","v":0},0,1,0,0,0,0,{"$f":"IF(ISERROR(VLOOKUP($A510,#REF!,8,0)),0,(VLOOKUP($A510,#REF!,8,0)))","v":0},0,1,0,0,0,0,{"$f":"IF(ISERROR(VLOOKUP($A510,#REF!,8,0)),0,(VLOOKUP($A510,#REF!,8,0)))","v":0},0,1,0,0,0,0,{"$f":"IF(ISERROR(VLOOKUP($A510,#REF!,8,0)),0,(VLOOKUP($A510,#REF!,8,0)))","v":0},0,1,0,0,0,0,{"$f":"IF(ISERROR(VLOOKUP($A510,#REF!,8,0)),0,(VLOOKUP($A510,#REF!,8,0)))","v":0},0,1,0,0,0,0,{"$f":"IF(ISERROR(VLOOKUP($A510,#REF!,8,0)),0,(VLOOKUP($A510,#REF!,8,0)))","v":0},0,1,0,0,0,0,{"$f":"IF(ISERROR(VLOOKUP($A510,#REF!,8,0)),0,(VLOOKUP($A510,#REF!,8,0)))","v":0},0,1,0,0,0,0,{"$f":"IF(ISERROR(VLOOKUP($A510,#REF!,8,0)),0,(VLOOKUP($A510,#REF!,8,0)))","v":0},0,1,0,0,0,0,{"$f":"IF(ISERROR(VLOOKUP($A510,#REF!,8,0)),0,(VLOOKUP($A510,#REF!,8,0)))","v":0},0,1,0,0,0,0,{"$f":"IF(ISERROR(VLOOKUP($A510,#REF!,8,0)),0,(VLOOKUP($A510,#REF!,8,0)))","v":0},0,1,0,0,0,0,{"$f":"IF(ISERROR(VLOOKUP($A510,#REF!,8,0)),0,(VLOOKUP($A510,#REF!,8,0)))","v":0},0,1,0,0,0,0,{"$f":"IF(ISERROR(VLOOKUP($A510,#REF!,8,0)),0,(VLOOKUP($A510,#REF!,8,0)))","v":0},0,1,0,0,0,0,{"$f":"IF(ISERROR(VLOOKUP($A510,#REF!,8,0)),0,(VLOOKUP($A510,#REF!,8,0)))","v":0},0,1,0,0,0,0,{"$f":"IF(ISERROR(VLOOKUP($A510,#REF!,8,0)),0,(VLOOKUP($A510,#REF!,8,0)))","v":0},0,1,0,0,0,0,{"$f":"IF(ISERROR(VLOOKUP($A510,#REF!,8,0)),0,(VLOOKUP($A510,#REF!,8,0)))","v":0},0,1,0,0,0,0,{"$f":"IF(ISERROR(VLOOKUP($A510,#REF!,8,0)),0,(VLOOKUP($A510,#REF!,8,0)))","v":0},0,1,0,0,0,0,{"$f":"IF(ISERROR(VLOOKUP($A510,#REF!,8,0)),0,(VLOOKUP($A510,#REF!,8,0)))","v":0},0,1,0,0,0,0,{"$f":"IF(ISERROR(VLOOKUP($A510,#REF!,8,0)),0,(VLOOKUP($A510,#REF!,8,0)))","v":0},0,1,0,0,0,0,{"$f":"IF(ISERROR(VLOOKUP($A510,#REF!,8,0)),0,(VLOOKUP($A510,#REF!,8,0)))","v":0},0,1,0,0,0,0,{"$f":"IF(ISERROR(VLOOKUP($A510,#REF!,8,0)),0,(VLOOKUP($A510,#REF!,8,0)))","v":0},0,1,0,0,0,0,{"$f":"IF(ISERROR(VLOOKUP($A510,#REF!,8,0)),0,(VLOOKUP($A510,#REF!,8,0)))","v":0},0,1,0,0,0,0,{"$f":"IF(ISERROR(VLOOKUP($A510,#REF!,8,0)),0,(VLOOKUP($A510,#REF!,8,0)))","v":0},0,1,0,0,0,0,{"$f":"IF(ISERROR(VLOOKUP($A510,#REF!,8,0)),0,(VLOOKUP($A510,#REF!,8,0)))","v":0},0,1,0,0,0,0,{"$f":"IF(ISERROR(VLOOKUP($A510,#REF!,8,0)),0,(VLOOKUP($A510,#REF!,8,0)))","v":0},0,1,0,0,0,0,{"$f":"IF(ISERROR(VLOOKUP($A510,#REF!,8,0)),0,(VLOOKUP($A510,#REF!,8,0)))","v":0},0,1,0,0,0,0,{"$f":"IF(ISERROR(VLOOKUP($A510,#REF!,8,0)),0,(VLOOKUP($A510,#REF!,8,0)))","v":0},0,1,0,0,0,0,{"$f":"IF(ISERROR(VLOOKUP($A510,#REF!,8,0)),0,(VLOOKUP($A510,#REF!,8,0)))","v":0},0,1,0,0,0,0,{"$f":"IF(ISERROR(VLOOKUP($A510,#REF!,8,0)),0,(VLOOKUP($A510,#REF!,8,0)))","v":0},0,1,0,0,0,0,{"$f":"IF(ISERROR(VLOOKUP($A510,#REF!,8,0)),0,(VLOOKUP($A510,#REF!,8,0)))","v":0},0,1,0,0,0,0,2349.4777600000002,2349.4777600000002,1,0]
["19.41","Fornecimento com instalação de torneira cromada de mesa para lavatório temporizada pressão bica baixa com acionamento manual e fechamento automático, Fabrimar ou equivalente (wc's).","un",1,0,1,130.19396599999999,130.19396599999999,16.19688,16.19688,0,0,146.39084599999998,146.39084599999998,0,null,0,0,0,0,0,null,0,0,0,0,0,0,null,0,0,0,0,0,0,null,0,0,0,0,0,0,null,0,0,0,0,0,0,null,0,0,0,0,0,0,{"$f":"IF(ISERROR(VLOOKUP(A519,'7ª MEDIÇÃO'!$A$5:$J$1048576,8,0)),0,(VLOOKUP(A519,'7ª MEDIÇÃO'!$A$5:$J$1048576,8,0)))","v":0},0,0,0,0,0,0,{"$f":"IF(ISERROR(VLOOKUP(A519,'8ª MEDIÇÃO'!$A$5:$J$1048576,8,0)),0,(VLOOKUP(A519,'8ª MEDIÇÃO'!$A$5:$J$1048576,8,0)))","v":0},0,0,0,0,0,0,{"$f":"IF(ISERROR(VLOOKUP(A519,'9ª MEDIÇÃO'!$A$5:$J$1048576,8,0)),0,(VLOOKUP(A519,'9ª MEDIÇÃO'!$A$5:$J$1048576,8,0)))","v":0},0,0,0,0,0,0,{"$f":"IF(ISERROR(VLOOKUP(A519,#REF!,8,0)),0,(VLOOKUP(A519,#REF!,8,0)))","v":0},0,0,0,0,0,0,{"$f":"IF(ISERROR(VLOOKUP($A519,#REF!,8,0)),0,(VLOOKUP($A519,#REF!,8,0)))","v":0},0,0,0,0,0,0,{"$f":"IF(ISERROR(VLOOKUP($A519,#REF!,8,0)),0,(VLOOKUP($A519,#REF!,8,0)))","v":0},0,0,0,0,0,0,{"$f":"IF(ISERROR(VLOOKUP($A519,#REF!,8,0)),0,(VLOOKUP($A519,#REF!,8,0)))","v":0},0,0,0,0,0,0,{"$f":"IF(ISERROR(VLOOKUP($A519,#REF!,8,0)),0,(VLOOKUP($A519,#REF!,8,0)))","v":0},0,0,0,0,0,0,{"$f":"IF(ISERROR(VLOOKUP($A519,#REF!,8,0)),0,(VLOOKUP($A519,#REF!,8,0)))","v":0},0,0,0,0,0,0,{"$f":"IF(ISERROR(VLOOKUP($A519,#REF!,8,0)),0,(VLOOKUP($A519,#REF!,8,0)))","v":0},0,0,0,0,0,0,{"$f":"IF(ISERROR(VLOOKUP($A519,#REF!,8,0)),0,(VLOOKUP($A519,#REF!,8,0)))","v":0},0,0,0,0,0,0,{"$f":"IF(ISERROR(VLOOKUP($A519,#REF!,8,0)),0,(VLOOKUP($A519,#REF!,8,0)))","v":0},0,0,0,0,0,0,{"$f":"IF(ISERROR(VLOOKUP($A519,#REF!,8,0)),0,(VLOOKUP($A519,#REF!,8,0)))","v":0},0,0,0,0,0,0,{"$f":"IF(ISERROR(VLOOKUP($A519,#REF!,8,0)),0,(VLOOKUP($A519,#REF!,8,0)))","v":0},0,0,0,0,0,0,{"$f":"IF(ISERROR(VLOOKUP($A519,#REF!,8,0)),0,(VLOOKUP($A519,#REF!,8,0)))","v":0},0,0,0,0,0,0,{"$f":"IF(ISERROR(VLOOKUP($A519,#REF!,8,0)),0,(VLOOKUP($A519,#REF!,8,0)))","v":0},0,0,0,0,0,0,{"$f":"IF(ISERROR(VLOOKUP($A519,#REF!,8,0)),0,(VLOOKUP($A519,#REF!,8,0)))","v":0},0,0,0,0,0,0,{"$f":"IF(ISERROR(VLOOKUP($A519,#REF!,8,0)),0,(VLOOKUP($A519,#REF!,8,0)))","v":0},0,0,0,0,0,0,{"$f":"IF(ISERROR(VLOOKUP($A519,#REF!,8,0)),0,(VLOOKUP($A519,#REF!,8,0)))","v":0},0,0,0,0,0,0,{"$f":"IF(ISERROR(VLOOKUP($A519,#REF!,8,0)),0,(VLOOKUP($A519,#REF!,8,0)))","v":0},0,0,0,0,0,0,{"$f":"IF(ISERROR(VLOOKUP($A519,#REF!,8,0)),0,(VLOOKUP($A519,#REF!,8,0)))","v":0},0,0,0,0,0,0,{"$f":"IF(ISERROR(VLOOKUP($A519,#REF!,8,0)),0,(VLOOKUP($A519,#REF!,8,0)))","v":0},0,0,0,0,0,0,{"$f":"IF(ISERROR(VLOOKUP($A519,#REF!,8,0)),0,(VLOOKUP($A519,#REF!,8,0)))","v":0},0,0,0,0,0,0,{"$f":"IF(ISERROR(VLOOKUP($A519,#REF!,8,0)),0,(VLOOKUP($A519,#REF!,8,0)))","v":0},0,0,0,0,0,0,{"$f":"IF(ISERROR(VLOOKUP($A519,#REF!,8,0)),0,(VLOOKUP($A519,#REF!,8,0)))","v":0},0,0,0,0,0,0,{"$f":"IF(ISERROR(VLOOKUP($A519,#REF!,8,0)),0,(VLOOKUP($A519,#REF!,8,0)))","v":0},0,0,0,0,0,0,{"$f":"IF(ISERROR(VLOOKUP($A519,#REF!,8,0)),0,(VLOOKUP($A519,#REF!,8,0)))","v":0},0,0,0,0,0,0,{"$f":"IF(ISERROR(VLOOKUP($A519,#REF!,8,0)),0,(VLOOKUP($A519,#REF!,8,0)))","v":0},0,0,0,0,0,0,{"$f":"IF(ISERROR(VLOOKUP($A519,#REF!,8,0)),0,(VLOOKUP($A519,#REF!,8,0)))","v":0},0,0,0,0,0,0,{"$f":"IF(ISERROR(VLOOKUP($A519,#REF!,8,0)),0,(VLOOKUP($A519,#REF!,8,0)))","v":0},0,0,0,0,0,0,{"$f":"IF(ISERROR(VLOOKUP($A519,#REF!,8,0)),0,(VLOOKUP($A519,#REF!,8,0)))","v":0},0,0,0,0,0,0,{"$f":"IF(ISERROR(VLOOKUP($A519,#REF!,8,0)),0,(VLOOKUP($A519,#REF!,8,0)))","v":0},0,0,0,0,0,0,{"$f":"IF(ISERROR(VLOOKUP($A519,#REF!,8,0)),0,(VLOOKUP($A519,#REF!,8,0)))","v":0},0,0,0,0,0,0,{"$f":"IF(ISERROR(VLOOKUP($A519,#REF!,8,0)),0,(VLOOKUP($A519,#REF!,8,0)))","v":0},0,0,0,0,0,0,{"$f":"IF(ISERROR(VLOOKUP($A519,#REF!,8,0)),0,(VLOOKUP($A519,#REF!,8,0)))","v":0},0,0,0,0,0,0,{"$f":"IF(ISERROR(VLOOKUP($A519,#REF!,8,0)),0,(VLOOKUP($A519,#REF!,8,0)))","v":0},0,0,0,0,0,0,{"$f":"IF(ISERROR(VLOOKUP($A519,#REF!,8,0)),0,(VLOOKUP($A519,#REF!,8,0)))","v":0},0,0,0,0,0,0,{"$f":"IF(ISERROR(VLOOKUP($A519,#REF!,8,0)),0,(VLOOKUP($A519,#REF!,8,0)))","v":0},0,0,0,0,0,0,{"$f":"IF(ISERROR(VLOOKUP($A519,#REF!,8,0)),0,(VLOOKUP($A519,#REF!,8,0)))","v":0},0,0,0,0,0,0,{"$f":"IF(ISERROR(VLOOKUP($A519,#REF!,8,0)),0,(VLOOKUP($A519,#REF!,8,0)))","v":0},0,0,0,0,0,0,{"$f":"IF(ISERROR(VLOOKUP($A519,#REF!,8,0)),0,(VLOOKUP($A519,#REF!,8,0)))","v":0},0,0,0,0,0,0,{"$f":"IF(ISERROR(VLOOKUP($A519,#REF!,8,0)),0,(VLOOKUP($A519,#REF!,8,0)))","v":0},0,0,0,0,0,0,{"$f":"IF(ISERROR(VLOOKUP($A519,#REF!,8,0)),0,(VLOOKUP($A519,#REF!,8,0)))","v":0},0,0,0,0,0,0,{"$f":"IF(ISERROR(VLOOKUP($A519,#REF!,8,0)),0,(VLOOKUP($A519,#REF!,8,0)))","v":0},0,0,0,0,0,0,{"$f":"IF(ISERROR(VLOOKUP($A519,#REF!,8,0)),0,(VLOOKUP($A519,#REF!,8,0)))","v":0},0,0,0,0,0,0,{"$f":"IF(ISERROR(VLOOKUP($A519,#REF!,8,0)),0,(VLOOKUP($A519,#REF!,8,0)))","v":0},0,0,0,0,0,0,{"$f":"IF(ISERROR(VLOOKUP($A519,#REF!,8,0)),0,(VLOOKUP($A519,#REF!,8,0)))","v":0},0,0,0,0,0,0,{"$f":"IF(ISERROR(VLOOKUP($A519,#REF!,8,0)),0,(VLOOKUP($A519,#REF!,8,0)))","v":0},0,0,0,0,0,0,{"$f":"IF(ISERROR(VLOOKUP($A519,#REF!,8,0)),0,(VLOOKUP($A519,#REF!,8,0)))","v":0},0,0,0,0,0,0,0,0,{"$error":"#DIV/0!"},0]
["19.51","Aplicação de fundo selador látex PVA em paredes, duas demãos.","m²",10,10,0,1.7337179999999999,17.33718,0.49760000000000004,4.9760000000000009,0,0,2.2313179999999999,0,22.313179999999999,null,0,0,0,0,0,null,0,1,0,0,0,0,null,0,1,0,0,0,0,null,0,1,0,0,0,0,null,0,1,0,0,0,0,null,0,1,0,0,0,0,{"$f":"IF(ISERROR(VLOOKUP(A529,'7ª MEDIÇÃO'!$A$5:$J$1048576,8,0)),0,(VLOOKUP(A529,'7ª MEDIÇÃO'!$A$5:$J$1048576,8,0)))","v":0},0,1,0,0,0,0,{"$f":"IF(ISERROR(VLOOKUP(A529,'8ª MEDIÇÃO'!$A$5:$J$1048576,8,0)),0,(VLOOKUP(A529,'8ª MEDIÇÃO'!$A$5:$J$1048576,8,0)))","v":0},0,1,0,0,0,0,{"$f":"IF(ISERROR(VLOOKUP(A529,'9ª MEDIÇÃO'!$A$5:$J$1048576,8,0)),0,(VLOOKUP(A529,'9ª MEDIÇÃO'!$A$5:$J$1048576,8,0)))","v":0},0,1,0,0,0,0,{"$f":"IF(ISERROR(VLOOKUP(A529,#REF!,8,0)),0,(VLOOKUP(A529,#REF!,8,0)))","v":0},0,1,0,0,0,0,{"$f":"IF(ISERROR(VLOOKUP($A529,#REF!,8,0)),0,(VLOOKUP($A529,#REF!,8,0)))","v":0},0,1,0,0,0,0,{"$f":"IF(ISERROR(VLOOKUP($A529,#REF!,8,0)),0,(VLOOKUP($A529,#REF!,8,0)))","v":0},0,1,0,0,0,0,{"$f":"IF(ISERROR(VLOOKUP($A529,#REF!,8,0)),0,(VLOOKUP($A529,#REF!,8,0)))","v":0},0,1,0,0,0,0,{"$f":"IF(ISERROR(VLOOKUP($A529,#REF!,8,0)),0,(VLOOKUP($A529,#REF!,8,0)))","v":0},0,1,0,0,0,0,{"$f":"IF(ISERROR(VLOOKUP($A529,#REF!,8,0)),0,(VLOOKUP($A529,#REF!,8,0)))","v":0},0,1,0,0,0,0,{"$f":"IF(ISERROR(VLOOKUP($A529,#REF!,8,0)),0,(VLOOKUP($A529,#REF!,8,0)))","v":0},0,1,0,0,0,0,{"$f":"IF(ISERROR(VLOOKUP($A529,#REF!,8,0)),0,(VLOOKUP($A529,#REF!,8,0)))","v":0},0,1,0,0,0,0,{"$f":"IF(ISERROR(VLOOKUP($A529,#REF!,8,0)),0,(VLOOKUP($A529,#REF!,8,0)))","v":0},0,1,0,0,0,0,{"$f":"IF(ISERROR(VLOOKUP($A529,#REF!,8,0)),0,(VLOOKUP($A529,#REF!,8,0)))","v":0},0,1,0,0,0,0,{"$f":"IF(ISERROR(VLOOKUP($A529,#REF!,8,0)),0,(VLOOKUP($A529,#REF!,8,0)))","v":0},0,1,0,0,0,0,{"$f":"IF(ISERROR(VLOOKUP($A529,#REF!,8,0)),0,(VLOOKUP($A529,#REF!,8,0)))","v":0},0,1,0,0,0,0,{"$f":"IF(ISERROR(VLOOKUP($A529,#REF!,8,0)),0,(VLOOKUP($A529,#REF!,8,0)))","v":0},0,1,0,0,0,0,{"$f":"IF(ISERROR(VLOOKUP($A529,#REF!,8,0)),0,(VLOOKUP($A529,#REF!,8,0)))","v":0},0,1,0,0,0,0,{"$f":"IF(ISERROR(VLOOKUP($A529,#REF!,8,0)),0,(VLOOKUP($A529,#REF!,8,0)))","v":0},0,1,0,0,0,0,{"$f":"IF(ISERROR(VLOOKUP($A529,#REF!,8,0)),0,(VLOOKUP($A529,#REF!,8,0)))","v":0},0,1,0,0,0,0,{"$f":"IF(ISERROR(VLOOKUP($A529,#REF!,8,0)),0,(VLOOKUP($A529,#REF!,8,0)))","v":0},0,1,0,0,0,0,{"$f":"IF(ISERROR(VLOOKUP($A529,#REF!,8,0)),0,(VLOOKUP($A529,#REF!,8,0)))","v":0},0,1,0,0,0,0,{"$f":"IF(ISERROR(VLOOKUP($A529,#REF!,8,0)),0,(VLOOKUP($A529,#REF!,8,0)))","v":0},0,1,0,0,0,0,{"$f":"IF(ISERROR(VLOOKUP($A529,#REF!,8,0)),0,(VLOOKUP($A529,#REF!,8,0)))","v":0},0,1,0,0,0,0,{"$f":"IF(ISERROR(VLOOKUP($A529,#REF!,8,0)),0,(VLOOKUP($A529,#REF!,8,0)))","v":0},0,1,0,0,0,0,{"$f":"IF(ISERROR(VLOOKUP($A529,#REF!,8,0)),0,(VLOOKUP($A529,#REF!,8,0)))","v":0},0,1,0,0,0,0,{"$f":"IF(ISERROR(VLOOKUP($A529,#REF!,8,0)),0,(VLOOKUP($A529,#REF!,8,0)))","v":0},0,1,0,0,0,0,{"$f":"IF(ISERROR(VLOOKUP($A529,#REF!,8,0)),0,(VLOOKUP($A529,#REF!,8,0)))","v":0},0,1,0,0,0,0,{"$f":"IF(ISERROR(VLOOKUP($A529,#REF!,8,0)),0,(VLOOKUP($A529,#REF!,8,0)))","v":0},0,1,0,0,0,0,{"$f":"IF(ISERROR(VLOOKUP($A529,#REF!,8,0)),0,(VLOOKUP($A529,#REF!,8,0)))","v":0},0,1,0,0,0,0,{"$f":"IF(ISERROR(VLOOKUP($A529,#REF!,8,0)),0,(VLOOKUP($A529,#REF!,8,0)))","v":0},0,1,0,0,0,0,{"$f":"IF(ISERROR(VLOOKUP($A529,#REF!,8,0)),0,(VLOOKUP($A529,#REF!,8,0)))","v":0},0,1,0,0,0,0,{"$f":"IF(ISERROR(VLOOKUP($A529,#REF!,8,0)),0,(VLOOKUP($A529,#REF!,8,0)))","v":0},0,1,0,0,0,0,{"$f":"IF(ISERROR(VLOOKUP($A529,#REF!,8,0)),0,(VLOOKUP($A529,#REF!,8,0)))","v":0},0,1,0,0,0,0,{"$f":"IF(ISERROR(VLOOKUP($A529,#REF!,8,0)),0,(VLOOKUP($A529,#REF!,8,0)))","v":0},0,1,0,0,0,0,{"$f":"IF(ISERROR(VLOOKUP($A529,#REF!,8,0)),0,(VLOOKUP($A529,#REF!,8,0)))","v":0},0,1,0,0,0,0,{"$f":"IF(ISERROR(VLOOKUP($A529,#REF!,8,0)),0,(VLOOKUP($A529,#REF!,8,0)))","v":0},0,1,0,0,0,0,{"$f":"IF(ISERROR(VLOOKUP($A529,#REF!,8,0)),0,(VLOOKUP($A529,#REF!,8,0)))","v":0},0,1,0,0,0,0,{"$f":"IF(ISERROR(VLOOKUP($A529,#REF!,8,0)),0,(VLOOKUP($A529,#REF!,8,0)))","v":0},0,1,0,0,0,0,{"$f":"IF(ISERROR(VLOOKUP($A529,#REF!,8,0)),0,(VLOOKUP($A529,#REF!,8,0)))","v":0},0,1,0,0,0,0,{"$f":"IF(ISERROR(VLOOKUP($A529,#REF!,8,0)),0,(VLOOKUP($A529,#REF!,8,0)))","v":0},0,1,0,0,0,0,{"$f":"IF(ISERROR(VLOOKUP($A529,#REF!,8,0)),0,(VLOOKUP($A529,#REF!,8,0)))","v":0},0,1,0,0,0,0,{"$f":"IF(ISERROR(VLOOKUP($A529,#REF!,8,0)),0,(VLOOKUP($A529,#REF!,8,0)))","v":0},0,1,0,0,0,0,{"$f":"IF(ISERROR(VLOOKUP($A529,#REF!,8,0)),0,(VLOOKUP($A529,#REF!,8,0)))","v":0},0,1,0,0,0,0,{"$f":"IF(ISERROR(VLOOKUP($A529,#REF!,8,0)),0,(VLOOKUP($A529,#REF!,8,0)))","v":0},0,1,0,0,0,0,{"$f":"IF(ISERROR(VLOOKUP($A529,#REF!,8,0)),0,(VLOOKUP($A529,#REF!,8,0)))","v":0},0,1,0,0,0,0,{"$f":"IF(ISERROR(VLOOKUP($A529,#REF!,8,0)),0,(VLOOKUP($A529,#REF!,8,0)))","v":0},0,1,0,0,0,0,{"$f":"IF(ISERROR(VLOOKUP($A529,#REF!,8,0)),0,(VLOOKUP($A529,#REF!,8,0)))","v":0},0,1,0,0,0,0,{"$f":"IF(ISERROR(VLOOKUP($A529,#REF!,8,0)),0,(VLOOKUP($A529,#REF!,8,0)))","v":0},0,1,0,0,0,0,{"$f":"IF(ISERROR(VLOOKUP($A529,#REF!,8,0)),0,(VLOOKUP($A529,#REF!,8,0)))","v":0},0,1,0,0,0,0,22.313179999999999,22.313179999999999,1,0]
["19.60","Fornecimento de espelho cristal 4mm, colocado sobre chapas de isopor, fixado com parafuso de latão, inclusive assentamento.","m²",0.5,0,0.5,190.27260200000001,95.136301000000003,49.896839999999997,24.948419999999999,0,0,240.169442,120.084721,0,null,0,0,0,0,0,null,0,0,0,0,0,0,null,0,0,0,0,0,0,null,0,0,0,0,0,0,null,0,0,0,0,0,0,null,0,0,0,0,0,0,{"$f":"IF(ISERROR(VLOOKUP(A538,'7ª MEDIÇÃO'!$A$5:$J$1048576,8,0)),0,(VLOOKUP(A538,'7ª MEDIÇÃO'!$A$5:$J$1048576,8,0)))","v":0},0,0,0,0,0,0,{"$f":"IF(ISERROR(VLOOKUP(A538,'8ª MEDIÇÃO'!$A$5:$J$1048576,8,0)),0,(VLOOKUP(A538,'8ª MEDIÇÃO'!$A$5:$J$1048576,8,0)))","v":0},0,0,0,0,0,0,{"$f":"IF(ISERROR(VLOOKUP(A538,'9ª MEDIÇÃO'!$A$5:$J$1048576,8,0)),0,(VLOOKUP(A538,'9ª MEDIÇÃO'!$A$5:$J$1048576,8,0)))","v":0},0,0,0,0,0,0,{"$f":"IF(ISERROR(VLOOKUP(A538,#REF!,8,0)),0,(VLOOKUP(A538,#REF!,8,0)))","v":0},0,0,0,0,0,0,{"$f":"IF(ISERROR(VLOOKUP($A538,#REF!,8,0)),0,(VLOOKUP($A538,#REF!,8,0)))","v":0},0,0,0,0,0,0,{"$f":"IF(ISERROR(VLOOKUP($A538,#REF!,8,0)),0,(VLOOKUP($A538,#REF!,8,0)))","v":0},0,0,0,0,0,0,{"$f":"IF(ISERROR(VLOOKUP($A538,#REF!,8,0)),0,(VLOOKUP($A538,#REF!,8,0)))","v":0},0,0,0,0,0,0,{"$f":"IF(ISERROR(VLOOKUP($A538,#REF!,8,0)),0,(VLOOKUP($A538,#REF!,8,0)))","v":0},0,0,0,0,0,0,{"$f":"IF(ISERROR(VLOOKUP($A538,#REF!,8,0)),0,(VLOOKUP($A538,#REF!,8,0)))","v":0},0,0,0,0,0,0,{"$f":"IF(ISERROR(VLOOKUP($A538,#REF!,8,0)),0,(VLOOKUP($A538,#REF!,8,0)))","v":0},0,0,0,0,0,0,{"$f":"IF(ISERROR(VLOOKUP($A538,#REF!,8,0)),0,(VLOOKUP($A538,#REF!,8,0)))","v":0},0,0,0,0,0,0,{"$f":"IF(ISERROR(VLOOKUP($A538,#REF!,8,0)),0,(VLOOKUP($A538,#REF!,8,0)))","v":0},0,0,0,0,0,0,{"$f":"IF(ISERROR(VLOOKUP($A538,#REF!,8,0)),0,(VLOOKUP($A538,#REF!,8,0)))","v":0},0,0,0,0,0,0,{"$f":"IF(ISERROR(VLOOKUP($A538,#REF!,8,0)),0,(VLOOKUP($A538,#REF!,8,0)))","v":0},0,0,0,0,0,0,{"$f":"IF(ISERROR(VLOOKUP($A538,#REF!,8,0)),0,(VLOOKUP($A538,#REF!,8,0)))","v":0},0,0,0,0,0,0,{"$f":"IF(ISERROR(VLOOKUP($A538,#REF!,8,0)),0,(VLOOKUP($A538,#REF!,8,0)))","v":0},0,0,0,0,0,0,{"$f":"IF(ISERROR(VLOOKUP($A538,#REF!,8,0)),0,(VLOOKUP($A538,#REF!,8,0)))","v":0},0,0,0,0,0,0,{"$f":"IF(ISERROR(VLOOKUP($A538,#REF!,8,0)),0,(VLOOKUP($A538,#REF!,8,0)))","v":0},0,0,0,0,0,0,{"$f":"IF(ISERROR(VLOOKUP($A538,#REF!,8,0)),0,(VLOOKUP($A538,#REF!,8,0)))","v":0},0,0,0,0,0,0,{"$f":"IF(ISERROR(VLOOKUP($A538,#REF!,8,0)),0,(VLOOKUP($A538,#REF!,8,0)))","v":0},0,0,0,0,0,0,{"$f":"IF(ISERROR(VLOOKUP($A538,#REF!,8,0)),0,(VLOOKUP($A538,#REF!,8,0)))","v":0},0,0,0,0,0,0,{"$f":"IF(ISERROR(VLOOKUP($A538,#REF!,8,0)),0,(VLOOKUP($A538,#REF!,8,0)))","v":0},0,0,0,0,0,0,{"$f":"IF(ISERROR(VLOOKUP($A538,#REF!,8,0)),0,(VLOOKUP($A538,#REF!,8,0)))","v":0},0,0,0,0,0,0,{"$f":"IF(ISERROR(VLOOKUP($A538,#REF!,8,0)),0,(VLOOKUP($A538,#REF!,8,0)))","v":0},0,0,0,0,0,0,{"$f":"IF(ISERROR(VLOOKUP($A538,#REF!,8,0)),0,(VLOOKUP($A538,#REF!,8,0)))","v":0},0,0,0,0,0,0,{"$f":"IF(ISERROR(VLOOKUP($A538,#REF!,8,0)),0,(VLOOKUP($A538,#REF!,8,0)))","v":0},0,0,0,0,0,0,{"$f":"IF(ISERROR(VLOOKUP($A538,#REF!,8,0)),0,(VLOOKUP($A538,#REF!,8,0)))","v":0},0,0,0,0,0,0,{"$f":"IF(ISERROR(VLOOKUP($A538,#REF!,8,0)),0,(VLOOKUP($A538,#REF!,8,0)))","v":0},0,0,0,0,0,0,{"$f":"IF(ISERROR(VLOOKUP($A538,#REF!,8,0)),0,(VLOOKUP($A538,#REF!,8,0)))","v":0},0,0,0,0,0,0,{"$f":"IF(ISERROR(VLOOKUP($A538,#REF!,8,0)),0,(VLOOKUP($A538,#REF!,8,0)))","v":0},0,0,0,0,0,0,{"$f":"IF(ISERROR(VLOOKUP($A538,#REF!,8,0)),0,(VLOOKUP($A538,#REF!,8,0)))","v":0},0,0,0,0,0,0,{"$f":"IF(ISERROR(VLOOKUP($A538,#REF!,8,0)),0,(VLOOKUP($A538,#REF!,8,0)))","v":0},0,0,0,0,0,0,{"$f":"IF(ISERROR(VLOOKUP($A538,#REF!,8,0)),0,(VLOOKUP($A538,#REF!,8,0)))","v":0},0,0,0,0,0,0,{"$f":"IF(ISERROR(VLOOKUP($A538,#REF!,8,0)),0,(VLOOKUP($A538,#REF!,8,0)))","v":0},0,0,0,0,0,0,{"$f":"IF(ISERROR(VLOOKUP($A538,#REF!,8,0)),0,(VLOOKUP($A538,#REF!,8,0)))","v":0},0,0,0,0,0,0,{"$f":"IF(ISERROR(VLOOKUP($A538,#REF!,8,0)),0,(VLOOKUP($A538,#REF!,8,0)))","v":0},0,0,0,0,0,0,{"$f":"IF(ISERROR(VLOOKUP($A538,#REF!,8,0)),0,(VLOOKUP($A538,#REF!,8,0)))","v":0},0,0,0,0,0,0,{"$f":"IF(ISERROR(VLOOKUP($A538,#REF!,8,0)),0,(VLOOKUP($A538,#REF!,8,0)))","v":0},0,0,0,0,0,0,{"$f":"IF(ISERROR(VLOOKUP($A538,#REF!,8,0)),0,(VLOOKUP($A538,#REF!,8,0)))","v":0},0,0,0,0,0,0,{"$f":"IF(ISERROR(VLOOKUP($A538,#REF!,8,0)),0,(VLOOKUP($A538,#REF!,8,0)))","v":0},0,0,0,0,0,0,{"$f":"IF(ISERROR(VLOOKUP($A538,#REF!,8,0)),0,(VLOOKUP($A538,#REF!,8,0)))","v":0},0,0,0,0,0,0,{"$f":"IF(ISERROR(VLOOKUP($A538,#REF!,8,0)),0,(VLOOKUP($A538,#REF!,8,0)))","v":0},0,0,0,0,0,0,{"$f":"IF(ISERROR(VLOOKUP($A538,#REF!,8,0)),0,(VLOOKUP($A538,#REF!,8,0)))","v":0},0,0,0,0,0,0,{"$f":"IF(ISERROR(VLOOKUP($A538,#REF!,8,0)),0,(VLOOKUP($A538,#REF!,8,0)))","v":0},0,0,0,0,0,0,{"$f":"IF(ISERROR(VLOOKUP($A538,#REF!,8,0)),0,(VLOOKUP($A538,#REF!,8,0)))","v":0},0,0,0,0,0,0,{"$f":"IF(ISERROR(VLOOKUP($A538,#REF!,8,0)),0,(VLOOKUP($A538,#REF!,8,0)))","v":0},0,0,0,0,0,0,{"$f":"IF(ISERROR(VLOOKUP($A538,#REF!,8,0)),0,(VLOOKUP($A538,#REF!,8,0)))","v":0},0,0,0,0,0,0,{"$f":"IF(ISERROR(VLOOKUP($A538,#REF!,8,0)),0,(VLOOKUP($A538,#REF!,8,0)))","v":0},0,0,0,0,0,0,{"$f":"IF(ISERROR(VLOOKUP($A538,#REF!,8,0)),0,(VLOOKUP($A538,#REF!,8,0)))","v":0},0,0,0,0,0,0,0,0,{"$error":"#DIV/0!"},0]
["20.0","LIXEIRA ",null,null,0,0,null,0,null,0,null,0,0,0,0,null,0,0,0,0,0,null,0,0,0,0,0,0,null,0,0,0,0,0,0,null,0,0,0,0,0,0,null,0,0,0,0,0,0,null,0,0,0,0,0,0,{"$f":"IF(ISERROR(VLOOKUP(A547,'7ª MEDIÇÃO'!$A$5:$J$1048576,8,0)),0,(VLOOKUP(A547,'7ª MEDIÇÃO'!$A$5:$J$1048576,8,0)))","v":0},0,0,0,0,0,0,{"$f":"IF(ISERROR(VLOOKUP(A547,'8ª MEDIÇÃO'!$A$5:$J$1048576,8,0)),0,(VLOOKUP(A547,'8ª MEDIÇÃO'!$A$5:$J$1048576,8,0)))","v":0},0,0,0,0,0,0,{"$f":"IF(ISERROR(VLOOKUP(A547,'9ª MEDIÇÃO'!$A$5:$J$1048576,8,0)),0,(VLOOKUP(A547,'9ª MEDIÇÃO'!$A$5:$J$1048576,8,0)))","v":0},0,0,0,0,0,0,{"$f":"IF(ISERROR(VLOOKUP(A547,#REF!,8,0)),0,(VLOOKUP(A547,#REF!,8,0)))","v":0},0,0,0,0,0,0,{"$f":"IF(ISERROR(VLOOKUP($A547,#REF!,8,0)),0,(VLOOKUP($A547,#REF!,8,0)))","v":0},0,0,0,0,0,0,{"$f":"IF(ISERROR(VLOOKUP($A547,#REF!,8,0)),0,(VLOOKUP($A547,#REF!,8,0)))","v":0},0,0,0,0,0,0,{"$f":"IF(ISERROR(VLOOKUP($A547,#REF!,8,0)),0,(VLOOKUP($A547,#REF!,8,0)))","v":0},0,0,0,0,0,0,{"$f":"IF(ISERROR(VLOOKUP($A547,#REF!,8,0)),0,(VLOOKUP($A547,#REF!,8,0)))","v":0},0,0,0,0,0,0,{"$f":"IF(ISERROR(VLOOKUP($A547,#REF!,8,0)),0,(VLOOKUP($A547,#REF!,8,0)))","v":0},0,0,0,0,0,0,{"$f":"IF(ISERROR(VLOOKUP($A547,#REF!,8,0)),0,(VLOOKUP($A547,#REF!,8,0)))","v":0},0,0,0,0,0,0,{"$f":"IF(ISERROR(VLOOKUP($A547,#REF!,8,0)),0,(VLOOKUP($A547,#REF!,8,0)))","v":0},0,0,0,0,0,0,{"$f":"IF(ISERROR(VLOOKUP($A547,#REF!,8,0)),0,(VLOOKUP($A547,#REF!,8,0)))","v":0},0,0,0,0,0,0,{"$f":"IF(ISERROR(VLOOKUP($A547,#REF!,8,0)),0,(VLOOKUP($A547,#REF!,8,0)))","v":0},0,0,0,0,0,0,{"$f":"IF(ISERROR(VLOOKUP($A547,#REF!,8,0)),0,(VLOOKUP($A547,#REF!,8,0)))","v":0},0,0,0,0,0,0,{"$f":"IF(ISERROR(VLOOKUP($A547,#REF!,8,0)),0,(VLOOKUP($A547,#REF!,8,0)))","v":0},0,0,0,0,0,0,{"$f":"IF(ISERROR(VLOOKUP($A547,#REF!,8,0)),0,(VLOOKUP($A547,#REF!,8,0)))","v":0},0,0,0,0,0,0,{"$f":"IF(ISERROR(VLOOKUP($A547,#REF!,8,0)),0,(VLOOKUP($A547,#REF!,8,0)))","v":0},0,0,0,0,0,0,{"$f":"IF(ISERROR(VLOOKUP($A547,#REF!,8,0)),0,(VLOOKUP($A547,#REF!,8,0)))","v":0},0,0,0,0,0,0,{"$f":"IF(ISERROR(VLOOKUP($A547,#REF!,8,0)),0,(VLOOKUP($A547,#REF!,8,0)))","v":0},0,0,0,0,0,0,{"$f":"IF(ISERROR(VLOOKUP($A547,#REF!,8,0)),0,(VLOOKUP($A547,#REF!,8,0)))","v":0},0,0,0,0,0,0,{"$f":"IF(ISERROR(VLOOKUP($A547,#REF!,8,0)),0,(VLOOKUP($A547,#REF!,8,0)))","v":0},0,0,0,0,0,0,{"$f":"IF(ISERROR(VLOOKUP($A547,#REF!,8,0)),0,(VLOOKUP($A547,#REF!,8,0)))","v":0},0,0,0,0,0,0,{"$f":"IF(ISERROR(VLOOKUP($A547,#REF!,8,0)),0,(VLOOKUP($A547,#REF!,8,0)))","v":0},0,0,0,0,0,0,{"$f":"IF(ISERROR(VLOOKUP($A547,#REF!,8,0)),0,(VLOOKUP($A547,#REF!,8,0)))","v":0},0,0,0,0,0,0,{"$f":"IF(ISERROR(VLOOKUP($A547,#REF!,8,0)),0,(VLOOKUP($A547,#REF!,8,0)))","v":0},0,0,0,0,0,0,{"$f":"IF(ISERROR(VLOOKUP($A547,#REF!,8,0)),0,(VLOOKUP($A547,#REF!,8,0)))","v":0},0,0,0,0,0,0,{"$f":"IF(ISERROR(VLOOKUP($A547,#REF!,8,0)),0,(VLOOKUP($A547,#REF!,8,0)))","v":0},0,0,0,0,0,0,{"$f":"IF(ISERROR(VLOOKUP($A547,#REF!,8,0)),0,(VLOOKUP($A547,#REF!,8,0)))","v":0},0,0,0,0,0,0,{"$f":"IF(ISERROR(VLOOKUP($A547,#REF!,8,0)),0,(VLOOKUP($A547,#REF!,8,0)))","v":0},0,0,0,0,0,0,{"$f":"IF(ISERROR(VLOOKUP($A547,#REF!,8,0)),0,(VLOOKUP($A547,#REF!,8,0)))","v":0},0,0,0,0,0,0,{"$f":"IF(ISERROR(VLOOKUP($A547,#REF!,8,0)),0,(VLOOKUP($A547,#REF!,8,0)))","v":0},0,0,0,0,0,0,{"$f":"IF(ISERROR(VLOOKUP($A547,#REF!,8,0)),0,(VLOOKUP($A547,#REF!,8,0)))","v":0},0,0,0,0,0,0,{"$f":"IF(ISERROR(VLOOKUP($A547,#REF!,8,0)),0,(VLOOKUP($A547,#REF!,8,0)))","v":0},0,0,0,0,0,0,{"$f":"IF(ISERROR(VLOOKUP($A547,#REF!,8,0)),0,(VLOOKUP($A547,#REF!,8,0)))","v":0},0,0,0,0,0,0,{"$f":"IF(ISERROR(VLOOKUP($A547,#REF!,8,0)),0,(VLOOKUP($A547,#REF!,8,0)))","v":0},0,0,0,0,0,0,{"$f":"IF(ISERROR(VLOOKUP($A547,#REF!,8,0)),0,(VLOOKUP($A547,#REF!,8,0)))","v":0},0,0,0,0,0,0,{"$f":"IF(ISERROR(VLOOKUP($A547,#REF!,8,0)),0,(VLOOKUP($A547,#REF!,8,0)))","v":0},0,0,0,0,0,0,{"$f":"IF(ISERROR(VLOOKUP($A547,#REF!,8,0)),0,(VLOOKUP($A547,#REF!,8,0)))","v":0},0,0,0,0,0,0,{"$f":"IF(ISERROR(VLOOKUP($A547,#REF!,8,0)),0,(VLOOKUP($A547,#REF!,8,0)))","v":0},0,0,0,0,0,0,{"$f":"IF(ISERROR(VLOOKUP($A547,#REF!,8,0)),0,(VLOOKUP($A547,#REF!,8,0)))","v":0},0,0,0,0,0,0,{"$f":"IF(ISERROR(VLOOKUP($A547,#REF!,8,0)),0,(VLOOKUP($A547,#REF!,8,0)))","v":0},0,0,0,0,0,0,{"$f":"IF(ISERROR(VLOOKUP($A547,#REF!,8,0)),0,(VLOOKUP($A547,#REF!,8,0)))","v":0},0,0,0,0,0,0,{"$f":"IF(ISERROR(VLOOKUP($A547,#REF!,8,0)),0,(VLOOKUP($A547,#REF!,8,0)))","v":0},0,0,0,0,0,0,{"$f":"IF(ISERROR(VLOOKUP($A547,#REF!,8,0)),0,(VLOOKUP($A547,#REF!,8,0)))","v":0},0,0,0,0,0,0,{"$f":"IF(ISERROR(VLOOKUP($A547,#REF!,8,0)),0,(VLOOKUP($A547,#REF!,8,0)))","v":0},0,0,0,0,0,0,{"$f":"IF(ISERROR(VLOOKUP($A547,#REF!,8,0)),0,(VLOOKUP($A547,#REF!,8,0)))","v":0},0,0,0,0,0,0,{"$f":"IF(ISERROR(VLOOKUP($A547,#REF!,8,0)),0,(VLOOKUP($A547,#REF!,8,0)))","v":0},0,0,0,0,0,0,{"$f":"IF(ISERROR(VLOOKUP($A547,#REF!,8,0)),0,(VLOOKUP($A547,#REF!,8,0)))","v":0},0,0,0,0,0,0,{"$f":"IF(ISERROR(VLOOKUP($A547,#REF!,8,0)),0,(VLOOKUP($A547,#REF!,8,0)))","v":0},0,0,0,0,0,0,{"$f":"SUM(OJ548:OJ578)","v":23082.473266020002},{"$f":"SUM(OK548:OK578)","v":23082.473266020002},1,0]
["20.9","Montagem e desmontagem de forma de viga, escoramento com pontalete de madeira, pé-direito simples, em madeira serrada, 4 utilizações. ","m²",20.2,20.11,8.9999999999999858E-2,27.751282,560.57589639999992,33.214799999999997,670.93895999999995,0,0,60.966082,5.4869473799999913,1226.0279090199999,null,0,0,0,0,0,null,0,0.99554455445544554,0,0,0,0,null,0,0.99554455445544554,0,0,0,0,null,0,0.99554455445544554,0,0,0,0,null,0,0.99554455445544554,0,0,0,0,null,0,0.99554455445544554,0,0,0,0,{"$f":"IF(ISERROR(VLOOKUP(A556,'7ª MEDIÇÃO'!$A$5:$J$1048576,8,0)),0,(VLOOKUP(A556,'7ª MEDIÇÃO'!$A$5:$J$1048576,8,0)))","v":0},0,0.99554455445544554,0,0,0,0,{"$f":"IF(ISERROR(VLOOKUP(A556,'8ª MEDIÇÃO'!$A$5:$J$1048576,8,0)),0,(VLOOKUP(A556,'8ª MEDIÇÃO'!$A$5:$J$1048576,8,0)))","v":0},0,0.99554455445544554,0,0,0,0,{"$f":"IF(ISERROR(VLOOKUP(A556,'9ª MEDIÇÃO'!$A$5:$J$1048576,8,0)),0,(VLOOKUP(A556,'9ª MEDIÇÃO'!$A$5:$J$1048576,8,0)))","v":0},0,0.99554455445544554,0,0,0,0,{"$f":"IF(ISERROR(VLOOKUP(A556,#REF!,8,0)),0,(VLOOKUP(A556,#REF!,8,0)))","v":0},0,0.99554455445544554,0,0,0,0,{"$f":"IF(ISERROR(VLOOKUP($A556,#REF!,8,0)),0,(VLOOKUP($A556,#REF!,8,0)))","v":0},0,0.99554455445544554,0,0,0,0,{"$f":"IF(ISERROR(VLOOKUP($A556,#REF!,8,0)),0,(VLOOKUP($A556,#REF!,8,0)))","v":0},0,0.99554455445544554,0,0,0,0,{"$f":"IF(ISERROR(VLOOKUP($A556,#REF!,8,0)),0,(VLOOKUP($A556,#REF!,8,0)))","v":0},0,0.99554455445544554,0,0,0,0,{"$f":"IF(ISERROR(VLOOKUP($A556,#REF!,8,0)),0,(VLOOKUP($A556,#REF!,8,0)))","v":0},0,0.99554455445544554,0,0,0,0,{"$f":"IF(ISERROR(VLOOKUP($A556,#REF!,8,0)),0,(VLOOKUP($A556,#REF!,8,0)))","v":0},0,0.99554455445544554,0,0,0,0,{"$f":"IF(ISERROR(VLOOKUP($A556,#REF!,8,0)),0,(VLOOKUP($A556,#REF!,8,0)))","v":0},0,0.99554455445544554,0,0,0,0,{"$f":"IF(ISERROR(VLOOKUP($A556,#REF!,8,0)),0,(VLOOKUP($A556,#REF!,8,0)))","v":0},0,0.99554455445544554,0,0,0,0,{"$f":"IF(ISERROR(VLOOKUP($A556,#REF!,8,0)),0,(VLOOKUP($A556,#REF!,8,0)))","v":0},0,0.99554455445544554,0,0,0,0,{"$f":"IF(ISERROR(VLOOKUP($A556,#REF!,8,0)),0,(VLOOKUP($A556,#REF!,8,0)))","v":0},0,0.99554455445544554,0,0,0,0,{"$f":"IF(ISERROR(VLOOKUP($A556,#REF!,8,0)),0,(VLOOKUP($A556,#REF!,8,0)))","v":0},0,0.99554455445544554,0,0,0,0,{"$f":"IF(ISERROR(VLOOKUP($A556,#REF!,8,0)),0,(VLOOKUP($A556,#REF!,8,0)))","v":0},0,0.99554455445544554,0,0,0,0,{"$f":"IF(ISERROR(VLOOKUP($A556,#REF!,8,0)),0,(VLOOKUP($A556,#REF!,8,0)))","v":0},0,0.99554455445544554,0,0,0,0,{"$f":"IF(ISERROR(VLOOKUP($A556,#REF!,8,0)),0,(VLOOKUP($A556,#REF!,8,0)))","v":0},0,0.99554455445544554,0,0,0,0,{"$f":"IF(ISERROR(VLOOKUP($A556,#REF!,8,0)),0,(VLOOKUP($A556,#REF!,8,0)))","v":0},0,0.99554455445544554,0,0,0,0,{"$f":"IF(ISERROR(VLOOKUP($A556,#REF!,8,0)),0,(VLOOKUP($A556,#REF!,8,0)))","v":0},0,0.99554455445544554,0,0,0,0,{"$f":"IF(ISERROR(VLOOKUP($A556,#REF!,8,0)),0,(VLOOKUP($A556,#REF!,8,0)))","v":0},0,0.99554455445544554,0,0,0,0,{"$f":"IF(ISERROR(VLOOKUP($A556,#REF!,8,0)),0,(VLOOKUP($A556,#REF!,8,0)))","v":0},0,0.99554455445544554,0,0,0,0,{"$f":"IF(ISERROR(VLOOKUP($A556,#REF!,8,0)),0,(VLOOKUP($A556,#REF!,8,0)))","v":0},0,0.99554455445544554,0,0,0,0,{"$f":"IF(ISERROR(VLOOKUP($A556,#REF!,8,0)),0,(VLOOKUP($A556,#REF!,8,0)))","v":0},0,0.99554455445544554,0,0,0,0,{"$f":"IF(ISERROR(VLOOKUP($A556,#REF!,8,0)),0,(VLOOKUP($A556,#REF!,8,0)))","v":0},0,0.99554455445544554,0,0,0,0,{"$f":"IF(ISERROR(VLOOKUP($A556,#REF!,8,0)),0,(VLOOKUP($A556,#REF!,8,0)))","v":0},0,0.99554455445544554,0,0,0,0,{"$f":"IF(ISERROR(VLOOKUP($A556,#REF!,8,0)),0,(VLOOKUP($A556,#REF!,8,0)))","v":0},0,0.99554455445544554,0,0,0,0,{"$f":"IF(ISERROR(VLOOKUP($A556,#REF!,8,0)),0,(VLOOKUP($A556,#REF!,8,0)))","v":0},0,0.99554455445544554,0,0,0,0,{"$f":"IF(ISERROR(VLOOKUP($A556,#REF!,8,0)),0,(VLOOKUP($A556,#REF!,8,0)))","v":0},0,0.99554455445544554,0,0,0,0,{"$f":"IF(ISERROR(VLOOKUP($A556,#REF!,8,0)),0,(VLOOKUP($A556,#REF!,8,0)))","v":0},0,0.99554455445544554,0,0,0,0,{"$f":"IF(ISERROR(VLOOKUP($A556,#REF!,8,0)),0,(VLOOKUP($A556,#REF!,8,0)))","v":0},0,0.99554455445544554,0,0,0,0,{"$f":"IF(ISERROR(VLOOKUP($A556,#REF!,8,0)),0,(VLOOKUP($A556,#REF!,8,0)))","v":0},0,0.99554455445544554,0,0,0,0,{"$f":"IF(ISERROR(VLOOKUP($A556,#REF!,8,0)),0,(VLOOKUP($A556,#REF!,8,0)))","v":0},0,0.99554455445544554,0,0,0,0,{"$f":"IF(ISERROR(VLOOKUP($A556,#REF!,8,0)),0,(VLOOKUP($A556,#REF!,8,0)))","v":0},0,0.99554455445544554,0,0,0,0,{"$f":"IF(ISERROR(VLOOKUP($A556,#REF!,8,0)),0,(VLOOKUP($A556,#REF!,8,0)))","v":0},0,0.99554455445544554,0,0,0,0,{"$f":"IF(ISERROR(VLOOKUP($A556,#REF!,8,0)),0,(VLOOKUP($A556,#REF!,8,0)))","v":0},0,0.99554455445544554,0,0,0,0,{"$f":"IF(ISERROR(VLOOKUP($A556,#REF!,8,0)),0,(VLOOKUP($A556,#REF!,8,0)))","v":0},0,0.99554455445544554,0,0,0,0,{"$f":"IF(ISERROR(VLOOKUP($A556,#REF!,8,0)),0,(VLOOKUP($A556,#REF!,8,0)))","v":0},0,0.99554455445544554,0,0,0,0,{"$f":"IF(ISERROR(VLOOKUP($A556,#REF!,8,0)),0,(VLOOKUP($A556,#REF!,8,0)))","v":0},0,0.99554455445544554,0,0,0,0,{"$f":"IF(ISERROR(VLOOKUP($A556,#REF!,8,0)),0,(VLOOKUP($A556,#REF!,8,0)))","v":0},0,0.99554455445544554,0,0,0,0,{"$f":"IF(ISERROR(VLOOKUP($A556,#REF!,8,0)),0,(VLOOKUP($A556,#REF!,8,0)))","v":0},0,0.99554455445544554,0,0,0,0,{"$f":"IF(ISERROR(VLOOKUP($A556,#REF!,8,0)),0,(VLOOKUP($A556,#REF!,8,0)))","v":0},0,0.99554455445544554,0,0,0,0,{"$f":"IF(ISERROR(VLOOKUP($A556,#REF!,8,0)),0,(VLOOKUP($A556,#REF!,8,0)))","v":0},0,0.99554455445544554,0,0,0,0,{"$f":"IF(ISERROR(VLOOKUP($A556,#REF!,8,0)),0,(VLOOKUP($A556,#REF!,8,0)))","v":0},0,0.99554455445544554,0,0,0,0,{"$f":"IF(ISERROR(VLOOKUP($A556,#REF!,8,0)),0,(VLOOKUP($A556,#REF!,8,0)))","v":0},0,0.99554455445544554,0,0,0,0,{"$f":"IF(ISERROR(VLOOKUP($A556,#REF!,8,0)),0,(VLOOKUP($A556,#REF!,8,0)))","v":0},0,0.99554455445544554,0,0,0,0,{"$f":"IF(ISERROR(VLOOKUP($A556,#REF!,8,0)),0,(VLOOKUP($A556,#REF!,8,0)))","v":0},0,0.99554455445544554,0,0,0,0,{"$f":"IF(ISERROR(VLOOKUP($A556,#REF!,8,0)),0,(VLOOKUP($A556,#REF!,8,0)))","v":0},0,0.99554455445544554,0,0,0,0,{"$f":"IF(ISERROR(VLOOKUP($A556,#REF!,8,0)),0,(VLOOKUP($A556,#REF!,8,0)))","v":0},0,0.99554455445544554,0,0,0,0,{"$f":"IF(ISERROR(VLOOKUP($A556,#REF!,8,0)),0,(VLOOKUP($A556,#REF!,8,0)))","v":0},0,0.99554455445544554,0,0,0,0,1226.0279090199999,1226.0279090199999,1,0]
["20.18","Cerâmica tipo A, PEI 5, 46,00 x 46,00 cm, linha Titan, Elizabeth ou equivalente, assentado com argamassa pré fabricada AC II, Quartzolit ou equivalente, inclusive rejunte Quartzolit ou equivalente. (Piso)","m²",25.3,21.28,4.0199999999999996,19.872890000000002,502.78411700000004,19.605439999999998,496.01763199999994,0,0,39.47833,158.70288659999997,840.09886240000003,null,0,0,0,0,0,null,0,0.84110671936758896,0,0,0,0,null,0,0.84110671936758896,0,0,0,0,null,0,0.84110671936758896,0,0,0,0,null,0,0.84110671936758896,0,0,0,0,null,0,0.84110671936758896,0,0,0,0,{"$f":"IF(ISERROR(VLOOKUP(A565,'7ª MEDIÇÃO'!$A$5:$J$1048576,8,0)),0,(VLOOKUP(A565,'7ª MEDIÇÃO'!$A$5:$J$1048576,8,0)))","v":0},0,0.84110671936758896,0,0,0,0,{"$f":"IF(ISERROR(VLOOKUP(A565,'8ª MEDIÇÃO'!$A$5:$J$1048576,8,0)),0,(VLOOKUP(A565,'8ª MEDIÇÃO'!$A$5:$J$1048576,8,0)))","v":0},0,0.84110671936758896,0,0,0,0,{"$f":"IF(ISERROR(VLOOKUP(A565,'9ª MEDIÇÃO'!$A$5:$J$1048576,8,0)),0,(VLOOKUP(A565,'9ª MEDIÇÃO'!$A$5:$J$1048576,8,0)))","v":0},0,0.84110671936758896,0,0,0,0,{"$f":"IF(ISERROR(VLOOKUP(A565,#REF!,8,0)),0,(VLOOKUP(A565,#REF!,8,0)))","v":0},0,0.84110671936758896,0,0,0,0,{"$f":"IF(ISERROR(VLOOKUP($A565,#REF!,8,0)),0,(VLOOKUP($A565,#REF!,8,0)))","v":0},0,0.84110671936758896,0,0,0,0,{"$f":"IF(ISERROR(VLOOKUP($A565,#REF!,8,0)),0,(VLOOKUP($A565,#REF!,8,0)))","v":0},0,0.84110671936758896,0,0,0,0,{"$f":"IF(ISERROR(VLOOKUP($A565,#REF!,8,0)),0,(VLOOKUP($A565,#REF!,8,0)))","v":0},0,0.84110671936758896,0,0,0,0,{"$f":"IF(ISERROR(VLOOKUP($A565,#REF!,8,0)),0,(VLOOKUP($A565,#REF!,8,0)))","v":0},0,0.84110671936758896,0,0,0,0,{"$f":"IF(ISERROR(VLOOKUP($A565,#REF!,8,0)),0,(VLOOKUP($A565,#REF!,8,0)))","v":0},0,0.84110671936758896,0,0,0,0,{"$f":"IF(ISERROR(VLOOKUP($A565,#REF!,8,0)),0,(VLOOKUP($A565,#REF!,8,0)))","v":0},0,0.84110671936758896,0,0,0,0,{"$f":"IF(ISERROR(VLOOKUP($A565,#REF!,8,0)),0,(VLOOKUP($A565,#REF!,8,0)))","v":0},0,0.84110671936758896,0,0,0,0,{"$f":"IF(ISERROR(VLOOKUP($A565,#REF!,8,0)),0,(VLOOKUP($A565,#REF!,8,0)))","v":0},0,0.84110671936758896,0,0,0,0,{"$f":"IF(ISERROR(VLOOKUP($A565,#REF!,8,0)),0,(VLOOKUP($A565,#REF!,8,0)))","v":0},0,0.84110671936758896,0,0,0,0,{"$f":"IF(ISERROR(VLOOKUP($A565,#REF!,8,0)),0,(VLOOKUP($A565,#REF!,8,0)))","v":0},0,0.84110671936758896,0,0,0,0,{"$f":"IF(ISERROR(VLOOKUP($A565,#REF!,8,0)),0,(VLOOKUP($A565,#REF!,8,0)))","v":0},0,0.84110671936758896,0,0,0,0,{"$f":"IF(ISERROR(VLOOKUP($A565,#REF!,8,0)),0,(VLOOKUP($A565,#REF!,8,0)))","v":0},0,0.84110671936758896,0,0,0,0,{"$f":"IF(ISERROR(VLOOKUP($A565,#REF!,8,0)),0,(VLOOKUP($A565,#REF!,8,0)))","v":0},0,0.84110671936758896,0,0,0,0,{"$f":"IF(ISERROR(VLOOKUP($A565,#REF!,8,0)),0,(VLOOKUP($A565,#REF!,8,0)))","v":0},0,0.84110671936758896,0,0,0,0,{"$f":"IF(ISERROR(VLOOKUP($A565,#REF!,8,0)),0,(VLOOKUP($A565,#REF!,8,0)))","v":0},0,0.84110671936758896,0,0,0,0,{"$f":"IF(ISERROR(VLOOKUP($A565,#REF!,8,0)),0,(VLOOKUP($A565,#REF!,8,0)))","v":0},0,0.84110671936758896,0,0,0,0,{"$f":"IF(ISERROR(VLOOKUP($A565,#REF!,8,0)),0,(VLOOKUP($A565,#REF!,8,0)))","v":0},0,0.84110671936758896,0,0,0,0,{"$f":"IF(ISERROR(VLOOKUP($A565,#REF!,8,0)),0,(VLOOKUP($A565,#REF!,8,0)))","v":0},0,0.84110671936758896,0,0,0,0,{"$f":"IF(ISERROR(VLOOKUP($A565,#REF!,8,0)),0,(VLOOKUP($A565,#REF!,8,0)))","v":0},0,0.84110671936758896,0,0,0,0,{"$f":"IF(ISERROR(VLOOKUP($A565,#REF!,8,0)),0,(VLOOKUP($A565,#REF!,8,0)))","v":0},0,0.84110671936758896,0,0,0,0,{"$f":"IF(ISERROR(VLOOKUP($A565,#REF!,8,0)),0,(VLOOKUP($A565,#REF!,8,0)))","v":0},0,0.84110671936758896,0,0,0,0,{"$f":"IF(ISERROR(VLOOKUP($A565,#REF!,8,0)),0,(VLOOKUP($A565,#REF!,8,0)))","v":0},0,0.84110671936758896,0,0,0,0,{"$f":"IF(ISERROR(VLOOKUP($A565,#REF!,8,0)),0,(VLOOKUP($A565,#REF!,8,0)))","v":0},0,0.84110671936758896,0,0,0,0,{"$f":"IF(ISERROR(VLOOKUP($A565,#REF!,8,0)),0,(VLOOKUP($A565,#REF!,8,0)))","v":0},0,0.84110671936758896,0,0,0,0,{"$f":"IF(ISERROR(VLOOKUP($A565,#REF!,8,0)),0,(VLOOKUP($A565,#REF!,8,0)))","v":0},0,0.84110671936758896,0,0,0,0,{"$f":"IF(ISERROR(VLOOKUP($A565,#REF!,8,0)),0,(VLOOKUP($A565,#REF!,8,0)))","v":0},0,0.84110671936758896,0,0,0,0,{"$f":"IF(ISERROR(VLOOKUP($A565,#REF!,8,0)),0,(VLOOKUP($A565,#REF!,8,0)))","v":0},0,0.84110671936758896,0,0,0,0,{"$f":"IF(ISERROR(VLOOKUP($A565,#REF!,8,0)),0,(VLOOKUP($A565,#REF!,8,0)))","v":0},0,0.84110671936758896,0,0,0,0,{"$f":"IF(ISERROR(VLOOKUP($A565,#REF!,8,0)),0,(VLOOKUP($A565,#REF!,8,0)))","v":0},0,0.84110671936758896,0,0,0,0,{"$f":"IF(ISERROR(VLOOKUP($A565,#REF!,8,0)),0,(VLOOKUP($A565,#REF!,8,0)))","v":0},0,0.84110671936758896,0,0,0,0,{"$f":"IF(ISERROR(VLOOKUP($A565,#REF!,8,0)),0,(VLOOKUP($A565,#REF!,8,0)))","v":0},0,0.84110671936758896,0,0,0,0,{"$f":"IF(ISERROR(VLOOKUP($A565,#REF!,8,0)),0,(VLOOKUP($A565,#REF!,8,0)))","v":0},0,0.84110671936758896,0,0,0,0,{"$f":"IF(ISERROR(VLOOKUP($A565,#REF!,8,0)),0,(VLOOKUP($A565,#REF!,8,0)))","v":0},0,0.84110671936758896,0,0,0,0,{"$f":"IF(ISERROR(VLOOKUP($A565,#REF!,8,0)),0,(VLOOKUP($A565,#REF!,8,0)))","v":0},0,0.84110671936758896,0,0,0,0,{"$f":"IF(ISERROR(VLOOKUP($A565,#REF!,8,0)),0,(VLOOKUP($A565,#REF!,8,0)))","v":0},0,0.84110671936758896,0,0,0,0,{"$f":"IF(ISERROR(VLOOKUP($A565,#REF!,8,0)),0,(VLOOKUP($A565,#REF!,8,0)))","v":0},0,0.84110671936758896,0,0,0,0,{"$f":"IF(ISERROR(VLOOKUP($A565,#REF!,8,0)),0,(VLOOKUP($A565,#REF!,8,0)))","v":0},0,0.84110671936758896,0,0,0,0,{"$f":"IF(ISERROR(VLOOKUP($A565,#REF!,8,0)),0,(VLOOKUP($A565,#REF!,8,0)))","v":0},0,0.84110671936758896,0,0,0,0,{"$f":"IF(ISERROR(VLOOKUP($A565,#REF!,8,0)),0,(VLOOKUP($A565,#REF!,8,0)))","v":0},0,0.84110671936758896,0,0,0,0,{"$f":"IF(ISERROR(VLOOKUP($A565,#REF!,8,0)),0,(VLOOKUP($A565,#REF!,8,0)))","v":0},0,0.84110671936758896,0,0,0,0,{"$f":"IF(ISERROR(VLOOKUP($A565,#REF!,8,0)),0,(VLOOKUP($A565,#REF!,8,0)))","v":0},0,0.84110671936758896,0,0,0,0,{"$f":"IF(ISERROR(VLOOKUP($A565,#REF!,8,0)),0,(VLOOKUP($A565,#REF!,8,0)))","v":0},0,0.84110671936758896,0,0,0,0,{"$f":"IF(ISERROR(VLOOKUP($A565,#REF!,8,0)),0,(VLOOKUP($A565,#REF!,8,0)))","v":0},0,0.84110671936758896,0,0,0,0,{"$f":"IF(ISERROR(VLOOKUP($A565,#REF!,8,0)),0,(VLOOKUP($A565,#REF!,8,0)))","v":0},0,0.84110671936758896,0,0,0,0,{"$f":"IF(ISERROR(VLOOKUP($A565,#REF!,8,0)),0,(VLOOKUP($A565,#REF!,8,0)))","v":0},0,0.84110671936758896,0,0,0,0,840.09886240000003,840.09886240000003,1,0]
["20.20","Fixação (encunhamento) de alvenaria de vedação com tijolo maciço.","m",11,10.94,6.0000000000000497E-2,4.328398,47.612378,9.0065600000000003,99.072159999999997,0,0,13.334958,0.80009748000000669,145.88444052,null,0,0,0,0,0,null,0,0.99454545454545451,0,0,0,0,null,0,0.99454545454545451,0,0,0,0,null,0,0.99454545454545451,0,0,0,0,null,0,0.99454545454545451,0,0,0,0,null,0,0.99454545454545451,0,0,0,0,{"$f":"IF(ISERROR(VLOOKUP(A567,'7ª MEDIÇÃO'!$A$5:$J$1048576,8,0)),0,(VLOOKUP(A567,'7ª MEDIÇÃO'!$A$5:$J$1048576,8,0)))","v":0},0,0.99454545454545451,0,0,0,0,{"$f":"IF(ISERROR(VLOOKUP(A567,'8ª MEDIÇÃO'!$A$5:$J$1048576,8,0)),0,(VLOOKUP(A567,'8ª MEDIÇÃO'!$A$5:$J$1048576,8,0)))","v":0},0,0.99454545454545451,0,0,0,0,{"$f":"IF(ISERROR(VLOOKUP(A567,'9ª MEDIÇÃO'!$A$5:$J$1048576,8,0)),0,(VLOOKUP(A567,'9ª MEDIÇÃO'!$A$5:$J$1048576,8,0)))","v":0},0,0.99454545454545451,0,0,0,0,{"$f":"IF(ISERROR(VLOOKUP(A567,#REF!,8,0)),0,(VLOOKUP(A567,#REF!,8,0)))","v":0},0,0.99454545454545451,0,0,0,0,{"$f":"IF(ISERROR(VLOOKUP($A567,#REF!,8,0)),0,(VLOOKUP($A567,#REF!,8,0)))","v":0},0,0.99454545454545451,0,0,0,0,{"$f":"IF(ISERROR(VLOOKUP($A567,#REF!,8,0)),0,(VLOOKUP($A567,#REF!,8,0)))","v":0},0,0.99454545454545451,0,0,0,0,{"$f":"IF(ISERROR(VLOOKUP($A567,#REF!,8,0)),0,(VLOOKUP($A567,#REF!,8,0)))","v":0},0,0.99454545454545451,0,0,0,0,{"$f":"IF(ISERROR(VLOOKUP($A567,#REF!,8,0)),0,(VLOOKUP($A567,#REF!,8,0)))","v":0},0,0.99454545454545451,0,0,0,0,{"$f":"IF(ISERROR(VLOOKUP($A567,#REF!,8,0)),0,(VLOOKUP($A567,#REF!,8,0)))","v":0},0,0.99454545454545451,0,0,0,0,{"$f":"IF(ISERROR(VLOOKUP($A567,#REF!,8,0)),0,(VLOOKUP($A567,#REF!,8,0)))","v":0},0,0.99454545454545451,0,0,0,0,{"$f":"IF(ISERROR(VLOOKUP($A567,#REF!,8,0)),0,(VLOOKUP($A567,#REF!,8,0)))","v":0},0,0.99454545454545451,0,0,0,0,{"$f":"IF(ISERROR(VLOOKUP($A567,#REF!,8,0)),0,(VLOOKUP($A567,#REF!,8,0)))","v":0},0,0.99454545454545451,0,0,0,0,{"$f":"IF(ISERROR(VLOOKUP($A567,#REF!,8,0)),0,(VLOOKUP($A567,#REF!,8,0)))","v":0},0,0.99454545454545451,0,0,0,0,{"$f":"IF(ISERROR(VLOOKUP($A567,#REF!,8,0)),0,(VLOOKUP($A567,#REF!,8,0)))","v":0},0,0.99454545454545451,0,0,0,0,{"$f":"IF(ISERROR(VLOOKUP($A567,#REF!,8,0)),0,(VLOOKUP($A567,#REF!,8,0)))","v":0},0,0.99454545454545451,0,0,0,0,{"$f":"IF(ISERROR(VLOOKUP($A567,#REF!,8,0)),0,(VLOOKUP($A567,#REF!,8,0)))","v":0},0,0.99454545454545451,0,0,0,0,{"$f":"IF(ISERROR(VLOOKUP($A567,#REF!,8,0)),0,(VLOOKUP($A567,#REF!,8,0)))","v":0},0,0.99454545454545451,0,0,0,0,{"$f":"IF(ISERROR(VLOOKUP($A567,#REF!,8,0)),0,(VLOOKUP($A567,#REF!,8,0)))","v":0},0,0.99454545454545451,0,0,0,0,{"$f":"IF(ISERROR(VLOOKUP($A567,#REF!,8,0)),0,(VLOOKUP($A567,#REF!,8,0)))","v":0},0,0.99454545454545451,0,0,0,0,{"$f":"IF(ISERROR(VLOOKUP($A567,#REF!,8,0)),0,(VLOOKUP($A567,#REF!,8,0)))","v":0},0,0.99454545454545451,0,0,0,0,{"$f":"IF(ISERROR(VLOOKUP($A567,#REF!,8,0)),0,(VLOOKUP($A567,#REF!,8,0)))","v":0},0,0.99454545454545451,0,0,0,0,{"$f":"IF(ISERROR(VLOOKUP($A567,#REF!,8,0)),0,(VLOOKUP($A567,#REF!,8,0)))","v":0},0,0.99454545454545451,0,0,0,0,{"$f":"IF(ISERROR(VLOOKUP($A567,#REF!,8,0)),0,(VLOOKUP($A567,#REF!,8,0)))","v":0},0,0.99454545454545451,0,0,0,0,{"$f":"IF(ISERROR(VLOOKUP($A567,#REF!,8,0)),0,(VLOOKUP($A567,#REF!,8,0)))","v":0},0,0.99454545454545451,0,0,0,0,{"$f":"IF(ISERROR(VLOOKUP($A567,#REF!,8,0)),0,(VLOOKUP($A567,#REF!,8,0)))","v":0},0,0.99454545454545451,0,0,0,0,{"$f":"IF(ISERROR(VLOOKUP($A567,#REF!,8,0)),0,(VLOOKUP($A567,#REF!,8,0)))","v":0},0,0.99454545454545451,0,0,0,0,{"$f":"IF(ISERROR(VLOOKUP($A567,#REF!,8,0)),0,(VLOOKUP($A567,#REF!,8,0)))","v":0},0,0.99454545454545451,0,0,0,0,{"$f":"IF(ISERROR(VLOOKUP($A567,#REF!,8,0)),0,(VLOOKUP($A567,#REF!,8,0)))","v":0},0,0.99454545454545451,0,0,0,0,{"$f":"IF(ISERROR(VLOOKUP($A567,#REF!,8,0)),0,(VLOOKUP($A567,#REF!,8,0)))","v":0},0,0.99454545454545451,0,0,0,0,{"$f":"IF(ISERROR(VLOOKUP($A567,#REF!,8,0)),0,(VLOOKUP($A567,#REF!,8,0)))","v":0},0,0.99454545454545451,0,0,0,0,{"$f":"IF(ISERROR(VLOOKUP($A567,#REF!,8,0)),0,(VLOOKUP($A567,#REF!,8,0)))","v":0},0,0.99454545454545451,0,0,0,0,{"$f":"IF(ISERROR(VLOOKUP($A567,#REF!,8,0)),0,(VLOOKUP($A567,#REF!,8,0)))","v":0},0,0.99454545454545451,0,0,0,0,{"$f":"IF(ISERROR(VLOOKUP($A567,#REF!,8,0)),0,(VLOOKUP($A567,#REF!,8,0)))","v":0},0,0.99454545454545451,0,0,0,0,{"$f":"IF(ISERROR(VLOOKUP($A567,#REF!,8,0)),0,(VLOOKUP($A567,#REF!,8,0)))","v":0},0,0.99454545454545451,0,0,0,0,{"$f":"IF(ISERROR(VLOOKUP($A567,#REF!,8,0)),0,(VLOOKUP($A567,#REF!,8,0)))","v":0},0,0.99454545454545451,0,0,0,0,{"$f":"IF(ISERROR(VLOOKUP($A567,#REF!,8,0)),0,(VLOOKUP($A567,#REF!,8,0)))","v":0},0,0.99454545454545451,0,0,0,0,{"$f":"IF(ISERROR(VLOOKUP($A567,#REF!,8,0)),0,(VLOOKUP($A567,#REF!,8,0)))","v":0},0,0.99454545454545451,0,0,0,0,{"$f":"IF(ISERROR(VLOOKUP($A567,#REF!,8,0)),0,(VLOOKUP($A567,#REF!,8,0)))","v":0},0,0.99454545454545451,0,0,0,0,{"$f":"IF(ISERROR(VLOOKUP($A567,#REF!,8,0)),0,(VLOOKUP($A567,#REF!,8,0)))","v":0},0,0.99454545454545451,0,0,0,0,{"$f":"IF(ISERROR(VLOOKUP($A567,#REF!,8,0)),0,(VLOOKUP($A567,#REF!,8,0)))","v":0},0,0.99454545454545451,0,0,0,0,{"$f":"IF(ISERROR(VLOOKUP($A567,#REF!,8,0)),0,(VLOOKUP($A567,#REF!,8,0)))","v":0},0,0.99454545454545451,0,0,0,0,{"$f":"IF(ISERROR(VLOOKUP($A567,#REF!,8,0)),0,(VLOOKUP($A567,#REF!,8,0)))","v":0},0,0.99454545454545451,0,0,0,0,{"$f":"IF(ISERROR(VLOOKUP($A567,#REF!,8,0)),0,(VLOOKUP($A567,#REF!,8,0)))","v":0},0,0.99454545454545451,0,0,0,0,{"$f":"IF(ISERROR(VLOOKUP($A567,#REF!,8,0)),0,(VLOOKUP($A567,#REF!,8,0)))","v":0},0,0.99454545454545451,0,0,0,0,{"$f":"IF(ISERROR(VLOOKUP($A567,#REF!,8,0)),0,(VLOOKUP($A567,#REF!,8,0)))","v":0},0,0.99454545454545451,0,0,0,0,{"$f":"IF(ISERROR(VLOOKUP($A567,#REF!,8,0)),0,(VLOOKUP($A567,#REF!,8,0)))","v":0},0,0.99454545454545451,0,0,0,0,{"$f":"IF(ISERROR(VLOOKUP($A567,#REF!,8,0)),0,(VLOOKUP($A567,#REF!,8,0)))","v":0},0,0.99454545454545451,0,0,0,0,{"$f":"IF(ISERROR(VLOOKUP($A567,#REF!,8,0)),0,(VLOOKUP($A567,#REF!,8,0)))","v":0},0,0.99454545454545451,0,0,0,0,{"$f":"IF(ISERROR(VLOOKUP($A567,#REF!,8,0)),0,(VLOOKUP($A567,#REF!,8,0)))","v":0},0,0.99454545454545451,0,0,0,0,145.88444052,145.88444052,1,0]
["20.29","Ponto de esgoto para ralo sifonado, inclusive ralo, tubulações e conexões em PVC rígido soldáveis, até a coluna ou o sub-coletor.","pt",2,2,0,36.726516000000004,73.453032000000007,32.431080000000001,64.862160000000003,0,0,69.157596000000012,0,138.31519200000002,null,0,0,0,0,0,null,0,1,0,0,0,0,null,0,1,0,0,0,0,null,0,1,0,0,0,0,null,0,1,0,0,0,0,null,0,1,0,0,0,0,{"$f":"IF(ISERROR(VLOOKUP(A576,'7ª MEDIÇÃO'!$A$5:$J$1048576,8,0)),0,(VLOOKUP(A576,'7ª MEDIÇÃO'!$A$5:$J$1048576,8,0)))","v":0},0,1,0,0,0,0,{"$f":"IF(ISERROR(VLOOKUP(A576,'8ª MEDIÇÃO'!$A$5:$J$1048576,8,0)),0,(VLOOKUP(A576,'8ª MEDIÇÃO'!$A$5:$J$1048576,8,0)))","v":0},0,1,0,0,0,0,{"$f":"IF(ISERROR(VLOOKUP(A576,'9ª MEDIÇÃO'!$A$5:$J$1048576,8,0)),0,(VLOOKUP(A576,'9ª MEDIÇÃO'!$A$5:$J$1048576,8,0)))","v":0},0,1,0,0,0,0,{"$f":"IF(ISERROR(VLOOKUP(A576,#REF!,8,0)),0,(VLOOKUP(A576,#REF!,8,0)))","v":0},0,1,0,0,0,0,{"$f":"IF(ISERROR(VLOOKUP($A576,#REF!,8,0)),0,(VLOOKUP($A576,#REF!,8,0)))","v":0},0,1,0,0,0,0,{"$f":"IF(ISERROR(VLOOKUP($A576,#REF!,8,0)),0,(VLOOKUP($A576,#REF!,8,0)))","v":0},0,1,0,0,0,0,{"$f":"IF(ISERROR(VLOOKUP($A576,#REF!,8,0)),0,(VLOOKUP($A576,#REF!,8,0)))","v":0},0,1,0,0,0,0,{"$f":"IF(ISERROR(VLOOKUP($A576,#REF!,8,0)),0,(VLOOKUP($A576,#REF!,8,0)))","v":0},0,1,0,0,0,0,{"$f":"IF(ISERROR(VLOOKUP($A576,#REF!,8,0)),0,(VLOOKUP($A576,#REF!,8,0)))","v":0},0,1,0,0,0,0,{"$f":"IF(ISERROR(VLOOKUP($A576,#REF!,8,0)),0,(VLOOKUP($A576,#REF!,8,0)))","v":0},0,1,0,0,0,0,{"$f":"IF(ISERROR(VLOOKUP($A576,#REF!,8,0)),0,(VLOOKUP($A576,#REF!,8,0)))","v":0},0,1,0,0,0,0,{"$f":"IF(ISERROR(VLOOKUP($A576,#REF!,8,0)),0,(VLOOKUP($A576,#REF!,8,0)))","v":0},0,1,0,0,0,0,{"$f":"IF(ISERROR(VLOOKUP($A576,#REF!,8,0)),0,(VLOOKUP($A576,#REF!,8,0)))","v":0},0,1,0,0,0,0,{"$f":"IF(ISERROR(VLOOKUP($A576,#REF!,8,0)),0,(VLOOKUP($A576,#REF!,8,0)))","v":0},0,1,0,0,0,0,{"$f":"IF(ISERROR(VLOOKUP($A576,#REF!,8,0)),0,(VLOOKUP($A576,#REF!,8,0)))","v":0},0,1,0,0,0,0,{"$f":"IF(ISERROR(VLOOKUP($A576,#REF!,8,0)),0,(VLOOKUP($A576,#REF!,8,0)))","v":0},0,1,0,0,0,0,{"$f":"IF(ISERROR(VLOOKUP($A576,#REF!,8,0)),0,(VLOOKUP($A576,#REF!,8,0)))","v":0},0,1,0,0,0,0,{"$f":"IF(ISERROR(VLOOKUP($A576,#REF!,8,0)),0,(VLOOKUP($A576,#REF!,8,0)))","v":0},0,1,0,0,0,0,{"$f":"IF(ISERROR(VLOOKUP($A576,#REF!,8,0)),0,(VLOOKUP($A576,#REF!,8,0)))","v":0},0,1,0,0,0,0,{"$f":"IF(ISERROR(VLOOKUP($A576,#REF!,8,0)),0,(VLOOKUP($A576,#REF!,8,0)))","v":0},0,1,0,0,0,0,{"$f":"IF(ISERROR(VLOOKUP($A576,#REF!,8,0)),0,(VLOOKUP($A576,#REF!,8,0)))","v":0},0,1,0,0,0,0,{"$f":"IF(ISERROR(VLOOKUP($A576,#REF!,8,0)),0,(VLOOKUP($A576,#REF!,8,0)))","v":0},0,1,0,0,0,0,{"$f":"IF(ISERROR(VLOOKUP($A576,#REF!,8,0)),0,(VLOOKUP($A576,#REF!,8,0)))","v":0},0,1,0,0,0,0,{"$f":"IF(ISERROR(VLOOKUP($A576,#REF!,8,0)),0,(VLOOKUP($A576,#REF!,8,0)))","v":0},0,1,0,0,0,0,{"$f":"IF(ISERROR(VLOOKUP($A576,#REF!,8,0)),0,(VLOOKUP($A576,#REF!,8,0)))","v":0},0,1,0,0,0,0,{"$f":"IF(ISERROR(VLOOKUP($A576,#REF!,8,0)),0,(VLOOKUP($A576,#REF!,8,0)))","v":0},0,1,0,0,0,0,{"$f":"IF(ISERROR(VLOOKUP($A576,#REF!,8,0)),0,(VLOOKUP($A576,#REF!,8,0)))","v":0},0,1,0,0,0,0,{"$f":"IF(ISERROR(VLOOKUP($A576,#REF!,8,0)),0,(VLOOKUP($A576,#REF!,8,0)))","v":0},0,1,0,0,0,0,{"$f":"IF(ISERROR(VLOOKUP($A576,#REF!,8,0)),0,(VLOOKUP($A576,#REF!,8,0)))","v":0},0,1,0,0,0,0,{"$f":"IF(ISERROR(VLOOKUP($A576,#REF!,8,0)),0,(VLOOKUP($A576,#REF!,8,0)))","v":0},0,1,0,0,0,0,{"$f":"IF(ISERROR(VLOOKUP($A576,#REF!,8,0)),0,(VLOOKUP($A576,#REF!,8,0)))","v":0},0,1,0,0,0,0,{"$f":"IF(ISERROR(VLOOKUP($A576,#REF!,8,0)),0,(VLOOKUP($A576,#REF!,8,0)))","v":0},0,1,0,0,0,0,{"$f":"IF(ISERROR(VLOOKUP($A576,#REF!,8,0)),0,(VLOOKUP($A576,#REF!,8,0)))","v":0},0,1,0,0,0,0,{"$f":"IF(ISERROR(VLOOKUP($A576,#REF!,8,0)),0,(VLOOKUP($A576,#REF!,8,0)))","v":0},0,1,0,0,0,0,{"$f":"IF(ISERROR(VLOOKUP($A576,#REF!,8,0)),0,(VLOOKUP($A576,#REF!,8,0)))","v":0},0,1,0,0,0,0,{"$f":"IF(ISERROR(VLOOKUP($A576,#REF!,8,0)),0,(VLOOKUP($A576,#REF!,8,0)))","v":0},0,1,0,0,0,0,{"$f":"IF(ISERROR(VLOOKUP($A576,#REF!,8,0)),0,(VLOOKUP($A576,#REF!,8,0)))","v":0},0,1,0,0,0,0,{"$f":"IF(ISERROR(VLOOKUP($A576,#REF!,8,0)),0,(VLOOKUP($A576,#REF!,8,0)))","v":0},0,1,0,0,0,0,{"$f":"IF(ISERROR(VLOOKUP($A576,#REF!,8,0)),0,(VLOOKUP($A576,#REF!,8,0)))","v":0},0,1,0,0,0,0,{"$f":"IF(ISERROR(VLOOKUP($A576,#REF!,8,0)),0,(VLOOKUP($A576,#REF!,8,0)))","v":0},0,1,0,0,0,0,{"$f":"IF(ISERROR(VLOOKUP($A576,#REF!,8,0)),0,(VLOOKUP($A576,#REF!,8,0)))","v":0},0,1,0,0,0,0,{"$f":"IF(ISERROR(VLOOKUP($A576,#REF!,8,0)),0,(VLOOKUP($A576,#REF!,8,0)))","v":0},0,1,0,0,0,0,{"$f":"IF(ISERROR(VLOOKUP($A576,#REF!,8,0)),0,(VLOOKUP($A576,#REF!,8,0)))","v":0},0,1,0,0,0,0,{"$f":"IF(ISERROR(VLOOKUP($A576,#REF!,8,0)),0,(VLOOKUP($A576,#REF!,8,0)))","v":0},0,1,0,0,0,0,{"$f":"IF(ISERROR(VLOOKUP($A576,#REF!,8,0)),0,(VLOOKUP($A576,#REF!,8,0)))","v":0},0,1,0,0,0,0,{"$f":"IF(ISERROR(VLOOKUP($A576,#REF!,8,0)),0,(VLOOKUP($A576,#REF!,8,0)))","v":0},0,1,0,0,0,0,{"$f":"IF(ISERROR(VLOOKUP($A576,#REF!,8,0)),0,(VLOOKUP($A576,#REF!,8,0)))","v":0},0,1,0,0,0,0,{"$f":"IF(ISERROR(VLOOKUP($A576,#REF!,8,0)),0,(VLOOKUP($A576,#REF!,8,0)))","v":0},0,1,0,0,0,0,{"$f":"IF(ISERROR(VLOOKUP($A576,#REF!,8,0)),0,(VLOOKUP($A576,#REF!,8,0)))","v":0},0,1,0,0,0,0,138.31519200000002,138.31519200000002,1,0]
["21.6","Armação de fundações e estruturas de concreto armado, exceto vigas, pilares e lajes (de edifícios de múltiplos pavimentos, edificação térrea ou sobrado), utilizando aço CA-60 de 5.0 mm - Montagem. ","kg",10,9.8744799999999984,0.12552000000000163,4.0925180000000001,40.925179999999997,5.7348400000000002,57.348399999999998,0,0,9.8273580000000003,1.233529976160016,97.040050023839981,null,0,0,0,0,0,null,0,0.98744799999999988,0,0,0,0,null,0,0.98744799999999988,0,0,0,0,null,0,0.98744799999999988,0,0,0,0,null,0,0.98744799999999988,0,0,0,0,null,0,0.98744799999999988,0,0,0,0,{"$f":"IF(ISERROR(VLOOKUP(A585,'7ª MEDIÇÃO'!$A$5:$J$1048576,8,0)),0,(VLOOKUP(A585,'7ª MEDIÇÃO'!$A$5:$J$1048576,8,0)))","v":0},0,0.98744799999999988,0,0,0,0,{"$f":"IF(ISERROR(VLOOKUP(A585,'8ª MEDIÇÃO'!$A$5:$J$1048576,8,0)),0,(VLOOKUP(A585,'8ª MEDIÇÃO'!$A$5:$J$1048576,8,0)))","v":0},0,0.98744799999999988,0,0,0,0,{"$f":"IF(ISERROR(VLOOKUP(A585,'9ª MEDIÇÃO'!$A$5:$J$1048576,8,0)),0,(VLOOKUP(A585,'9ª MEDIÇÃO'!$A$5:$J$1048576,8,0)))","v":0},0,0.98744799999999988,0,0,0,0,{"$f":"IF(ISERROR(VLOOKUP(A585,#REF!,8,0)),0,(VLOOKUP(A585,#REF!,8,0)))","v":0},0,0.98744799999999988,0,0,0,0,{"$f":"IF(ISERROR(VLOOKUP($A585,#REF!,8,0)),0,(VLOOKUP($A585,#REF!,8,0)))","v":0},0,0.98744799999999988,0,0,0,0,{"$f":"IF(ISERROR(VLOOKUP($A585,#REF!,8,0)),0,(VLOOKUP($A585,#REF!,8,0)))","v":0},0,0.98744799999999988,0,0,0,0,{"$f":"IF(ISERROR(VLOOKUP($A585,#REF!,8,0)),0,(VLOOKUP($A585,#REF!,8,0)))","v":0},0,0.98744799999999988,0,0,0,0,{"$f":"IF(ISERROR(VLOOKUP($A585,#REF!,8,0)),0,(VLOOKUP($A585,#REF!,8,0)))","v":0},0,0.98744799999999988,0,0,0,0,{"$f":"IF(ISERROR(VLOOKUP($A585,#REF!,8,0)),0,(VLOOKUP($A585,#REF!,8,0)))","v":0},0,0.98744799999999988,0,0,0,0,{"$f":"IF(ISERROR(VLOOKUP($A585,#REF!,8,0)),0,(VLOOKUP($A585,#REF!,8,0)))","v":0},0,0.98744799999999988,0,0,0,0,{"$f":"IF(ISERROR(VLOOKUP($A585,#REF!,8,0)),0,(VLOOKUP($A585,#REF!,8,0)))","v":0},0,0.98744799999999988,0,0,0,0,{"$f":"IF(ISERROR(VLOOKUP($A585,#REF!,8,0)),0,(VLOOKUP($A585,#REF!,8,0)))","v":0},0,0.98744799999999988,0,0,0,0,{"$f":"IF(ISERROR(VLOOKUP($A585,#REF!,8,0)),0,(VLOOKUP($A585,#REF!,8,0)))","v":0},0,0.98744799999999988,0,0,0,0,{"$f":"IF(ISERROR(VLOOKUP($A585,#REF!,8,0)),0,(VLOOKUP($A585,#REF!,8,0)))","v":0},0,0.98744799999999988,0,0,0,0,{"$f":"IF(ISERROR(VLOOKUP($A585,#REF!,8,0)),0,(VLOOKUP($A585,#REF!,8,0)))","v":0},0,0.98744799999999988,0,0,0,0,{"$f":"IF(ISERROR(VLOOKUP($A585,#REF!,8,0)),0,(VLOOKUP($A585,#REF!,8,0)))","v":0},0,0.98744799999999988,0,0,0,0,{"$f":"IF(ISERROR(VLOOKUP($A585,#REF!,8,0)),0,(VLOOKUP($A585,#REF!,8,0)))","v":0},0,0.98744799999999988,0,0,0,0,{"$f":"IF(ISERROR(VLOOKUP($A585,#REF!,8,0)),0,(VLOOKUP($A585,#REF!,8,0)))","v":0},0,0.98744799999999988,0,0,0,0,{"$f":"IF(ISERROR(VLOOKUP($A585,#REF!,8,0)),0,(VLOOKUP($A585,#REF!,8,0)))","v":0},0,0.98744799999999988,0,0,0,0,{"$f":"IF(ISERROR(VLOOKUP($A585,#REF!,8,0)),0,(VLOOKUP($A585,#REF!,8,0)))","v":0},0,0.98744799999999988,0,0,0,0,{"$f":"IF(ISERROR(VLOOKUP($A585,#REF!,8,0)),0,(VLOOKUP($A585,#REF!,8,0)))","v":0},0,0.98744799999999988,0,0,0,0,{"$f":"IF(ISERROR(VLOOKUP($A585,#REF!,8,0)),0,(VLOOKUP($A585,#REF!,8,0)))","v":0},0,0.98744799999999988,0,0,0,0,{"$f":"IF(ISERROR(VLOOKUP($A585,#REF!,8,0)),0,(VLOOKUP($A585,#REF!,8,0)))","v":0},0,0.98744799999999988,0,0,0,0,{"$f":"IF(ISERROR(VLOOKUP($A585,#REF!,8,0)),0,(VLOOKUP($A585,#REF!,8,0)))","v":0},0,0.98744799999999988,0,0,0,0,{"$f":"IF(ISERROR(VLOOKUP($A585,#REF!,8,0)),0,(VLOOKUP($A585,#REF!,8,0)))","v":0},0,0.98744799999999988,0,0,0,0,{"$f":"IF(ISERROR(VLOOKUP($A585,#REF!,8,0)),0,(VLOOKUP($A585,#REF!,8,0)))","v":0},0,0.98744799999999988,0,0,0,0,{"$f":"IF(ISERROR(VLOOKUP($A585,#REF!,8,0)),0,(VLOOKUP($A585,#REF!,8,0)))","v":0},0,0.98744799999999988,0,0,0,0,{"$f":"IF(ISERROR(VLOOKUP($A585,#REF!,8,0)),0,(VLOOKUP($A585,#REF!,8,0)))","v":0},0,0.98744799999999988,0,0,0,0,{"$f":"IF(ISERROR(VLOOKUP($A585,#REF!,8,0)),0,(VLOOKUP($A585,#REF!,8,0)))","v":0},0,0.98744799999999988,0,0,0,0,{"$f":"IF(ISERROR(VLOOKUP($A585,#REF!,8,0)),0,(VLOOKUP($A585,#REF!,8,0)))","v":0},0,0.98744799999999988,0,0,0,0,{"$f":"IF(ISERROR(VLOOKUP($A585,#REF!,8,0)),0,(VLOOKUP($A585,#REF!,8,0)))","v":0},0,0.98744799999999988,0,0,0,0,{"$f":"IF(ISERROR(VLOOKUP($A585,#REF!,8,0)),0,(VLOOKUP($A585,#REF!,8,0)))","v":0},0,0.98744799999999988,0,0,0,0,{"$f":"IF(ISERROR(VLOOKUP($A585,#REF!,8,0)),0,(VLOOKUP($A585,#REF!,8,0)))","v":0},0,0.98744799999999988,0,0,0,0,{"$f":"IF(ISERROR(VLOOKUP($A585,#REF!,8,0)),0,(VLOOKUP($A585,#REF!,8,0)))","v":0},0,0.98744799999999988,0,0,0,0,{"$f":"IF(ISERROR(VLOOKUP($A585,#REF!,8,0)),0,(VLOOKUP($A585,#REF!,8,0)))","v":0},0,0.98744799999999988,0,0,0,0,{"$f":"IF(ISERROR(VLOOKUP($A585,#REF!,8,0)),0,(VLOOKUP($A585,#REF!,8,0)))","v":0},0,0.98744799999999988,0,0,0,0,{"$f":"IF(ISERROR(VLOOKUP($A585,#REF!,8,0)),0,(VLOOKUP($A585,#REF!,8,0)))","v":0},0,0.98744799999999988,0,0,0,0,{"$f":"IF(ISERROR(VLOOKUP($A585,#REF!,8,0)),0,(VLOOKUP($A585,#REF!,8,0)))","v":0},0,0.98744799999999988,0,0,0,0,{"$f":"IF(ISERROR(VLOOKUP($A585,#REF!,8,0)),0,(VLOOKUP($A585,#REF!,8,0)))","v":0},0,0.98744799999999988,0,0,0,0,{"$f":"IF(ISERROR(VLOOKUP($A585,#REF!,8,0)),0,(VLOOKUP($A585,#REF!,8,0)))","v":0},0,0.98744799999999988,0,0,0,0,{"$f":"IF(ISERROR(VLOOKUP($A585,#REF!,8,0)),0,(VLOOKUP($A585,#REF!,8,0)))","v":0},0,0.98744799999999988,0,0,0,0,{"$f":"IF(ISERROR(VLOOKUP($A585,#REF!,8,0)),0,(VLOOKUP($A585,#REF!,8,0)))","v":0},0,0.98744799999999988,0,0,0,0,{"$f":"IF(ISERROR(VLOOKUP($A585,#REF!,8,0)),0,(VLOOKUP($A585,#REF!,8,0)))","v":0},0,0.98744799999999988,0,0,0,0,{"$f":"IF(ISERROR(VLOOKUP($A585,#REF!,8,0)),0,(VLOOKUP($A585,#REF!,8,0)))","v":0},0,0.98744799999999988,0,0,0,0,{"$f":"IF(ISERROR(VLOOKUP($A585,#REF!,8,0)),0,(VLOOKUP($A585,#REF!,8,0)))","v":0},0,0.98744799999999988,0,0,0,0,{"$f":"IF(ISERROR(VLOOKUP($A585,#REF!,8,0)),0,(VLOOKUP($A585,#REF!,8,0)))","v":0},0,0.98744799999999988,0,0,0,0,{"$f":"IF(ISERROR(VLOOKUP($A585,#REF!,8,0)),0,(VLOOKUP($A585,#REF!,8,0)))","v":0},0,0.98744799999999988,0,0,0,0,{"$f":"IF(ISERROR(VLOOKUP($A585,#REF!,8,0)),0,(VLOOKUP($A585,#REF!,8,0)))","v":0},0,0.98744799999999988,0,0,0,0,{"$f":"IF(ISERROR(VLOOKUP($A585,#REF!,8,0)),0,(VLOOKUP($A585,#REF!,8,0)))","v":0},0,0.98744799999999988,0,0,0,0,97.040050023839981,97.040050023839981,1,0]
["22.3","Reaterro de vala com compactação manual","m³",22,21.98,1.9999999999999574E-2,0,0,32.169840000000001,707.73648000000003,0,0,32.169840000000001,0.64339679999998634,707.09308320000002,null,0,0,0,0,0,null,0,0.99909090909090914,0,0,0,0,null,0,0.99909090909090914,0,0,0,0,null,0,0.99909090909090914,0,0,0,0,null,0,0.99909090909090914,0,0,0,0,null,0,0.99909090909090914,0,0,0,0,{"$f":"IF(ISERROR(VLOOKUP(A594,'7ª MEDIÇÃO'!$A$5:$J$1048576,8,0)),0,(VLOOKUP(A594,'7ª MEDIÇÃO'!$A$5:$J$1048576,8,0)))","v":0},0,0.99909090909090914,0,0,0,0,{"$f":"IF(ISERROR(VLOOKUP(A594,'8ª MEDIÇÃO'!$A$5:$J$1048576,8,0)),0,(VLOOKUP(A594,'8ª MEDIÇÃO'!$A$5:$J$1048576,8,0)))","v":0},0,0.99909090909090914,0,0,0,0,{"$f":"IF(ISERROR(VLOOKUP(A594,'9ª MEDIÇÃO'!$A$5:$J$1048576,8,0)),0,(VLOOKUP(A594,'9ª MEDIÇÃO'!$A$5:$J$1048576,8,0)))","v":0},0,0.99909090909090914,0,0,0,0,{"$f":"IF(ISERROR(VLOOKUP(A594,#REF!,8,0)),0,(VLOOKUP(A594,#REF!,8,0)))","v":0},0,0.99909090909090914,0,0,0,0,{"$f":"IF(ISERROR(VLOOKUP($A594,#REF!,8,0)),0,(VLOOKUP($A594,#REF!,8,0)))","v":0},0,0.99909090909090914,0,0,0,0,{"$f":"IF(ISERROR(VLOOKUP($A594,#REF!,8,0)),0,(VLOOKUP($A594,#REF!,8,0)))","v":0},0,0.99909090909090914,0,0,0,0,{"$f":"IF(ISERROR(VLOOKUP($A594,#REF!,8,0)),0,(VLOOKUP($A594,#REF!,8,0)))","v":0},0,0.99909090909090914,0,0,0,0,{"$f":"IF(ISERROR(VLOOKUP($A594,#REF!,8,0)),0,(VLOOKUP($A594,#REF!,8,0)))","v":0},0,0.99909090909090914,0,0,0,0,{"$f":"IF(ISERROR(VLOOKUP($A594,#REF!,8,0)),0,(VLOOKUP($A594,#REF!,8,0)))","v":0},0,0.99909090909090914,0,0,0,0,{"$f":"IF(ISERROR(VLOOKUP($A594,#REF!,8,0)),0,(VLOOKUP($A594,#REF!,8,0)))","v":0},0,0.99909090909090914,0,0,0,0,{"$f":"IF(ISERROR(VLOOKUP($A594,#REF!,8,0)),0,(VLOOKUP($A594,#REF!,8,0)))","v":0},0,0.99909090909090914,0,0,0,0,{"$f":"IF(ISERROR(VLOOKUP($A594,#REF!,8,0)),0,(VLOOKUP($A594,#REF!,8,0)))","v":0},0,0.99909090909090914,0,0,0,0,{"$f":"IF(ISERROR(VLOOKUP($A594,#REF!,8,0)),0,(VLOOKUP($A594,#REF!,8,0)))","v":0},0,0.99909090909090914,0,0,0,0,{"$f":"IF(ISERROR(VLOOKUP($A594,#REF!,8,0)),0,(VLOOKUP($A594,#REF!,8,0)))","v":0},0,0.99909090909090914,0,0,0,0,{"$f":"IF(ISERROR(VLOOKUP($A594,#REF!,8,0)),0,(VLOOKUP($A594,#REF!,8,0)))","v":0},0,0.99909090909090914,0,0,0,0,{"$f":"IF(ISERROR(VLOOKUP($A594,#REF!,8,0)),0,(VLOOKUP($A594,#REF!,8,0)))","v":0},0,0.99909090909090914,0,0,0,0,{"$f":"IF(ISERROR(VLOOKUP($A594,#REF!,8,0)),0,(VLOOKUP($A594,#REF!,8,0)))","v":0},0,0.99909090909090914,0,0,0,0,{"$f":"IF(ISERROR(VLOOKUP($A594,#REF!,8,0)),0,(VLOOKUP($A594,#REF!,8,0)))","v":0},0,0.99909090909090914,0,0,0,0,{"$f":"IF(ISERROR(VLOOKUP($A594,#REF!,8,0)),0,(VLOOKUP($A594,#REF!,8,0)))","v":0},0,0.99909090909090914,0,0,0,0,{"$f":"IF(ISERROR(VLOOKUP($A594,#REF!,8,0)),0,(VLOOKUP($A594,#REF!,8,0)))","v":0},0,0.99909090909090914,0,0,0,0,{"$f":"IF(ISERROR(VLOOKUP($A594,#REF!,8,0)),0,(VLOOKUP($A594,#REF!,8,0)))","v":0},0,0.99909090909090914,0,0,0,0,{"$f":"IF(ISERROR(VLOOKUP($A594,#REF!,8,0)),0,(VLOOKUP($A594,#REF!,8,0)))","v":0},0,0.99909090909090914,0,0,0,0,{"$f":"IF(ISERROR(VLOOKUP($A594,#REF!,8,0)),0,(VLOOKUP($A594,#REF!,8,0)))","v":0},0,0.99909090909090914,0,0,0,0,{"$f":"IF(ISERROR(VLOOKUP($A594,#REF!,8,0)),0,(VLOOKUP($A594,#REF!,8,0)))","v":0},0,0.99909090909090914,0,0,0,0,{"$f":"IF(ISERROR(VLOOKUP($A594,#REF!,8,0)),0,(VLOOKUP($A594,#REF!,8,0)))","v":0},0,0.99909090909090914,0,0,0,0,{"$f":"IF(ISERROR(VLOOKUP($A594,#REF!,8,0)),0,(VLOOKUP($A594,#REF!,8,0)))","v":0},0,0.99909090909090914,0,0,0,0,{"$f":"IF(ISERROR(VLOOKUP($A594,#REF!,8,0)),0,(VLOOKUP($A594,#REF!,8,0)))","v":0},0,0.99909090909090914,0,0,0,0,{"$f":"IF(ISERROR(VLOOKUP($A594,#REF!,8,0)),0,(VLOOKUP($A594,#REF!,8,0)))","v":0},0,0.99909090909090914,0,0,0,0,{"$f":"IF(ISERROR(VLOOKUP($A594,#REF!,8,0)),0,(VLOOKUP($A594,#REF!,8,0)))","v":0},0,0.99909090909090914,0,0,0,0,{"$f":"IF(ISERROR(VLOOKUP($A594,#REF!,8,0)),0,(VLOOKUP($A594,#REF!,8,0)))","v":0},0,0.99909090909090914,0,0,0,0,{"$f":"IF(ISERROR(VLOOKUP($A594,#REF!,8,0)),0,(VLOOKUP($A594,#REF!,8,0)))","v":0},0,0.99909090909090914,0,0,0,0,{"$f":"IF(ISERROR(VLOOKUP($A594,#REF!,8,0)),0,(VLOOKUP($A594,#REF!,8,0)))","v":0},0,0.99909090909090914,0,0,0,0,{"$f":"IF(ISERROR(VLOOKUP($A594,#REF!,8,0)),0,(VLOOKUP($A594,#REF!,8,0)))","v":0},0,0.99909090909090914,0,0,0,0,{"$f":"IF(ISERROR(VLOOKUP($A594,#REF!,8,0)),0,(VLOOKUP($A594,#REF!,8,0)))","v":0},0,0.99909090909090914,0,0,0,0,{"$f":"IF(ISERROR(VLOOKUP($A594,#REF!,8,0)),0,(VLOOKUP($A594,#REF!,8,0)))","v":0},0,0.99909090909090914,0,0,0,0,{"$f":"IF(ISERROR(VLOOKUP($A594,#REF!,8,0)),0,(VLOOKUP($A594,#REF!,8,0)))","v":0},0,0.99909090909090914,0,0,0,0,{"$f":"IF(ISERROR(VLOOKUP($A594,#REF!,8,0)),0,(VLOOKUP($A594,#REF!,8,0)))","v":0},0,0.99909090909090914,0,0,0,0,{"$f":"IF(ISERROR(VLOOKUP($A594,#REF!,8,0)),0,(VLOOKUP($A594,#REF!,8,0)))","v":0},0,0.99909090909090914,0,0,0,0,{"$f":"IF(ISERROR(VLOOKUP($A594,#REF!,8,0)),0,(VLOOKUP($A594,#REF!,8,0)))","v":0},0,0.99909090909090914,0,0,0,0,{"$f":"IF(ISERROR(VLOOKUP($A594,#REF!,8,0)),0,(VLOOKUP($A594,#REF!,8,0)))","v":0},0,0.99909090909090914,0,0,0,0,{"$f":"IF(ISERROR(VLOOKUP($A594,#REF!,8,0)),0,(VLOOKUP($A594,#REF!,8,0)))","v":0},0,0.99909090909090914,0,0,0,0,{"$f":"IF(ISERROR(VLOOKUP($A594,#REF!,8,0)),0,(VLOOKUP($A594,#REF!,8,0)))","v":0},0,0.99909090909090914,0,0,0,0,{"$f":"IF(ISERROR(VLOOKUP($A594,#REF!,8,0)),0,(VLOOKUP($A594,#REF!,8,0)))","v":0},0,0.99909090909090914,0,0,0,0,{"$f":"IF(ISERROR(VLOOKUP($A594,#REF!,8,0)),0,(VLOOKUP($A594,#REF!,8,0)))","v":0},0,0.99909090909090914,0,0,0,0,{"$f":"IF(ISERROR(VLOOKUP($A594,#REF!,8,0)),0,(VLOOKUP($A594,#REF!,8,0)))","v":0},0,0.99909090909090914,0,0,0,0,{"$f":"IF(ISERROR(VLOOKUP($A594,#REF!,8,0)),0,(VLOOKUP($A594,#REF!,8,0)))","v":0},0,0.99909090909090914,0,0,0,0,{"$f":"IF(ISERROR(VLOOKUP($A594,#REF!,8,0)),0,(VLOOKUP($A594,#REF!,8,0)))","v":0},0,0.99909090909090914,0,0,0,0,{"$f":"IF(ISERROR(VLOOKUP($A594,#REF!,8,0)),0,(VLOOKUP($A594,#REF!,8,0)))","v":0},0,0.99909090909090914,0,0,0,0,{"$f":"IF(ISERROR(VLOOKUP($A594,#REF!,8,0)),0,(VLOOKUP($A594,#REF!,8,0)))","v":0},0,0.99909090909090914,0,0,0,0,707.09308320000002,707.09308320000002,1,0]
["22.12","Tubo de pvc série normal, esgoto predial, DN 150mm, fornecido e instalado em subcoletor aéreo de esgoto sanitário.  (Filtro Anaeróbio)","m",3,3,0,21.252787999999999,63.758364,9.2180400000000002,27.654119999999999,0,0,30.470827999999997,0,91.412483999999992,null,0,0,0,0,0,null,0,1,0,0,0,0,null,0,1,0,0,0,0,null,0,1,0,0,0,0,null,0,1,0,0,0,0,null,0,1,0,0,0,0,{"$f":"IF(ISERROR(VLOOKUP(A603,'7ª MEDIÇÃO'!$A$5:$J$1048576,8,0)),0,(VLOOKUP(A603,'7ª MEDIÇÃO'!$A$5:$J$1048576,8,0)))","v":0},0,1,0,0,0,0,{"$f":"IF(ISERROR(VLOOKUP(A603,'8ª MEDIÇÃO'!$A$5:$J$1048576,8,0)),0,(VLOOKUP(A603,'8ª MEDIÇÃO'!$A$5:$J$1048576,8,0)))","v":0},0,1,0,0,0,0,{"$f":"IF(ISERROR(VLOOKUP(A603,'9ª MEDIÇÃO'!$A$5:$J$1048576,8,0)),0,(VLOOKUP(A603,'9ª MEDIÇÃO'!$A$5:$J$1048576,8,0)))","v":0},0,1,0,0,0,0,{"$f":"IF(ISERROR(VLOOKUP(A603,#REF!,8,0)),0,(VLOOKUP(A603,#REF!,8,0)))","v":0},0,1,0,0,0,0,{"$f":"IF(ISERROR(VLOOKUP($A603,#REF!,8,0)),0,(VLOOKUP($A603,#REF!,8,0)))","v":0},0,1,0,0,0,0,{"$f":"IF(ISERROR(VLOOKUP($A603,#REF!,8,0)),0,(VLOOKUP($A603,#REF!,8,0)))","v":0},0,1,0,0,0,0,{"$f":"IF(ISERROR(VLOOKUP($A603,#REF!,8,0)),0,(VLOOKUP($A603,#REF!,8,0)))","v":0},0,1,0,0,0,0,{"$f":"IF(ISERROR(VLOOKUP($A603,#REF!,8,0)),0,(VLOOKUP($A603,#REF!,8,0)))","v":0},0,1,0,0,0,0,{"$f":"IF(ISERROR(VLOOKUP($A603,#REF!,8,0)),0,(VLOOKUP($A603,#REF!,8,0)))","v":0},0,1,0,0,0,0,{"$f":"IF(ISERROR(VLOOKUP($A603,#REF!,8,0)),0,(VLOOKUP($A603,#REF!,8,0)))","v":0},0,1,0,0,0,0,{"$f":"IF(ISERROR(VLOOKUP($A603,#REF!,8,0)),0,(VLOOKUP($A603,#REF!,8,0)))","v":0},0,1,0,0,0,0,{"$f":"IF(ISERROR(VLOOKUP($A603,#REF!,8,0)),0,(VLOOKUP($A603,#REF!,8,0)))","v":0},0,1,0,0,0,0,{"$f":"IF(ISERROR(VLOOKUP($A603,#REF!,8,0)),0,(VLOOKUP($A603,#REF!,8,0)))","v":0},0,1,0,0,0,0,{"$f":"IF(ISERROR(VLOOKUP($A603,#REF!,8,0)),0,(VLOOKUP($A603,#REF!,8,0)))","v":0},0,1,0,0,0,0,{"$f":"IF(ISERROR(VLOOKUP($A603,#REF!,8,0)),0,(VLOOKUP($A603,#REF!,8,0)))","v":0},0,1,0,0,0,0,{"$f":"IF(ISERROR(VLOOKUP($A603,#REF!,8,0)),0,(VLOOKUP($A603,#REF!,8,0)))","v":0},0,1,0,0,0,0,{"$f":"IF(ISERROR(VLOOKUP($A603,#REF!,8,0)),0,(VLOOKUP($A603,#REF!,8,0)))","v":0},0,1,0,0,0,0,{"$f":"IF(ISERROR(VLOOKUP($A603,#REF!,8,0)),0,(VLOOKUP($A603,#REF!,8,0)))","v":0},0,1,0,0,0,0,{"$f":"IF(ISERROR(VLOOKUP($A603,#REF!,8,0)),0,(VLOOKUP($A603,#REF!,8,0)))","v":0},0,1,0,0,0,0,{"$f":"IF(ISERROR(VLOOKUP($A603,#REF!,8,0)),0,(VLOOKUP($A603,#REF!,8,0)))","v":0},0,1,0,0,0,0,{"$f":"IF(ISERROR(VLOOKUP($A603,#REF!,8,0)),0,(VLOOKUP($A603,#REF!,8,0)))","v":0},0,1,0,0,0,0,{"$f":"IF(ISERROR(VLOOKUP($A603,#REF!,8,0)),0,(VLOOKUP($A603,#REF!,8,0)))","v":0},0,1,0,0,0,0,{"$f":"IF(ISERROR(VLOOKUP($A603,#REF!,8,0)),0,(VLOOKUP($A603,#REF!,8,0)))","v":0},0,1,0,0,0,0,{"$f":"IF(ISERROR(VLOOKUP($A603,#REF!,8,0)),0,(VLOOKUP($A603,#REF!,8,0)))","v":0},0,1,0,0,0,0,{"$f":"IF(ISERROR(VLOOKUP($A603,#REF!,8,0)),0,(VLOOKUP($A603,#REF!,8,0)))","v":0},0,1,0,0,0,0,{"$f":"IF(ISERROR(VLOOKUP($A603,#REF!,8,0)),0,(VLOOKUP($A603,#REF!,8,0)))","v":0},0,1,0,0,0,0,{"$f":"IF(ISERROR(VLOOKUP($A603,#REF!,8,0)),0,(VLOOKUP($A603,#REF!,8,0)))","v":0},0,1,0,0,0,0,{"$f":"IF(ISERROR(VLOOKUP($A603,#REF!,8,0)),0,(VLOOKUP($A603,#REF!,8,0)))","v":0},0,1,0,0,0,0,{"$f":"IF(ISERROR(VLOOKUP($A603,#REF!,8,0)),0,(VLOOKUP($A603,#REF!,8,0)))","v":0},0,1,0,0,0,0,{"$f":"IF(ISERROR(VLOOKUP($A603,#REF!,8,0)),0,(VLOOKUP($A603,#REF!,8,0)))","v":0},0,1,0,0,0,0,{"$f":"IF(ISERROR(VLOOKUP($A603,#REF!,8,0)),0,(VLOOKUP($A603,#REF!,8,0)))","v":0},0,1,0,0,0,0,{"$f":"IF(ISERROR(VLOOKUP($A603,#REF!,8,0)),0,(VLOOKUP($A603,#REF!,8,0)))","v":0},0,1,0,0,0,0,{"$f":"IF(ISERROR(VLOOKUP($A603,#REF!,8,0)),0,(VLOOKUP($A603,#REF!,8,0)))","v":0},0,1,0,0,0,0,{"$f":"IF(ISERROR(VLOOKUP($A603,#REF!,8,0)),0,(VLOOKUP($A603,#REF!,8,0)))","v":0},0,1,0,0,0,0,{"$f":"IF(ISERROR(VLOOKUP($A603,#REF!,8,0)),0,(VLOOKUP($A603,#REF!,8,0)))","v":0},0,1,0,0,0,0,{"$f":"IF(ISERROR(VLOOKUP($A603,#REF!,8,0)),0,(VLOOKUP($A603,#REF!,8,0)))","v":0},0,1,0,0,0,0,{"$f":"IF(ISERROR(VLOOKUP($A603,#REF!,8,0)),0,(VLOOKUP($A603,#REF!,8,0)))","v":0},0,1,0,0,0,0,{"$f":"IF(ISERROR(VLOOKUP($A603,#REF!,8,0)),0,(VLOOKUP($A603,#REF!,8,0)))","v":0},0,1,0,0,0,0,{"$f":"IF(ISERROR(VLOOKUP($A603,#REF!,8,0)),0,(VLOOKUP($A603,#REF!,8,0)))","v":0},0,1,0,0,0,0,{"$f":"IF(ISERROR(VLOOKUP($A603,#REF!,8,0)),0,(VLOOKUP($A603,#REF!,8,0)))","v":0},0,1,0,0,0,0,{"$f":"IF(ISERROR(VLOOKUP($A603,#REF!,8,0)),0,(VLOOKUP($A603,#REF!,8,0)))","v":0},0,1,0,0,0,0,{"$f":"IF(ISERROR(VLOOKUP($A603,#REF!,8,0)),0,(VLOOKUP($A603,#REF!,8,0)))","v":0},0,1,0,0,0,0,{"$f":"IF(ISERROR(VLOOKUP($A603,#REF!,8,0)),0,(VLOOKUP($A603,#REF!,8,0)))","v":0},0,1,0,0,0,0,{"$f":"IF(ISERROR(VLOOKUP($A603,#REF!,8,0)),0,(VLOOKUP($A603,#REF!,8,0)))","v":0},0,1,0,0,0,0,{"$f":"IF(ISERROR(VLOOKUP($A603,#REF!,8,0)),0,(VLOOKUP($A603,#REF!,8,0)))","v":0},0,1,0,0,0,0,{"$f":"IF(ISERROR(VLOOKUP($A603,#REF!,8,0)),0,(VLOOKUP($A603,#REF!,8,0)))","v":0},0,1,0,0,0,0,{"$f":"IF(ISERROR(VLOOKUP($A603,#REF!,8,0)),0,(VLOOKUP($A603,#REF!,8,0)))","v":0},0,1,0,0,0,0,{"$f":"IF(ISERROR(VLOOKUP($A603,#REF!,8,0)),0,(VLOOKUP($A603,#REF!,8,0)))","v":0},0,1,0,0,0,0,{"$f":"IF(ISERROR(VLOOKUP($A603,#REF!,8,0)),0,(VLOOKUP($A603,#REF!,8,0)))","v":0},0,1,0,0,0,0,91.412483999999992,91.412483999999992,1,0]
["23.7","Armação de fundações e estruturas de concreto armado, exceto vigas, pilares e lajes (de edifícios de múltiplos pavimentos, edificação térrea ou sobrado), utilizando aço CA-50 de 8.0 mm - Montagem. ","kg",1128,1113.56,14.440000000000055,4.8237459999999999,5441.1854880000001,3.7817600000000002,4265.82528,0,0,8.6055060000000001,124.26350664000047,9582.7472613600003,null,0,0,0,0,0,null,0,0.98719858156028362,0,0,0,0,null,0,0.98719858156028362,0,0,0,0,null,0,0.98719858156028362,0,0,0,0,null,0,0.98719858156028362,0,0,0,0,null,0,0.98719858156028362,0,0,0,0,{"$f":"IF(ISERROR(VLOOKUP(A613,'7ª MEDIÇÃO'!$A$5:$J$1048576,8,0)),0,(VLOOKUP(A613,'7ª MEDIÇÃO'!$A$5:$J$1048576,8,0)))","v":0},0,0.98719858156028362,0,0,0,0,959.11,0.85027482269503551,0.98719858156028362,4626.5030260599997,3627.1238336000001,0,8253.6299999999992,154.44999999999999,0.13692375886524821,0.98719858156028362,745.02756969999996,584.09283200000004,0,1329.12,{"$f":"IF(ISERROR(VLOOKUP(A613,#REF!,8,0)),0,(VLOOKUP(A613,#REF!,8,0)))","v":0},0,0.98719858156028362,0,0,0,0,{"$f":"IF(ISERROR(VLOOKUP($A613,#REF!,8,0)),0,(VLOOKUP($A613,#REF!,8,0)))","v":0},0,0.98719858156028362,0,0,0,0,{"$f":"IF(ISERROR(VLOOKUP($A613,#REF!,8,0)),0,(VLOOKUP($A613,#REF!,8,0)))","v":0},0,0.98719858156028362,0,0,0,0,{"$f":"IF(ISERROR(VLOOKUP($A613,#REF!,8,0)),0,(VLOOKUP($A613,#REF!,8,0)))","v":0},0,0.98719858156028362,0,0,0,0,{"$f":"IF(ISERROR(VLOOKUP($A613,#REF!,8,0)),0,(VLOOKUP($A613,#REF!,8,0)))","v":0},0,0.98719858156028362,0,0,0,0,{"$f":"IF(ISERROR(VLOOKUP($A613,#REF!,8,0)),0,(VLOOKUP($A613,#REF!,8,0)))","v":0},0,0.98719858156028362,0,0,0,0,{"$f":"IF(ISERROR(VLOOKUP($A613,#REF!,8,0)),0,(VLOOKUP($A613,#REF!,8,0)))","v":0},0,0.98719858156028362,0,0,0,0,{"$f":"IF(ISERROR(VLOOKUP($A613,#REF!,8,0)),0,(VLOOKUP($A613,#REF!,8,0)))","v":0},0,0.98719858156028362,0,0,0,0,{"$f":"IF(ISERROR(VLOOKUP($A613,#REF!,8,0)),0,(VLOOKUP($A613,#REF!,8,0)))","v":0},0,0.98719858156028362,0,0,0,0,{"$f":"IF(ISERROR(VLOOKUP($A613,#REF!,8,0)),0,(VLOOKUP($A613,#REF!,8,0)))","v":0},0,0.98719858156028362,0,0,0,0,{"$f":"IF(ISERROR(VLOOKUP($A613,#REF!,8,0)),0,(VLOOKUP($A613,#REF!,8,0)))","v":0},0,0.98719858156028362,0,0,0,0,{"$f":"IF(ISERROR(VLOOKUP($A613,#REF!,8,0)),0,(VLOOKUP($A613,#REF!,8,0)))","v":0},0,0.98719858156028362,0,0,0,0,{"$f":"IF(ISERROR(VLOOKUP($A613,#REF!,8,0)),0,(VLOOKUP($A613,#REF!,8,0)))","v":0},0,0.98719858156028362,0,0,0,0,{"$f":"IF(ISERROR(VLOOKUP($A613,#REF!,8,0)),0,(VLOOKUP($A613,#REF!,8,0)))","v":0},0,0.98719858156028362,0,0,0,0,{"$f":"IF(ISERROR(VLOOKUP($A613,#REF!,8,0)),0,(VLOOKUP($A613,#REF!,8,0)))","v":0},0,0.98719858156028362,0,0,0,0,{"$f":"IF(ISERROR(VLOOKUP($A613,#REF!,8,0)),0,(VLOOKUP($A613,#REF!,8,0)))","v":0},0,0.98719858156028362,0,0,0,0,{"$f":"IF(ISERROR(VLOOKUP($A613,#REF!,8,0)),0,(VLOOKUP($A613,#REF!,8,0)))","v":0},0,0.98719858156028362,0,0,0,0,{"$f":"IF(ISERROR(VLOOKUP($A613,#REF!,8,0)),0,(VLOOKUP($A613,#REF!,8,0)))","v":0},0,0.98719858156028362,0,0,0,0,{"$f":"IF(ISERROR(VLOOKUP($A613,#REF!,8,0)),0,(VLOOKUP($A613,#REF!,8,0)))","v":0},0,0.98719858156028362,0,0,0,0,{"$f":"IF(ISERROR(VLOOKUP($A613,#REF!,8,0)),0,(VLOOKUP($A613,#REF!,8,0)))","v":0},0,0.98719858156028362,0,0,0,0,{"$f":"IF(ISERROR(VLOOKUP($A613,#REF!,8,0)),0,(VLOOKUP($A613,#REF!,8,0)))","v":0},0,0.98719858156028362,0,0,0,0,{"$f":"IF(ISERROR(VLOOKUP($A613,#REF!,8,0)),0,(VLOOKUP($A613,#REF!,8,0)))","v":0},0,0.98719858156028362,0,0,0,0,{"$f":"IF(ISERROR(VLOOKUP($A613,#REF!,8,0)),0,(VLOOKUP($A613,#REF!,8,0)))","v":0},0,0.98719858156028362,0,0,0,0,{"$f":"IF(ISERROR(VLOOKUP($A613,#REF!,8,0)),0,(VLOOKUP($A613,#REF!,8,0)))","v":0},0,0.98719858156028362,0,0,0,0,{"$f":"IF(ISERROR(VLOOKUP($A613,#REF!,8,0)),0,(VLOOKUP($A613,#REF!,8,0)))","v":0},0,0.98719858156028362,0,0,0,0,{"$f":"IF(ISERROR(VLOOKUP($A613,#REF!,8,0)),0,(VLOOKUP($A613,#REF!,8,0)))","v":0},0,0.98719858156028362,0,0,0,0,{"$f":"IF(ISERROR(VLOOKUP($A613,#REF!,8,0)),0,(VLOOKUP($A613,#REF!,8,0)))","v":0},0,0.98719858156028362,0,0,0,0,{"$f":"IF(ISERROR(VLOOKUP($A613,#REF!,8,0)),0,(VLOOKUP($A613,#REF!,8,0)))","v":0},0,0.98719858156028362,0,0,0,0,{"$f":"IF(ISERROR(VLOOKUP($A613,#REF!,8,0)),0,(VLOOKUP($A613,#REF!,8,0)))","v":0},0,0.98719858156028362,0,0,0,0,{"$f":"IF(ISERROR(VLOOKUP($A613,#REF!,8,0)),0,(VLOOKUP($A613,#REF!,8,0)))","v":0},0,0.98719858156028362,0,0,0,0,{"$f":"IF(ISERROR(VLOOKUP($A613,#REF!,8,0)),0,(VLOOKUP($A613,#REF!,8,0)))","v":0},0,0.98719858156028362,0,0,0,0,{"$f":"IF(ISERROR(VLOOKUP($A613,#REF!,8,0)),0,(VLOOKUP($A613,#REF!,8,0)))","v":0},0,0.98719858156028362,0,0,0,0,{"$f":"IF(ISERROR(VLOOKUP($A613,#REF!,8,0)),0,(VLOOKUP($A613,#REF!,8,0)))","v":0},0,0.98719858156028362,0,0,0,0,{"$f":"IF(ISERROR(VLOOKUP($A613,#REF!,8,0)),0,(VLOOKUP($A613,#REF!,8,0)))","v":0},0,0.98719858156028362,0,0,0,0,{"$f":"IF(ISERROR(VLOOKUP($A613,#REF!,8,0)),0,(VLOOKUP($A613,#REF!,8,0)))","v":0},0,0.98719858156028362,0,0,0,0,{"$f":"IF(ISERROR(VLOOKUP($A613,#REF!,8,0)),0,(VLOOKUP($A613,#REF!,8,0)))","v":0},0,0.98719858156028362,0,0,0,0,{"$f":"IF(ISERROR(VLOOKUP($A613,#REF!,8,0)),0,(VLOOKUP($A613,#REF!,8,0)))","v":0},0,0.98719858156028362,0,0,0,0,{"$f":"IF(ISERROR(VLOOKUP($A613,#REF!,8,0)),0,(VLOOKUP($A613,#REF!,8,0)))","v":0},0,0.98719858156028362,0,0,0,0,{"$f":"IF(ISERROR(VLOOKUP($A613,#REF!,8,0)),0,(VLOOKUP($A613,#REF!,8,0)))","v":0},0,0.98719858156028362,0,0,0,0,{"$f":"IF(ISERROR(VLOOKUP($A613,#REF!,8,0)),0,(VLOOKUP($A613,#REF!,8,0)))","v":0},0,0.98719858156028362,0,0,0,0,{"$f":"IF(ISERROR(VLOOKUP($A613,#REF!,8,0)),0,(VLOOKUP($A613,#REF!,8,0)))","v":0},0,0.98719858156028362,0,0,0,0,{"$f":"IF(ISERROR(VLOOKUP($A613,#REF!,8,0)),0,(VLOOKUP($A613,#REF!,8,0)))","v":0},0,0.98719858156028362,0,0,0,0,{"$f":"IF(ISERROR(VLOOKUP($A613,#REF!,8,0)),0,(VLOOKUP($A613,#REF!,8,0)))","v":0},0,0.98719858156028362,0,0,0,0,{"$f":"IF(ISERROR(VLOOKUP($A613,#REF!,8,0)),0,(VLOOKUP($A613,#REF!,8,0)))","v":0},0,0.98719858156028362,0,0,0,0,{"$f":"IF(ISERROR(VLOOKUP($A613,#REF!,8,0)),0,(VLOOKUP($A613,#REF!,8,0)))","v":0},0,0.98719858156028362,0,0,0,0,{"$f":"IF(ISERROR(VLOOKUP($A613,#REF!,8,0)),0,(VLOOKUP($A613,#REF!,8,0)))","v":0},0,0.98719858156028362,0,0,0,0,9582.7472613600003,9582.7472613600003,1,0]
["24.4","Chapisco aplicado em alvenarias e estruturas de concreto internas, com colher de pedreiro.  Argamassa traço 1:3 com preparo em betoneira 400 L","m²",5,5,0,0.83737399999999995,4.1868699999999999,2.6248399999999998,13.124199999999998,0,0,3.4622139999999999,0,17.311070000000001,null,0,0,0,0,0,null,0,1,0,0,0,0,null,0,1,0,0,0,0,null,0,1,0,0,0,0,null,0,1,0,0,0,0,null,0,1,0,0,0,0,{"$f":"IF(ISERROR(VLOOKUP(A622,'7ª MEDIÇÃO'!$A$5:$J$1048576,8,0)),0,(VLOOKUP(A622,'7ª MEDIÇÃO'!$A$5:$J$1048576,8,0)))","v":0},0,1,0,0,0,0,{"$f":"IF(ISERROR(VLOOKUP(A622,'8ª MEDIÇÃO'!$A$5:$J$1048576,8,0)),0,(VLOOKUP(A622,'8ª MEDIÇÃO'!$A$5:$J$1048576,8,0)))","v":0},0,1,0,0,0,0,{"$f":"IF(ISERROR(VLOOKUP(A622,'9ª MEDIÇÃO'!$A$5:$J$1048576,8,0)),0,(VLOOKUP(A622,'9ª MEDIÇÃO'!$A$5:$J$1048576,8,0)))","v":0},0,1,0,0,0,0,{"$f":"IF(ISERROR(VLOOKUP(A622,#REF!,8,0)),0,(VLOOKUP(A622,#REF!,8,0)))","v":0},0,1,0,0,0,0,{"$f":"IF(ISERROR(VLOOKUP($A622,#REF!,8,0)),0,(VLOOKUP($A622,#REF!,8,0)))","v":0},0,1,0,0,0,0,{"$f":"IF(ISERROR(VLOOKUP($A622,#REF!,8,0)),0,(VLOOKUP($A622,#REF!,8,0)))","v":0},0,1,0,0,0,0,{"$f":"IF(ISERROR(VLOOKUP($A622,#REF!,8,0)),0,(VLOOKUP($A622,#REF!,8,0)))","v":0},0,1,0,0,0,0,{"$f":"IF(ISERROR(VLOOKUP($A622,#REF!,8,0)),0,(VLOOKUP($A622,#REF!,8,0)))","v":0},0,1,0,0,0,0,{"$f":"IF(ISERROR(VLOOKUP($A622,#REF!,8,0)),0,(VLOOKUP($A622,#REF!,8,0)))","v":0},0,1,0,0,0,0,{"$f":"IF(ISERROR(VLOOKUP($A622,#REF!,8,0)),0,(VLOOKUP($A622,#REF!,8,0)))","v":0},0,1,0,0,0,0,{"$f":"IF(ISERROR(VLOOKUP($A622,#REF!,8,0)),0,(VLOOKUP($A622,#REF!,8,0)))","v":0},0,1,0,0,0,0,{"$f":"IF(ISERROR(VLOOKUP($A622,#REF!,8,0)),0,(VLOOKUP($A622,#REF!,8,0)))","v":0},0,1,0,0,0,0,{"$f":"IF(ISERROR(VLOOKUP($A622,#REF!,8,0)),0,(VLOOKUP($A622,#REF!,8,0)))","v":0},0,1,0,0,0,0,{"$f":"IF(ISERROR(VLOOKUP($A622,#REF!,8,0)),0,(VLOOKUP($A622,#REF!,8,0)))","v":0},0,1,0,0,0,0,{"$f":"IF(ISERROR(VLOOKUP($A622,#REF!,8,0)),0,(VLOOKUP($A622,#REF!,8,0)))","v":0},0,1,0,0,0,0,{"$f":"IF(ISERROR(VLOOKUP($A622,#REF!,8,0)),0,(VLOOKUP($A622,#REF!,8,0)))","v":0},0,1,0,0,0,0,{"$f":"IF(ISERROR(VLOOKUP($A622,#REF!,8,0)),0,(VLOOKUP($A622,#REF!,8,0)))","v":0},0,1,0,0,0,0,{"$f":"IF(ISERROR(VLOOKUP($A622,#REF!,8,0)),0,(VLOOKUP($A622,#REF!,8,0)))","v":0},0,1,0,0,0,0,{"$f":"IF(ISERROR(VLOOKUP($A622,#REF!,8,0)),0,(VLOOKUP($A622,#REF!,8,0)))","v":0},0,1,0,0,0,0,{"$f":"IF(ISERROR(VLOOKUP($A622,#REF!,8,0)),0,(VLOOKUP($A622,#REF!,8,0)))","v":0},0,1,0,0,0,0,{"$f":"IF(ISERROR(VLOOKUP($A622,#REF!,8,0)),0,(VLOOKUP($A622,#REF!,8,0)))","v":0},0,1,0,0,0,0,{"$f":"IF(ISERROR(VLOOKUP($A622,#REF!,8,0)),0,(VLOOKUP($A622,#REF!,8,0)))","v":0},0,1,0,0,0,0,{"$f":"IF(ISERROR(VLOOKUP($A622,#REF!,8,0)),0,(VLOOKUP($A622,#REF!,8,0)))","v":0},0,1,0,0,0,0,{"$f":"IF(ISERROR(VLOOKUP($A622,#REF!,8,0)),0,(VLOOKUP($A622,#REF!,8,0)))","v":0},0,1,0,0,0,0,{"$f":"IF(ISERROR(VLOOKUP($A622,#REF!,8,0)),0,(VLOOKUP($A622,#REF!,8,0)))","v":0},0,1,0,0,0,0,{"$f":"IF(ISERROR(VLOOKUP($A622,#REF!,8,0)),0,(VLOOKUP($A622,#REF!,8,0)))","v":0},0,1,0,0,0,0,{"$f":"IF(ISERROR(VLOOKUP($A622,#REF!,8,0)),0,(VLOOKUP($A622,#REF!,8,0)))","v":0},0,1,0,0,0,0,{"$f":"IF(ISERROR(VLOOKUP($A622,#REF!,8,0)),0,(VLOOKUP($A622,#REF!,8,0)))","v":0},0,1,0,0,0,0,{"$f":"IF(ISERROR(VLOOKUP($A622,#REF!,8,0)),0,(VLOOKUP($A622,#REF!,8,0)))","v":0},0,1,0,0,0,0,{"$f":"IF(ISERROR(VLOOKUP($A622,#REF!,8,0)),0,(VLOOKUP($A622,#REF!,8,0)))","v":0},0,1,0,0,0,0,{"$f":"IF(ISERROR(VLOOKUP($A622,#REF!,8,0)),0,(VLOOKUP($A622,#REF!,8,0)))","v":0},0,1,0,0,0,0,{"$f":"IF(ISERROR(VLOOKUP($A622,#REF!,8,0)),0,(VLOOKUP($A622,#REF!,8,0)))","v":0},0,1,0,0,0,0,{"$f":"IF(ISERROR(VLOOKUP($A622,#REF!,8,0)),0,(VLOOKUP($A622,#REF!,8,0)))","v":0},0,1,0,0,0,0,{"$f":"IF(ISERROR(VLOOKUP($A622,#REF!,8,0)),0,(VLOOKUP($A622,#REF!,8,0)))","v":0},0,1,0,0,0,0,{"$f":"IF(ISERROR(VLOOKUP($A622,#REF!,8,0)),0,(VLOOKUP($A622,#REF!,8,0)))","v":0},0,1,0,0,0,0,{"$f":"IF(ISERROR(VLOOKUP($A622,#REF!,8,0)),0,(VLOOKUP($A622,#REF!,8,0)))","v":0},0,1,0,0,0,0,{"$f":"IF(ISERROR(VLOOKUP($A622,#REF!,8,0)),0,(VLOOKUP($A622,#REF!,8,0)))","v":0},0,1,0,0,0,0,{"$f":"IF(ISERROR(VLOOKUP($A622,#REF!,8,0)),0,(VLOOKUP($A622,#REF!,8,0)))","v":0},0,1,0,0,0,0,{"$f":"IF(ISERROR(VLOOKUP($A622,#REF!,8,0)),0,(VLOOKUP($A622,#REF!,8,0)))","v":0},0,1,0,0,0,0,{"$f":"IF(ISERROR(VLOOKUP($A622,#REF!,8,0)),0,(VLOOKUP($A622,#REF!,8,0)))","v":0},0,1,0,0,0,0,{"$f":"IF(ISERROR(VLOOKUP($A622,#REF!,8,0)),0,(VLOOKUP($A622,#REF!,8,0)))","v":0},0,1,0,0,0,0,{"$f":"IF(ISERROR(VLOOKUP($A622,#REF!,8,0)),0,(VLOOKUP($A622,#REF!,8,0)))","v":0},0,1,0,0,0,0,{"$f":"IF(ISERROR(VLOOKUP($A622,#REF!,8,0)),0,(VLOOKUP($A622,#REF!,8,0)))","v":0},0,1,0,0,0,0,{"$f":"IF(ISERROR(VLOOKUP($A622,#REF!,8,0)),0,(VLOOKUP($A622,#REF!,8,0)))","v":0},0,1,0,0,0,0,{"$f":"IF(ISERROR(VLOOKUP($A622,#REF!,8,0)),0,(VLOOKUP($A622,#REF!,8,0)))","v":0},0,1,0,0,0,0,{"$f":"IF(ISERROR(VLOOKUP($A622,#REF!,8,0)),0,(VLOOKUP($A622,#REF!,8,0)))","v":0},0,1,0,0,0,0,{"$f":"IF(ISERROR(VLOOKUP($A622,#REF!,8,0)),0,(VLOOKUP($A622,#REF!,8,0)))","v":0},0,1,0,0,0,0,{"$f":"IF(ISERROR(VLOOKUP($A622,#REF!,8,0)),0,(VLOOKUP($A622,#REF!,8,0)))","v":0},0,1,0,0,0,0,{"$f":"IF(ISERROR(VLOOKUP($A622,#REF!,8,0)),0,(VLOOKUP($A622,#REF!,8,0)))","v":0},0,1,0,0,0,0,17.311070000000001,17.311070000000001,1,0]
["26.3","Fornecimento e aplicação de junta jeene JJ 2030 FVV ou equivalente, com 20 mm de espessura, inclusive epóxi e ferramentas necessárias.","m",204,199,5,157.54425200000003,32139.027408000005,110.7782,22598.752799999998,0,0,268.322452,1341.6122599999999,53396.167948000002,null,0,0,0,0,0,null,0,0.97549019607843135,0,0,0,0,null,0,0.97549019607843135,0,0,0,0,null,0,0.97549019607843135,0,0,0,0,null,0,0.97549019607843135,0,0,0,0,null,0,0.97549019607843135,0,0,0,0,{"$f":"IF(ISERROR(VLOOKUP(A631,'7ª MEDIÇÃO'!$A$5:$J$1048576,8,0)),0,(VLOOKUP(A631,'7ª MEDIÇÃO'!$A$5:$J$1048576,8,0)))","v":0},0,0.97549019607843135,0,0,0,0,{"$f":"IF(ISERROR(VLOOKUP(A631,'8ª MEDIÇÃO'!$A$5:$J$1048576,8,0)),0,(VLOOKUP(A631,'8ª MEDIÇÃO'!$A$5:$J$1048576,8,0)))","v":0},0,0.97549019607843135,0,0,0,0,{"$f":"IF(ISERROR(VLOOKUP(A631,'9ª MEDIÇÃO'!$A$5:$J$1048576,8,0)),0,(VLOOKUP(A631,'9ª MEDIÇÃO'!$A$5:$J$1048576,8,0)))","v":0},0,0.97549019607843135,0,0,0,0,{"$f":"IF(ISERROR(VLOOKUP(A631,#REF!,8,0)),0,(VLOOKUP(A631,#REF!,8,0)))","v":0},0,0.97549019607843135,0,0,0,0,{"$f":"IF(ISERROR(VLOOKUP($A631,#REF!,8,0)),0,(VLOOKUP($A631,#REF!,8,0)))","v":0},0,0.97549019607843135,0,0,0,0,{"$f":"IF(ISERROR(VLOOKUP($A631,#REF!,8,0)),0,(VLOOKUP($A631,#REF!,8,0)))","v":0},0,0.97549019607843135,0,0,0,0,{"$f":"IF(ISERROR(VLOOKUP($A631,#REF!,8,0)),0,(VLOOKUP($A631,#REF!,8,0)))","v":0},0,0.97549019607843135,0,0,0,0,{"$f":"IF(ISERROR(VLOOKUP($A631,#REF!,8,0)),0,(VLOOKUP($A631,#REF!,8,0)))","v":0},0,0.97549019607843135,0,0,0,0,{"$f":"IF(ISERROR(VLOOKUP($A631,#REF!,8,0)),0,(VLOOKUP($A631,#REF!,8,0)))","v":0},0,0.97549019607843135,0,0,0,0,{"$f":"IF(ISERROR(VLOOKUP($A631,#REF!,8,0)),0,(VLOOKUP($A631,#REF!,8,0)))","v":0},0,0.97549019607843135,0,0,0,0,{"$f":"IF(ISERROR(VLOOKUP($A631,#REF!,8,0)),0,(VLOOKUP($A631,#REF!,8,0)))","v":0},0,0.97549019607843135,0,0,0,0,{"$f":"IF(ISERROR(VLOOKUP($A631,#REF!,8,0)),0,(VLOOKUP($A631,#REF!,8,0)))","v":0},0,0.97549019607843135,0,0,0,0,{"$f":"IF(ISERROR(VLOOKUP($A631,#REF!,8,0)),0,(VLOOKUP($A631,#REF!,8,0)))","v":0},0,0.97549019607843135,0,0,0,0,{"$f":"IF(ISERROR(VLOOKUP($A631,#REF!,8,0)),0,(VLOOKUP($A631,#REF!,8,0)))","v":0},0,0.97549019607843135,0,0,0,0,{"$f":"IF(ISERROR(VLOOKUP($A631,#REF!,8,0)),0,(VLOOKUP($A631,#REF!,8,0)))","v":0},0,0.97549019607843135,0,0,0,0,{"$f":"IF(ISERROR(VLOOKUP($A631,#REF!,8,0)),0,(VLOOKUP($A631,#REF!,8,0)))","v":0},0,0.97549019607843135,0,0,0,0,{"$f":"IF(ISERROR(VLOOKUP($A631,#REF!,8,0)),0,(VLOOKUP($A631,#REF!,8,0)))","v":0},0,0.97549019607843135,0,0,0,0,{"$f":"IF(ISERROR(VLOOKUP($A631,#REF!,8,0)),0,(VLOOKUP($A631,#REF!,8,0)))","v":0},0,0.97549019607843135,0,0,0,0,{"$f":"IF(ISERROR(VLOOKUP($A631,#REF!,8,0)),0,(VLOOKUP($A631,#REF!,8,0)))","v":0},0,0.97549019607843135,0,0,0,0,{"$f":"IF(ISERROR(VLOOKUP($A631,#REF!,8,0)),0,(VLOOKUP($A631,#REF!,8,0)))","v":0},0,0.97549019607843135,0,0,0,0,{"$f":"IF(ISERROR(VLOOKUP($A631,#REF!,8,0)),0,(VLOOKUP($A631,#REF!,8,0)))","v":0},0,0.97549019607843135,0,0,0,0,{"$f":"IF(ISERROR(VLOOKUP($A631,#REF!,8,0)),0,(VLOOKUP($A631,#REF!,8,0)))","v":0},0,0.97549019607843135,0,0,0,0,{"$f":"IF(ISERROR(VLOOKUP($A631,#REF!,8,0)),0,(VLOOKUP($A631,#REF!,8,0)))","v":0},0,0.97549019607843135,0,0,0,0,{"$f":"IF(ISERROR(VLOOKUP($A631,#REF!,8,0)),0,(VLOOKUP($A631,#REF!,8,0)))","v":0},0,0.97549019607843135,0,0,0,0,{"$f":"IF(ISERROR(VLOOKUP($A631,#REF!,8,0)),0,(VLOOKUP($A631,#REF!,8,0)))","v":0},0,0.97549019607843135,0,0,0,0,{"$f":"IF(ISERROR(VLOOKUP($A631,#REF!,8,0)),0,(VLOOKUP($A631,#REF!,8,0)))","v":0},0,0.97549019607843135,0,0,0,0,{"$f":"IF(ISERROR(VLOOKUP($A631,#REF!,8,0)),0,(VLOOKUP($A631,#REF!,8,0)))","v":0},0,0.97549019607843135,0,0,0,0,{"$f":"IF(ISERROR(VLOOKUP($A631,#REF!,8,0)),0,(VLOOKUP($A631,#REF!,8,0)))","v":0},0,0.97549019607843135,0,0,0,0,{"$f":"IF(ISERROR(VLOOKUP($A631,#REF!,8,0)),0,(VLOOKUP($A631,#REF!,8,0)))","v":0},0,0.97549019607843135,0,0,0,0,{"$f":"IF(ISERROR(VLOOKUP($A631,#REF!,8,0)),0,(VLOOKUP($A631,#REF!,8,0)))","v":0},0,0.97549019607843135,0,0,0,0,{"$f":"IF(ISERROR(VLOOKUP($A631,#REF!,8,0)),0,(VLOOKUP($A631,#REF!,8,0)))","v":0},0,0.97549019607843135,0,0,0,0,{"$f":"IF(ISERROR(VLOOKUP($A631,#REF!,8,0)),0,(VLOOKUP($A631,#REF!,8,0)))","v":0},0,0.97549019607843135,0,0,0,0,{"$f":"IF(ISERROR(VLOOKUP($A631,#REF!,8,0)),0,(VLOOKUP($A631,#REF!,8,0)))","v":0},0,0.97549019607843135,0,0,0,0,{"$f":"IF(ISERROR(VLOOKUP($A631,#REF!,8,0)),0,(VLOOKUP($A631,#REF!,8,0)))","v":0},0,0.97549019607843135,0,0,0,0,{"$f":"IF(ISERROR(VLOOKUP($A631,#REF!,8,0)),0,(VLOOKUP($A631,#REF!,8,0)))","v":0},0,0.97549019607843135,0,0,0,0,{"$f":"IF(ISERROR(VLOOKUP($A631,#REF!,8,0)),0,(VLOOKUP($A631,#REF!,8,0)))","v":0},0,0.97549019607843135,0,0,0,0,{"$f":"IF(ISERROR(VLOOKUP($A631,#REF!,8,0)),0,(VLOOKUP($A631,#REF!,8,0)))","v":0},0,0.97549019607843135,0,0,0,0,{"$f":"IF(ISERROR(VLOOKUP($A631,#REF!,8,0)),0,(VLOOKUP($A631,#REF!,8,0)))","v":0},0,0.97549019607843135,0,0,0,0,{"$f":"IF(ISERROR(VLOOKUP($A631,#REF!,8,0)),0,(VLOOKUP($A631,#REF!,8,0)))","v":0},0,0.97549019607843135,0,0,0,0,{"$f":"IF(ISERROR(VLOOKUP($A631,#REF!,8,0)),0,(VLOOKUP($A631,#REF!,8,0)))","v":0},0,0.97549019607843135,0,0,0,0,{"$f":"IF(ISERROR(VLOOKUP($A631,#REF!,8,0)),0,(VLOOKUP($A631,#REF!,8,0)))","v":0},0,0.97549019607843135,0,0,0,0,{"$f":"IF(ISERROR(VLOOKUP($A631,#REF!,8,0)),0,(VLOOKUP($A631,#REF!,8,0)))","v":0},0,0.97549019607843135,0,0,0,0,{"$f":"IF(ISERROR(VLOOKUP($A631,#REF!,8,0)),0,(VLOOKUP($A631,#REF!,8,0)))","v":0},0,0.97549019607843135,0,0,0,0,{"$f":"IF(ISERROR(VLOOKUP($A631,#REF!,8,0)),0,(VLOOKUP($A631,#REF!,8,0)))","v":0},0,0.97549019607843135,0,0,0,0,{"$f":"IF(ISERROR(VLOOKUP($A631,#REF!,8,0)),0,(VLOOKUP($A631,#REF!,8,0)))","v":0},0,0.97549019607843135,0,0,0,0,{"$f":"IF(ISERROR(VLOOKUP($A631,#REF!,8,0)),0,(VLOOKUP($A631,#REF!,8,0)))","v":0},0,0.97549019607843135,0,0,0,0,{"$f":"IF(ISERROR(VLOOKUP($A631,#REF!,8,0)),0,(VLOOKUP($A631,#REF!,8,0)))","v":0},0,0.97549019607843135,0,0,0,0,{"$f":"IF(ISERROR(VLOOKUP($A631,#REF!,8,0)),0,(VLOOKUP($A631,#REF!,8,0)))","v":0},0,0.97549019607843135,0,0,0,0,{"$f":"IF(ISERROR(VLOOKUP($A631,#REF!,8,0)),0,(VLOOKUP($A631,#REF!,8,0)))","v":0},0,0.97549019607843135,0,0,0,0,53396.167948000002,53396.167948000002,1,0]
["27.1","Serviço topográfico de pequeno porte (preço mínimo), diária de uma equipe com topógrafo, quatro auxiliares, teodolito, nível ótico etc.","un",6,6,0,51.858218000000001,311.14930800000002,1044.32556,6265.9533599999995,0,0,1096.1837780000001,0,6577.1026680000004,null,0,0,0,0,0,null,0,1,0,0,0,0,null,0,1,0,0,0,0,null,0,1,0,0,0,0,null,0,1,0,0,0,0,null,0,1,0,0,0,0,{"$f":"IF(ISERROR(VLOOKUP(A640,'7ª MEDIÇÃO'!$A$5:$J$1048576,8,0)),0,(VLOOKUP(A640,'7ª MEDIÇÃO'!$A$5:$J$1048576,8,0)))","v":0},0,1,0,0,0,0,3,0.5,1,155.57465400000001,3132.9766799999998,0,3288.55,{"$f":"IF(ISERROR(VLOOKUP(A640,'9ª MEDIÇÃO'!$A$5:$J$1048576,8,0)),0,(VLOOKUP(A640,'9ª MEDIÇÃO'!$A$5:$J$1048576,8,0)))","v":0},0,1,0,0,0,0,{"$f":"IF(ISERROR(VLOOKUP(A640,#REF!,8,0)),0,(VLOOKUP(A640,#REF!,8,0)))","v":0},0,1,0,0,0,0,{"$f":"IF(ISERROR(VLOOKUP($A640,#REF!,8,0)),0,(VLOOKUP($A640,#REF!,8,0)))","v":0},0,1,0,0,0,0,{"$f":"IF(ISERROR(VLOOKUP($A640,#REF!,8,0)),0,(VLOOKUP($A640,#REF!,8,0)))","v":0},0,1,0,0,0,0,{"$f":"IF(ISERROR(VLOOKUP($A640,#REF!,8,0)),0,(VLOOKUP($A640,#REF!,8,0)))","v":0},0,1,0,0,0,0,{"$f":"IF(ISERROR(VLOOKUP($A640,#REF!,8,0)),0,(VLOOKUP($A640,#REF!,8,0)))","v":0},0,1,0,0,0,0,{"$f":"IF(ISERROR(VLOOKUP($A640,#REF!,8,0)),0,(VLOOKUP($A640,#REF!,8,0)))","v":0},0,1,0,0,0,0,{"$f":"IF(ISERROR(VLOOKUP($A640,#REF!,8,0)),0,(VLOOKUP($A640,#REF!,8,0)))","v":0},0,1,0,0,0,0,{"$f":"IF(ISERROR(VLOOKUP($A640,#REF!,8,0)),0,(VLOOKUP($A640,#REF!,8,0)))","v":0},0,1,0,0,0,0,{"$f":"IF(ISERROR(VLOOKUP($A640,#REF!,8,0)),0,(VLOOKUP($A640,#REF!,8,0)))","v":0},0,1,0,0,0,0,{"$f":"IF(ISERROR(VLOOKUP($A640,#REF!,8,0)),0,(VLOOKUP($A640,#REF!,8,0)))","v":0},0,1,0,0,0,0,{"$f":"IF(ISERROR(VLOOKUP($A640,#REF!,8,0)),0,(VLOOKUP($A640,#REF!,8,0)))","v":0},0,1,0,0,0,0,{"$f":"IF(ISERROR(VLOOKUP($A640,#REF!,8,0)),0,(VLOOKUP($A640,#REF!,8,0)))","v":0},0,1,0,0,0,0,{"$f":"IF(ISERROR(VLOOKUP($A640,#REF!,8,0)),0,(VLOOKUP($A640,#REF!,8,0)))","v":0},0,1,0,0,0,0,{"$f":"IF(ISERROR(VLOOKUP($A640,#REF!,8,0)),0,(VLOOKUP($A640,#REF!,8,0)))","v":0},0,1,0,0,0,0,{"$f":"IF(ISERROR(VLOOKUP($A640,#REF!,8,0)),0,(VLOOKUP($A640,#REF!,8,0)))","v":0},0,1,0,0,0,0,{"$f":"IF(ISERROR(VLOOKUP($A640,#REF!,8,0)),0,(VLOOKUP($A640,#REF!,8,0)))","v":0},0,1,0,0,0,0,{"$f":"IF(ISERROR(VLOOKUP($A640,#REF!,8,0)),0,(VLOOKUP($A640,#REF!,8,0)))","v":0},0,1,0,0,0,0,{"$f":"IF(ISERROR(VLOOKUP($A640,#REF!,8,0)),0,(VLOOKUP($A640,#REF!,8,0)))","v":0},0,1,0,0,0,0,{"$f":"IF(ISERROR(VLOOKUP($A640,#REF!,8,0)),0,(VLOOKUP($A640,#REF!,8,0)))","v":0},0,1,0,0,0,0,{"$f":"IF(ISERROR(VLOOKUP($A640,#REF!,8,0)),0,(VLOOKUP($A640,#REF!,8,0)))","v":0},0,1,0,0,0,0,{"$f":"IF(ISERROR(VLOOKUP($A640,#REF!,8,0)),0,(VLOOKUP($A640,#REF!,8,0)))","v":0},0,1,0,0,0,0,{"$f":"IF(ISERROR(VLOOKUP($A640,#REF!,8,0)),0,(VLOOKUP($A640,#REF!,8,0)))","v":0},0,1,0,0,0,0,{"$f":"IF(ISERROR(VLOOKUP($A640,#REF!,8,0)),0,(VLOOKUP($A640,#REF!,8,0)))","v":0},0,1,0,0,0,0,{"$f":"IF(ISERROR(VLOOKUP($A640,#REF!,8,0)),0,(VLOOKUP($A640,#REF!,8,0)))","v":0},0,1,0,0,0,0,{"$f":"IF(ISERROR(VLOOKUP($A640,#REF!,8,0)),0,(VLOOKUP($A640,#REF!,8,0)))","v":0},0,1,0,0,0,0,{"$f":"IF(ISERROR(VLOOKUP($A640,#REF!,8,0)),0,(VLOOKUP($A640,#REF!,8,0)))","v":0},0,1,0,0,0,0,{"$f":"IF(ISERROR(VLOOKUP($A640,#REF!,8,0)),0,(VLOOKUP($A640,#REF!,8,0)))","v":0},0,1,0,0,0,0,{"$f":"IF(ISERROR(VLOOKUP($A640,#REF!,8,0)),0,(VLOOKUP($A640,#REF!,8,0)))","v":0},0,1,0,0,0,0,{"$f":"IF(ISERROR(VLOOKUP($A640,#REF!,8,0)),0,(VLOOKUP($A640,#REF!,8,0)))","v":0},0,1,0,0,0,0,{"$f":"IF(ISERROR(VLOOKUP($A640,#REF!,8,0)),0,(VLOOKUP($A640,#REF!,8,0)))","v":0},0,1,0,0,0,0,{"$f":"IF(ISERROR(VLOOKUP($A640,#REF!,8,0)),0,(VLOOKUP($A640,#REF!,8,0)))","v":0},0,1,0,0,0,0,{"$f":"IF(ISERROR(VLOOKUP($A640,#REF!,8,0)),0,(VLOOKUP($A640,#REF!,8,0)))","v":0},0,1,0,0,0,0,{"$f":"IF(ISERROR(VLOOKUP($A640,#REF!,8,0)),0,(VLOOKUP($A640,#REF!,8,0)))","v":0},0,1,0,0,0,0,{"$f":"IF(ISERROR(VLOOKUP($A640,#REF!,8,0)),0,(VLOOKUP($A640,#REF!,8,0)))","v":0},0,1,0,0,0,0,{"$f":"IF(ISERROR(VLOOKUP($A640,#REF!,8,0)),0,(VLOOKUP($A640,#REF!,8,0)))","v":0},0,1,0,0,0,0,{"$f":"IF(ISERROR(VLOOKUP($A640,#REF!,8,0)),0,(VLOOKUP($A640,#REF!,8,0)))","v":0},0,1,0,0,0,0,{"$f":"IF(ISERROR(VLOOKUP($A640,#REF!,8,0)),0,(VLOOKUP($A640,#REF!,8,0)))","v":0},0,1,0,0,0,0,{"$f":"IF(ISERROR(VLOOKUP($A640,#REF!,8,0)),0,(VLOOKUP($A640,#REF!,8,0)))","v":0},0,1,0,0,0,0,{"$f":"IF(ISERROR(VLOOKUP($A640,#REF!,8,0)),0,(VLOOKUP($A640,#REF!,8,0)))","v":0},0,1,0,0,0,0,{"$f":"IF(ISERROR(VLOOKUP($A640,#REF!,8,0)),0,(VLOOKUP($A640,#REF!,8,0)))","v":0},0,1,0,0,0,0,{"$f":"IF(ISERROR(VLOOKUP($A640,#REF!,8,0)),0,(VLOOKUP($A640,#REF!,8,0)))","v":0},0,1,0,0,0,0,{"$f":"IF(ISERROR(VLOOKUP($A640,#REF!,8,0)),0,(VLOOKUP($A640,#REF!,8,0)))","v":0},0,1,0,0,0,0,{"$f":"IF(ISERROR(VLOOKUP($A640,#REF!,8,0)),0,(VLOOKUP($A640,#REF!,8,0)))","v":0},0,1,0,0,0,0,{"$f":"IF(ISERROR(VLOOKUP($A640,#REF!,8,0)),0,(VLOOKUP($A640,#REF!,8,0)))","v":0},0,1,0,0,0,0,{"$f":"IF(ISERROR(VLOOKUP($A640,#REF!,8,0)),0,(VLOOKUP($A640,#REF!,8,0)))","v":0},0,1,0,0,0,0,{"$f":"IF(ISERROR(VLOOKUP($A640,#REF!,8,0)),0,(VLOOKUP($A640,#REF!,8,0)))","v":0},0,1,0,0,0,0,{"$f":"E640*M640","v":6577.1026680000004},{"$f":"O640","v":6577.1026680000004},1,0]
["27.2","Tombamento mecânico de árvores com diâmetro de 0,15 a 0,30 m, inclusive o destocamento e limpeza do local.","un",7,0,7,0,0,83.882920000000013,587.18044000000009,0,0,83.882920000000013,587.18044000000009,0,null,0,0,0,0,0,null,0,0,0,0,0,0,null,0,0,0,0,0,0,null,0,0,0,0,0,0,null,0,0,0,0,0,0,null,0,0,0,0,0,0,{"$f":"IF(ISERROR(VLOOKUP(A641,'7ª MEDIÇÃO'!$A$5:$J$1048576,8,0)),0,(VLOOKUP(A641,'7ª MEDIÇÃO'!$A$5:$J$1048576,8,0)))","v":0},0,0,0,0,0,0,{"$f":"IF(ISERROR(VLOOKUP(A641,'8ª MEDIÇÃO'!$A$5:$J$1048576,8,0)),0,(VLOOKUP(A641,'8ª MEDIÇÃO'!$A$5:$J$1048576,8,0)))","v":0},0,0,0,0,0,0,{"$f":"IF(ISERROR(VLOOKUP(A641,'9ª MEDIÇÃO'!$A$5:$J$1048576,8,0)),0,(VLOOKUP(A641,'9ª MEDIÇÃO'!$A$5:$J$1048576,8,0)))","v":0},0,0,0,0,0,0,{"$f":"IF(ISERROR(VLOOKUP(A641,#REF!,8,0)),0,(VLOOKUP(A641,#REF!,8,0)))","v":0},0,0,0,0,0,0,{"$f":"IF(ISERROR(VLOOKUP($A641,#REF!,8,0)),0,(VLOOKUP($A641,#REF!,8,0)))","v":0},0,0,0,0,0,0,{"$f":"IF(ISERROR(VLOOKUP($A641,#REF!,8,0)),0,(VLOOKUP($A641,#REF!,8,0)))","v":0},0,0,0,0,0,0,{"$f":"IF(ISERROR(VLOOKUP($A641,#REF!,8,0)),0,(VLOOKUP($A641,#REF!,8,0)))","v":0},0,0,0,0,0,0,{"$f":"IF(ISERROR(VLOOKUP($A641,#REF!,8,0)),0,(VLOOKUP($A641,#REF!,8,0)))","v":0},0,0,0,0,0,0,{"$f":"IF(ISERROR(VLOOKUP($A641,#REF!,8,0)),0,(VLOOKUP($A641,#REF!,8,0)))","v":0},0,0,0,0,0,0,{"$f":"IF(ISERROR(VLOOKUP($A641,#REF!,8,0)),0,(VLOOKUP($A641,#REF!,8,0)))","v":0},0,0,0,0,0,0,{"$f":"IF(ISERROR(VLOOKUP($A641,#REF!,8,0)),0,(VLOOKUP($A641,#REF!,8,0)))","v":0},0,0,0,0,0,0,{"$f":"IF(ISERROR(VLOOKUP($A641,#REF!,8,0)),0,(VLOOKUP($A641,#REF!,8,0)))","v":0},0,0,0,0,0,0,{"$f":"IF(ISERROR(VLOOKUP($A641,#REF!,8,0)),0,(VLOOKUP($A641,#REF!,8,0)))","v":0},0,0,0,0,0,0,{"$f":"IF(ISERROR(VLOOKUP($A641,#REF!,8,0)),0,(VLOOKUP($A641,#REF!,8,0)))","v":0},0,0,0,0,0,0,{"$f":"IF(ISERROR(VLOOKUP($A641,#REF!,8,0)),0,(VLOOKUP($A641,#REF!,8,0)))","v":0},0,0,0,0,0,0,{"$f":"IF(ISERROR(VLOOKUP($A641,#REF!,8,0)),0,(VLOOKUP($A641,#REF!,8,0)))","v":0},0,0,0,0,0,0,{"$f":"IF(ISERROR(VLOOKUP($A641,#REF!,8,0)),0,(VLOOKUP($A641,#REF!,8,0)))","v":0},0,0,0,0,0,0,{"$f":"IF(ISERROR(VLOOKUP($A641,#REF!,8,0)),0,(VLOOKUP($A641,#REF!,8,0)))","v":0},0,0,0,0,0,0,{"$f":"IF(ISERROR(VLOOKUP($A641,#REF!,8,0)),0,(VLOOKUP($A641,#REF!,8,0)))","v":0},0,0,0,0,0,0,{"$f":"IF(ISERROR(VLOOKUP($A641,#REF!,8,0)),0,(VLOOKUP($A641,#REF!,8,0)))","v":0},0,0,0,0,0,0,{"$f":"IF(ISERROR(VLOOKUP($A641,#REF!,8,0)),0,(VLOOKUP($A641,#REF!,8,0)))","v":0},0,0,0,0,0,0,{"$f":"IF(ISERROR(VLOOKUP($A641,#REF!,8,0)),0,(VLOOKUP($A641,#REF!,8,0)))","v":0},0,0,0,0,0,0,{"$f":"IF(ISERROR(VLOOKUP($A641,#REF!,8,0)),0,(VLOOKUP($A641,#REF!,8,0)))","v":0},0,0,0,0,0,0,{"$f":"IF(ISERROR(VLOOKUP($A641,#REF!,8,0)),0,(VLOOKUP($A641,#REF!,8,0)))","v":0},0,0,0,0,0,0,{"$f":"IF(ISERROR(VLOOKUP($A641,#REF!,8,0)),0,(VLOOKUP($A641,#REF!,8,0)))","v":0},0,0,0,0,0,0,{"$f":"IF(ISERROR(VLOOKUP($A641,#REF!,8,0)),0,(VLOOKUP($A641,#REF!,8,0)))","v":0},0,0,0,0,0,0,{"$f":"IF(ISERROR(VLOOKUP($A641,#REF!,8,0)),0,(VLOOKUP($A641,#REF!,8,0)))","v":0},0,0,0,0,0,0,{"$f":"IF(ISERROR(VLOOKUP($A641,#REF!,8,0)),0,(VLOOKUP($A641,#REF!,8,0)))","v":0},0,0,0,0,0,0,{"$f":"IF(ISERROR(VLOOKUP($A641,#REF!,8,0)),0,(VLOOKUP($A641,#REF!,8,0)))","v":0},0,0,0,0,0,0,{"$f":"IF(ISERROR(VLOOKUP($A641,#REF!,8,0)),0,(VLOOKUP($A641,#REF!,8,0)))","v":0},0,0,0,0,0,0,{"$f":"IF(ISERROR(VLOOKUP($A641,#REF!,8,0)),0,(VLOOKUP($A641,#REF!,8,0)))","v":0},0,0,0,0,0,0,{"$f":"IF(ISERROR(VLOOKUP($A641,#REF!,8,0)),0,(VLOOKUP($A641,#REF!,8,0)))","v":0},0,0,0,0,0,0,{"$f":"IF(ISERROR(VLOOKUP($A641,#REF!,8,0)),0,(VLOOKUP($A641,#REF!,8,0)))","v":0},0,0,0,0,0,0,{"$f":"IF(ISERROR(VLOOKUP($A641,#REF!,8,0)),0,(VLOOKUP($A641,#REF!,8,0)))","v":0},0,0,0,0,0,0,{"$f":"IF(ISERROR(VLOOKUP($A641,#REF!,8,0)),0,(VLOOKUP($A641,#REF!,8,0)))","v":0},0,0,0,0,0,0,{"$f":"IF(ISERROR(VLOOKUP($A641,#REF!,8,0)),0,(VLOOKUP($A641,#REF!,8,0)))","v":0},0,0,0,0,0,0,{"$f":"IF(ISERROR(VLOOKUP($A641,#REF!,8,0)),0,(VLOOKUP($A641,#REF!,8,0)))","v":0},0,0,0,0,0,0,{"$f":"IF(ISERROR(VLOOKUP($A641,#REF!,8,0)),0,(VLOOKUP($A641,#REF!,8,0)))","v":0},0,0,0,0,0,0,{"$f":"IF(ISERROR(VLOOKUP($A641,#REF!,8,0)),0,(VLOOKUP($A641,#REF!,8,0)))","v":0},0,0,0,0,0,0,{"$f":"IF(ISERROR(VLOOKUP($A641,#REF!,8,0)),0,(VLOOKUP($A641,#REF!,8,0)))","v":0},0,0,0,0,0,0,{"$f":"IF(ISERROR(VLOOKUP($A641,#REF!,8,0)),0,(VLOOKUP($A641,#REF!,8,0)))","v":0},0,0,0,0,0,0,{"$f":"IF(ISERROR(VLOOKUP($A641,#REF!,8,0)),0,(VLOOKUP($A641,#REF!,8,0)))","v":0},0,0,0,0,0,0,{"$f":"IF(ISERROR(VLOOKUP($A641,#REF!,8,0)),0,(VLOOKUP($A641,#REF!,8,0)))","v":0},0,0,0,0,0,0,{"$f":"IF(ISERROR(VLOOKUP($A641,#REF!,8,0)),0,(VLOOKUP($A641,#REF!,8,0)))","v":0},0,0,0,0,0,0,{"$f":"IF(ISERROR(VLOOKUP($A641,#REF!,8,0)),0,(VLOOKUP($A641,#REF!,8,0)))","v":0},0,0,0,0,0,0,{"$f":"IF(ISERROR(VLOOKUP($A641,#REF!,8,0)),0,(VLOOKUP($A641,#REF!,8,0)))","v":0},0,0,0,0,0,0,{"$f":"IF(ISERROR(VLOOKUP($A641,#REF!,8,0)),0,(VLOOKUP($A641,#REF!,8,0)))","v":0},0,0,0,0,0,0,{"$f":"IF(ISERROR(VLOOKUP($A641,#REF!,8,0)),0,(VLOOKUP($A641,#REF!,8,0)))","v":0},0,0,0,0,0,0,{"$f":"IF(ISERROR(VLOOKUP($A641,#REF!,8,0)),0,(VLOOKUP($A641,#REF!,8,0)))","v":0},0,0,0,0,0,0,0,0,{"$error":"#DIV/0!"},0]
["27.11","Pavimento sobre base já executada com blocos pré-moldados cor TERRACOTA com 6,0cm de espessura (tipo Blokret  ou equivalente),  incluindo colchão de areia com espessura de 6,0 centímetros e rejuntamento com areia.","  m²",425,348.65319999999997,76.34680000000003,45.536633999999999,19353.069449999999,10.312759999999999,4382.9229999999998,0,0,55.849393999999997,4263.9225138392012,19472.069936160799,null,0,0,0,0,0,null,0,0.82036047058823525,0,0,0,0,null,0,0.82036047058823525,0,0,0,0,null,0,0.82036047058823525,0,0,0,0,null,0,0.82036047058823525,0,0,0,0,null,0,0.82036047058823525,0,0,0,0,{"$f":"IF(ISERROR(VLOOKUP(A650,'7ª MEDIÇÃO'!$A$5:$J$1048576,8,0)),0,(VLOOKUP(A650,'7ª MEDIÇÃO'!$A$5:$J$1048576,8,0)))","v":0},0,0.82036047058823525,0,0,0,0,{"$f":"IF(ISERROR(VLOOKUP(A650,'8ª MEDIÇÃO'!$A$5:$J$1048576,8,0)),0,(VLOOKUP(A650,'8ª MEDIÇÃO'!$A$5:$J$1048576,8,0)))","v":0},0,0.82036047058823525,0,0,0,0,{"$f":"IF(ISERROR(VLOOKUP(A650,'9ª MEDIÇÃO'!$A$5:$J$1048576,8,0)),0,(VLOOKUP(A650,'9ª MEDIÇÃO'!$A$5:$J$1048576,8,0)))","v":0},0,0.82036047058823525,0,0,0,0,{"$f":"IF(ISERROR(VLOOKUP(A650,#REF!,8,0)),0,(VLOOKUP(A650,#REF!,8,0)))","v":0},0,0.82036047058823525,0,0,0,0,{"$f":"IF(ISERROR(VLOOKUP($A650,#REF!,8,0)),0,(VLOOKUP($A650,#REF!,8,0)))","v":0},0,0.82036047058823525,0,0,0,0,{"$f":"IF(ISERROR(VLOOKUP($A650,#REF!,8,0)),0,(VLOOKUP($A650,#REF!,8,0)))","v":0},0,0.82036047058823525,0,0,0,0,{"$f":"IF(ISERROR(VLOOKUP($A650,#REF!,8,0)),0,(VLOOKUP($A650,#REF!,8,0)))","v":0},0,0.82036047058823525,0,0,0,0,{"$f":"IF(ISERROR(VLOOKUP($A650,#REF!,8,0)),0,(VLOOKUP($A650,#REF!,8,0)))","v":0},0,0.82036047058823525,0,0,0,0,{"$f":"IF(ISERROR(VLOOKUP($A650,#REF!,8,0)),0,(VLOOKUP($A650,#REF!,8,0)))","v":0},0,0.82036047058823525,0,0,0,0,{"$f":"IF(ISERROR(VLOOKUP($A650,#REF!,8,0)),0,(VLOOKUP($A650,#REF!,8,0)))","v":0},0,0.82036047058823525,0,0,0,0,{"$f":"IF(ISERROR(VLOOKUP($A650,#REF!,8,0)),0,(VLOOKUP($A650,#REF!,8,0)))","v":0},0,0.82036047058823525,0,0,0,0,{"$f":"IF(ISERROR(VLOOKUP($A650,#REF!,8,0)),0,(VLOOKUP($A650,#REF!,8,0)))","v":0},0,0.82036047058823525,0,0,0,0,{"$f":"IF(ISERROR(VLOOKUP($A650,#REF!,8,0)),0,(VLOOKUP($A650,#REF!,8,0)))","v":0},0,0.82036047058823525,0,0,0,0,{"$f":"IF(ISERROR(VLOOKUP($A650,#REF!,8,0)),0,(VLOOKUP($A650,#REF!,8,0)))","v":0},0,0.82036047058823525,0,0,0,0,{"$f":"IF(ISERROR(VLOOKUP($A650,#REF!,8,0)),0,(VLOOKUP($A650,#REF!,8,0)))","v":0},0,0.82036047058823525,0,0,0,0,{"$f":"IF(ISERROR(VLOOKUP($A650,#REF!,8,0)),0,(VLOOKUP($A650,#REF!,8,0)))","v":0},0,0.82036047058823525,0,0,0,0,{"$f":"IF(ISERROR(VLOOKUP($A650,#REF!,8,0)),0,(VLOOKUP($A650,#REF!,8,0)))","v":0},0,0.82036047058823525,0,0,0,0,{"$f":"IF(ISERROR(VLOOKUP($A650,#REF!,8,0)),0,(VLOOKUP($A650,#REF!,8,0)))","v":0},0,0.82036047058823525,0,0,0,0,{"$f":"IF(ISERROR(VLOOKUP($A650,#REF!,8,0)),0,(VLOOKUP($A650,#REF!,8,0)))","v":0},0,0.82036047058823525,0,0,0,0,{"$f":"IF(ISERROR(VLOOKUP($A650,#REF!,8,0)),0,(VLOOKUP($A650,#REF!,8,0)))","v":0},0,0.82036047058823525,{"$f":"GH650*$G650","v":0},{"$f":"$I650*GH650","v":0},{"$f":"$K650*GH650","v":0},0,{"$f":"IF(ISERROR(VLOOKUP($A650,#REF!,8,0)),0,(VLOOKUP($A650,#REF!,8,0)))","v":0},0,0.82036047058823525,{"$f":"GO650*$G650","v":0},{"$f":"$I650*GO650","v":0},{"$f":"$K650*GO650","v":0},0,{"$f":"IF(ISERROR(VLOOKUP($A650,#REF!,8,0)),0,(VLOOKUP($A650,#REF!,8,0)))","v":0},0,0.82036047058823525,{"$f":"GV650*$G650","v":0},{"$f":"$I650*GV650","v":0},{"$f":"$K650*GV650","v":0},0,{"$f":"IF(ISERROR(VLOOKUP($A650,#REF!,8,0)),0,(VLOOKUP($A650,#REF!,8,0)))","v":0},0,0.82036047058823525,{"$f":"HC650*$G650","v":0},{"$f":"$I650*HC650","v":0},{"$f":"$K650*HC650","v":0},0,{"$f":"IF(ISERROR(VLOOKUP($A650,#REF!,8,0)),0,(VLOOKUP($A650,#REF!,8,0)))","v":0},0,0.82036047058823525,{"$f":"HJ650*$G650","v":0},{"$f":"$I650*HJ650","v":0},{"$f":"$K650*HJ650","v":0},0,{"$f":"IF(ISERROR(VLOOKUP($A650,#REF!,8,0)),0,(VLOOKUP($A650,#REF!,8,0)))","v":0},0,0.82036047058823525,{"$f":"HQ650*$G650","v":0},{"$f":"$I650*HQ650","v":0},{"$f":"$K650*HQ650","v":0},0,{"$f":"IF(ISERROR(VLOOKUP($A650,#REF!,8,0)),0,(VLOOKUP($A650,#REF!,8,0)))","v":0},0,0.82036047058823525,{"$f":"HX650*$G650","v":0},{"$f":"$I650*HX650","v":0},{"$f":"$K650*HX650","v":0},0,{"$f":"IF(ISERROR(VLOOKUP($A650,#REF!,8,0)),0,(VLOOKUP($A650,#REF!,8,0)))","v":0},0,0.82036047058823525,{"$f":"IE650*$G650","v":0},{"$f":"$I650*IE650","v":0},{"$f":"$K650*IE650","v":0},0,{"$f":"IF(ISERROR(VLOOKUP($A650,#REF!,8,0)),0,(VLOOKUP($A650,#REF!,8,0)))","v":0},0,0.82036047058823525,{"$f":"IL650*$G650","v":0},{"$f":"$I650*IL650","v":0},{"$f":"$K650*IL650","v":0},0,{"$f":"IF(ISERROR(VLOOKUP($A650,#REF!,8,0)),0,(VLOOKUP($A650,#REF!,8,0)))","v":0},0,0.82036047058823525,{"$f":"IS650*$G650","v":0},{"$f":"$I650*IS650","v":0},{"$f":"$K650*IS650","v":0},0,{"$f":"IF(ISERROR(VLOOKUP($A650,#REF!,8,0)),0,(VLOOKUP($A650,#REF!,8,0)))","v":0},0,0.82036047058823525,{"$f":"IZ650*$G650","v":0},{"$f":"$I650*IZ650","v":0},{"$f":"$K650*IZ650","v":0},0,{"$f":"IF(ISERROR(VLOOKUP($A650,#REF!,8,0)),0,(VLOOKUP($A650,#REF!,8,0)))","v":0},0,0.82036047058823525,{"$f":"JG650*$G650","v":0},{"$f":"$I650*JG650","v":0},{"$f":"$K650*JG650","v":0},0,{"$f":"IF(ISERROR(VLOOKUP($A650,#REF!,8,0)),0,(VLOOKUP($A650,#REF!,8,0)))","v":0},0,0.82036047058823525,{"$f":"JN650*$G650","v":0},{"$f":"$I650*JN650","v":0},{"$f":"$K650*JN650","v":0},0,{"$f":"IF(ISERROR(VLOOKUP($A650,#REF!,8,0)),0,(VLOOKUP($A650,#REF!,8,0)))","v":0},0,0.82036047058823525,{"$f":"JU650*$G650","v":0},{"$f":"$I650*JU650","v":0},{"$f":"$K650*JU650","v":0},0,{"$f":"IF(ISERROR(VLOOKUP($A650,#REF!,8,0)),0,(VLOOKUP($A650,#REF!,8,0)))","v":0},0,0.82036047058823525,{"$f":"KB650*$G650","v":0},{"$f":"$I650*KB650","v":0},{"$f":"$K650*KB650","v":0},0,{"$f":"IF(ISERROR(VLOOKUP($A650,#REF!,8,0)),0,(VLOOKUP($A650,#REF!,8,0)))","v":0},0,0.82036047058823525,{"$f":"KI650*$G650","v":0},{"$f":"$I650*KI650","v":0},{"$f":"$K650*KI650","v":0},0,{"$f":"IF(ISERROR(VLOOKUP($A650,#REF!,8,0)),0,(VLOOKUP($A650,#REF!,8,0)))","v":0},0,0.82036047058823525,{"$f":"KP650*$G650","v":0},{"$f":"$I650*KP650","v":0},{"$f":"$K650*KP650","v":0},0,{"$f":"IF(ISERROR(VLOOKUP($A650,#REF!,8,0)),0,(VLOOKUP($A650,#REF!,8,0)))","v":0},0,0.82036047058823525,{"$f":"KW650*$G650","v":0},{"$f":"$I650*KW650","v":0},{"$f":"$K650*KW650","v":0},0,{"$f":"IF(ISERROR(VLOOKUP($A650,#REF!,8,0)),0,(VLOOKUP($A650,#REF!,8,0)))","v":0},0,0.82036047058823525,{"$f":"LD650*$G650","v":0},{"$f":"$I650*LD650","v":0},{"$f":"$K650*LD650","v":0},0,{"$f":"IF(ISERROR(VLOOKUP($A650,#REF!,8,0)),0,(VLOOKUP($A650,#REF!,8,0)))","v":0},0,0.82036047058823525,{"$f":"LK650*$G650","v":0},{"$f":"$I650*LK650","v":0},{"$f":"$K650*LK650","v":0},0,{"$f":"IF(ISERROR(VLOOKUP($A650,#REF!,8,0)),0,(VLOOKUP($A650,#REF!,8,0)))","v":0},0,0.82036047058823525,{"$f":"LR650*$G650","v":0},{"$f":"$I650*LR650","v":0},{"$f":"$K650*LR650","v":0},0,{"$f":"IF(ISERROR(VLOOKUP($A650,#REF!,8,0)),0,(VLOOKUP($A650,#REF!,8,0)))","v":0},0,0.82036047058823525,{"$f":"LY650*$G650","v":0},{"$f":"$I650*LY650","v":0},{"$f":"$K650*LY650","v":0},0,{"$f":"IF(ISERROR(VLOOKUP($A650,#REF!,8,0)),0,(VLOOKUP($A650,#REF!,8,0)))","v":0},0,0.82036047058823525,{"$f":"MF650*$G650","v":0},{"$f":"$I650*MF650","v":0},{"$f":"$K650*MF650","v":0},0,{"$f":"IF(ISERROR(VLOOKUP($A650,#REF!,8,0)),0,(VLOOKUP($A650,#REF!,8,0)))","v":0},0,0.82036047058823525,{"$f":"MM650*$G650","v":0},{"$f":"$I650*MM650","v":0},{"$f":"$K650*MM650","v":0},0,{"$f":"IF(ISERROR(VLOOKUP($A650,#REF!,8,0)),0,(VLOOKUP($A650,#REF!,8,0)))","v":0},0,0.82036047058823525,{"$f":"MT650*$G650","v":0},{"$f":"$I650*MT650","v":0},{"$f":"$K650*MT650","v":0},0,{"$f":"IF(ISERROR(VLOOKUP($A650,#REF!,8,0)),0,(VLOOKUP($A650,#REF!,8,0)))","v":0},0,0.82036047058823525,{"$f":"NA650*$G650","v":0},{"$f":"$I650*NA650","v":0},{"$f":"$K650*NA650","v":0},0,{"$f":"IF(ISERROR(VLOOKUP($A650,#REF!,8,0)),0,(VLOOKUP($A650,#REF!,8,0)))","v":0},0,0.82036047058823525,{"$f":"NH650*$G650","v":0},{"$f":"$I650*NH650","v":0},{"$f":"$K650*NH650","v":0},0,{"$f":"IF(ISERROR(VLOOKUP($A650,#REF!,8,0)),0,(VLOOKUP($A650,#REF!,8,0)))","v":0},0,0.82036047058823525,{"$f":"NO650*$G650","v":0},{"$f":"$I650*NO650","v":0},{"$f":"$K650*NO650","v":0},0,{"$f":"IF(ISERROR(VLOOKUP($A650,#REF!,8,0)),0,(VLOOKUP($A650,#REF!,8,0)))","v":0},0,0.82036047058823525,{"$f":"NV650*$G650","v":0},{"$f":"$I650*NV650","v":0},{"$f":"$K650*NV650","v":0},0,{"$f":"IF(ISERROR(VLOOKUP($A650,#REF!,8,0)),0,(VLOOKUP($A650,#REF!,8,0)))","v":0},0,0.82036047058823525,{"$f":"OC650*$G650","v":0},{"$f":"$I650*OC650","v":0},{"$f":"$K650*OC650","v":0},0,19472.069936160799,19472.069936160799,1,0]
["27.22","Escoramento descontínuo de valas.","m²",256,0,256,9.9069599999999998,2536.1817599999999,24.967079999999999,6391.5724799999998,0,0,34.874040000000001,8927.7542400000002,0,null,{"$f":"IF($D661>0,P661/$D661,0)","v":0},{"$f":"P661*$G661","v":0},{"$f":"$I661*P661","v":0},{"$f":"$K661*P661","v":0},{"$f":"ROUND($M661*P661,2)","v":0},null,{"$f":"IF($D661>0,V661/$D661,0)","v":0},{"$f":"IF($E661>0,$E661/$D661,0)","v":0},{"$f":"V661*$G661","v":0},{"$f":"$I661*V661","v":0},{"$f":"$K661*V661","v":0},{"$f":"ROUND($M661*V661,2)","v":0},null,{"$f":"IF($D661>0,AC661/$D661,0)","v":0},{"$f":"IF($E661>0,$E661/$D661,0)","v":0},{"$f":"AC661*$G661","v":0},{"$f":"$I661*AC661","v":0},{"$f":"$K661*AC661","v":0},{"$f":"ROUND($M661*AC661,2)","v":0},null,{"$f":"IF($D661>0,AJ661/$D661,0)","v":0},{"$f":"IF($E661>0,$E661/$D661,0)","v":0},{"$f":"AJ661*$G661","v":0},{"$f":"$I661*AJ661","v":0},{"$f":"$K661*AJ661","v":0},{"$f":"ROUND($M661*AJ661,2)","v":0},null,{"$f":"IF($D661>0,AQ661/$D661,0)","v":0},{"$f":"IF($E661>0,$E661/$D661,0)","v":0},{"$f":"AQ661*$G661","v":0},{"$f":"$I661*AQ661","v":0},{"$f":"$K661*AQ661","v":0},{"$f":"ROUND($M661*AQ661,2)","v":0},null,{"$f":"IF($D661>0,AX661/$D661,0)","v":0},{"$f":"IF($E661>0,$E661/$D661,0)","v":0},{"$f":"AX661*$G661","v":0},{"$f":"$I661*AX661","v":0},{"$f":"$K661*AX661","v":0},{"$f":"ROUND($M661*AX661,2)","v":0},{"$f":"IF(ISERROR(VLOOKUP(A661,'7ª MEDIÇÃO'!$A$5:$J$1048576,8,0)),0,(VLOOKUP(A661,'7ª MEDIÇÃO'!$A$5:$J$1048576,8,0)))","v":0},{"$f":"IF($D661>0,BE661/$D661,0)","v":0},{"$f":"IF($E661>0,$E661/$D661,0)","v":0},{"$f":"BE661*$G661","v":0},{"$f":"$I661*BE661","v":0},{"$f":"$K661*BE661","v":0},{"$f":"ROUND($M661*BE661,2)","v":0},{"$f":"IF(ISERROR(VLOOKUP(A661,'8ª MEDIÇÃO'!$A$5:$J$1048576,8,0)),0,(VLOOKUP(A661,'8ª MEDIÇÃO'!$A$5:$J$1048576,8,0)))","v":0},{"$f":"IF($D661>0,BL661/$D661,0)","v":0},{"$f":"IF($E661>0,$E661/$D661,0)","v":0},{"$f":"BL661*$G661","v":0},{"$f":"$I661*BL661","v":0},{"$f":"$K661*BL661","v":0},{"$f":"ROUND($M661*BL661,2)","v":0},{"$f":"IF(ISERROR(VLOOKUP(A661,'9ª MEDIÇÃO'!$A$5:$J$1048576,8,0)),0,(VLOOKUP(A661,'9ª MEDIÇÃO'!$A$5:$J$1048576,8,0)))","v":0},{"$f":"IF($D661>0,BS661/$D661,0)","v":0},{"$f":"IF($E661>0,$E661/$D661,0)","v":0},{"$f":"BS661*$G661","v":0},{"$f":"$I661*BS661","v":0},{"$f":"$K661*BS661","v":0},{"$f":"ROUND($M661*BS661,2)","v":0},{"$f":"IF(ISERROR(VLOOKUP(A661,#REF!,8,0)),0,(VLOOKUP(A661,#REF!,8,0)))","v":0},{"$f":"IF($D661>0,BZ661/$D661,0)","v":0},{"$f":"IF($E661>0,$E661/$D661,0)","v":0},{"$f":"BZ661*$G661","v":0},{"$f":"$I661*BZ661","v":0},{"$f":"$K661*BZ661","v":0},{"$f":"ROUND($M661*BZ661,2)","v":0},{"$f":"IF(ISERROR(VLOOKUP($A661,#REF!,8,0)),0,(VLOOKUP($A661,#REF!,8,0)))","v":0},{"$f":"IF($D661>0,CG661/$D661,0)","v":0},{"$f":"IF($E661>0,$E661/$D661,0)","v":0},{"$f":"CG661*$G661","v":0},{"$f":"$I661*CG661","v":0},{"$f":"$K661*CG661","v":0},{"$f":"ROUND($M661*CG661,2)","v":0},{"$f":"IF(ISERROR(VLOOKUP($A661,#REF!,8,0)),0,(VLOOKUP($A661,#REF!,8,0)))","v":0},{"$f":"IF($D661>0,CN661/$D661,0)","v":0},{"$f":"IF($E661>0,$E661/$D661,0)","v":0},{"$f":"CN661*$G661","v":0},{"$f":"$I661*CN661","v":0},{"$f":"$K661*CN661","v":0},{"$f":"ROUND($M661*CN661,2)","v":0},{"$f":"IF(ISERROR(VLOOKUP($A661,#REF!,8,0)),0,(VLOOKUP($A661,#REF!,8,0)))","v":0},{"$f":"IF($D661>0,CU661/$D661,0)","v":0},{"$f":"IF($E661>0,$E661/$D661,0)","v":0},{"$f":"CU661*$G661","v":0},{"$f":"$I661*CU661","v":0},{"$f":"$K661*CU661","v":0},{"$f":"ROUND($M661*CU661,2)","v":0},{"$f":"IF(ISERROR(VLOOKUP($A661,#REF!,8,0)),0,(VLOOKUP($A661,#REF!,8,0)))","v":0},{"$f":"IF($D661>0,DB661/$D661,0)","v":0},{"$f":"IF($E661>0,$E661/$D661,0)","v":0},{"$f":"DB661*$G661","v":0},{"$f":"$I661*DB661","v":0},{"$f":"$K661*DB661","v":0},{"$f":"ROUND($M661*DB661,2)","v":0},{"$f":"IF(ISERROR(VLOOKUP($A661,#REF!,8,0)),0,(VLOOKUP($A661,#REF!,8,0)))","v":0},{"$f":"IF($D661>0,DI661/$D661,0)","v":0},{"$f":"IF($E661>0,$E661/$D661,0)","v":0},{"$f":"DI661*$G661","v":0},{"$f":"$I661*DI661","v":0},{"$f":"$K661*DI661","v":0},{"$f":"ROUND($M661*DI661,2)","v":0},{"$f":"IF(ISERROR(VLOOKUP($A661,#REF!,8,0)),0,(VLOOKUP($A661,#REF!,8,0)))","v":0},{"$f":"IF($D661>0,DP661/$D661,0)","v":0},{"$f":"IF($E661>0,$E661/$D661,0)","v":0},{"$f":"DP661*$G661","v":0},{"$f":"$I661*DP661","v":0},{"$f":"$K661*DP661","v":0},{"$f":"ROUND($M661*DP661,2)","v":0},{"$f":"IF(ISERROR(VLOOKUP($A661,#REF!,8,0)),0,(VLOOKUP($A661,#REF!,8,0)))","v":0},{"$f":"IF($D661>0,DW661/$D661,0)","v":0},{"$f":"IF($E661>0,$E661/$D661,0)","v":0},{"$f":"DW661*$G661","v":0},{"$f":"$I661*DW661","v":0},{"$f":"$K661*DW661","v":0},{"$f":"ROUND($M661*DW661,2)","v":0},{"$f":"IF(ISERROR(VLOOKUP($A661,#REF!,8,0)),0,(VLOOKUP($A661,#REF!,8,0)))","v":0},{"$f":"IF($D661>0,ED661/$D661,0)","v":0},{"$f":"IF($E661>0,$E661/$D661,0)","v":0},{"$f":"ED661*$G661","v":0},{"$f":"$I661*ED661","v":0},{"$f":"$K661*ED661","v":0},{"$f":"ROUND($M661*ED661,2)","v":0},{"$f":"IF(ISERROR(VLOOKUP($A661,#REF!,8,0)),0,(VLOOKUP($A661,#REF!,8,0)))","v":0},{"$f":"IF($D661>0,EK661/$D661,0)","v":0},{"$f":"IF($E661>0,$E661/$D661,0)","v":0},{"$f":"EK661*$G661","v":0},{"$f":"$I661*EK661","v":0},{"$f":"$K661*EK661","v":0},{"$f":"ROUND($M661*EK661,2)","v":0},{"$f":"IF(ISERROR(VLOOKUP($A661,#REF!,8,0)),0,(VLOOKUP($A661,#REF!,8,0)))","v":0},{"$f":"IF($D661>0,ER661/$D661,0)","v":0},{"$f":"IF($E661>0,$E661/$D661,0)","v":0},{"$f":"ER661*$G661","v":0},{"$f":"$I661*ER661","v":0},{"$f":"$K661*ER661","v":0},{"$f":"ROUND($M661*ER661,2)","v":0},{"$f":"IF(ISERROR(VLOOKUP($A661,#REF!,8,0)),0,(VLOOKUP($A661,#REF!,8,0)))","v":0},{"$f":"IF($D661>0,EY661/$D661,0)","v":0},{"$f":"IF($E661>0,$E661/$D661,0)","v":0},{"$f":"EY661*$G661","v":0},{"$f":"$I661*EY661","v":0},{"$f":"$K661*EY661","v":0},{"$f":"ROUND($M661*EY661,2)","v":0},{"$f":"IF(ISERROR(VLOOKUP($A661,#REF!,8,0)),0,(VLOOKUP($A661,#REF!,8,0)))","v":0},{"$f":"IF($D661>0,FF661/$D661,0)","v":0},{"$f":"IF($E661>0,$E661/$D661,0)","v":0},{"$f":"FF661*$G661","v":0},{"$f":"$I661*FF661","v":0},{"$f":"$K661*FF661","v":0},{"$f":"ROUND($M661*FF661,2)","v":0},{"$f":"IF(ISERROR(VLOOKUP($A661,#REF!,8,0)),0,(VLOOKUP($A661,#REF!,8,0)))","v":0},{"$f":"IF($D661>0,FM661/$D661,0)","v":0},{"$f":"IF($E661>0,$E661/$D661,0)","v":0},{"$f":"FM661*$G661","v":0},{"$f":"$I661*FM661","v":0},{"$f":"$K661*FM661","v":0},{"$f":"ROUND($M661*FM661,2)","v":0},{"$f":"IF(ISERROR(VLOOKUP($A661,#REF!,8,0)),0,(VLOOKUP($A661,#REF!,8,0)))","v":0},{"$f":"IF($D661>0,FT661/$D661,0)","v":0},{"$f":"IF($E661>0,$E661/$D661,0)","v":0},{"$f":"FT661*$G661","v":0},{"$f":"$I661*FT661","v":0},{"$f":"$K661*FT661","v":0},{"$f":"ROUND($M661*FT661,2)","v":0},{"$f":"IF(ISERROR(VLOOKUP($A661,#REF!,8,0)),0,(VLOOKUP($A661,#REF!,8,0)))","v":0},{"$f":"IF($D661>0,GA661/$D661,0)","v":0},{"$f":"IF($E661>0,$E661/$D661,0)","v":0},{"$f":"GA661*$G661","v":0},{"$f":"$I661*GA661","v":0},{"$f":"$K661*GA661","v":0},{"$f":"ROUND($M661*GA661,2)","v":0},{"$f":"IF(ISERROR(VLOOKUP($A661,#REF!,8,0)),0,(VLOOKUP($A661,#REF!,8,0)))","v":0},{"$f":"IF($D661>0,GH661/$D661,0)","v":0},{"$f":"IF($E661>0,$E661/$D661,0)","v":0},{"$f":"GH661*$G661","v":0},{"$f":"$I661*GH661","v":0},{"$f":"$K661*GH661","v":0},{"$f":"ROUND($M661*GH661,2)","v":0},{"$f":"IF(ISERROR(VLOOKUP($A661,#REF!,8,0)),0,(VLOOKUP($A661,#REF!,8,0)))","v":0},{"$f":"IF($D661>0,GO661/$D661,0)","v":0},{"$f":"IF($E661>0,$E661/$D661,0)","v":0},{"$f":"GO661*$G661","v":0},{"$f":"$I661*GO661","v":0},{"$f":"$K661*GO661","v":0},{"$f":"ROUND($M661*GO661,2)","v":0},{"$f":"IF(ISERROR(VLOOKUP($A661,#REF!,8,0)),0,(VLOOKUP($A661,#REF!,8,0)))","v":0},{"$f":"IF($D661>0,GV661/$D661,0)","v":0},{"$f":"IF($E661>0,$E661/$D661,0)","v":0},{"$f":"GV661*$G661","v":0},{"$f":"$I661*GV661","v":0},{"$f":"$K661*GV661","v":0},{"$f":"ROUND($M661*GV661,2)","v":0},{"$f":"IF(ISERROR(VLOOKUP($A661,#REF!,8,0)),0,(VLOOKUP($A661,#REF!,8,0)))","v":0},{"$f":"IF($D661>0,HC661/$D661,0)","v":0},{"$f":"IF($E661>0,$E661/$D661,0)","v":0},{"$f":"HC661*$G661","v":0},{"$f":"$I661*HC661","v":0},{"$f":"$K661*HC661","v":0},{"$f":"ROUND($M661*HC661,2)","v":0},{"$f":"IF(ISERROR(VLOOKUP($A661,#REF!,8,0)),0,(VLOOKUP($A661,#REF!,8,0)))","v":0},{"$f":"IF($D661>0,HJ661/$D661,0)","v":0},{"$f":"IF($E661>0,$E661/$D661,0)","v":0},{"$f":"HJ661*$G661","v":0},{"$f":"$I661*HJ661","v":0},{"$f":"$K661*HJ661","v":0},{"$f":"ROUND($M661*HJ661,2)","v":0},{"$f":"IF(ISERROR(VLOOKUP($A661,#REF!,8,0)),0,(VLOOKUP($A661,#REF!,8,0)))","v":0},{"$f":"IF($D661>0,HQ661/$D661,0)","v":0},{"$f":"IF($E661>0,$E661/$D661,0)","v":0},{"$f":"HQ661*$G661","v":0},{"$f":"$I661*HQ661","v":0},{"$f":"$K661*HQ661","v":0},{"$f":"ROUND($M661*HQ661,2)","v":0},{"$f":"IF(ISERROR(VLOOKUP($A661,#REF!,8,0)),0,(VLOOKUP($A661,#REF!,8,0)))","v":0},{"$f":"IF($D661>0,HX661/$D661,0)","v":0},{"$f":"IF($E661>0,$E661/$D661,0)","v":0},{"$f":"HX661*$G661","v":0},{"$f":"$I661*HX661","v":0},{"$f":"$K661*HX661","v":0},{"$f":"ROUND($M661*HX661,2)","v":0},{"$f":"IF(ISERROR(VLOOKUP($A661,#REF!,8,0)),0,(VLOOKUP($A661,#REF!,8,0)))","v":0},{"$f":"IF($D661>0,IE661/$D661,0)","v":0},{"$f":"IF($E661>0,$E661/$D661,0)","v":0},{"$f":"IE661*$G661","v":0},{"$f":"$I661*IE661","v":0},{"$f":"$K661*IE661","v":0},{"$f":"ROUND($M661*IE661,2)","v":0},{"$f":"IF(ISERROR(VLOOKUP($A661,#REF!,8,0)),0,(VLOOKUP($A661,#REF!,8,0)))","v":0},{"$f":"IF($D661>0,IL661/$D661,0)","v":0},{"$f":"IF($E661>0,$E661/$D661,0)","v":0},{"$f":"IL661*$G661","v":0},{"$f":"$I661*IL661","v":0},{"$f":"$K661*IL661","v":0},{"$f":"ROUND($M661*IL661,2)","v":0},{"$f":"IF(ISERROR(VLOOKUP($A661,#REF!,8,0)),0,(VLOOKUP($A661,#REF!,8,0)))","v":0},{"$f":"IF($D661>0,IS661/$D661,0)","v":0},{"$f":"IF($E661>0,$E661/$D661,0)","v":0},{"$f":"IS661*$G661","v":0},{"$f":"$I661*IS661","v":0},{"$f":"$K661*IS661","v":0},{"$f":"ROUND($M661*IS661,2)","v":0},{"$f":"IF(ISERROR(VLOOKUP($A661,#REF!,8,0)),0,(VLOOKUP($A661,#REF!,8,0)))","v":0},{"$f":"IF($D661>0,IZ661/$D661,0)","v":0},{"$f":"IF($E661>0,$E661/$D661,0)","v":0},{"$f":"IZ661*$G661","v":0},{"$f":"$I661*IZ661","v":0},{"$f":"$K661*IZ661","v":0},{"$f":"ROUND($M661*IZ661,2)","v":0},{"$f":"IF(ISERROR(VLOOKUP($A661,#REF!,8,0)),0,(VLOOKUP($A661,#REF!,8,0)))","v":0},{"$f":"IF($D661>0,JG661/$D661,0)","v":0},{"$f":"IF($E661>0,$E661/$D661,0)","v":0},{"$f":"JG661*$G661","v":0},{"$f":"$I661*JG661","v":0},{"$f":"$K661*JG661","v":0},{"$f":"ROUND($M661*JG661,2)","v":0},{"$f":"IF(ISERROR(VLOOKUP($A661,#REF!,8,0)),0,(VLOOKUP($A661,#REF!,8,0)))","v":0},{"$f":"IF($D661>0,JN661/$D661,0)","v":0},{"$f":"IF($E661>0,$E661/$D661,0)","v":0},{"$f":"JN661*$G661","v":0},{"$f":"$I661*JN661","v":0},{"$f":"$K661*JN661","v":0},{"$f":"ROUND($M661*JN661,2)","v":0},{"$f":"IF(ISERROR(VLOOKUP($A661,#REF!,8,0)),0,(VLOOKUP($A661,#REF!,8,0)))","v":0},{"$f":"IF($D661>0,JU661/$D661,0)","v":0},{"$f":"IF($E661>0,$E661/$D661,0)","v":0},{"$f":"JU661*$G661","v":0},{"$f":"$I661*JU661","v":0},{"$f":"$K661*JU661","v":0},{"$f":"ROUND($M661*JU661,2)","v":0},{"$f":"IF(ISERROR(VLOOKUP($A661,#REF!,8,0)),0,(VLOOKUP($A661,#REF!,8,0)))","v":0},{"$f":"IF($D661>0,KB661/$D661,0)","v":0},{"$f":"IF($E661>0,$E661/$D661,0)","v":0},{"$f":"KB661*$G661","v":0},{"$f":"$I661*KB661","v":0},{"$f":"$K661*KB661","v":0},{"$f":"ROUND($M661*KB661,2)","v":0},{"$f":"IF(ISERROR(VLOOKUP($A661,#REF!,8,0)),0,(VLOOKUP($A661,#REF!,8,0)))","v":0},{"$f":"IF($D661>0,KI661/$D661,0)","v":0},{"$f":"IF($E661>0,$E661/$D661,0)","v":0},{"$f":"KI661*$G661","v":0},{"$f":"$I661*KI661","v":0},{"$f":"$K661*KI661","v":0},{"$f":"ROUND($M661*KI661,2)","v":0},{"$f":"IF(ISERROR(VLOOKUP($A661,#REF!,8,0)),0,(VLOOKUP($A661,#REF!,8,0)))","v":0},{"$f":"IF($D661>0,KP661/$D661,0)","v":0},{"$f":"IF($E661>0,$E661/$D661,0)","v":0},{"$f":"KP661*$G661","v":0},{"$f":"$I661*KP661","v":0},{"$f":"$K661*KP661","v":0},{"$f":"ROUND($M661*KP661,2)","v":0},{"$f":"IF(ISERROR(VLOOKUP($A661,#REF!,8,0)),0,(VLOOKUP($A661,#REF!,8,0)))","v":0},{"$f":"IF($D661>0,KW661/$D661,0)","v":0},{"$f":"IF($E661>0,$E661/$D661,0)","v":0},{"$f":"KW661*$G661","v":0},{"$f":"$I661*KW661","v":0},{"$f":"$K661*KW661","v":0},{"$f":"ROUND($M661*KW661,2)","v":0},{"$f":"IF(ISERROR(VLOOKUP($A661,#REF!,8,0)),0,(VLOOKUP($A661,#REF!,8,0)))","v":0},{"$f":"IF($D661>0,LD661/$D661,0)","v":0},{"$f":"IF($E661>0,$E661/$D661,0)","v":0},{"$f":"LD661*$G661","v":0},{"$f":"$I661*LD661","v":0},{"$f":"$K661*LD661","v":0},{"$f":"ROUND($M661*LD661,2)","v":0},{"$f":"IF(ISERROR(VLOOKUP($A661,#REF!,8,0)),0,(VLOOKUP($A661,#REF!,8,0)))","v":0},{"$f":"IF($D661>0,LK661/$D661,0)","v":0},{"$f":"IF($E661>0,$E661/$D661,0)","v":0},{"$f":"LK661*$G661","v":0},{"$f":"$I661*LK661","v":0},{"$f":"$K661*LK661","v":0},{"$f":"ROUND($M661*LK661,2)","v":0},{"$f":"IF(ISERROR(VLOOKUP($A661,#REF!,8,0)),0,(VLOOKUP($A661,#REF!,8,0)))","v":0},{"$f":"IF($D661>0,LR661/$D661,0)","v":0},{"$f":"IF($E661>0,$E661/$D661,0)","v":0},{"$f":"LR661*$G661","v":0},{"$f":"$I661*LR661","v":0},{"$f":"$K661*LR661","v":0},{"$f":"ROUND($M661*LR661,2)","v":0},{"$f":"IF(ISERROR(VLOOKUP($A661,#REF!,8,0)),0,(VLOOKUP($A661,#REF!,8,0)))","v":0},{"$f":"IF($D661>0,LY661/$D661,0)","v":0},{"$f":"IF($E661>0,$E661/$D661,0)","v":0},{"$f":"LY661*$G661","v":0},{"$f":"$I661*LY661","v":0},{"$f":"$K661*LY661","v":0},{"$f":"ROUND($M661*LY661,2)","v":0},{"$f":"IF(ISERROR(VLOOKUP($A661,#REF!,8,0)),0,(VLOOKUP($A661,#REF!,8,0)))","v":0},{"$f":"IF($D661>0,MF661/$D661,0)","v":0},{"$f":"IF($E661>0,$E661/$D661,0)","v":0},{"$f":"MF661*$G661","v":0},{"$f":"$I661*MF661","v":0},{"$f":"$K661*MF661","v":0},{"$f":"ROUND($M661*MF661,2)","v":0},{"$f":"IF(ISERROR(VLOOKUP($A661,#REF!,8,0)),0,(VLOOKUP($A661,#REF!,8,0)))","v":0},{"$f":"IF($D661>0,MM661/$D661,0)","v":0},{"$f":"IF($E661>0,$E661/$D661,0)","v":0},{"$f":"MM661*$G661","v":0},{"$f":"$I661*MM661","v":0},{"$f":"$K661*MM661","v":0},{"$f":"ROUND($M661*MM661,2)","v":0},{"$f":"IF(ISERROR(VLOOKUP($A661,#REF!,8,0)),0,(VLOOKUP($A661,#REF!,8,0)))","v":0},{"$f":"IF($D661>0,MT661/$D661,0)","v":0},{"$f":"IF($E661>0,$E661/$D661,0)","v":0},{"$f":"MT661*$G661","v":0},{"$f":"$I661*MT661","v":0},{"$f":"$K661*MT661","v":0},{"$f":"ROUND($M661*MT661,2)","v":0},{"$f":"IF(ISERROR(VLOOKUP($A661,#REF!,8,0)),0,(VLOOKUP($A661,#REF!,8,0)))","v":0},{"$f":"IF($D661>0,NA661/$D661,0)","v":0},{"$f":"IF($E661>0,$E661/$D661,0)","v":0},{"$f":"NA661*$G661","v":0},{"$f":"$I661*NA661","v":0},{"$f":"$K661*NA661","v":0},{"$f":"ROUND($M661*NA661,2)","v":0},{"$f":"IF(ISERROR(VLOOKUP($A661,#REF!,8,0)),0,(VLOOKUP($A661,#REF!,8,0)))","v":0},{"$f":"IF($D661>0,NH661/$D661,0)","v":0},{"$f":"IF($E661>0,$E661/$D661,0)","v":0},{"$f":"NH661*$G661","v":0},{"$f":"$I661*NH661","v":0},{"$f":"$K661*NH661","v":0},{"$f":"ROUND($M661*NH661,2)","v":0},{"$f":"IF(ISERROR(VLOOKUP($A661,#REF!,8,0)),0,(VLOOKUP($A661,#REF!,8,0)))","v":0},{"$f":"IF($D661>0,NO661/$D661,0)","v":0},{"$f":"IF($E661>0,$E661/$D661,0)","v":0},{"$f":"NO661*$G661","v":0},{"$f":"$I661*NO661","v":0},{"$f":"$K661*NO661","v":0},{"$f":"ROUND($M661*NO661,2)","v":0},{"$f":"IF(ISERROR(VLOOKUP($A661,#REF!,8,0)),0,(VLOOKUP($A661,#REF!,8,0)))","v":0},{"$f":"IF($D661>0,NV661/$D661,0)","v":0},{"$f":"IF($E661>0,$E661/$D661,0)","v":0},{"$f":"NV661*$G661","v":0},{"$f":"$I661*NV661","v":0},{"$f":"$K661*NV661","v":0},{"$f":"ROUND($M661*NV661,2)","v":0},{"$f":"IF(ISERROR(VLOOKUP($A661,#REF!,8,0)),0,(VLOOKUP($A661,#REF!,8,0)))","v":0},{"$f":"IF($D661>0,OC661/$D661,0)","v":0},{"$f":"IF($E661>0,$E661/$D661,0)","v":0},{"$f":"OC661*$G661","v":0},{"$f":"$I661*OC661","v":0},{"$f":"$K661*OC661","v":0},{"$f":"ROUND($M661*OC661,2)","v":0},0,0,{"$error":"#DIV/0!"},0]
["28.2","Fornecimento e plantio de Palmeira Cica, com cerca de 1,00m de altura, incluindo preparação de cova com 40 x 40 x 40 cm, com barro jardim e estrume bovino.","un ",3,3,0,147.932142,443.796426,7.1281200000000009,21.384360000000001,0,0,155.06026199999999,0,465.18078600000001,null,0,0,0,0,0,null,0,1,0,0,0,0,null,0,1,0,0,0,0,null,0,1,0,0,0,0,null,0,1,0,0,0,0,null,0,1,0,0,0,0,{"$f":"IF(ISERROR(VLOOKUP(A669,'7ª MEDIÇÃO'!$A$5:$J$1048576,8,0)),0,(VLOOKUP(A669,'7ª MEDIÇÃO'!$A$5:$J$1048576,8,0)))","v":0},0,1,0,0,0,0,{"$f":"IF(ISERROR(VLOOKUP(A669,'8ª MEDIÇÃO'!$A$5:$J$1048576,8,0)),0,(VLOOKUP(A669,'8ª MEDIÇÃO'!$A$5:$J$1048576,8,0)))","v":0},0,1,0,0,0,0,{"$f":"IF(ISERROR(VLOOKUP(A669,'9ª MEDIÇÃO'!$A$5:$J$1048576,8,0)),0,(VLOOKUP(A669,'9ª MEDIÇÃO'!$A$5:$J$1048576,8,0)))","v":0},0,1,0,0,0,0,{"$f":"IF(ISERROR(VLOOKUP(A669,#REF!,8,0)),0,(VLOOKUP(A669,#REF!,8,0)))","v":0},0,1,0,0,0,0,{"$f":"IF(ISERROR(VLOOKUP($A669,#REF!,8,0)),0,(VLOOKUP($A669,#REF!,8,0)))","v":0},0,1,0,0,0,0,{"$f":"IF(ISERROR(VLOOKUP($A669,#REF!,8,0)),0,(VLOOKUP($A669,#REF!,8,0)))","v":0},0,1,0,0,0,0,{"$f":"IF(ISERROR(VLOOKUP($A669,#REF!,8,0)),0,(VLOOKUP($A669,#REF!,8,0)))","v":0},0,1,0,0,0,0,{"$f":"IF(ISERROR(VLOOKUP($A669,#REF!,8,0)),0,(VLOOKUP($A669,#REF!,8,0)))","v":0},0,1,0,0,0,0,{"$f":"IF(ISERROR(VLOOKUP($A669,#REF!,8,0)),0,(VLOOKUP($A669,#REF!,8,0)))","v":0},0,1,0,0,0,0,{"$f":"IF(ISERROR(VLOOKUP($A669,#REF!,8,0)),0,(VLOOKUP($A669,#REF!,8,0)))","v":0},0,1,0,0,0,0,{"$f":"IF(ISERROR(VLOOKUP($A669,#REF!,8,0)),0,(VLOOKUP($A669,#REF!,8,0)))","v":0},0,1,0,0,0,0,{"$f":"IF(ISERROR(VLOOKUP($A669,#REF!,8,0)),0,(VLOOKUP($A669,#REF!,8,0)))","v":0},0,1,0,0,0,0,{"$f":"IF(ISERROR(VLOOKUP($A669,#REF!,8,0)),0,(VLOOKUP($A669,#REF!,8,0)))","v":0},0,1,0,0,0,0,{"$f":"IF(ISERROR(VLOOKUP($A669,#REF!,8,0)),0,(VLOOKUP($A669,#REF!,8,0)))","v":0},0,1,0,0,0,0,{"$f":"IF(ISERROR(VLOOKUP($A669,#REF!,8,0)),0,(VLOOKUP($A669,#REF!,8,0)))","v":0},0,1,0,0,0,0,{"$f":"IF(ISERROR(VLOOKUP($A669,#REF!,8,0)),0,(VLOOKUP($A669,#REF!,8,0)))","v":0},0,1,0,0,0,0,{"$f":"IF(ISERROR(VLOOKUP($A669,#REF!,8,0)),0,(VLOOKUP($A669,#REF!,8,0)))","v":0},0,1,0,0,0,0,{"$f":"IF(ISERROR(VLOOKUP($A669,#REF!,8,0)),0,(VLOOKUP($A669,#REF!,8,0)))","v":0},0,1,0,0,0,0,{"$f":"IF(ISERROR(VLOOKUP($A669,#REF!,8,0)),0,(VLOOKUP($A669,#REF!,8,0)))","v":0},0,1,0,0,0,0,{"$f":"IF(ISERROR(VLOOKUP($A669,#REF!,8,0)),0,(VLOOKUP($A669,#REF!,8,0)))","v":0},0,1,0,0,0,0,{"$f":"IF(ISERROR(VLOOKUP($A669,#REF!,8,0)),0,(VLOOKUP($A669,#REF!,8,0)))","v":0},0,1,0,0,0,0,{"$f":"IF(ISERROR(VLOOKUP($A669,#REF!,8,0)),0,(VLOOKUP($A669,#REF!,8,0)))","v":0},0,1,0,0,0,0,{"$f":"IF(ISERROR(VLOOKUP($A669,#REF!,8,0)),0,(VLOOKUP($A669,#REF!,8,0)))","v":0},0,1,0,0,0,0,{"$f":"IF(ISERROR(VLOOKUP($A669,#REF!,8,0)),0,(VLOOKUP($A669,#REF!,8,0)))","v":0},0,1,0,0,0,0,{"$f":"IF(ISERROR(VLOOKUP($A669,#REF!,8,0)),0,(VLOOKUP($A669,#REF!,8,0)))","v":0},0,1,0,0,0,0,{"$f":"IF(ISERROR(VLOOKUP($A669,#REF!,8,0)),0,(VLOOKUP($A669,#REF!,8,0)))","v":0},0,1,0,0,0,0,{"$f":"IF(ISERROR(VLOOKUP($A669,#REF!,8,0)),0,(VLOOKUP($A669,#REF!,8,0)))","v":0},0,1,0,0,0,0,{"$f":"IF(ISERROR(VLOOKUP($A669,#REF!,8,0)),0,(VLOOKUP($A669,#REF!,8,0)))","v":0},0,1,0,0,0,0,{"$f":"IF(ISERROR(VLOOKUP($A669,#REF!,8,0)),0,(VLOOKUP($A669,#REF!,8,0)))","v":0},0,1,0,0,0,0,{"$f":"IF(ISERROR(VLOOKUP($A669,#REF!,8,0)),0,(VLOOKUP($A669,#REF!,8,0)))","v":0},0,1,0,0,0,0,{"$f":"IF(ISERROR(VLOOKUP($A669,#REF!,8,0)),0,(VLOOKUP($A669,#REF!,8,0)))","v":0},0,1,0,0,0,0,{"$f":"IF(ISERROR(VLOOKUP($A669,#REF!,8,0)),0,(VLOOKUP($A669,#REF!,8,0)))","v":0},0,1,0,0,0,0,{"$f":"IF(ISERROR(VLOOKUP($A669,#REF!,8,0)),0,(VLOOKUP($A669,#REF!,8,0)))","v":0},0,1,0,0,0,0,{"$f":"IF(ISERROR(VLOOKUP($A669,#REF!,8,0)),0,(VLOOKUP($A669,#REF!,8,0)))","v":0},0,1,0,0,0,0,{"$f":"IF(ISERROR(VLOOKUP($A669,#REF!,8,0)),0,(VLOOKUP($A669,#REF!,8,0)))","v":0},0,1,0,0,0,0,{"$f":"IF(ISERROR(VLOOKUP($A669,#REF!,8,0)),0,(VLOOKUP($A669,#REF!,8,0)))","v":0},0,1,0,0,0,0,{"$f":"IF(ISERROR(VLOOKUP($A669,#REF!,8,0)),0,(VLOOKUP($A669,#REF!,8,0)))","v":0},0,1,0,0,0,0,{"$f":"IF(ISERROR(VLOOKUP($A669,#REF!,8,0)),0,(VLOOKUP($A669,#REF!,8,0)))","v":0},0,1,0,0,0,0,{"$f":"IF(ISERROR(VLOOKUP($A669,#REF!,8,0)),0,(VLOOKUP($A669,#REF!,8,0)))","v":0},0,1,0,0,0,0,{"$f":"IF(ISERROR(VLOOKUP($A669,#REF!,8,0)),0,(VLOOKUP($A669,#REF!,8,0)))","v":0},0,1,0,0,0,0,{"$f":"IF(ISERROR(VLOOKUP($A669,#REF!,8,0)),0,(VLOOKUP($A669,#REF!,8,0)))","v":0},0,1,0,0,0,0,{"$f":"IF(ISERROR(VLOOKUP($A669,#REF!,8,0)),0,(VLOOKUP($A669,#REF!,8,0)))","v":0},0,1,0,0,0,0,{"$f":"IF(ISERROR(VLOOKUP($A669,#REF!,8,0)),0,(VLOOKUP($A669,#REF!,8,0)))","v":0},0,1,0,0,0,0,{"$f":"IF(ISERROR(VLOOKUP($A669,#REF!,8,0)),0,(VLOOKUP($A669,#REF!,8,0)))","v":0},0,1,0,0,0,0,{"$f":"IF(ISERROR(VLOOKUP($A669,#REF!,8,0)),0,(VLOOKUP($A669,#REF!,8,0)))","v":0},0,1,0,0,0,0,{"$f":"IF(ISERROR(VLOOKUP($A669,#REF!,8,0)),0,(VLOOKUP($A669,#REF!,8,0)))","v":0},0,1,0,0,0,0,{"$f":"IF(ISERROR(VLOOKUP($A669,#REF!,8,0)),0,(VLOOKUP($A669,#REF!,8,0)))","v":0},0,1,0,0,0,0,{"$f":"IF(ISERROR(VLOOKUP($A669,#REF!,8,0)),0,(VLOOKUP($A669,#REF!,8,0)))","v":0},0,1,0,0,0,0,{"$f":"IF(ISERROR(VLOOKUP($A669,#REF!,8,0)),0,(VLOOKUP($A669,#REF!,8,0)))","v":0},0,1,0,0,0,0,465.18078600000001,465.18078600000001,1,0]
["29.01 ","Pontos - Infraestrutura / Acabamento",null,null,0,0,null,0,null,0,null,0,0,0,0,null,0,0,0,0,0,null,0,0,0,0,0,0,null,0,0,0,0,0,0,null,0,0,0,0,0,0,null,0,0,0,0,0,0,null,0,0,0,0,0,0,{"$f":"IF(ISERROR(VLOOKUP(A678,'7ª MEDIÇÃO'!$A$5:$J$1048576,8,0)),0,(VLOOKUP(A678,'7ª MEDIÇÃO'!$A$5:$J$1048576,8,0)))","v":0},0,0,0,0,0,0,{"$f":"IF(ISERROR(VLOOKUP(A678,'8ª MEDIÇÃO'!$A$5:$J$1048576,8,0)),0,(VLOOKUP(A678,'8ª MEDIÇÃO'!$A$5:$J$1048576,8,0)))","v":0},0,0,0,0,0,0,{"$f":"IF(ISERROR(VLOOKUP(A678,'9ª MEDIÇÃO'!$A$5:$J$1048576,8,0)),0,(VLOOKUP(A678,'9ª MEDIÇÃO'!$A$5:$J$1048576,8,0)))","v":0},0,0,0,0,0,0,{"$f":"IF(ISERROR(VLOOKUP(A678,#REF!,8,0)),0,(VLOOKUP(A678,#REF!,8,0)))","v":0},0,0,0,0,0,0,{"$f":"IF(ISERROR(VLOOKUP($A678,#REF!,8,0)),0,(VLOOKUP($A678,#REF!,8,0)))","v":0},0,0,0,0,0,0,{"$f":"IF(ISERROR(VLOOKUP($A678,#REF!,8,0)),0,(VLOOKUP($A678,#REF!,8,0)))","v":0},0,0,0,0,0,0,{"$f":"IF(ISERROR(VLOOKUP($A678,#REF!,8,0)),0,(VLOOKUP($A678,#REF!,8,0)))","v":0},0,0,0,0,0,0,{"$f":"IF(ISERROR(VLOOKUP($A678,#REF!,8,0)),0,(VLOOKUP($A678,#REF!,8,0)))","v":0},0,0,0,0,0,0,{"$f":"IF(ISERROR(VLOOKUP($A678,#REF!,8,0)),0,(VLOOKUP($A678,#REF!,8,0)))","v":0},0,0,0,0,0,0,{"$f":"IF(ISERROR(VLOOKUP($A678,#REF!,8,0)),0,(VLOOKUP($A678,#REF!,8,0)))","v":0},0,0,0,0,0,0,{"$f":"IF(ISERROR(VLOOKUP($A678,#REF!,8,0)),0,(VLOOKUP($A678,#REF!,8,0)))","v":0},0,0,0,0,0,0,{"$f":"IF(ISERROR(VLOOKUP($A678,#REF!,8,0)),0,(VLOOKUP($A678,#REF!,8,0)))","v":0},0,0,0,0,0,0,{"$f":"IF(ISERROR(VLOOKUP($A678,#REF!,8,0)),0,(VLOOKUP($A678,#REF!,8,0)))","v":0},0,0,0,0,0,0,{"$f":"IF(ISERROR(VLOOKUP($A678,#REF!,8,0)),0,(VLOOKUP($A678,#REF!,8,0)))","v":0},0,0,0,0,0,0,{"$f":"IF(ISERROR(VLOOKUP($A678,#REF!,8,0)),0,(VLOOKUP($A678,#REF!,8,0)))","v":0},0,0,0,0,0,0,{"$f":"IF(ISERROR(VLOOKUP($A678,#REF!,8,0)),0,(VLOOKUP($A678,#REF!,8,0)))","v":0},0,0,0,0,0,0,{"$f":"IF(ISERROR(VLOOKUP($A678,#REF!,8,0)),0,(VLOOKUP($A678,#REF!,8,0)))","v":0},0,0,0,0,0,0,{"$f":"IF(ISERROR(VLOOKUP($A678,#REF!,8,0)),0,(VLOOKUP($A678,#REF!,8,0)))","v":0},0,0,0,0,0,0,{"$f":"IF(ISERROR(VLOOKUP($A678,#REF!,8,0)),0,(VLOOKUP($A678,#REF!,8,0)))","v":0},0,0,0,0,0,0,{"$f":"IF(ISERROR(VLOOKUP($A678,#REF!,8,0)),0,(VLOOKUP($A678,#REF!,8,0)))","v":0},0,0,0,0,0,0,{"$f":"IF(ISERROR(VLOOKUP($A678,#REF!,8,0)),0,(VLOOKUP($A678,#REF!,8,0)))","v":0},0,0,0,0,0,0,{"$f":"IF(ISERROR(VLOOKUP($A678,#REF!,8,0)),0,(VLOOKUP($A678,#REF!,8,0)))","v":0},0,0,0,0,0,0,{"$f":"IF(ISERROR(VLOOKUP($A678,#REF!,8,0)),0,(VLOOKUP($A678,#REF!,8,0)))","v":0},0,0,0,0,0,0,{"$f":"IF(ISERROR(VLOOKUP($A678,#REF!,8,0)),0,(VLOOKUP($A678,#REF!,8,0)))","v":0},0,0,0,0,0,0,{"$f":"IF(ISERROR(VLOOKUP($A678,#REF!,8,0)),0,(VLOOKUP($A678,#REF!,8,0)))","v":0},0,0,0,0,0,0,{"$f":"IF(ISERROR(VLOOKUP($A678,#REF!,8,0)),0,(VLOOKUP($A678,#REF!,8,0)))","v":0},0,0,0,0,0,0,{"$f":"IF(ISERROR(VLOOKUP($A678,#REF!,8,0)),0,(VLOOKUP($A678,#REF!,8,0)))","v":0},0,0,0,0,0,0,{"$f":"IF(ISERROR(VLOOKUP($A678,#REF!,8,0)),0,(VLOOKUP($A678,#REF!,8,0)))","v":0},0,0,0,0,0,0,{"$f":"IF(ISERROR(VLOOKUP($A678,#REF!,8,0)),0,(VLOOKUP($A678,#REF!,8,0)))","v":0},0,0,0,0,0,0,{"$f":"IF(ISERROR(VLOOKUP($A678,#REF!,8,0)),0,(VLOOKUP($A678,#REF!,8,0)))","v":0},0,0,0,0,0,0,{"$f":"IF(ISERROR(VLOOKUP($A678,#REF!,8,0)),0,(VLOOKUP($A678,#REF!,8,0)))","v":0},0,0,0,0,0,0,{"$f":"IF(ISERROR(VLOOKUP($A678,#REF!,8,0)),0,(VLOOKUP($A678,#REF!,8,0)))","v":0},0,0,0,0,0,0,{"$f":"IF(ISERROR(VLOOKUP($A678,#REF!,8,0)),0,(VLOOKUP($A678,#REF!,8,0)))","v":0},0,0,0,0,0,0,{"$f":"IF(ISERROR(VLOOKUP($A678,#REF!,8,0)),0,(VLOOKUP($A678,#REF!,8,0)))","v":0},0,0,0,0,0,0,{"$f":"IF(ISERROR(VLOOKUP($A678,#REF!,8,0)),0,(VLOOKUP($A678,#REF!,8,0)))","v":0},0,0,0,0,0,0,{"$f":"IF(ISERROR(VLOOKUP($A678,#REF!,8,0)),0,(VLOOKUP($A678,#REF!,8,0)))","v":0},0,0,0,0,0,0,{"$f":"IF(ISERROR(VLOOKUP($A678,#REF!,8,0)),0,(VLOOKUP($A678,#REF!,8,0)))","v":0},0,0,0,0,0,0,{"$f":"IF(ISERROR(VLOOKUP($A678,#REF!,8,0)),0,(VLOOKUP($A678,#REF!,8,0)))","v":0},0,0,0,0,0,0,{"$f":"IF(ISERROR(VLOOKUP($A678,#REF!,8,0)),0,(VLOOKUP($A678,#REF!,8,0)))","v":0},0,0,0,0,0,0,{"$f":"IF(ISERROR(VLOOKUP($A678,#REF!,8,0)),0,(VLOOKUP($A678,#REF!,8,0)))","v":0},0,0,0,0,0,0,{"$f":"IF(ISERROR(VLOOKUP($A678,#REF!,8,0)),0,(VLOOKUP($A678,#REF!,8,0)))","v":0},0,0,0,0,0,0,{"$f":"IF(ISERROR(VLOOKUP($A678,#REF!,8,0)),0,(VLOOKUP($A678,#REF!,8,0)))","v":0},0,0,0,0,0,0,{"$f":"IF(ISERROR(VLOOKUP($A678,#REF!,8,0)),0,(VLOOKUP($A678,#REF!,8,0)))","v":0},0,0,0,0,0,0,{"$f":"IF(ISERROR(VLOOKUP($A678,#REF!,8,0)),0,(VLOOKUP($A678,#REF!,8,0)))","v":0},0,0,0,0,0,0,{"$f":"IF(ISERROR(VLOOKUP($A678,#REF!,8,0)),0,(VLOOKUP($A678,#REF!,8,0)))","v":0},0,0,0,0,0,0,{"$f":"IF(ISERROR(VLOOKUP($A678,#REF!,8,0)),0,(VLOOKUP($A678,#REF!,8,0)))","v":0},0,0,0,0,0,0,{"$f":"IF(ISERROR(VLOOKUP($A678,#REF!,8,0)),0,(VLOOKUP($A678,#REF!,8,0)))","v":0},0,0,0,0,0,0,{"$f":"IF(ISERROR(VLOOKUP($A678,#REF!,8,0)),0,(VLOOKUP($A678,#REF!,8,0)))","v":0},0,0,0,0,0,0,{"$f":"IF(ISERROR(VLOOKUP($A678,#REF!,8,0)),0,(VLOOKUP($A678,#REF!,8,0)))","v":0},0,0,0,0,0,0,{"$f":"E678*M678","v":0},{"$f":"O678","v":0},{"$error":"#DIV/0!"},0]
["29.01.09","Ponto para interruptor three-way de três teclas,  composto por fiação em cabo de 2,5mm² Prysmian ou equivalente e eletroduto de PVC rígido de 3/4\" com luva de rosca interna, curva e acessórios até o ponto de luz.","pt",6,6,0,35.853760000000001,215.12256000000002,51.290119999999995,307.74071999999995,0,0,87.143879999999996,0,522.86328000000003,null,0,0,0,0,0,null,0,1,0,0,0,0,null,0,1,0,0,0,0,null,0,1,0,0,0,0,null,0,1,0,0,0,0,null,0,1,0,0,0,0,{"$f":"IF(ISERROR(VLOOKUP(A687,'7ª MEDIÇÃO'!$A$5:$J$1048576,8,0)),0,(VLOOKUP(A687,'7ª MEDIÇÃO'!$A$5:$J$1048576,8,0)))","v":0},0,1,0,0,0,0,{"$f":"IF(ISERROR(VLOOKUP(A687,'8ª MEDIÇÃO'!$A$5:$J$1048576,8,0)),0,(VLOOKUP(A687,'8ª MEDIÇÃO'!$A$5:$J$1048576,8,0)))","v":0},0,1,0,0,0,0,{"$f":"IF(ISERROR(VLOOKUP(A687,'9ª MEDIÇÃO'!$A$5:$J$1048576,8,0)),0,(VLOOKUP(A687,'9ª MEDIÇÃO'!$A$5:$J$1048576,8,0)))","v":0},0,1,0,0,0,0,{"$f":"IF(ISERROR(VLOOKUP(A687,#REF!,8,0)),0,(VLOOKUP(A687,#REF!,8,0)))","v":0},0,1,0,0,0,0,{"$f":"IF(ISERROR(VLOOKUP($A687,#REF!,8,0)),0,(VLOOKUP($A687,#REF!,8,0)))","v":0},0,1,0,0,0,0,{"$f":"IF(ISERROR(VLOOKUP($A687,#REF!,8,0)),0,(VLOOKUP($A687,#REF!,8,0)))","v":0},0,1,0,0,0,0,{"$f":"IF(ISERROR(VLOOKUP($A687,#REF!,8,0)),0,(VLOOKUP($A687,#REF!,8,0)))","v":0},0,1,0,0,0,0,{"$f":"IF(ISERROR(VLOOKUP($A687,#REF!,8,0)),0,(VLOOKUP($A687,#REF!,8,0)))","v":0},0,1,0,0,0,0,{"$f":"IF(ISERROR(VLOOKUP($A687,#REF!,8,0)),0,(VLOOKUP($A687,#REF!,8,0)))","v":0},0,1,0,0,0,0,{"$f":"IF(ISERROR(VLOOKUP($A687,#REF!,8,0)),0,(VLOOKUP($A687,#REF!,8,0)))","v":0},0,1,0,0,0,0,{"$f":"IF(ISERROR(VLOOKUP($A687,#REF!,8,0)),0,(VLOOKUP($A687,#REF!,8,0)))","v":0},0,1,0,0,0,0,{"$f":"IF(ISERROR(VLOOKUP($A687,#REF!,8,0)),0,(VLOOKUP($A687,#REF!,8,0)))","v":0},0,1,0,0,0,0,{"$f":"IF(ISERROR(VLOOKUP($A687,#REF!,8,0)),0,(VLOOKUP($A687,#REF!,8,0)))","v":0},0,1,0,0,0,0,{"$f":"IF(ISERROR(VLOOKUP($A687,#REF!,8,0)),0,(VLOOKUP($A687,#REF!,8,0)))","v":0},0,1,0,0,0,0,{"$f":"IF(ISERROR(VLOOKUP($A687,#REF!,8,0)),0,(VLOOKUP($A687,#REF!,8,0)))","v":0},0,1,0,0,0,0,{"$f":"IF(ISERROR(VLOOKUP($A687,#REF!,8,0)),0,(VLOOKUP($A687,#REF!,8,0)))","v":0},0,1,0,0,0,0,{"$f":"IF(ISERROR(VLOOKUP($A687,#REF!,8,0)),0,(VLOOKUP($A687,#REF!,8,0)))","v":0},0,1,0,0,0,0,{"$f":"IF(ISERROR(VLOOKUP($A687,#REF!,8,0)),0,(VLOOKUP($A687,#REF!,8,0)))","v":0},0,1,0,0,0,0,{"$f":"IF(ISERROR(VLOOKUP($A687,#REF!,8,0)),0,(VLOOKUP($A687,#REF!,8,0)))","v":0},0,1,0,0,0,0,{"$f":"IF(ISERROR(VLOOKUP($A687,#REF!,8,0)),0,(VLOOKUP($A687,#REF!,8,0)))","v":0},0,1,0,0,0,0,{"$f":"IF(ISERROR(VLOOKUP($A687,#REF!,8,0)),0,(VLOOKUP($A687,#REF!,8,0)))","v":0},0,1,0,0,0,0,{"$f":"IF(ISERROR(VLOOKUP($A687,#REF!,8,0)),0,(VLOOKUP($A687,#REF!,8,0)))","v":0},0,1,0,0,0,0,{"$f":"IF(ISERROR(VLOOKUP($A687,#REF!,8,0)),0,(VLOOKUP($A687,#REF!,8,0)))","v":0},0,1,0,0,0,0,{"$f":"IF(ISERROR(VLOOKUP($A687,#REF!,8,0)),0,(VLOOKUP($A687,#REF!,8,0)))","v":0},0,1,0,0,0,0,{"$f":"IF(ISERROR(VLOOKUP($A687,#REF!,8,0)),0,(VLOOKUP($A687,#REF!,8,0)))","v":0},0,1,0,0,0,0,{"$f":"IF(ISERROR(VLOOKUP($A687,#REF!,8,0)),0,(VLOOKUP($A687,#REF!,8,0)))","v":0},0,1,0,0,0,0,{"$f":"IF(ISERROR(VLOOKUP($A687,#REF!,8,0)),0,(VLOOKUP($A687,#REF!,8,0)))","v":0},0,1,0,0,0,0,{"$f":"IF(ISERROR(VLOOKUP($A687,#REF!,8,0)),0,(VLOOKUP($A687,#REF!,8,0)))","v":0},0,1,0,0,0,0,{"$f":"IF(ISERROR(VLOOKUP($A687,#REF!,8,0)),0,(VLOOKUP($A687,#REF!,8,0)))","v":0},0,1,0,0,0,0,{"$f":"IF(ISERROR(VLOOKUP($A687,#REF!,8,0)),0,(VLOOKUP($A687,#REF!,8,0)))","v":0},0,1,0,0,0,0,{"$f":"IF(ISERROR(VLOOKUP($A687,#REF!,8,0)),0,(VLOOKUP($A687,#REF!,8,0)))","v":0},0,1,0,0,0,0,{"$f":"IF(ISERROR(VLOOKUP($A687,#REF!,8,0)),0,(VLOOKUP($A687,#REF!,8,0)))","v":0},0,1,0,0,0,0,{"$f":"IF(ISERROR(VLOOKUP($A687,#REF!,8,0)),0,(VLOOKUP($A687,#REF!,8,0)))","v":0},0,1,0,0,0,0,{"$f":"IF(ISERROR(VLOOKUP($A687,#REF!,8,0)),0,(VLOOKUP($A687,#REF!,8,0)))","v":0},0,1,0,0,0,0,{"$f":"IF(ISERROR(VLOOKUP($A687,#REF!,8,0)),0,(VLOOKUP($A687,#REF!,8,0)))","v":0},0,1,0,0,0,0,{"$f":"IF(ISERROR(VLOOKUP($A687,#REF!,8,0)),0,(VLOOKUP($A687,#REF!,8,0)))","v":0},0,1,0,0,0,0,{"$f":"IF(ISERROR(VLOOKUP($A687,#REF!,8,0)),0,(VLOOKUP($A687,#REF!,8,0)))","v":0},0,1,0,0,0,0,{"$f":"IF(ISERROR(VLOOKUP($A687,#REF!,8,0)),0,(VLOOKUP($A687,#REF!,8,0)))","v":0},0,1,0,0,0,0,{"$f":"IF(ISERROR(VLOOKUP($A687,#REF!,8,0)),0,(VLOOKUP($A687,#REF!,8,0)))","v":0},0,1,0,0,0,0,{"$f":"IF(ISERROR(VLOOKUP($A687,#REF!,8,0)),0,(VLOOKUP($A687,#REF!,8,0)))","v":0},0,1,0,0,0,0,{"$f":"IF(ISERROR(VLOOKUP($A687,#REF!,8,0)),0,(VLOOKUP($A687,#REF!,8,0)))","v":0},0,1,0,0,0,0,{"$f":"IF(ISERROR(VLOOKUP($A687,#REF!,8,0)),0,(VLOOKUP($A687,#REF!,8,0)))","v":0},0,1,0,0,0,0,{"$f":"IF(ISERROR(VLOOKUP($A687,#REF!,8,0)),0,(VLOOKUP($A687,#REF!,8,0)))","v":0},0,1,0,0,0,0,{"$f":"IF(ISERROR(VLOOKUP($A687,#REF!,8,0)),0,(VLOOKUP($A687,#REF!,8,0)))","v":0},0,1,0,0,0,0,{"$f":"IF(ISERROR(VLOOKUP($A687,#REF!,8,0)),0,(VLOOKUP($A687,#REF!,8,0)))","v":0},0,1,0,0,0,0,{"$f":"IF(ISERROR(VLOOKUP($A687,#REF!,8,0)),0,(VLOOKUP($A687,#REF!,8,0)))","v":0},0,1,0,0,0,0,{"$f":"IF(ISERROR(VLOOKUP($A687,#REF!,8,0)),0,(VLOOKUP($A687,#REF!,8,0)))","v":0},0,1,0,0,0,0,{"$f":"IF(ISERROR(VLOOKUP($A687,#REF!,8,0)),0,(VLOOKUP($A687,#REF!,8,0)))","v":0},0,1,0,0,0,0,{"$f":"IF(ISERROR(VLOOKUP($A687,#REF!,8,0)),0,(VLOOKUP($A687,#REF!,8,0)))","v":0},0,1,0,0,0,0,522.86328000000003,522.86328000000003,1,0]
["29.01.18","Interruptor de embutir  three-way (paralelo) de duas teclas para caixa 4x2 pol., composto por suporte, placa e módulo na linha Pialplus ou equivalente, na cor bege e demais acessórios, inclusive instalação.","un",4,4,0,26.595470000000002,106.38188000000001,7.4888799999999991,29.955519999999996,0,0,34.084350000000001,0,136.3374,null,0,0,0,0,0,null,0,1,0,0,0,0,null,0,1,0,0,0,0,null,0,1,0,0,0,0,null,0,1,0,0,0,0,null,0,1,0,0,0,0,{"$f":"IF(ISERROR(VLOOKUP(A696,'7ª MEDIÇÃO'!$A$5:$J$1048576,8,0)),0,(VLOOKUP(A696,'7ª MEDIÇÃO'!$A$5:$J$1048576,8,0)))","v":0},0,1,0,0,0,0,{"$f":"IF(ISERROR(VLOOKUP(A696,'8ª MEDIÇÃO'!$A$5:$J$1048576,8,0)),0,(VLOOKUP(A696,'8ª MEDIÇÃO'!$A$5:$J$1048576,8,0)))","v":0},0,1,0,0,0,0,{"$f":"IF(ISERROR(VLOOKUP(A696,'9ª MEDIÇÃO'!$A$5:$J$1048576,8,0)),0,(VLOOKUP(A696,'9ª MEDIÇÃO'!$A$5:$J$1048576,8,0)))","v":0},0,1,0,0,0,0,{"$f":"IF(ISERROR(VLOOKUP(A696,#REF!,8,0)),0,(VLOOKUP(A696,#REF!,8,0)))","v":0},0,1,0,0,0,0,{"$f":"IF(ISERROR(VLOOKUP($A696,#REF!,8,0)),0,(VLOOKUP($A696,#REF!,8,0)))","v":0},0,1,0,0,0,0,{"$f":"IF(ISERROR(VLOOKUP($A696,#REF!,8,0)),0,(VLOOKUP($A696,#REF!,8,0)))","v":0},0,1,0,0,0,0,{"$f":"IF(ISERROR(VLOOKUP($A696,#REF!,8,0)),0,(VLOOKUP($A696,#REF!,8,0)))","v":0},0,1,0,0,0,0,{"$f":"IF(ISERROR(VLOOKUP($A696,#REF!,8,0)),0,(VLOOKUP($A696,#REF!,8,0)))","v":0},0,1,0,0,0,0,{"$f":"IF(ISERROR(VLOOKUP($A696,#REF!,8,0)),0,(VLOOKUP($A696,#REF!,8,0)))","v":0},0,1,0,0,0,0,{"$f":"IF(ISERROR(VLOOKUP($A696,#REF!,8,0)),0,(VLOOKUP($A696,#REF!,8,0)))","v":0},0,1,0,0,0,0,{"$f":"IF(ISERROR(VLOOKUP($A696,#REF!,8,0)),0,(VLOOKUP($A696,#REF!,8,0)))","v":0},0,1,0,0,0,0,{"$f":"IF(ISERROR(VLOOKUP($A696,#REF!,8,0)),0,(VLOOKUP($A696,#REF!,8,0)))","v":0},0,1,0,0,0,0,{"$f":"IF(ISERROR(VLOOKUP($A696,#REF!,8,0)),0,(VLOOKUP($A696,#REF!,8,0)))","v":0},0,1,0,0,0,0,{"$f":"IF(ISERROR(VLOOKUP($A696,#REF!,8,0)),0,(VLOOKUP($A696,#REF!,8,0)))","v":0},0,1,0,0,0,0,{"$f":"IF(ISERROR(VLOOKUP($A696,#REF!,8,0)),0,(VLOOKUP($A696,#REF!,8,0)))","v":0},0,1,0,0,0,0,{"$f":"IF(ISERROR(VLOOKUP($A696,#REF!,8,0)),0,(VLOOKUP($A696,#REF!,8,0)))","v":0},0,1,0,0,0,0,{"$f":"IF(ISERROR(VLOOKUP($A696,#REF!,8,0)),0,(VLOOKUP($A696,#REF!,8,0)))","v":0},0,1,0,0,0,0,{"$f":"IF(ISERROR(VLOOKUP($A696,#REF!,8,0)),0,(VLOOKUP($A696,#REF!,8,0)))","v":0},0,1,0,0,0,0,{"$f":"IF(ISERROR(VLOOKUP($A696,#REF!,8,0)),0,(VLOOKUP($A696,#REF!,8,0)))","v":0},0,1,0,0,0,0,{"$f":"IF(ISERROR(VLOOKUP($A696,#REF!,8,0)),0,(VLOOKUP($A696,#REF!,8,0)))","v":0},0,1,0,0,0,0,{"$f":"IF(ISERROR(VLOOKUP($A696,#REF!,8,0)),0,(VLOOKUP($A696,#REF!,8,0)))","v":0},0,1,0,0,0,0,{"$f":"IF(ISERROR(VLOOKUP($A696,#REF!,8,0)),0,(VLOOKUP($A696,#REF!,8,0)))","v":0},0,1,0,0,0,0,{"$f":"IF(ISERROR(VLOOKUP($A696,#REF!,8,0)),0,(VLOOKUP($A696,#REF!,8,0)))","v":0},0,1,0,0,0,0,{"$f":"IF(ISERROR(VLOOKUP($A696,#REF!,8,0)),0,(VLOOKUP($A696,#REF!,8,0)))","v":0},0,1,0,0,0,0,{"$f":"IF(ISERROR(VLOOKUP($A696,#REF!,8,0)),0,(VLOOKUP($A696,#REF!,8,0)))","v":0},0,1,0,0,0,0,{"$f":"IF(ISERROR(VLOOKUP($A696,#REF!,8,0)),0,(VLOOKUP($A696,#REF!,8,0)))","v":0},0,1,0,0,0,0,{"$f":"IF(ISERROR(VLOOKUP($A696,#REF!,8,0)),0,(VLOOKUP($A696,#REF!,8,0)))","v":0},0,1,0,0,0,0,{"$f":"IF(ISERROR(VLOOKUP($A696,#REF!,8,0)),0,(VLOOKUP($A696,#REF!,8,0)))","v":0},0,1,0,0,0,0,{"$f":"IF(ISERROR(VLOOKUP($A696,#REF!,8,0)),0,(VLOOKUP($A696,#REF!,8,0)))","v":0},0,1,0,0,0,0,{"$f":"IF(ISERROR(VLOOKUP($A696,#REF!,8,0)),0,(VLOOKUP($A696,#REF!,8,0)))","v":0},0,1,0,0,0,0,{"$f":"IF(ISERROR(VLOOKUP($A696,#REF!,8,0)),0,(VLOOKUP($A696,#REF!,8,0)))","v":0},0,1,0,0,0,0,{"$f":"IF(ISERROR(VLOOKUP($A696,#REF!,8,0)),0,(VLOOKUP($A696,#REF!,8,0)))","v":0},0,1,0,0,0,0,{"$f":"IF(ISERROR(VLOOKUP($A696,#REF!,8,0)),0,(VLOOKUP($A696,#REF!,8,0)))","v":0},0,1,0,0,0,0,{"$f":"IF(ISERROR(VLOOKUP($A696,#REF!,8,0)),0,(VLOOKUP($A696,#REF!,8,0)))","v":0},0,1,0,0,0,0,{"$f":"IF(ISERROR(VLOOKUP($A696,#REF!,8,0)),0,(VLOOKUP($A696,#REF!,8,0)))","v":0},0,1,0,0,0,0,{"$f":"IF(ISERROR(VLOOKUP($A696,#REF!,8,0)),0,(VLOOKUP($A696,#REF!,8,0)))","v":0},0,1,0,0,0,0,{"$f":"IF(ISERROR(VLOOKUP($A696,#REF!,8,0)),0,(VLOOKUP($A696,#REF!,8,0)))","v":0},0,1,0,0,0,0,{"$f":"IF(ISERROR(VLOOKUP($A696,#REF!,8,0)),0,(VLOOKUP($A696,#REF!,8,0)))","v":0},0,1,0,0,0,0,{"$f":"IF(ISERROR(VLOOKUP($A696,#REF!,8,0)),0,(VLOOKUP($A696,#REF!,8,0)))","v":0},0,1,0,0,0,0,{"$f":"IF(ISERROR(VLOOKUP($A696,#REF!,8,0)),0,(VLOOKUP($A696,#REF!,8,0)))","v":0},0,1,0,0,0,0,{"$f":"IF(ISERROR(VLOOKUP($A696,#REF!,8,0)),0,(VLOOKUP($A696,#REF!,8,0)))","v":0},0,1,0,0,0,0,{"$f":"IF(ISERROR(VLOOKUP($A696,#REF!,8,0)),0,(VLOOKUP($A696,#REF!,8,0)))","v":0},0,1,0,0,0,0,{"$f":"IF(ISERROR(VLOOKUP($A696,#REF!,8,0)),0,(VLOOKUP($A696,#REF!,8,0)))","v":0},0,1,0,0,0,0,{"$f":"IF(ISERROR(VLOOKUP($A696,#REF!,8,0)),0,(VLOOKUP($A696,#REF!,8,0)))","v":0},0,1,0,0,0,0,{"$f":"IF(ISERROR(VLOOKUP($A696,#REF!,8,0)),0,(VLOOKUP($A696,#REF!,8,0)))","v":0},0,1,0,0,0,0,{"$f":"IF(ISERROR(VLOOKUP($A696,#REF!,8,0)),0,(VLOOKUP($A696,#REF!,8,0)))","v":0},0,1,0,0,0,0,{"$f":"IF(ISERROR(VLOOKUP($A696,#REF!,8,0)),0,(VLOOKUP($A696,#REF!,8,0)))","v":0},0,1,0,0,0,0,{"$f":"IF(ISERROR(VLOOKUP($A696,#REF!,8,0)),0,(VLOOKUP($A696,#REF!,8,0)))","v":0},0,1,0,0,0,0,{"$f":"IF(ISERROR(VLOOKUP($A696,#REF!,8,0)),0,(VLOOKUP($A696,#REF!,8,0)))","v":0},0,1,0,0,0,0,136.3374,136.3374,1,0]
["29.01.20","Tomada em caixa de sobrepor, para uma tomada20A, caixa de sobrepor, placas e módulos na linha sistema X Pialou equivalente.","un",4,4,0,11.652472000000001,46.609888000000005,7.2400800000000007,28.960320000000003,0,0,18.892552000000002,0,75.570208000000008,null,0,0,0,0,0,null,0,1,0,0,0,0,null,0,1,0,0,0,0,null,0,1,0,0,0,0,null,0,1,0,0,0,0,null,0,1,0,0,0,0,{"$f":"IF(ISERROR(VLOOKUP(A698,'7ª MEDIÇÃO'!$A$5:$J$1048576,8,0)),0,(VLOOKUP(A698,'7ª MEDIÇÃO'!$A$5:$J$1048576,8,0)))","v":0},0,1,0,0,0,0,{"$f":"IF(ISERROR(VLOOKUP(A698,'8ª MEDIÇÃO'!$A$5:$J$1048576,8,0)),0,(VLOOKUP(A698,'8ª MEDIÇÃO'!$A$5:$J$1048576,8,0)))","v":0},0,1,0,0,0,0,{"$f":"IF(ISERROR(VLOOKUP(A698,'9ª MEDIÇÃO'!$A$5:$J$1048576,8,0)),0,(VLOOKUP(A698,'9ª MEDIÇÃO'!$A$5:$J$1048576,8,0)))","v":0},0,1,0,0,0,0,{"$f":"IF(ISERROR(VLOOKUP(A698,#REF!,8,0)),0,(VLOOKUP(A698,#REF!,8,0)))","v":0},0,1,0,0,0,0,{"$f":"IF(ISERROR(VLOOKUP($A698,#REF!,8,0)),0,(VLOOKUP($A698,#REF!,8,0)))","v":0},0,1,0,0,0,0,{"$f":"IF(ISERROR(VLOOKUP($A698,#REF!,8,0)),0,(VLOOKUP($A698,#REF!,8,0)))","v":0},0,1,0,0,0,0,{"$f":"IF(ISERROR(VLOOKUP($A698,#REF!,8,0)),0,(VLOOKUP($A698,#REF!,8,0)))","v":0},0,1,0,0,0,0,{"$f":"IF(ISERROR(VLOOKUP($A698,#REF!,8,0)),0,(VLOOKUP($A698,#REF!,8,0)))","v":0},0,1,0,0,0,0,{"$f":"IF(ISERROR(VLOOKUP($A698,#REF!,8,0)),0,(VLOOKUP($A698,#REF!,8,0)))","v":0},0,1,0,0,0,0,{"$f":"IF(ISERROR(VLOOKUP($A698,#REF!,8,0)),0,(VLOOKUP($A698,#REF!,8,0)))","v":0},0,1,0,0,0,0,{"$f":"IF(ISERROR(VLOOKUP($A698,#REF!,8,0)),0,(VLOOKUP($A698,#REF!,8,0)))","v":0},0,1,0,0,0,0,{"$f":"IF(ISERROR(VLOOKUP($A698,#REF!,8,0)),0,(VLOOKUP($A698,#REF!,8,0)))","v":0},0,1,0,0,0,0,{"$f":"IF(ISERROR(VLOOKUP($A698,#REF!,8,0)),0,(VLOOKUP($A698,#REF!,8,0)))","v":0},0,1,0,0,0,0,{"$f":"IF(ISERROR(VLOOKUP($A698,#REF!,8,0)),0,(VLOOKUP($A698,#REF!,8,0)))","v":0},0,1,0,0,0,0,{"$f":"IF(ISERROR(VLOOKUP($A698,#REF!,8,0)),0,(VLOOKUP($A698,#REF!,8,0)))","v":0},0,1,0,0,0,0,{"$f":"IF(ISERROR(VLOOKUP($A698,#REF!,8,0)),0,(VLOOKUP($A698,#REF!,8,0)))","v":0},0,1,0,0,0,0,{"$f":"IF(ISERROR(VLOOKUP($A698,#REF!,8,0)),0,(VLOOKUP($A698,#REF!,8,0)))","v":0},0,1,0,0,0,0,{"$f":"IF(ISERROR(VLOOKUP($A698,#REF!,8,0)),0,(VLOOKUP($A698,#REF!,8,0)))","v":0},0,1,0,0,0,0,{"$f":"IF(ISERROR(VLOOKUP($A698,#REF!,8,0)),0,(VLOOKUP($A698,#REF!,8,0)))","v":0},0,1,0,0,0,0,{"$f":"IF(ISERROR(VLOOKUP($A698,#REF!,8,0)),0,(VLOOKUP($A698,#REF!,8,0)))","v":0},0,1,0,0,0,0,{"$f":"IF(ISERROR(VLOOKUP($A698,#REF!,8,0)),0,(VLOOKUP($A698,#REF!,8,0)))","v":0},0,1,0,0,0,0,{"$f":"IF(ISERROR(VLOOKUP($A698,#REF!,8,0)),0,(VLOOKUP($A698,#REF!,8,0)))","v":0},0,1,0,0,0,0,{"$f":"IF(ISERROR(VLOOKUP($A698,#REF!,8,0)),0,(VLOOKUP($A698,#REF!,8,0)))","v":0},0,1,0,0,0,0,{"$f":"IF(ISERROR(VLOOKUP($A698,#REF!,8,0)),0,(VLOOKUP($A698,#REF!,8,0)))","v":0},0,1,0,0,0,0,{"$f":"IF(ISERROR(VLOOKUP($A698,#REF!,8,0)),0,(VLOOKUP($A698,#REF!,8,0)))","v":0},0,1,0,0,0,0,{"$f":"IF(ISERROR(VLOOKUP($A698,#REF!,8,0)),0,(VLOOKUP($A698,#REF!,8,0)))","v":0},0,1,0,0,0,0,{"$f":"IF(ISERROR(VLOOKUP($A698,#REF!,8,0)),0,(VLOOKUP($A698,#REF!,8,0)))","v":0},0,1,0,0,0,0,{"$f":"IF(ISERROR(VLOOKUP($A698,#REF!,8,0)),0,(VLOOKUP($A698,#REF!,8,0)))","v":0},0,1,0,0,0,0,{"$f":"IF(ISERROR(VLOOKUP($A698,#REF!,8,0)),0,(VLOOKUP($A698,#REF!,8,0)))","v":0},0,1,0,0,0,0,{"$f":"IF(ISERROR(VLOOKUP($A698,#REF!,8,0)),0,(VLOOKUP($A698,#REF!,8,0)))","v":0},0,1,0,0,0,0,{"$f":"IF(ISERROR(VLOOKUP($A698,#REF!,8,0)),0,(VLOOKUP($A698,#REF!,8,0)))","v":0},0,1,0,0,0,0,{"$f":"IF(ISERROR(VLOOKUP($A698,#REF!,8,0)),0,(VLOOKUP($A698,#REF!,8,0)))","v":0},0,1,0,0,0,0,{"$f":"IF(ISERROR(VLOOKUP($A698,#REF!,8,0)),0,(VLOOKUP($A698,#REF!,8,0)))","v":0},0,1,0,0,0,0,{"$f":"IF(ISERROR(VLOOKUP($A698,#REF!,8,0)),0,(VLOOKUP($A698,#REF!,8,0)))","v":0},0,1,0,0,0,0,{"$f":"IF(ISERROR(VLOOKUP($A698,#REF!,8,0)),0,(VLOOKUP($A698,#REF!,8,0)))","v":0},0,1,0,0,0,0,{"$f":"IF(ISERROR(VLOOKUP($A698,#REF!,8,0)),0,(VLOOKUP($A698,#REF!,8,0)))","v":0},0,1,0,0,0,0,{"$f":"IF(ISERROR(VLOOKUP($A698,#REF!,8,0)),0,(VLOOKUP($A698,#REF!,8,0)))","v":0},0,1,0,0,0,0,{"$f":"IF(ISERROR(VLOOKUP($A698,#REF!,8,0)),0,(VLOOKUP($A698,#REF!,8,0)))","v":0},0,1,0,0,0,0,{"$f":"IF(ISERROR(VLOOKUP($A698,#REF!,8,0)),0,(VLOOKUP($A698,#REF!,8,0)))","v":0},0,1,0,0,0,0,{"$f":"IF(ISERROR(VLOOKUP($A698,#REF!,8,0)),0,(VLOOKUP($A698,#REF!,8,0)))","v":0},0,1,0,0,0,0,{"$f":"IF(ISERROR(VLOOKUP($A698,#REF!,8,0)),0,(VLOOKUP($A698,#REF!,8,0)))","v":0},0,1,0,0,0,0,{"$f":"IF(ISERROR(VLOOKUP($A698,#REF!,8,0)),0,(VLOOKUP($A698,#REF!,8,0)))","v":0},0,1,0,0,0,0,{"$f":"IF(ISERROR(VLOOKUP($A698,#REF!,8,0)),0,(VLOOKUP($A698,#REF!,8,0)))","v":0},0,1,0,0,0,0,{"$f":"IF(ISERROR(VLOOKUP($A698,#REF!,8,0)),0,(VLOOKUP($A698,#REF!,8,0)))","v":0},0,1,0,0,0,0,{"$f":"IF(ISERROR(VLOOKUP($A698,#REF!,8,0)),0,(VLOOKUP($A698,#REF!,8,0)))","v":0},0,1,0,0,0,0,{"$f":"IF(ISERROR(VLOOKUP($A698,#REF!,8,0)),0,(VLOOKUP($A698,#REF!,8,0)))","v":0},0,1,0,0,0,0,{"$f":"IF(ISERROR(VLOOKUP($A698,#REF!,8,0)),0,(VLOOKUP($A698,#REF!,8,0)))","v":0},0,1,0,0,0,0,{"$f":"IF(ISERROR(VLOOKUP($A698,#REF!,8,0)),0,(VLOOKUP($A698,#REF!,8,0)))","v":0},0,1,0,0,0,0,{"$f":"IF(ISERROR(VLOOKUP($A698,#REF!,8,0)),0,(VLOOKUP($A698,#REF!,8,0)))","v":0},0,1,0,0,0,0,75.570208000000008,75.570208000000008,1,0]
["29.02.05","Fornecimento e instalação de arandela de embutir para uso externo  ou interno (tartaruga), fabricada em alumínio pintado, vidro plano fosco, com grade de proteção.","un",15,15,0,40.028835999999998,600.43254000000002,24.954639999999998,374.31959999999998,0,0,64.983475999999996,0,974.75213999999994,null,0,0,0,0,0,null,0,1,0,0,0,0,null,0,1,0,0,0,0,null,0,1,0,0,0,0,null,0,1,0,0,0,0,null,0,1,0,0,0,0,{"$f":"IF(ISERROR(VLOOKUP(A707,'7ª MEDIÇÃO'!$A$5:$J$1048576,8,0)),0,(VLOOKUP(A707,'7ª MEDIÇÃO'!$A$5:$J$1048576,8,0)))","v":0},0,1,0,0,0,0,{"$f":"IF(ISERROR(VLOOKUP(A707,'8ª MEDIÇÃO'!$A$5:$J$1048576,8,0)),0,(VLOOKUP(A707,'8ª MEDIÇÃO'!$A$5:$J$1048576,8,0)))","v":0},0,1,0,0,0,0,{"$f":"IF(ISERROR(VLOOKUP(A707,'9ª MEDIÇÃO'!$A$5:$J$1048576,8,0)),0,(VLOOKUP(A707,'9ª MEDIÇÃO'!$A$5:$J$1048576,8,0)))","v":0},0,1,0,0,0,0,{"$f":"IF(ISERROR(VLOOKUP(A707,#REF!,8,0)),0,(VLOOKUP(A707,#REF!,8,0)))","v":0},0,1,0,0,0,0,{"$f":"IF(ISERROR(VLOOKUP($A707,#REF!,8,0)),0,(VLOOKUP($A707,#REF!,8,0)))","v":0},0,1,0,0,0,0,{"$f":"IF(ISERROR(VLOOKUP($A707,#REF!,8,0)),0,(VLOOKUP($A707,#REF!,8,0)))","v":0},0,1,0,0,0,0,{"$f":"IF(ISERROR(VLOOKUP($A707,#REF!,8,0)),0,(VLOOKUP($A707,#REF!,8,0)))","v":0},0,1,0,0,0,0,{"$f":"IF(ISERROR(VLOOKUP($A707,#REF!,8,0)),0,(VLOOKUP($A707,#REF!,8,0)))","v":0},0,1,0,0,0,0,{"$f":"IF(ISERROR(VLOOKUP($A707,#REF!,8,0)),0,(VLOOKUP($A707,#REF!,8,0)))","v":0},0,1,0,0,0,0,{"$f":"IF(ISERROR(VLOOKUP($A707,#REF!,8,0)),0,(VLOOKUP($A707,#REF!,8,0)))","v":0},0,1,0,0,0,0,{"$f":"IF(ISERROR(VLOOKUP($A707,#REF!,8,0)),0,(VLOOKUP($A707,#REF!,8,0)))","v":0},0,1,0,0,0,0,{"$f":"IF(ISERROR(VLOOKUP($A707,#REF!,8,0)),0,(VLOOKUP($A707,#REF!,8,0)))","v":0},0,1,0,0,0,0,{"$f":"IF(ISERROR(VLOOKUP($A707,#REF!,8,0)),0,(VLOOKUP($A707,#REF!,8,0)))","v":0},0,1,0,0,0,0,{"$f":"IF(ISERROR(VLOOKUP($A707,#REF!,8,0)),0,(VLOOKUP($A707,#REF!,8,0)))","v":0},0,1,0,0,0,0,{"$f":"IF(ISERROR(VLOOKUP($A707,#REF!,8,0)),0,(VLOOKUP($A707,#REF!,8,0)))","v":0},0,1,0,0,0,0,{"$f":"IF(ISERROR(VLOOKUP($A707,#REF!,8,0)),0,(VLOOKUP($A707,#REF!,8,0)))","v":0},0,1,0,0,0,0,{"$f":"IF(ISERROR(VLOOKUP($A707,#REF!,8,0)),0,(VLOOKUP($A707,#REF!,8,0)))","v":0},0,1,0,0,0,0,{"$f":"IF(ISERROR(VLOOKUP($A707,#REF!,8,0)),0,(VLOOKUP($A707,#REF!,8,0)))","v":0},0,1,0,0,0,0,{"$f":"IF(ISERROR(VLOOKUP($A707,#REF!,8,0)),0,(VLOOKUP($A707,#REF!,8,0)))","v":0},0,1,0,0,0,0,{"$f":"IF(ISERROR(VLOOKUP($A707,#REF!,8,0)),0,(VLOOKUP($A707,#REF!,8,0)))","v":0},0,1,0,0,0,0,{"$f":"IF(ISERROR(VLOOKUP($A707,#REF!,8,0)),0,(VLOOKUP($A707,#REF!,8,0)))","v":0},0,1,0,0,0,0,{"$f":"IF(ISERROR(VLOOKUP($A707,#REF!,8,0)),0,(VLOOKUP($A707,#REF!,8,0)))","v":0},0,1,0,0,0,0,{"$f":"IF(ISERROR(VLOOKUP($A707,#REF!,8,0)),0,(VLOOKUP($A707,#REF!,8,0)))","v":0},0,1,0,0,0,0,{"$f":"IF(ISERROR(VLOOKUP($A707,#REF!,8,0)),0,(VLOOKUP($A707,#REF!,8,0)))","v":0},0,1,0,0,0,0,{"$f":"IF(ISERROR(VLOOKUP($A707,#REF!,8,0)),0,(VLOOKUP($A707,#REF!,8,0)))","v":0},0,1,0,0,0,0,{"$f":"IF(ISERROR(VLOOKUP($A707,#REF!,8,0)),0,(VLOOKUP($A707,#REF!,8,0)))","v":0},0,1,0,0,0,0,{"$f":"IF(ISERROR(VLOOKUP($A707,#REF!,8,0)),0,(VLOOKUP($A707,#REF!,8,0)))","v":0},0,1,0,0,0,0,{"$f":"IF(ISERROR(VLOOKUP($A707,#REF!,8,0)),0,(VLOOKUP($A707,#REF!,8,0)))","v":0},0,1,0,0,0,0,{"$f":"IF(ISERROR(VLOOKUP($A707,#REF!,8,0)),0,(VLOOKUP($A707,#REF!,8,0)))","v":0},0,1,0,0,0,0,{"$f":"IF(ISERROR(VLOOKUP($A707,#REF!,8,0)),0,(VLOOKUP($A707,#REF!,8,0)))","v":0},0,1,0,0,0,0,{"$f":"IF(ISERROR(VLOOKUP($A707,#REF!,8,0)),0,(VLOOKUP($A707,#REF!,8,0)))","v":0},0,1,0,0,0,0,{"$f":"IF(ISERROR(VLOOKUP($A707,#REF!,8,0)),0,(VLOOKUP($A707,#REF!,8,0)))","v":0},0,1,0,0,0,0,{"$f":"IF(ISERROR(VLOOKUP($A707,#REF!,8,0)),0,(VLOOKUP($A707,#REF!,8,0)))","v":0},0,1,0,0,0,0,{"$f":"IF(ISERROR(VLOOKUP($A707,#REF!,8,0)),0,(VLOOKUP($A707,#REF!,8,0)))","v":0},0,1,0,0,0,0,{"$f":"IF(ISERROR(VLOOKUP($A707,#REF!,8,0)),0,(VLOOKUP($A707,#REF!,8,0)))","v":0},0,1,0,0,0,0,{"$f":"IF(ISERROR(VLOOKUP($A707,#REF!,8,0)),0,(VLOOKUP($A707,#REF!,8,0)))","v":0},0,1,0,0,0,0,{"$f":"IF(ISERROR(VLOOKUP($A707,#REF!,8,0)),0,(VLOOKUP($A707,#REF!,8,0)))","v":0},0,1,0,0,0,0,{"$f":"IF(ISERROR(VLOOKUP($A707,#REF!,8,0)),0,(VLOOKUP($A707,#REF!,8,0)))","v":0},0,1,0,0,0,0,{"$f":"IF(ISERROR(VLOOKUP($A707,#REF!,8,0)),0,(VLOOKUP($A707,#REF!,8,0)))","v":0},0,1,0,0,0,0,{"$f":"IF(ISERROR(VLOOKUP($A707,#REF!,8,0)),0,(VLOOKUP($A707,#REF!,8,0)))","v":0},0,1,0,0,0,0,{"$f":"IF(ISERROR(VLOOKUP($A707,#REF!,8,0)),0,(VLOOKUP($A707,#REF!,8,0)))","v":0},0,1,0,0,0,0,{"$f":"IF(ISERROR(VLOOKUP($A707,#REF!,8,0)),0,(VLOOKUP($A707,#REF!,8,0)))","v":0},0,1,0,0,0,0,{"$f":"IF(ISERROR(VLOOKUP($A707,#REF!,8,0)),0,(VLOOKUP($A707,#REF!,8,0)))","v":0},0,1,0,0,0,0,{"$f":"IF(ISERROR(VLOOKUP($A707,#REF!,8,0)),0,(VLOOKUP($A707,#REF!,8,0)))","v":0},0,1,0,0,0,0,{"$f":"IF(ISERROR(VLOOKUP($A707,#REF!,8,0)),0,(VLOOKUP($A707,#REF!,8,0)))","v":0},0,1,0,0,0,0,{"$f":"IF(ISERROR(VLOOKUP($A707,#REF!,8,0)),0,(VLOOKUP($A707,#REF!,8,0)))","v":0},0,1,0,0,0,0,{"$f":"IF(ISERROR(VLOOKUP($A707,#REF!,8,0)),0,(VLOOKUP($A707,#REF!,8,0)))","v":0},0,1,0,0,0,0,{"$f":"IF(ISERROR(VLOOKUP($A707,#REF!,8,0)),0,(VLOOKUP($A707,#REF!,8,0)))","v":0},0,1,0,0,0,0,{"$f":"IF(ISERROR(VLOOKUP($A707,#REF!,8,0)),0,(VLOOKUP($A707,#REF!,8,0)))","v":0},0,1,0,0,0,0,974.75213999999994,974.75213999999994,1,0]
["29.03.04","Fornecimento e instalação de eletrocalha perfurada, dim (100x100)mm, inclusive acessórios de derivação e fixação.","m",37.1,37.1,0,28.954270000000001,1074.2034170000002,28.935440000000003,1073.5048240000001,0,0,57.889710000000008,0,2147.7082410000003,null,0,0,0,0,0,null,0,1,0,0,0,0,null,0,1,0,0,0,0,null,0,1,0,0,0,0,null,0,1,0,0,0,0,null,0,1,0,0,0,0,{"$f":"IF(ISERROR(VLOOKUP(A716,'7ª MEDIÇÃO'!$A$5:$J$1048576,8,0)),0,(VLOOKUP(A716,'7ª MEDIÇÃO'!$A$5:$J$1048576,8,0)))","v":0},0,1,0,0,0,0,{"$f":"IF(ISERROR(VLOOKUP(A716,'8ª MEDIÇÃO'!$A$5:$J$1048576,8,0)),0,(VLOOKUP(A716,'8ª MEDIÇÃO'!$A$5:$J$1048576,8,0)))","v":0},0,1,0,0,0,0,{"$f":"IF(ISERROR(VLOOKUP(A716,'9ª MEDIÇÃO'!$A$5:$J$1048576,8,0)),0,(VLOOKUP(A716,'9ª MEDIÇÃO'!$A$5:$J$1048576,8,0)))","v":0},0,1,0,0,0,0,{"$f":"IF(ISERROR(VLOOKUP(A716,#REF!,8,0)),0,(VLOOKUP(A716,#REF!,8,0)))","v":0},0,1,0,0,0,0,{"$f":"IF(ISERROR(VLOOKUP($A716,#REF!,8,0)),0,(VLOOKUP($A716,#REF!,8,0)))","v":0},0,1,0,0,0,0,{"$f":"IF(ISERROR(VLOOKUP($A716,#REF!,8,0)),0,(VLOOKUP($A716,#REF!,8,0)))","v":0},0,1,0,0,0,0,{"$f":"IF(ISERROR(VLOOKUP($A716,#REF!,8,0)),0,(VLOOKUP($A716,#REF!,8,0)))","v":0},0,1,0,0,0,0,{"$f":"IF(ISERROR(VLOOKUP($A716,#REF!,8,0)),0,(VLOOKUP($A716,#REF!,8,0)))","v":0},0,1,0,0,0,0,{"$f":"IF(ISERROR(VLOOKUP($A716,#REF!,8,0)),0,(VLOOKUP($A716,#REF!,8,0)))","v":0},0,1,0,0,0,0,{"$f":"IF(ISERROR(VLOOKUP($A716,#REF!,8,0)),0,(VLOOKUP($A716,#REF!,8,0)))","v":0},0,1,0,0,0,0,{"$f":"IF(ISERROR(VLOOKUP($A716,#REF!,8,0)),0,(VLOOKUP($A716,#REF!,8,0)))","v":0},0,1,0,0,0,0,{"$f":"IF(ISERROR(VLOOKUP($A716,#REF!,8,0)),0,(VLOOKUP($A716,#REF!,8,0)))","v":0},0,1,0,0,0,0,{"$f":"IF(ISERROR(VLOOKUP($A716,#REF!,8,0)),0,(VLOOKUP($A716,#REF!,8,0)))","v":0},0,1,0,0,0,0,{"$f":"IF(ISERROR(VLOOKUP($A716,#REF!,8,0)),0,(VLOOKUP($A716,#REF!,8,0)))","v":0},0,1,0,0,0,0,{"$f":"IF(ISERROR(VLOOKUP($A716,#REF!,8,0)),0,(VLOOKUP($A716,#REF!,8,0)))","v":0},0,1,0,0,0,0,{"$f":"IF(ISERROR(VLOOKUP($A716,#REF!,8,0)),0,(VLOOKUP($A716,#REF!,8,0)))","v":0},0,1,0,0,0,0,{"$f":"IF(ISERROR(VLOOKUP($A716,#REF!,8,0)),0,(VLOOKUP($A716,#REF!,8,0)))","v":0},0,1,0,0,0,0,{"$f":"IF(ISERROR(VLOOKUP($A716,#REF!,8,0)),0,(VLOOKUP($A716,#REF!,8,0)))","v":0},0,1,0,0,0,0,{"$f":"IF(ISERROR(VLOOKUP($A716,#REF!,8,0)),0,(VLOOKUP($A716,#REF!,8,0)))","v":0},0,1,0,0,0,0,{"$f":"IF(ISERROR(VLOOKUP($A716,#REF!,8,0)),0,(VLOOKUP($A716,#REF!,8,0)))","v":0},0,1,0,0,0,0,{"$f":"IF(ISERROR(VLOOKUP($A716,#REF!,8,0)),0,(VLOOKUP($A716,#REF!,8,0)))","v":0},0,1,0,0,0,0,{"$f":"IF(ISERROR(VLOOKUP($A716,#REF!,8,0)),0,(VLOOKUP($A716,#REF!,8,0)))","v":0},0,1,0,0,0,0,{"$f":"IF(ISERROR(VLOOKUP($A716,#REF!,8,0)),0,(VLOOKUP($A716,#REF!,8,0)))","v":0},0,1,0,0,0,0,{"$f":"IF(ISERROR(VLOOKUP($A716,#REF!,8,0)),0,(VLOOKUP($A716,#REF!,8,0)))","v":0},0,1,0,0,0,0,{"$f":"IF(ISERROR(VLOOKUP($A716,#REF!,8,0)),0,(VLOOKUP($A716,#REF!,8,0)))","v":0},0,1,0,0,0,0,{"$f":"IF(ISERROR(VLOOKUP($A716,#REF!,8,0)),0,(VLOOKUP($A716,#REF!,8,0)))","v":0},0,1,0,0,0,0,{"$f":"IF(ISERROR(VLOOKUP($A716,#REF!,8,0)),0,(VLOOKUP($A716,#REF!,8,0)))","v":0},0,1,0,0,0,0,{"$f":"IF(ISERROR(VLOOKUP($A716,#REF!,8,0)),0,(VLOOKUP($A716,#REF!,8,0)))","v":0},0,1,0,0,0,0,{"$f":"IF(ISERROR(VLOOKUP($A716,#REF!,8,0)),0,(VLOOKUP($A716,#REF!,8,0)))","v":0},0,1,0,0,0,0,{"$f":"IF(ISERROR(VLOOKUP($A716,#REF!,8,0)),0,(VLOOKUP($A716,#REF!,8,0)))","v":0},0,1,0,0,0,0,{"$f":"IF(ISERROR(VLOOKUP($A716,#REF!,8,0)),0,(VLOOKUP($A716,#REF!,8,0)))","v":0},0,1,0,0,0,0,{"$f":"IF(ISERROR(VLOOKUP($A716,#REF!,8,0)),0,(VLOOKUP($A716,#REF!,8,0)))","v":0},0,1,0,0,0,0,{"$f":"IF(ISERROR(VLOOKUP($A716,#REF!,8,0)),0,(VLOOKUP($A716,#REF!,8,0)))","v":0},0,1,0,0,0,0,{"$f":"IF(ISERROR(VLOOKUP($A716,#REF!,8,0)),0,(VLOOKUP($A716,#REF!,8,0)))","v":0},0,1,0,0,0,0,{"$f":"IF(ISERROR(VLOOKUP($A716,#REF!,8,0)),0,(VLOOKUP($A716,#REF!,8,0)))","v":0},0,1,0,0,0,0,{"$f":"IF(ISERROR(VLOOKUP($A716,#REF!,8,0)),0,(VLOOKUP($A716,#REF!,8,0)))","v":0},0,1,0,0,0,0,{"$f":"IF(ISERROR(VLOOKUP($A716,#REF!,8,0)),0,(VLOOKUP($A716,#REF!,8,0)))","v":0},0,1,0,0,0,0,{"$f":"IF(ISERROR(VLOOKUP($A716,#REF!,8,0)),0,(VLOOKUP($A716,#REF!,8,0)))","v":0},0,1,0,0,0,0,{"$f":"IF(ISERROR(VLOOKUP($A716,#REF!,8,0)),0,(VLOOKUP($A716,#REF!,8,0)))","v":0},0,1,0,0,0,0,{"$f":"IF(ISERROR(VLOOKUP($A716,#REF!,8,0)),0,(VLOOKUP($A716,#REF!,8,0)))","v":0},0,1,0,0,0,0,{"$f":"IF(ISERROR(VLOOKUP($A716,#REF!,8,0)),0,(VLOOKUP($A716,#REF!,8,0)))","v":0},0,1,0,0,0,0,{"$f":"IF(ISERROR(VLOOKUP($A716,#REF!,8,0)),0,(VLOOKUP($A716,#REF!,8,0)))","v":0},0,1,0,0,0,0,{"$f":"IF(ISERROR(VLOOKUP($A716,#REF!,8,0)),0,(VLOOKUP($A716,#REF!,8,0)))","v":0},0,1,0,0,0,0,{"$f":"IF(ISERROR(VLOOKUP($A716,#REF!,8,0)),0,(VLOOKUP($A716,#REF!,8,0)))","v":0},0,1,0,0,0,0,{"$f":"IF(ISERROR(VLOOKUP($A716,#REF!,8,0)),0,(VLOOKUP($A716,#REF!,8,0)))","v":0},0,1,0,0,0,0,{"$f":"IF(ISERROR(VLOOKUP($A716,#REF!,8,0)),0,(VLOOKUP($A716,#REF!,8,0)))","v":0},0,1,0,0,0,0,{"$f":"IF(ISERROR(VLOOKUP($A716,#REF!,8,0)),0,(VLOOKUP($A716,#REF!,8,0)))","v":0},0,1,0,0,0,0,{"$f":"IF(ISERROR(VLOOKUP($A716,#REF!,8,0)),0,(VLOOKUP($A716,#REF!,8,0)))","v":0},0,1,0,0,0,0,{"$f":"IF(ISERROR(VLOOKUP($A716,#REF!,8,0)),0,(VLOOKUP($A716,#REF!,8,0)))","v":0},0,1,0,0,0,0,2147.7082410000003,2147.7082410000003,1,{"$f":"OK716-OJ716","v":0}]
["29.04 ","Quadros / Proteção",null,null,0,0,null,0,null,0,null,0,0,0,0,null,0,0,0,0,0,null,0,0,0,0,0,0,null,0,0,0,0,0,0,null,0,0,0,0,0,0,null,0,0,0,0,0,0,null,0,0,0,0,0,0,{"$f":"IF(ISERROR(VLOOKUP(A725,'7ª MEDIÇÃO'!$A$5:$J$1048576,8,0)),0,(VLOOKUP(A725,'7ª MEDIÇÃO'!$A$5:$J$1048576,8,0)))","v":0},0,0,0,0,0,0,{"$f":"IF(ISERROR(VLOOKUP(A725,'8ª MEDIÇÃO'!$A$5:$J$1048576,8,0)),0,(VLOOKUP(A725,'8ª MEDIÇÃO'!$A$5:$J$1048576,8,0)))","v":0},0,0,0,0,0,0,{"$f":"IF(ISERROR(VLOOKUP(A725,'9ª MEDIÇÃO'!$A$5:$J$1048576,8,0)),0,(VLOOKUP(A725,'9ª MEDIÇÃO'!$A$5:$J$1048576,8,0)))","v":0},0,0,0,0,0,0,{"$f":"IF(ISERROR(VLOOKUP(A725,#REF!,8,0)),0,(VLOOKUP(A725,#REF!,8,0)))","v":0},0,0,0,0,0,0,{"$f":"IF(ISERROR(VLOOKUP($A725,#REF!,8,0)),0,(VLOOKUP($A725,#REF!,8,0)))","v":0},0,0,0,0,0,0,{"$f":"IF(ISERROR(VLOOKUP($A725,#REF!,8,0)),0,(VLOOKUP($A725,#REF!,8,0)))","v":0},0,0,0,0,0,0,{"$f":"IF(ISERROR(VLOOKUP($A725,#REF!,8,0)),0,(VLOOKUP($A725,#REF!,8,0)))","v":0},0,0,0,0,0,0,{"$f":"IF(ISERROR(VLOOKUP($A725,#REF!,8,0)),0,(VLOOKUP($A725,#REF!,8,0)))","v":0},0,0,0,0,0,0,{"$f":"IF(ISERROR(VLOOKUP($A725,#REF!,8,0)),0,(VLOOKUP($A725,#REF!,8,0)))","v":0},0,0,0,0,0,0,{"$f":"IF(ISERROR(VLOOKUP($A725,#REF!,8,0)),0,(VLOOKUP($A725,#REF!,8,0)))","v":0},0,0,0,0,0,0,{"$f":"IF(ISERROR(VLOOKUP($A725,#REF!,8,0)),0,(VLOOKUP($A725,#REF!,8,0)))","v":0},0,0,0,0,0,0,{"$f":"IF(ISERROR(VLOOKUP($A725,#REF!,8,0)),0,(VLOOKUP($A725,#REF!,8,0)))","v":0},0,0,0,0,0,0,{"$f":"IF(ISERROR(VLOOKUP($A725,#REF!,8,0)),0,(VLOOKUP($A725,#REF!,8,0)))","v":0},0,0,0,0,0,0,{"$f":"IF(ISERROR(VLOOKUP($A725,#REF!,8,0)),0,(VLOOKUP($A725,#REF!,8,0)))","v":0},0,0,0,0,0,0,{"$f":"IF(ISERROR(VLOOKUP($A725,#REF!,8,0)),0,(VLOOKUP($A725,#REF!,8,0)))","v":0},0,0,0,0,0,0,{"$f":"IF(ISERROR(VLOOKUP($A725,#REF!,8,0)),0,(VLOOKUP($A725,#REF!,8,0)))","v":0},0,0,0,0,0,0,{"$f":"IF(ISERROR(VLOOKUP($A725,#REF!,8,0)),0,(VLOOKUP($A725,#REF!,8,0)))","v":0},0,0,0,0,0,0,{"$f":"IF(ISERROR(VLOOKUP($A725,#REF!,8,0)),0,(VLOOKUP($A725,#REF!,8,0)))","v":0},0,0,0,0,0,0,{"$f":"IF(ISERROR(VLOOKUP($A725,#REF!,8,0)),0,(VLOOKUP($A725,#REF!,8,0)))","v":0},0,0,0,0,0,0,{"$f":"IF(ISERROR(VLOOKUP($A725,#REF!,8,0)),0,(VLOOKUP($A725,#REF!,8,0)))","v":0},0,0,0,0,0,0,{"$f":"IF(ISERROR(VLOOKUP($A725,#REF!,8,0)),0,(VLOOKUP($A725,#REF!,8,0)))","v":0},0,0,0,0,0,0,{"$f":"IF(ISERROR(VLOOKUP($A725,#REF!,8,0)),0,(VLOOKUP($A725,#REF!,8,0)))","v":0},0,0,0,0,0,0,{"$f":"IF(ISERROR(VLOOKUP($A725,#REF!,8,0)),0,(VLOOKUP($A725,#REF!,8,0)))","v":0},0,0,0,0,0,0,{"$f":"IF(ISERROR(VLOOKUP($A725,#REF!,8,0)),0,(VLOOKUP($A725,#REF!,8,0)))","v":0},0,0,0,0,0,0,{"$f":"IF(ISERROR(VLOOKUP($A725,#REF!,8,0)),0,(VLOOKUP($A725,#REF!,8,0)))","v":0},0,0,0,0,0,0,{"$f":"IF(ISERROR(VLOOKUP($A725,#REF!,8,0)),0,(VLOOKUP($A725,#REF!,8,0)))","v":0},0,0,0,0,0,0,{"$f":"IF(ISERROR(VLOOKUP($A725,#REF!,8,0)),0,(VLOOKUP($A725,#REF!,8,0)))","v":0},0,0,0,0,0,0,{"$f":"IF(ISERROR(VLOOKUP($A725,#REF!,8,0)),0,(VLOOKUP($A725,#REF!,8,0)))","v":0},0,0,0,0,0,0,{"$f":"IF(ISERROR(VLOOKUP($A725,#REF!,8,0)),0,(VLOOKUP($A725,#REF!,8,0)))","v":0},0,0,0,0,0,0,{"$f":"IF(ISERROR(VLOOKUP($A725,#REF!,8,0)),0,(VLOOKUP($A725,#REF!,8,0)))","v":0},0,0,0,0,0,0,{"$f":"IF(ISERROR(VLOOKUP($A725,#REF!,8,0)),0,(VLOOKUP($A725,#REF!,8,0)))","v":0},0,0,0,0,0,0,{"$f":"IF(ISERROR(VLOOKUP($A725,#REF!,8,0)),0,(VLOOKUP($A725,#REF!,8,0)))","v":0},0,0,0,0,0,0,{"$f":"IF(ISERROR(VLOOKUP($A725,#REF!,8,0)),0,(VLOOKUP($A725,#REF!,8,0)))","v":0},0,0,0,0,0,0,{"$f":"IF(ISERROR(VLOOKUP($A725,#REF!,8,0)),0,(VLOOKUP($A725,#REF!,8,0)))","v":0},0,0,0,0,0,0,{"$f":"IF(ISERROR(VLOOKUP($A725,#REF!,8,0)),0,(VLOOKUP($A725,#REF!,8,0)))","v":0},0,0,0,0,0,0,{"$f":"IF(ISERROR(VLOOKUP($A725,#REF!,8,0)),0,(VLOOKUP($A725,#REF!,8,0)))","v":0},0,0,0,0,0,0,{"$f":"IF(ISERROR(VLOOKUP($A725,#REF!,8,0)),0,(VLOOKUP($A725,#REF!,8,0)))","v":0},0,0,0,0,0,0,{"$f":"IF(ISERROR(VLOOKUP($A725,#REF!,8,0)),0,(VLOOKUP($A725,#REF!,8,0)))","v":0},0,0,0,0,0,0,{"$f":"IF(ISERROR(VLOOKUP($A725,#REF!,8,0)),0,(VLOOKUP($A725,#REF!,8,0)))","v":0},0,0,0,0,0,0,{"$f":"IF(ISERROR(VLOOKUP($A725,#REF!,8,0)),0,(VLOOKUP($A725,#REF!,8,0)))","v":0},0,0,0,0,0,0,{"$f":"IF(ISERROR(VLOOKUP($A725,#REF!,8,0)),0,(VLOOKUP($A725,#REF!,8,0)))","v":0},0,0,0,0,0,0,{"$f":"IF(ISERROR(VLOOKUP($A725,#REF!,8,0)),0,(VLOOKUP($A725,#REF!,8,0)))","v":0},0,0,0,0,0,0,{"$f":"IF(ISERROR(VLOOKUP($A725,#REF!,8,0)),0,(VLOOKUP($A725,#REF!,8,0)))","v":0},0,0,0,0,0,0,{"$f":"IF(ISERROR(VLOOKUP($A725,#REF!,8,0)),0,(VLOOKUP($A725,#REF!,8,0)))","v":0},0,0,0,0,0,0,{"$f":"IF(ISERROR(VLOOKUP($A725,#REF!,8,0)),0,(VLOOKUP($A725,#REF!,8,0)))","v":0},0,0,0,0,0,0,{"$f":"IF(ISERROR(VLOOKUP($A725,#REF!,8,0)),0,(VLOOKUP($A725,#REF!,8,0)))","v":0},0,0,0,0,0,0,{"$f":"IF(ISERROR(VLOOKUP($A725,#REF!,8,0)),0,(VLOOKUP($A725,#REF!,8,0)))","v":0},0,0,0,0,0,0,{"$f":"IF(ISERROR(VLOOKUP($A725,#REF!,8,0)),0,(VLOOKUP($A725,#REF!,8,0)))","v":0},0,0,0,0,0,0,{"$f":"IF(ISERROR(VLOOKUP($A725,#REF!,8,0)),0,(VLOOKUP($A725,#REF!,8,0)))","v":0},0,0,0,0,0,0,0,0,{"$error":"#DIV/0!"},0]
["29.04.09","Disjuntor monopolar termomagnético de 6 até 32A Eletromar padrão IEC ou equivalente, inclusive instalação em quadro de distribuição, conforme projeto.","un ",99,99,0,9.0813800000000011,899.05662000000007,1.7789199999999998,176.11308,0,0,10.860300000000001,0,1075.1697000000001,null,0,0,0,0,0,null,0,1,0,0,0,0,null,0,1,0,0,0,0,null,0,1,0,0,0,0,null,0,1,0,0,0,0,null,0,1,0,0,0,0,{"$f":"IF(ISERROR(VLOOKUP(A734,'7ª MEDIÇÃO'!$A$5:$J$1048576,8,0)),0,(VLOOKUP(A734,'7ª MEDIÇÃO'!$A$5:$J$1048576,8,0)))","v":0},0,1,0,0,0,0,{"$f":"IF(ISERROR(VLOOKUP(A734,'8ª MEDIÇÃO'!$A$5:$J$1048576,8,0)),0,(VLOOKUP(A734,'8ª MEDIÇÃO'!$A$5:$J$1048576,8,0)))","v":0},0,1,0,0,0,0,{"$f":"IF(ISERROR(VLOOKUP(A734,'9ª MEDIÇÃO'!$A$5:$J$1048576,8,0)),0,(VLOOKUP(A734,'9ª MEDIÇÃO'!$A$5:$J$1048576,8,0)))","v":0},0,1,0,0,0,0,{"$f":"IF(ISERROR(VLOOKUP(A734,#REF!,8,0)),0,(VLOOKUP(A734,#REF!,8,0)))","v":0},0,1,0,0,0,0,{"$f":"IF(ISERROR(VLOOKUP($A734,#REF!,8,0)),0,(VLOOKUP($A734,#REF!,8,0)))","v":0},0,1,0,0,0,0,{"$f":"IF(ISERROR(VLOOKUP($A734,#REF!,8,0)),0,(VLOOKUP($A734,#REF!,8,0)))","v":0},0,1,0,0,0,0,{"$f":"IF(ISERROR(VLOOKUP($A734,#REF!,8,0)),0,(VLOOKUP($A734,#REF!,8,0)))","v":0},0,1,0,0,0,0,{"$f":"IF(ISERROR(VLOOKUP($A734,#REF!,8,0)),0,(VLOOKUP($A734,#REF!,8,0)))","v":0},0,1,0,0,0,0,{"$f":"IF(ISERROR(VLOOKUP($A734,#REF!,8,0)),0,(VLOOKUP($A734,#REF!,8,0)))","v":0},0,1,0,0,0,0,{"$f":"IF(ISERROR(VLOOKUP($A734,#REF!,8,0)),0,(VLOOKUP($A734,#REF!,8,0)))","v":0},0,1,0,0,0,0,{"$f":"IF(ISERROR(VLOOKUP($A734,#REF!,8,0)),0,(VLOOKUP($A734,#REF!,8,0)))","v":0},0,1,0,0,0,0,{"$f":"IF(ISERROR(VLOOKUP($A734,#REF!,8,0)),0,(VLOOKUP($A734,#REF!,8,0)))","v":0},0,1,0,0,0,0,{"$f":"IF(ISERROR(VLOOKUP($A734,#REF!,8,0)),0,(VLOOKUP($A734,#REF!,8,0)))","v":0},0,1,0,0,0,0,{"$f":"IF(ISERROR(VLOOKUP($A734,#REF!,8,0)),0,(VLOOKUP($A734,#REF!,8,0)))","v":0},0,1,0,0,0,0,{"$f":"IF(ISERROR(VLOOKUP($A734,#REF!,8,0)),0,(VLOOKUP($A734,#REF!,8,0)))","v":0},0,1,0,0,0,0,{"$f":"IF(ISERROR(VLOOKUP($A734,#REF!,8,0)),0,(VLOOKUP($A734,#REF!,8,0)))","v":0},0,1,0,0,0,0,{"$f":"IF(ISERROR(VLOOKUP($A734,#REF!,8,0)),0,(VLOOKUP($A734,#REF!,8,0)))","v":0},0,1,0,0,0,0,{"$f":"IF(ISERROR(VLOOKUP($A734,#REF!,8,0)),0,(VLOOKUP($A734,#REF!,8,0)))","v":0},0,1,0,0,0,0,{"$f":"IF(ISERROR(VLOOKUP($A734,#REF!,8,0)),0,(VLOOKUP($A734,#REF!,8,0)))","v":0},0,1,0,0,0,0,{"$f":"IF(ISERROR(VLOOKUP($A734,#REF!,8,0)),0,(VLOOKUP($A734,#REF!,8,0)))","v":0},0,1,0,0,0,0,{"$f":"IF(ISERROR(VLOOKUP($A734,#REF!,8,0)),0,(VLOOKUP($A734,#REF!,8,0)))","v":0},0,1,0,0,0,0,{"$f":"IF(ISERROR(VLOOKUP($A734,#REF!,8,0)),0,(VLOOKUP($A734,#REF!,8,0)))","v":0},0,1,0,0,0,0,{"$f":"IF(ISERROR(VLOOKUP($A734,#REF!,8,0)),0,(VLOOKUP($A734,#REF!,8,0)))","v":0},0,1,0,0,0,0,{"$f":"IF(ISERROR(VLOOKUP($A734,#REF!,8,0)),0,(VLOOKUP($A734,#REF!,8,0)))","v":0},0,1,0,0,0,0,{"$f":"IF(ISERROR(VLOOKUP($A734,#REF!,8,0)),0,(VLOOKUP($A734,#REF!,8,0)))","v":0},0,1,0,0,0,0,{"$f":"IF(ISERROR(VLOOKUP($A734,#REF!,8,0)),0,(VLOOKUP($A734,#REF!,8,0)))","v":0},0,1,0,0,0,0,{"$f":"IF(ISERROR(VLOOKUP($A734,#REF!,8,0)),0,(VLOOKUP($A734,#REF!,8,0)))","v":0},0,1,0,0,0,0,{"$f":"IF(ISERROR(VLOOKUP($A734,#REF!,8,0)),0,(VLOOKUP($A734,#REF!,8,0)))","v":0},0,1,0,0,0,0,{"$f":"IF(ISERROR(VLOOKUP($A734,#REF!,8,0)),0,(VLOOKUP($A734,#REF!,8,0)))","v":0},0,1,0,0,0,0,{"$f":"IF(ISERROR(VLOOKUP($A734,#REF!,8,0)),0,(VLOOKUP($A734,#REF!,8,0)))","v":0},0,1,0,0,0,0,{"$f":"IF(ISERROR(VLOOKUP($A734,#REF!,8,0)),0,(VLOOKUP($A734,#REF!,8,0)))","v":0},0,1,0,0,0,0,{"$f":"IF(ISERROR(VLOOKUP($A734,#REF!,8,0)),0,(VLOOKUP($A734,#REF!,8,0)))","v":0},0,1,0,0,0,0,{"$f":"IF(ISERROR(VLOOKUP($A734,#REF!,8,0)),0,(VLOOKUP($A734,#REF!,8,0)))","v":0},0,1,0,0,0,0,{"$f":"IF(ISERROR(VLOOKUP($A734,#REF!,8,0)),0,(VLOOKUP($A734,#REF!,8,0)))","v":0},0,1,0,0,0,0,{"$f":"IF(ISERROR(VLOOKUP($A734,#REF!,8,0)),0,(VLOOKUP($A734,#REF!,8,0)))","v":0},0,1,0,0,0,0,{"$f":"IF(ISERROR(VLOOKUP($A734,#REF!,8,0)),0,(VLOOKUP($A734,#REF!,8,0)))","v":0},0,1,0,0,0,0,{"$f":"IF(ISERROR(VLOOKUP($A734,#REF!,8,0)),0,(VLOOKUP($A734,#REF!,8,0)))","v":0},0,1,0,0,0,0,{"$f":"IF(ISERROR(VLOOKUP($A734,#REF!,8,0)),0,(VLOOKUP($A734,#REF!,8,0)))","v":0},0,1,0,0,0,0,{"$f":"IF(ISERROR(VLOOKUP($A734,#REF!,8,0)),0,(VLOOKUP($A734,#REF!,8,0)))","v":0},0,1,0,0,0,0,{"$f":"IF(ISERROR(VLOOKUP($A734,#REF!,8,0)),0,(VLOOKUP($A734,#REF!,8,0)))","v":0},0,1,0,0,0,0,{"$f":"IF(ISERROR(VLOOKUP($A734,#REF!,8,0)),0,(VLOOKUP($A734,#REF!,8,0)))","v":0},0,1,0,0,0,0,{"$f":"IF(ISERROR(VLOOKUP($A734,#REF!,8,0)),0,(VLOOKUP($A734,#REF!,8,0)))","v":0},0,1,0,0,0,0,{"$f":"IF(ISERROR(VLOOKUP($A734,#REF!,8,0)),0,(VLOOKUP($A734,#REF!,8,0)))","v":0},0,1,0,0,0,0,{"$f":"IF(ISERROR(VLOOKUP($A734,#REF!,8,0)),0,(VLOOKUP($A734,#REF!,8,0)))","v":0},0,1,0,0,0,0,{"$f":"IF(ISERROR(VLOOKUP($A734,#REF!,8,0)),0,(VLOOKUP($A734,#REF!,8,0)))","v":0},0,1,0,0,0,0,{"$f":"IF(ISERROR(VLOOKUP($A734,#REF!,8,0)),0,(VLOOKUP($A734,#REF!,8,0)))","v":0},0,1,0,0,0,0,{"$f":"IF(ISERROR(VLOOKUP($A734,#REF!,8,0)),0,(VLOOKUP($A734,#REF!,8,0)))","v":0},0,1,0,0,0,0,{"$f":"IF(ISERROR(VLOOKUP($A734,#REF!,8,0)),0,(VLOOKUP($A734,#REF!,8,0)))","v":0},0,1,0,0,0,0,{"$f":"IF(ISERROR(VLOOKUP($A734,#REF!,8,0)),0,(VLOOKUP($A734,#REF!,8,0)))","v":0},0,1,0,0,0,0,1075.1697000000001,1075.1697000000001,1,0]
["29.04.18","Fornecimento e instalação de disjuntor tripolar de 250A-380V-22kA em caixa moldada.                    ","un ",1,1,0,543.89210400000002,543.89210400000002,9.9893199999999993,9.9893199999999993,0,0,553.88142400000004,0,553.88142400000004,null,0,0,0,0,0,null,0,1,0,0,0,0,null,0,1,0,0,0,0,null,0,1,0,0,0,0,null,0,1,0,0,0,0,null,0,1,0,0,0,0,{"$f":"IF(ISERROR(VLOOKUP(A743,'7ª MEDIÇÃO'!$A$5:$J$1048576,8,0)),0,(VLOOKUP(A743,'7ª MEDIÇÃO'!$A$5:$J$1048576,8,0)))","v":0},0,1,0,0,0,0,{"$f":"IF(ISERROR(VLOOKUP(A743,'8ª MEDIÇÃO'!$A$5:$J$1048576,8,0)),0,(VLOOKUP(A743,'8ª MEDIÇÃO'!$A$5:$J$1048576,8,0)))","v":0},0,1,0,0,0,0,{"$f":"IF(ISERROR(VLOOKUP(A743,'9ª MEDIÇÃO'!$A$5:$J$1048576,8,0)),0,(VLOOKUP(A743,'9ª MEDIÇÃO'!$A$5:$J$1048576,8,0)))","v":0},0,1,0,0,0,0,{"$f":"IF(ISERROR(VLOOKUP(A743,#REF!,8,0)),0,(VLOOKUP(A743,#REF!,8,0)))","v":0},0,1,0,0,0,0,{"$f":"IF(ISERROR(VLOOKUP($A743,#REF!,8,0)),0,(VLOOKUP($A743,#REF!,8,0)))","v":0},0,1,0,0,0,0,{"$f":"IF(ISERROR(VLOOKUP($A743,#REF!,8,0)),0,(VLOOKUP($A743,#REF!,8,0)))","v":0},0,1,0,0,0,0,{"$f":"IF(ISERROR(VLOOKUP($A743,#REF!,8,0)),0,(VLOOKUP($A743,#REF!,8,0)))","v":0},0,1,0,0,0,0,{"$f":"IF(ISERROR(VLOOKUP($A743,#REF!,8,0)),0,(VLOOKUP($A743,#REF!,8,0)))","v":0},0,1,0,0,0,0,{"$f":"IF(ISERROR(VLOOKUP($A743,#REF!,8,0)),0,(VLOOKUP($A743,#REF!,8,0)))","v":0},0,1,0,0,0,0,{"$f":"IF(ISERROR(VLOOKUP($A743,#REF!,8,0)),0,(VLOOKUP($A743,#REF!,8,0)))","v":0},0,1,0,0,0,0,{"$f":"IF(ISERROR(VLOOKUP($A743,#REF!,8,0)),0,(VLOOKUP($A743,#REF!,8,0)))","v":0},0,1,0,0,0,0,{"$f":"IF(ISERROR(VLOOKUP($A743,#REF!,8,0)),0,(VLOOKUP($A743,#REF!,8,0)))","v":0},0,1,0,0,0,0,{"$f":"IF(ISERROR(VLOOKUP($A743,#REF!,8,0)),0,(VLOOKUP($A743,#REF!,8,0)))","v":0},0,1,0,0,0,0,{"$f":"IF(ISERROR(VLOOKUP($A743,#REF!,8,0)),0,(VLOOKUP($A743,#REF!,8,0)))","v":0},0,1,0,0,0,0,{"$f":"IF(ISERROR(VLOOKUP($A743,#REF!,8,0)),0,(VLOOKUP($A743,#REF!,8,0)))","v":0},0,1,0,0,0,0,{"$f":"IF(ISERROR(VLOOKUP($A743,#REF!,8,0)),0,(VLOOKUP($A743,#REF!,8,0)))","v":0},0,1,0,0,0,0,{"$f":"IF(ISERROR(VLOOKUP($A743,#REF!,8,0)),0,(VLOOKUP($A743,#REF!,8,0)))","v":0},0,1,0,0,0,0,{"$f":"IF(ISERROR(VLOOKUP($A743,#REF!,8,0)),0,(VLOOKUP($A743,#REF!,8,0)))","v":0},0,1,0,0,0,0,{"$f":"IF(ISERROR(VLOOKUP($A743,#REF!,8,0)),0,(VLOOKUP($A743,#REF!,8,0)))","v":0},0,1,0,0,0,0,{"$f":"IF(ISERROR(VLOOKUP($A743,#REF!,8,0)),0,(VLOOKUP($A743,#REF!,8,0)))","v":0},0,1,0,0,0,0,{"$f":"IF(ISERROR(VLOOKUP($A743,#REF!,8,0)),0,(VLOOKUP($A743,#REF!,8,0)))","v":0},0,1,0,0,0,0,{"$f":"IF(ISERROR(VLOOKUP($A743,#REF!,8,0)),0,(VLOOKUP($A743,#REF!,8,0)))","v":0},0,1,0,0,0,0,{"$f":"IF(ISERROR(VLOOKUP($A743,#REF!,8,0)),0,(VLOOKUP($A743,#REF!,8,0)))","v":0},0,1,0,0,0,0,{"$f":"IF(ISERROR(VLOOKUP($A743,#REF!,8,0)),0,(VLOOKUP($A743,#REF!,8,0)))","v":0},0,1,0,0,0,0,{"$f":"IF(ISERROR(VLOOKUP($A743,#REF!,8,0)),0,(VLOOKUP($A743,#REF!,8,0)))","v":0},0,1,0,0,0,0,{"$f":"IF(ISERROR(VLOOKUP($A743,#REF!,8,0)),0,(VLOOKUP($A743,#REF!,8,0)))","v":0},0,1,0,0,0,0,{"$f":"IF(ISERROR(VLOOKUP($A743,#REF!,8,0)),0,(VLOOKUP($A743,#REF!,8,0)))","v":0},0,1,0,0,0,0,{"$f":"IF(ISERROR(VLOOKUP($A743,#REF!,8,0)),0,(VLOOKUP($A743,#REF!,8,0)))","v":0},0,1,0,0,0,0,{"$f":"IF(ISERROR(VLOOKUP($A743,#REF!,8,0)),0,(VLOOKUP($A743,#REF!,8,0)))","v":0},0,1,0,0,0,0,{"$f":"IF(ISERROR(VLOOKUP($A743,#REF!,8,0)),0,(VLOOKUP($A743,#REF!,8,0)))","v":0},0,1,0,0,0,0,{"$f":"IF(ISERROR(VLOOKUP($A743,#REF!,8,0)),0,(VLOOKUP($A743,#REF!,8,0)))","v":0},0,1,0,0,0,0,{"$f":"IF(ISERROR(VLOOKUP($A743,#REF!,8,0)),0,(VLOOKUP($A743,#REF!,8,0)))","v":0},0,1,0,0,0,0,{"$f":"IF(ISERROR(VLOOKUP($A743,#REF!,8,0)),0,(VLOOKUP($A743,#REF!,8,0)))","v":0},0,1,0,0,0,0,{"$f":"IF(ISERROR(VLOOKUP($A743,#REF!,8,0)),0,(VLOOKUP($A743,#REF!,8,0)))","v":0},0,1,0,0,0,0,{"$f":"IF(ISERROR(VLOOKUP($A743,#REF!,8,0)),0,(VLOOKUP($A743,#REF!,8,0)))","v":0},0,1,0,0,0,0,{"$f":"IF(ISERROR(VLOOKUP($A743,#REF!,8,0)),0,(VLOOKUP($A743,#REF!,8,0)))","v":0},0,1,0,0,0,0,{"$f":"IF(ISERROR(VLOOKUP($A743,#REF!,8,0)),0,(VLOOKUP($A743,#REF!,8,0)))","v":0},0,1,0,0,0,0,{"$f":"IF(ISERROR(VLOOKUP($A743,#REF!,8,0)),0,(VLOOKUP($A743,#REF!,8,0)))","v":0},0,1,0,0,0,0,{"$f":"IF(ISERROR(VLOOKUP($A743,#REF!,8,0)),0,(VLOOKUP($A743,#REF!,8,0)))","v":0},0,1,0,0,0,0,{"$f":"IF(ISERROR(VLOOKUP($A743,#REF!,8,0)),0,(VLOOKUP($A743,#REF!,8,0)))","v":0},0,1,0,0,0,0,{"$f":"IF(ISERROR(VLOOKUP($A743,#REF!,8,0)),0,(VLOOKUP($A743,#REF!,8,0)))","v":0},0,1,0,0,0,0,{"$f":"IF(ISERROR(VLOOKUP($A743,#REF!,8,0)),0,(VLOOKUP($A743,#REF!,8,0)))","v":0},0,1,0,0,0,0,{"$f":"IF(ISERROR(VLOOKUP($A743,#REF!,8,0)),0,(VLOOKUP($A743,#REF!,8,0)))","v":0},0,1,0,0,0,0,{"$f":"IF(ISERROR(VLOOKUP($A743,#REF!,8,0)),0,(VLOOKUP($A743,#REF!,8,0)))","v":0},0,1,0,0,0,0,{"$f":"IF(ISERROR(VLOOKUP($A743,#REF!,8,0)),0,(VLOOKUP($A743,#REF!,8,0)))","v":0},0,1,0,0,0,0,{"$f":"IF(ISERROR(VLOOKUP($A743,#REF!,8,0)),0,(VLOOKUP($A743,#REF!,8,0)))","v":0},0,1,0,0,0,0,{"$f":"IF(ISERROR(VLOOKUP($A743,#REF!,8,0)),0,(VLOOKUP($A743,#REF!,8,0)))","v":0},0,1,0,0,0,0,{"$f":"IF(ISERROR(VLOOKUP($A743,#REF!,8,0)),0,(VLOOKUP($A743,#REF!,8,0)))","v":0},0,1,0,0,0,0,{"$f":"IF(ISERROR(VLOOKUP($A743,#REF!,8,0)),0,(VLOOKUP($A743,#REF!,8,0)))","v":0},0,1,0,0,0,0,553.88142400000004,553.88142400000004,1,0]
["29.05.02","Cabo de cobre AFUMEX, ATOX, AFITOX ou equivalente (Não-Halogenado), isolação 750V., de 4,0mm²,  inclusive instalação em eletroduto/eletrocalha/leito.","m",1.9,0,1.9,1.6747479999999999,3.1820211999999999,1.5176799999999999,2.8835919999999997,0,0,3.1924279999999996,6.0656131999999987,0,null,0,0,0,0,0,null,0,0,0,0,0,0,null,0,0,0,0,0,0,null,0,0,0,0,0,0,null,0,0,0,0,0,0,null,0,0,0,0,0,0,{"$f":"IF(ISERROR(VLOOKUP(A750,'7ª MEDIÇÃO'!$A$5:$J$1048576,8,0)),0,(VLOOKUP(A750,'7ª MEDIÇÃO'!$A$5:$J$1048576,8,0)))","v":0},0,0,0,0,0,0,{"$f":"IF(ISERROR(VLOOKUP(A750,'8ª MEDIÇÃO'!$A$5:$J$1048576,8,0)),0,(VLOOKUP(A750,'8ª MEDIÇÃO'!$A$5:$J$1048576,8,0)))","v":0},0,0,0,0,0,0,{"$f":"IF(ISERROR(VLOOKUP(A750,'9ª MEDIÇÃO'!$A$5:$J$1048576,8,0)),0,(VLOOKUP(A750,'9ª MEDIÇÃO'!$A$5:$J$1048576,8,0)))","v":0},0,0,0,0,0,0,{"$f":"IF(ISERROR(VLOOKUP(A750,#REF!,8,0)),0,(VLOOKUP(A750,#REF!,8,0)))","v":0},0,0,0,0,0,0,{"$f":"IF(ISERROR(VLOOKUP($A750,#REF!,8,0)),0,(VLOOKUP($A750,#REF!,8,0)))","v":0},0,0,0,0,0,0,{"$f":"IF(ISERROR(VLOOKUP($A750,#REF!,8,0)),0,(VLOOKUP($A750,#REF!,8,0)))","v":0},0,0,0,0,0,0,{"$f":"IF(ISERROR(VLOOKUP($A750,#REF!,8,0)),0,(VLOOKUP($A750,#REF!,8,0)))","v":0},0,0,0,0,0,0,{"$f":"IF(ISERROR(VLOOKUP($A750,#REF!,8,0)),0,(VLOOKUP($A750,#REF!,8,0)))","v":0},0,0,0,0,0,0,{"$f":"IF(ISERROR(VLOOKUP($A750,#REF!,8,0)),0,(VLOOKUP($A750,#REF!,8,0)))","v":0},0,0,0,0,0,0,{"$f":"IF(ISERROR(VLOOKUP($A750,#REF!,8,0)),0,(VLOOKUP($A750,#REF!,8,0)))","v":0},0,0,0,0,0,0,{"$f":"IF(ISERROR(VLOOKUP($A750,#REF!,8,0)),0,(VLOOKUP($A750,#REF!,8,0)))","v":0},0,0,0,0,0,0,{"$f":"IF(ISERROR(VLOOKUP($A750,#REF!,8,0)),0,(VLOOKUP($A750,#REF!,8,0)))","v":0},0,0,0,0,0,0,{"$f":"IF(ISERROR(VLOOKUP($A750,#REF!,8,0)),0,(VLOOKUP($A750,#REF!,8,0)))","v":0},0,0,0,0,0,0,{"$f":"IF(ISERROR(VLOOKUP($A750,#REF!,8,0)),0,(VLOOKUP($A750,#REF!,8,0)))","v":0},0,0,0,0,0,0,{"$f":"IF(ISERROR(VLOOKUP($A750,#REF!,8,0)),0,(VLOOKUP($A750,#REF!,8,0)))","v":0},0,0,0,0,0,0,{"$f":"IF(ISERROR(VLOOKUP($A750,#REF!,8,0)),0,(VLOOKUP($A750,#REF!,8,0)))","v":0},0,0,0,0,0,0,{"$f":"IF(ISERROR(VLOOKUP($A750,#REF!,8,0)),0,(VLOOKUP($A750,#REF!,8,0)))","v":0},0,0,0,0,0,0,{"$f":"IF(ISERROR(VLOOKUP($A750,#REF!,8,0)),0,(VLOOKUP($A750,#REF!,8,0)))","v":0},0,0,0,0,0,0,{"$f":"IF(ISERROR(VLOOKUP($A750,#REF!,8,0)),0,(VLOOKUP($A750,#REF!,8,0)))","v":0},0,0,0,0,0,0,{"$f":"IF(ISERROR(VLOOKUP($A750,#REF!,8,0)),0,(VLOOKUP($A750,#REF!,8,0)))","v":0},0,0,0,0,0,0,{"$f":"IF(ISERROR(VLOOKUP($A750,#REF!,8,0)),0,(VLOOKUP($A750,#REF!,8,0)))","v":0},0,0,0,0,0,0,{"$f":"IF(ISERROR(VLOOKUP($A750,#REF!,8,0)),0,(VLOOKUP($A750,#REF!,8,0)))","v":0},0,0,0,0,0,0,{"$f":"IF(ISERROR(VLOOKUP($A750,#REF!,8,0)),0,(VLOOKUP($A750,#REF!,8,0)))","v":0},0,0,0,0,0,0,{"$f":"IF(ISERROR(VLOOKUP($A750,#REF!,8,0)),0,(VLOOKUP($A750,#REF!,8,0)))","v":0},0,0,0,0,0,0,{"$f":"IF(ISERROR(VLOOKUP($A750,#REF!,8,0)),0,(VLOOKUP($A750,#REF!,8,0)))","v":0},0,0,0,0,0,0,{"$f":"IF(ISERROR(VLOOKUP($A750,#REF!,8,0)),0,(VLOOKUP($A750,#REF!,8,0)))","v":0},0,0,0,0,0,0,{"$f":"IF(ISERROR(VLOOKUP($A750,#REF!,8,0)),0,(VLOOKUP($A750,#REF!,8,0)))","v":0},0,0,0,0,0,0,{"$f":"IF(ISERROR(VLOOKUP($A750,#REF!,8,0)),0,(VLOOKUP($A750,#REF!,8,0)))","v":0},0,0,0,0,0,0,{"$f":"IF(ISERROR(VLOOKUP($A750,#REF!,8,0)),0,(VLOOKUP($A750,#REF!,8,0)))","v":0},0,0,0,0,0,0,{"$f":"IF(ISERROR(VLOOKUP($A750,#REF!,8,0)),0,(VLOOKUP($A750,#REF!,8,0)))","v":0},0,0,0,0,0,0,{"$f":"IF(ISERROR(VLOOKUP($A750,#REF!,8,0)),0,(VLOOKUP($A750,#REF!,8,0)))","v":0},0,0,0,0,0,0,{"$f":"IF(ISERROR(VLOOKUP($A750,#REF!,8,0)),0,(VLOOKUP($A750,#REF!,8,0)))","v":0},0,0,0,0,0,0,{"$f":"IF(ISERROR(VLOOKUP($A750,#REF!,8,0)),0,(VLOOKUP($A750,#REF!,8,0)))","v":0},0,0,0,0,0,0,{"$f":"IF(ISERROR(VLOOKUP($A750,#REF!,8,0)),0,(VLOOKUP($A750,#REF!,8,0)))","v":0},0,0,0,0,0,0,{"$f":"IF(ISERROR(VLOOKUP($A750,#REF!,8,0)),0,(VLOOKUP($A750,#REF!,8,0)))","v":0},0,0,0,0,0,0,{"$f":"IF(ISERROR(VLOOKUP($A750,#REF!,8,0)),0,(VLOOKUP($A750,#REF!,8,0)))","v":0},0,0,0,0,0,0,{"$f":"IF(ISERROR(VLOOKUP($A750,#REF!,8,0)),0,(VLOOKUP($A750,#REF!,8,0)))","v":0},0,0,0,0,0,0,{"$f":"IF(ISERROR(VLOOKUP($A750,#REF!,8,0)),0,(VLOOKUP($A750,#REF!,8,0)))","v":0},0,0,0,0,0,0,{"$f":"IF(ISERROR(VLOOKUP($A750,#REF!,8,0)),0,(VLOOKUP($A750,#REF!,8,0)))","v":0},0,0,0,0,0,0,{"$f":"IF(ISERROR(VLOOKUP($A750,#REF!,8,0)),0,(VLOOKUP($A750,#REF!,8,0)))","v":0},0,0,0,0,0,0,{"$f":"IF(ISERROR(VLOOKUP($A750,#REF!,8,0)),0,(VLOOKUP($A750,#REF!,8,0)))","v":0},0,0,0,0,0,0,{"$f":"IF(ISERROR(VLOOKUP($A750,#REF!,8,0)),0,(VLOOKUP($A750,#REF!,8,0)))","v":0},0,0,0,0,0,0,{"$f":"IF(ISERROR(VLOOKUP($A750,#REF!,8,0)),0,(VLOOKUP($A750,#REF!,8,0)))","v":0},0,0,0,0,0,0,{"$f":"IF(ISERROR(VLOOKUP($A750,#REF!,8,0)),0,(VLOOKUP($A750,#REF!,8,0)))","v":0},0,0,0,0,0,0,{"$f":"IF(ISERROR(VLOOKUP($A750,#REF!,8,0)),0,(VLOOKUP($A750,#REF!,8,0)))","v":0},0,0,0,0,0,0,{"$f":"IF(ISERROR(VLOOKUP($A750,#REF!,8,0)),0,(VLOOKUP($A750,#REF!,8,0)))","v":0},0,0,0,0,0,0,{"$f":"IF(ISERROR(VLOOKUP($A750,#REF!,8,0)),0,(VLOOKUP($A750,#REF!,8,0)))","v":0},0,0,0,0,0,0,{"$f":"IF(ISERROR(VLOOKUP($A750,#REF!,8,0)),0,(VLOOKUP($A750,#REF!,8,0)))","v":0},0,0,0,0,0,0,{"$f":"IF(ISERROR(VLOOKUP($A750,#REF!,8,0)),0,(VLOOKUP($A750,#REF!,8,0)))","v":0},0,0,0,0,0,0,0,0,{"$error":"#DIV/0!"},0]
["29.06","Caixas de Passagem",null,null,0,0,null,0,null,0,null,0,0,0,0,null,0,0,0,0,0,null,0,0,0,0,0,0,null,0,0,0,0,0,0,null,0,0,0,0,0,0,null,0,0,0,0,0,0,null,0,0,0,0,0,0,{"$f":"IF(ISERROR(VLOOKUP(A762,'7ª MEDIÇÃO'!$A$5:$J$1048576,8,0)),0,(VLOOKUP(A762,'7ª MEDIÇÃO'!$A$5:$J$1048576,8,0)))","v":0},0,0,0,0,0,0,{"$f":"IF(ISERROR(VLOOKUP(A762,'8ª MEDIÇÃO'!$A$5:$J$1048576,8,0)),0,(VLOOKUP(A762,'8ª MEDIÇÃO'!$A$5:$J$1048576,8,0)))","v":0},0,0,0,0,0,0,{"$f":"IF(ISERROR(VLOOKUP(A762,'9ª MEDIÇÃO'!$A$5:$J$1048576,8,0)),0,(VLOOKUP(A762,'9ª MEDIÇÃO'!$A$5:$J$1048576,8,0)))","v":0},0,0,0,0,0,0,{"$f":"IF(ISERROR(VLOOKUP(A762,#REF!,8,0)),0,(VLOOKUP(A762,#REF!,8,0)))","v":0},0,0,0,0,0,0,{"$f":"IF(ISERROR(VLOOKUP($A762,#REF!,8,0)),0,(VLOOKUP($A762,#REF!,8,0)))","v":0},0,0,0,0,0,0,{"$f":"IF(ISERROR(VLOOKUP($A762,#REF!,8,0)),0,(VLOOKUP($A762,#REF!,8,0)))","v":0},0,0,0,0,0,0,{"$f":"IF(ISERROR(VLOOKUP($A762,#REF!,8,0)),0,(VLOOKUP($A762,#REF!,8,0)))","v":0},0,0,0,0,0,0,{"$f":"IF(ISERROR(VLOOKUP($A762,#REF!,8,0)),0,(VLOOKUP($A762,#REF!,8,0)))","v":0},0,0,0,0,0,0,{"$f":"IF(ISERROR(VLOOKUP($A762,#REF!,8,0)),0,(VLOOKUP($A762,#REF!,8,0)))","v":0},0,0,0,0,0,0,{"$f":"IF(ISERROR(VLOOKUP($A762,#REF!,8,0)),0,(VLOOKUP($A762,#REF!,8,0)))","v":0},0,0,0,0,0,0,{"$f":"IF(ISERROR(VLOOKUP($A762,#REF!,8,0)),0,(VLOOKUP($A762,#REF!,8,0)))","v":0},0,0,0,0,0,0,{"$f":"IF(ISERROR(VLOOKUP($A762,#REF!,8,0)),0,(VLOOKUP($A762,#REF!,8,0)))","v":0},0,0,0,0,0,0,{"$f":"IF(ISERROR(VLOOKUP($A762,#REF!,8,0)),0,(VLOOKUP($A762,#REF!,8,0)))","v":0},0,0,0,0,0,0,{"$f":"IF(ISERROR(VLOOKUP($A762,#REF!,8,0)),0,(VLOOKUP($A762,#REF!,8,0)))","v":0},0,0,0,0,0,0,{"$f":"IF(ISERROR(VLOOKUP($A762,#REF!,8,0)),0,(VLOOKUP($A762,#REF!,8,0)))","v":0},0,0,0,0,0,0,{"$f":"IF(ISERROR(VLOOKUP($A762,#REF!,8,0)),0,(VLOOKUP($A762,#REF!,8,0)))","v":0},0,0,0,0,0,0,{"$f":"IF(ISERROR(VLOOKUP($A762,#REF!,8,0)),0,(VLOOKUP($A762,#REF!,8,0)))","v":0},0,0,0,0,0,0,{"$f":"IF(ISERROR(VLOOKUP($A762,#REF!,8,0)),0,(VLOOKUP($A762,#REF!,8,0)))","v":0},0,0,0,0,0,0,{"$f":"IF(ISERROR(VLOOKUP($A762,#REF!,8,0)),0,(VLOOKUP($A762,#REF!,8,0)))","v":0},0,0,0,0,0,0,{"$f":"IF(ISERROR(VLOOKUP($A762,#REF!,8,0)),0,(VLOOKUP($A762,#REF!,8,0)))","v":0},0,0,0,0,0,0,{"$f":"IF(ISERROR(VLOOKUP($A762,#REF!,8,0)),0,(VLOOKUP($A762,#REF!,8,0)))","v":0},0,0,0,0,0,0,{"$f":"IF(ISERROR(VLOOKUP($A762,#REF!,8,0)),0,(VLOOKUP($A762,#REF!,8,0)))","v":0},0,0,0,0,0,0,{"$f":"IF(ISERROR(VLOOKUP($A762,#REF!,8,0)),0,(VLOOKUP($A762,#REF!,8,0)))","v":0},0,0,0,0,0,0,{"$f":"IF(ISERROR(VLOOKUP($A762,#REF!,8,0)),0,(VLOOKUP($A762,#REF!,8,0)))","v":0},0,0,0,0,0,0,{"$f":"IF(ISERROR(VLOOKUP($A762,#REF!,8,0)),0,(VLOOKUP($A762,#REF!,8,0)))","v":0},0,0,0,0,0,0,{"$f":"IF(ISERROR(VLOOKUP($A762,#REF!,8,0)),0,(VLOOKUP($A762,#REF!,8,0)))","v":0},0,0,0,0,0,0,{"$f":"IF(ISERROR(VLOOKUP($A762,#REF!,8,0)),0,(VLOOKUP($A762,#REF!,8,0)))","v":0},0,0,0,0,0,0,{"$f":"IF(ISERROR(VLOOKUP($A762,#REF!,8,0)),0,(VLOOKUP($A762,#REF!,8,0)))","v":0},0,0,0,0,0,0,{"$f":"IF(ISERROR(VLOOKUP($A762,#REF!,8,0)),0,(VLOOKUP($A762,#REF!,8,0)))","v":0},0,0,0,0,0,0,{"$f":"IF(ISERROR(VLOOKUP($A762,#REF!,8,0)),0,(VLOOKUP($A762,#REF!,8,0)))","v":0},0,0,0,0,0,0,{"$f":"IF(ISERROR(VLOOKUP($A762,#REF!,8,0)),0,(VLOOKUP($A762,#REF!,8,0)))","v":0},0,0,0,0,0,0,{"$f":"IF(ISERROR(VLOOKUP($A762,#REF!,8,0)),0,(VLOOKUP($A762,#REF!,8,0)))","v":0},0,0,0,0,0,0,{"$f":"IF(ISERROR(VLOOKUP($A762,#REF!,8,0)),0,(VLOOKUP($A762,#REF!,8,0)))","v":0},0,0,0,0,0,0,{"$f":"IF(ISERROR(VLOOKUP($A762,#REF!,8,0)),0,(VLOOKUP($A762,#REF!,8,0)))","v":0},0,0,0,0,0,0,{"$f":"IF(ISERROR(VLOOKUP($A762,#REF!,8,0)),0,(VLOOKUP($A762,#REF!,8,0)))","v":0},0,0,0,0,0,0,{"$f":"IF(ISERROR(VLOOKUP($A762,#REF!,8,0)),0,(VLOOKUP($A762,#REF!,8,0)))","v":0},0,0,0,0,0,0,{"$f":"IF(ISERROR(VLOOKUP($A762,#REF!,8,0)),0,(VLOOKUP($A762,#REF!,8,0)))","v":0},0,0,0,0,0,0,{"$f":"IF(ISERROR(VLOOKUP($A762,#REF!,8,0)),0,(VLOOKUP($A762,#REF!,8,0)))","v":0},0,0,0,0,0,0,{"$f":"IF(ISERROR(VLOOKUP($A762,#REF!,8,0)),0,(VLOOKUP($A762,#REF!,8,0)))","v":0},0,0,0,0,0,0,{"$f":"IF(ISERROR(VLOOKUP($A762,#REF!,8,0)),0,(VLOOKUP($A762,#REF!,8,0)))","v":0},0,0,0,0,0,0,{"$f":"IF(ISERROR(VLOOKUP($A762,#REF!,8,0)),0,(VLOOKUP($A762,#REF!,8,0)))","v":0},0,0,0,0,0,0,{"$f":"IF(ISERROR(VLOOKUP($A762,#REF!,8,0)),0,(VLOOKUP($A762,#REF!,8,0)))","v":0},0,0,0,0,0,0,{"$f":"IF(ISERROR(VLOOKUP($A762,#REF!,8,0)),0,(VLOOKUP($A762,#REF!,8,0)))","v":0},0,0,0,0,0,0,{"$f":"IF(ISERROR(VLOOKUP($A762,#REF!,8,0)),0,(VLOOKUP($A762,#REF!,8,0)))","v":0},0,0,0,0,0,0,{"$f":"IF(ISERROR(VLOOKUP($A762,#REF!,8,0)),0,(VLOOKUP($A762,#REF!,8,0)))","v":0},0,0,0,0,0,0,{"$f":"IF(ISERROR(VLOOKUP($A762,#REF!,8,0)),0,(VLOOKUP($A762,#REF!,8,0)))","v":0},0,0,0,0,0,0,{"$f":"IF(ISERROR(VLOOKUP($A762,#REF!,8,0)),0,(VLOOKUP($A762,#REF!,8,0)))","v":0},0,0,0,0,0,0,{"$f":"IF(ISERROR(VLOOKUP($A762,#REF!,8,0)),0,(VLOOKUP($A762,#REF!,8,0)))","v":0},0,0,0,0,0,0,{"$f":"IF(ISERROR(VLOOKUP($A762,#REF!,8,0)),0,(VLOOKUP($A762,#REF!,8,0)))","v":0},0,0,0,0,0,0,0,0,{"$error":"#DIV/0!"},0]
["29.07.04","Fornecimento e assentamento de eletroduto de PVC rígido de 1 \" com luva de rosca interna, assentado em valas/alvenaria, inclusive escavação, reaterro e demais acessórios de fixação.","m",38.200000000000003,38.200000000000003,0,4.2222520000000001,161.29002640000002,17.204519999999999,657.21266400000002,0,0,21.426772,0,818.50269040000001,null,0,0,0,0,0,null,0,1,0,0,0,0,null,0,1,0,0,0,0,null,0,1,0,0,0,0,null,0,1,0,0,0,0,null,0,1,0,0,0,0,{"$f":"IF(ISERROR(VLOOKUP(A771,'7ª MEDIÇÃO'!$A$5:$J$1048576,8,0)),0,(VLOOKUP(A771,'7ª MEDIÇÃO'!$A$5:$J$1048576,8,0)))","v":0},0,1,0,0,0,0,{"$f":"IF(ISERROR(VLOOKUP(A771,'8ª MEDIÇÃO'!$A$5:$J$1048576,8,0)),0,(VLOOKUP(A771,'8ª MEDIÇÃO'!$A$5:$J$1048576,8,0)))","v":0},0,1,0,0,0,0,{"$f":"IF(ISERROR(VLOOKUP(A771,'9ª MEDIÇÃO'!$A$5:$J$1048576,8,0)),0,(VLOOKUP(A771,'9ª MEDIÇÃO'!$A$5:$J$1048576,8,0)))","v":0},0,1,0,0,0,0,{"$f":"IF(ISERROR(VLOOKUP(A771,#REF!,8,0)),0,(VLOOKUP(A771,#REF!,8,0)))","v":0},0,1,0,0,0,0,{"$f":"IF(ISERROR(VLOOKUP($A771,#REF!,8,0)),0,(VLOOKUP($A771,#REF!,8,0)))","v":0},0,1,0,0,0,0,{"$f":"IF(ISERROR(VLOOKUP($A771,#REF!,8,0)),0,(VLOOKUP($A771,#REF!,8,0)))","v":0},0,1,0,0,0,0,{"$f":"IF(ISERROR(VLOOKUP($A771,#REF!,8,0)),0,(VLOOKUP($A771,#REF!,8,0)))","v":0},0,1,0,0,0,0,{"$f":"IF(ISERROR(VLOOKUP($A771,#REF!,8,0)),0,(VLOOKUP($A771,#REF!,8,0)))","v":0},0,1,0,0,0,0,{"$f":"IF(ISERROR(VLOOKUP($A771,#REF!,8,0)),0,(VLOOKUP($A771,#REF!,8,0)))","v":0},0,1,0,0,0,0,{"$f":"IF(ISERROR(VLOOKUP($A771,#REF!,8,0)),0,(VLOOKUP($A771,#REF!,8,0)))","v":0},0,1,0,0,0,0,{"$f":"IF(ISERROR(VLOOKUP($A771,#REF!,8,0)),0,(VLOOKUP($A771,#REF!,8,0)))","v":0},0,1,0,0,0,0,{"$f":"IF(ISERROR(VLOOKUP($A771,#REF!,8,0)),0,(VLOOKUP($A771,#REF!,8,0)))","v":0},0,1,0,0,0,0,{"$f":"IF(ISERROR(VLOOKUP($A771,#REF!,8,0)),0,(VLOOKUP($A771,#REF!,8,0)))","v":0},0,1,0,0,0,0,{"$f":"IF(ISERROR(VLOOKUP($A771,#REF!,8,0)),0,(VLOOKUP($A771,#REF!,8,0)))","v":0},0,1,0,0,0,0,{"$f":"IF(ISERROR(VLOOKUP($A771,#REF!,8,0)),0,(VLOOKUP($A771,#REF!,8,0)))","v":0},0,1,0,0,0,0,{"$f":"IF(ISERROR(VLOOKUP($A771,#REF!,8,0)),0,(VLOOKUP($A771,#REF!,8,0)))","v":0},0,1,0,0,0,0,{"$f":"IF(ISERROR(VLOOKUP($A771,#REF!,8,0)),0,(VLOOKUP($A771,#REF!,8,0)))","v":0},0,1,0,0,0,0,{"$f":"IF(ISERROR(VLOOKUP($A771,#REF!,8,0)),0,(VLOOKUP($A771,#REF!,8,0)))","v":0},0,1,0,0,0,0,{"$f":"IF(ISERROR(VLOOKUP($A771,#REF!,8,0)),0,(VLOOKUP($A771,#REF!,8,0)))","v":0},0,1,0,0,0,0,{"$f":"IF(ISERROR(VLOOKUP($A771,#REF!,8,0)),0,(VLOOKUP($A771,#REF!,8,0)))","v":0},0,1,0,0,0,0,{"$f":"IF(ISERROR(VLOOKUP($A771,#REF!,8,0)),0,(VLOOKUP($A771,#REF!,8,0)))","v":0},0,1,0,0,0,0,{"$f":"IF(ISERROR(VLOOKUP($A771,#REF!,8,0)),0,(VLOOKUP($A771,#REF!,8,0)))","v":0},0,1,0,0,0,0,{"$f":"IF(ISERROR(VLOOKUP($A771,#REF!,8,0)),0,(VLOOKUP($A771,#REF!,8,0)))","v":0},0,1,0,0,0,0,{"$f":"IF(ISERROR(VLOOKUP($A771,#REF!,8,0)),0,(VLOOKUP($A771,#REF!,8,0)))","v":0},0,1,0,0,0,0,{"$f":"IF(ISERROR(VLOOKUP($A771,#REF!,8,0)),0,(VLOOKUP($A771,#REF!,8,0)))","v":0},0,1,0,0,0,0,{"$f":"IF(ISERROR(VLOOKUP($A771,#REF!,8,0)),0,(VLOOKUP($A771,#REF!,8,0)))","v":0},0,1,0,0,0,0,{"$f":"IF(ISERROR(VLOOKUP($A771,#REF!,8,0)),0,(VLOOKUP($A771,#REF!,8,0)))","v":0},0,1,0,0,0,0,{"$f":"IF(ISERROR(VLOOKUP($A771,#REF!,8,0)),0,(VLOOKUP($A771,#REF!,8,0)))","v":0},0,1,0,0,0,0,{"$f":"IF(ISERROR(VLOOKUP($A771,#REF!,8,0)),0,(VLOOKUP($A771,#REF!,8,0)))","v":0},0,1,0,0,0,0,{"$f":"IF(ISERROR(VLOOKUP($A771,#REF!,8,0)),0,(VLOOKUP($A771,#REF!,8,0)))","v":0},0,1,0,0,0,0,{"$f":"IF(ISERROR(VLOOKUP($A771,#REF!,8,0)),0,(VLOOKUP($A771,#REF!,8,0)))","v":0},0,1,0,0,0,0,{"$f":"IF(ISERROR(VLOOKUP($A771,#REF!,8,0)),0,(VLOOKUP($A771,#REF!,8,0)))","v":0},0,1,0,0,0,0,{"$f":"IF(ISERROR(VLOOKUP($A771,#REF!,8,0)),0,(VLOOKUP($A771,#REF!,8,0)))","v":0},0,1,0,0,0,0,{"$f":"IF(ISERROR(VLOOKUP($A771,#REF!,8,0)),0,(VLOOKUP($A771,#REF!,8,0)))","v":0},0,1,0,0,0,0,{"$f":"IF(ISERROR(VLOOKUP($A771,#REF!,8,0)),0,(VLOOKUP($A771,#REF!,8,0)))","v":0},0,1,0,0,0,0,{"$f":"IF(ISERROR(VLOOKUP($A771,#REF!,8,0)),0,(VLOOKUP($A771,#REF!,8,0)))","v":0},0,1,0,0,0,0,{"$f":"IF(ISERROR(VLOOKUP($A771,#REF!,8,0)),0,(VLOOKUP($A771,#REF!,8,0)))","v":0},0,1,0,0,0,0,{"$f":"IF(ISERROR(VLOOKUP($A771,#REF!,8,0)),0,(VLOOKUP($A771,#REF!,8,0)))","v":0},0,1,0,0,0,0,{"$f":"IF(ISERROR(VLOOKUP($A771,#REF!,8,0)),0,(VLOOKUP($A771,#REF!,8,0)))","v":0},0,1,0,0,0,0,{"$f":"IF(ISERROR(VLOOKUP($A771,#REF!,8,0)),0,(VLOOKUP($A771,#REF!,8,0)))","v":0},0,1,0,0,0,0,{"$f":"IF(ISERROR(VLOOKUP($A771,#REF!,8,0)),0,(VLOOKUP($A771,#REF!,8,0)))","v":0},0,1,0,0,0,0,{"$f":"IF(ISERROR(VLOOKUP($A771,#REF!,8,0)),0,(VLOOKUP($A771,#REF!,8,0)))","v":0},0,1,0,0,0,0,{"$f":"IF(ISERROR(VLOOKUP($A771,#REF!,8,0)),0,(VLOOKUP($A771,#REF!,8,0)))","v":0},0,1,0,0,0,0,{"$f":"IF(ISERROR(VLOOKUP($A771,#REF!,8,0)),0,(VLOOKUP($A771,#REF!,8,0)))","v":0},0,1,0,0,0,0,{"$f":"IF(ISERROR(VLOOKUP($A771,#REF!,8,0)),0,(VLOOKUP($A771,#REF!,8,0)))","v":0},0,1,0,0,0,0,{"$f":"IF(ISERROR(VLOOKUP($A771,#REF!,8,0)),0,(VLOOKUP($A771,#REF!,8,0)))","v":0},0,1,0,0,0,0,{"$f":"IF(ISERROR(VLOOKUP($A771,#REF!,8,0)),0,(VLOOKUP($A771,#REF!,8,0)))","v":0},0,1,0,0,0,0,{"$f":"IF(ISERROR(VLOOKUP($A771,#REF!,8,0)),0,(VLOOKUP($A771,#REF!,8,0)))","v":0},0,1,0,0,0,0,{"$f":"IF(ISERROR(VLOOKUP($A771,#REF!,8,0)),0,(VLOOKUP($A771,#REF!,8,0)))","v":0},0,1,0,0,0,0,818.50269040000001,818.50269040000001,1,0]
["29.07.05","Fornecimento e assentamento de eletroduto de PVC rígido de 3/4\" com luvas de rosca interna, curvas e demais acessórios de fixação.","m",118.9,118.9,0,3.0428519999999999,361.7951028,7.4888799999999991,890.42783199999997,0,0,10.531731999999998,0,1252.2229347999998,null,0,0,0,0,0,null,0,1,0,0,0,0,null,0,1,0,0,0,0,null,0,1,0,0,0,0,null,0,1,0,0,0,0,null,0,1,0,0,0,0,{"$f":"IF(ISERROR(VLOOKUP(A772,'7ª MEDIÇÃO'!$A$5:$J$1048576,8,0)),0,(VLOOKUP(A772,'7ª MEDIÇÃO'!$A$5:$J$1048576,8,0)))","v":0},0,1,0,0,0,0,{"$f":"IF(ISERROR(VLOOKUP(A772,'8ª MEDIÇÃO'!$A$5:$J$1048576,8,0)),0,(VLOOKUP(A772,'8ª MEDIÇÃO'!$A$5:$J$1048576,8,0)))","v":0},0,1,0,0,0,0,{"$f":"IF(ISERROR(VLOOKUP(A772,'9ª MEDIÇÃO'!$A$5:$J$1048576,8,0)),0,(VLOOKUP(A772,'9ª MEDIÇÃO'!$A$5:$J$1048576,8,0)))","v":0},0,1,0,0,0,0,{"$f":"IF(ISERROR(VLOOKUP(A772,#REF!,8,0)),0,(VLOOKUP(A772,#REF!,8,0)))","v":0},0,1,0,0,0,0,{"$f":"IF(ISERROR(VLOOKUP($A772,#REF!,8,0)),0,(VLOOKUP($A772,#REF!,8,0)))","v":0},0,1,0,0,0,0,{"$f":"IF(ISERROR(VLOOKUP($A772,#REF!,8,0)),0,(VLOOKUP($A772,#REF!,8,0)))","v":0},0,1,0,0,0,0,{"$f":"IF(ISERROR(VLOOKUP($A772,#REF!,8,0)),0,(VLOOKUP($A772,#REF!,8,0)))","v":0},0,1,0,0,0,0,{"$f":"IF(ISERROR(VLOOKUP($A772,#REF!,8,0)),0,(VLOOKUP($A772,#REF!,8,0)))","v":0},0,1,0,0,0,0,{"$f":"IF(ISERROR(VLOOKUP($A772,#REF!,8,0)),0,(VLOOKUP($A772,#REF!,8,0)))","v":0},0,1,0,0,0,0,{"$f":"IF(ISERROR(VLOOKUP($A772,#REF!,8,0)),0,(VLOOKUP($A772,#REF!,8,0)))","v":0},0,1,0,0,0,0,{"$f":"IF(ISERROR(VLOOKUP($A772,#REF!,8,0)),0,(VLOOKUP($A772,#REF!,8,0)))","v":0},0,1,0,0,0,0,{"$f":"IF(ISERROR(VLOOKUP($A772,#REF!,8,0)),0,(VLOOKUP($A772,#REF!,8,0)))","v":0},0,1,0,0,0,0,{"$f":"IF(ISERROR(VLOOKUP($A772,#REF!,8,0)),0,(VLOOKUP($A772,#REF!,8,0)))","v":0},0,1,0,0,0,0,{"$f":"IF(ISERROR(VLOOKUP($A772,#REF!,8,0)),0,(VLOOKUP($A772,#REF!,8,0)))","v":0},0,1,0,0,0,0,{"$f":"IF(ISERROR(VLOOKUP($A772,#REF!,8,0)),0,(VLOOKUP($A772,#REF!,8,0)))","v":0},0,1,0,0,0,0,{"$f":"IF(ISERROR(VLOOKUP($A772,#REF!,8,0)),0,(VLOOKUP($A772,#REF!,8,0)))","v":0},0,1,0,0,0,0,{"$f":"IF(ISERROR(VLOOKUP($A772,#REF!,8,0)),0,(VLOOKUP($A772,#REF!,8,0)))","v":0},0,1,0,0,0,0,{"$f":"IF(ISERROR(VLOOKUP($A772,#REF!,8,0)),0,(VLOOKUP($A772,#REF!,8,0)))","v":0},0,1,0,0,0,0,{"$f":"IF(ISERROR(VLOOKUP($A772,#REF!,8,0)),0,(VLOOKUP($A772,#REF!,8,0)))","v":0},0,1,0,0,0,0,{"$f":"IF(ISERROR(VLOOKUP($A772,#REF!,8,0)),0,(VLOOKUP($A772,#REF!,8,0)))","v":0},0,1,0,0,0,0,{"$f":"IF(ISERROR(VLOOKUP($A772,#REF!,8,0)),0,(VLOOKUP($A772,#REF!,8,0)))","v":0},0,1,0,0,0,0,{"$f":"IF(ISERROR(VLOOKUP($A772,#REF!,8,0)),0,(VLOOKUP($A772,#REF!,8,0)))","v":0},0,1,0,0,0,0,{"$f":"IF(ISERROR(VLOOKUP($A772,#REF!,8,0)),0,(VLOOKUP($A772,#REF!,8,0)))","v":0},0,1,0,0,0,0,{"$f":"IF(ISERROR(VLOOKUP($A772,#REF!,8,0)),0,(VLOOKUP($A772,#REF!,8,0)))","v":0},0,1,0,0,0,0,{"$f":"IF(ISERROR(VLOOKUP($A772,#REF!,8,0)),0,(VLOOKUP($A772,#REF!,8,0)))","v":0},0,1,0,0,0,0,{"$f":"IF(ISERROR(VLOOKUP($A772,#REF!,8,0)),0,(VLOOKUP($A772,#REF!,8,0)))","v":0},0,1,0,0,0,0,{"$f":"IF(ISERROR(VLOOKUP($A772,#REF!,8,0)),0,(VLOOKUP($A772,#REF!,8,0)))","v":0},0,1,0,0,0,0,{"$f":"IF(ISERROR(VLOOKUP($A772,#REF!,8,0)),0,(VLOOKUP($A772,#REF!,8,0)))","v":0},0,1,0,0,0,0,{"$f":"IF(ISERROR(VLOOKUP($A772,#REF!,8,0)),0,(VLOOKUP($A772,#REF!,8,0)))","v":0},0,1,0,0,0,0,{"$f":"IF(ISERROR(VLOOKUP($A772,#REF!,8,0)),0,(VLOOKUP($A772,#REF!,8,0)))","v":0},0,1,0,0,0,0,{"$f":"IF(ISERROR(VLOOKUP($A772,#REF!,8,0)),0,(VLOOKUP($A772,#REF!,8,0)))","v":0},0,1,0,0,0,0,{"$f":"IF(ISERROR(VLOOKUP($A772,#REF!,8,0)),0,(VLOOKUP($A772,#REF!,8,0)))","v":0},0,1,0,0,0,0,{"$f":"IF(ISERROR(VLOOKUP($A772,#REF!,8,0)),0,(VLOOKUP($A772,#REF!,8,0)))","v":0},0,1,0,0,0,0,{"$f":"IF(ISERROR(VLOOKUP($A772,#REF!,8,0)),0,(VLOOKUP($A772,#REF!,8,0)))","v":0},0,1,0,0,0,0,{"$f":"IF(ISERROR(VLOOKUP($A772,#REF!,8,0)),0,(VLOOKUP($A772,#REF!,8,0)))","v":0},0,1,0,0,0,0,{"$f":"IF(ISERROR(VLOOKUP($A772,#REF!,8,0)),0,(VLOOKUP($A772,#REF!,8,0)))","v":0},0,1,0,0,0,0,{"$f":"IF(ISERROR(VLOOKUP($A772,#REF!,8,0)),0,(VLOOKUP($A772,#REF!,8,0)))","v":0},0,1,0,0,0,0,{"$f":"IF(ISERROR(VLOOKUP($A772,#REF!,8,0)),0,(VLOOKUP($A772,#REF!,8,0)))","v":0},0,1,0,0,0,0,{"$f":"IF(ISERROR(VLOOKUP($A772,#REF!,8,0)),0,(VLOOKUP($A772,#REF!,8,0)))","v":0},0,1,0,0,0,0,{"$f":"IF(ISERROR(VLOOKUP($A772,#REF!,8,0)),0,(VLOOKUP($A772,#REF!,8,0)))","v":0},0,1,0,0,0,0,{"$f":"IF(ISERROR(VLOOKUP($A772,#REF!,8,0)),0,(VLOOKUP($A772,#REF!,8,0)))","v":0},0,1,0,0,0,0,{"$f":"IF(ISERROR(VLOOKUP($A772,#REF!,8,0)),0,(VLOOKUP($A772,#REF!,8,0)))","v":0},0,1,0,0,0,0,{"$f":"IF(ISERROR(VLOOKUP($A772,#REF!,8,0)),0,(VLOOKUP($A772,#REF!,8,0)))","v":0},0,1,0,0,0,0,{"$f":"IF(ISERROR(VLOOKUP($A772,#REF!,8,0)),0,(VLOOKUP($A772,#REF!,8,0)))","v":0},0,1,0,0,0,0,{"$f":"IF(ISERROR(VLOOKUP($A772,#REF!,8,0)),0,(VLOOKUP($A772,#REF!,8,0)))","v":0},0,1,0,0,0,0,{"$f":"IF(ISERROR(VLOOKUP($A772,#REF!,8,0)),0,(VLOOKUP($A772,#REF!,8,0)))","v":0},0,1,0,0,0,0,{"$f":"IF(ISERROR(VLOOKUP($A772,#REF!,8,0)),0,(VLOOKUP($A772,#REF!,8,0)))","v":0},0,1,0,0,0,0,{"$f":"IF(ISERROR(VLOOKUP($A772,#REF!,8,0)),0,(VLOOKUP($A772,#REF!,8,0)))","v":0},0,1,0,0,0,0,{"$f":"IF(ISERROR(VLOOKUP($A772,#REF!,8,0)),0,(VLOOKUP($A772,#REF!,8,0)))","v":0},0,1,0,0,0,0,1252.2229347999998,1252.2229347999998,1,0]
["29.08.04","Condulete 3/4\" em liga de alumínio fundido tipo \"x\" - fornecimento e instalação","un",36,36,0,15.851136,570.640896,3.5578399999999997,128.08223999999998,0,0,19.408975999999999,0,698.72313599999995,null,0,0,0,0,0,null,0,1,0,0,0,0,null,0,1,0,0,0,0,null,0,1,0,0,0,0,null,0,1,0,0,0,0,null,0,1,0,0,0,0,{"$f":"IF(ISERROR(VLOOKUP(A781,'7ª MEDIÇÃO'!$A$5:$J$1048576,8,0)),0,(VLOOKUP(A781,'7ª MEDIÇÃO'!$A$5:$J$1048576,8,0)))","v":0},0,1,0,0,0,0,{"$f":"IF(ISERROR(VLOOKUP(A781,'8ª MEDIÇÃO'!$A$5:$J$1048576,8,0)),0,(VLOOKUP(A781,'8ª MEDIÇÃO'!$A$5:$J$1048576,8,0)))","v":0},0,1,0,0,0,0,{"$f":"IF(ISERROR(VLOOKUP(A781,'9ª MEDIÇÃO'!$A$5:$J$1048576,8,0)),0,(VLOOKUP(A781,'9ª MEDIÇÃO'!$A$5:$J$1048576,8,0)))","v":0},0,1,0,0,0,0,{"$f":"IF(ISERROR(VLOOKUP(A781,#REF!,8,0)),0,(VLOOKUP(A781,#REF!,8,0)))","v":0},0,1,0,0,0,0,{"$f":"IF(ISERROR(VLOOKUP($A781,#REF!,8,0)),0,(VLOOKUP($A781,#REF!,8,0)))","v":0},0,1,0,0,0,0,{"$f":"IF(ISERROR(VLOOKUP($A781,#REF!,8,0)),0,(VLOOKUP($A781,#REF!,8,0)))","v":0},0,1,0,0,0,0,{"$f":"IF(ISERROR(VLOOKUP($A781,#REF!,8,0)),0,(VLOOKUP($A781,#REF!,8,0)))","v":0},0,1,0,0,0,0,{"$f":"IF(ISERROR(VLOOKUP($A781,#REF!,8,0)),0,(VLOOKUP($A781,#REF!,8,0)))","v":0},0,1,0,0,0,0,{"$f":"IF(ISERROR(VLOOKUP($A781,#REF!,8,0)),0,(VLOOKUP($A781,#REF!,8,0)))","v":0},0,1,0,0,0,0,{"$f":"IF(ISERROR(VLOOKUP($A781,#REF!,8,0)),0,(VLOOKUP($A781,#REF!,8,0)))","v":0},0,1,0,0,0,0,{"$f":"IF(ISERROR(VLOOKUP($A781,#REF!,8,0)),0,(VLOOKUP($A781,#REF!,8,0)))","v":0},0,1,0,0,0,0,{"$f":"IF(ISERROR(VLOOKUP($A781,#REF!,8,0)),0,(VLOOKUP($A781,#REF!,8,0)))","v":0},0,1,0,0,0,0,{"$f":"IF(ISERROR(VLOOKUP($A781,#REF!,8,0)),0,(VLOOKUP($A781,#REF!,8,0)))","v":0},0,1,0,0,0,0,{"$f":"IF(ISERROR(VLOOKUP($A781,#REF!,8,0)),0,(VLOOKUP($A781,#REF!,8,0)))","v":0},0,1,0,0,0,0,{"$f":"IF(ISERROR(VLOOKUP($A781,#REF!,8,0)),0,(VLOOKUP($A781,#REF!,8,0)))","v":0},0,1,0,0,0,0,{"$f":"IF(ISERROR(VLOOKUP($A781,#REF!,8,0)),0,(VLOOKUP($A781,#REF!,8,0)))","v":0},0,1,0,0,0,0,{"$f":"IF(ISERROR(VLOOKUP($A781,#REF!,8,0)),0,(VLOOKUP($A781,#REF!,8,0)))","v":0},0,1,0,0,0,0,{"$f":"IF(ISERROR(VLOOKUP($A781,#REF!,8,0)),0,(VLOOKUP($A781,#REF!,8,0)))","v":0},0,1,0,0,0,0,{"$f":"IF(ISERROR(VLOOKUP($A781,#REF!,8,0)),0,(VLOOKUP($A781,#REF!,8,0)))","v":0},0,1,0,0,0,0,{"$f":"IF(ISERROR(VLOOKUP($A781,#REF!,8,0)),0,(VLOOKUP($A781,#REF!,8,0)))","v":0},0,1,0,0,0,0,{"$f":"IF(ISERROR(VLOOKUP($A781,#REF!,8,0)),0,(VLOOKUP($A781,#REF!,8,0)))","v":0},0,1,0,0,0,0,{"$f":"IF(ISERROR(VLOOKUP($A781,#REF!,8,0)),0,(VLOOKUP($A781,#REF!,8,0)))","v":0},0,1,0,0,0,0,{"$f":"IF(ISERROR(VLOOKUP($A781,#REF!,8,0)),0,(VLOOKUP($A781,#REF!,8,0)))","v":0},0,1,0,0,0,0,{"$f":"IF(ISERROR(VLOOKUP($A781,#REF!,8,0)),0,(VLOOKUP($A781,#REF!,8,0)))","v":0},0,1,0,0,0,0,{"$f":"IF(ISERROR(VLOOKUP($A781,#REF!,8,0)),0,(VLOOKUP($A781,#REF!,8,0)))","v":0},0,1,0,0,0,0,{"$f":"IF(ISERROR(VLOOKUP($A781,#REF!,8,0)),0,(VLOOKUP($A781,#REF!,8,0)))","v":0},0,1,0,0,0,0,{"$f":"IF(ISERROR(VLOOKUP($A781,#REF!,8,0)),0,(VLOOKUP($A781,#REF!,8,0)))","v":0},0,1,0,0,0,0,{"$f":"IF(ISERROR(VLOOKUP($A781,#REF!,8,0)),0,(VLOOKUP($A781,#REF!,8,0)))","v":0},0,1,0,0,0,0,{"$f":"IF(ISERROR(VLOOKUP($A781,#REF!,8,0)),0,(VLOOKUP($A781,#REF!,8,0)))","v":0},0,1,0,0,0,0,{"$f":"IF(ISERROR(VLOOKUP($A781,#REF!,8,0)),0,(VLOOKUP($A781,#REF!,8,0)))","v":0},0,1,0,0,0,0,{"$f":"IF(ISERROR(VLOOKUP($A781,#REF!,8,0)),0,(VLOOKUP($A781,#REF!,8,0)))","v":0},0,1,0,0,0,0,{"$f":"IF(ISERROR(VLOOKUP($A781,#REF!,8,0)),0,(VLOOKUP($A781,#REF!,8,0)))","v":0},0,1,0,0,0,0,{"$f":"IF(ISERROR(VLOOKUP($A781,#REF!,8,0)),0,(VLOOKUP($A781,#REF!,8,0)))","v":0},0,1,0,0,0,0,{"$f":"IF(ISERROR(VLOOKUP($A781,#REF!,8,0)),0,(VLOOKUP($A781,#REF!,8,0)))","v":0},0,1,0,0,0,0,{"$f":"IF(ISERROR(VLOOKUP($A781,#REF!,8,0)),0,(VLOOKUP($A781,#REF!,8,0)))","v":0},0,1,0,0,0,0,{"$f":"IF(ISERROR(VLOOKUP($A781,#REF!,8,0)),0,(VLOOKUP($A781,#REF!,8,0)))","v":0},0,1,0,0,0,0,{"$f":"IF(ISERROR(VLOOKUP($A781,#REF!,8,0)),0,(VLOOKUP($A781,#REF!,8,0)))","v":0},0,1,0,0,0,0,{"$f":"IF(ISERROR(VLOOKUP($A781,#REF!,8,0)),0,(VLOOKUP($A781,#REF!,8,0)))","v":0},0,1,0,0,0,0,{"$f":"IF(ISERROR(VLOOKUP($A781,#REF!,8,0)),0,(VLOOKUP($A781,#REF!,8,0)))","v":0},0,1,0,0,0,0,{"$f":"IF(ISERROR(VLOOKUP($A781,#REF!,8,0)),0,(VLOOKUP($A781,#REF!,8,0)))","v":0},0,1,0,0,0,0,{"$f":"IF(ISERROR(VLOOKUP($A781,#REF!,8,0)),0,(VLOOKUP($A781,#REF!,8,0)))","v":0},0,1,0,0,0,0,{"$f":"IF(ISERROR(VLOOKUP($A781,#REF!,8,0)),0,(VLOOKUP($A781,#REF!,8,0)))","v":0},0,1,0,0,0,0,{"$f":"IF(ISERROR(VLOOKUP($A781,#REF!,8,0)),0,(VLOOKUP($A781,#REF!,8,0)))","v":0},0,1,0,0,0,0,{"$f":"IF(ISERROR(VLOOKUP($A781,#REF!,8,0)),0,(VLOOKUP($A781,#REF!,8,0)))","v":0},0,1,0,0,0,0,{"$f":"IF(ISERROR(VLOOKUP($A781,#REF!,8,0)),0,(VLOOKUP($A781,#REF!,8,0)))","v":0},0,1,0,0,0,0,{"$f":"IF(ISERROR(VLOOKUP($A781,#REF!,8,0)),0,(VLOOKUP($A781,#REF!,8,0)))","v":0},0,1,0,0,0,0,{"$f":"IF(ISERROR(VLOOKUP($A781,#REF!,8,0)),0,(VLOOKUP($A781,#REF!,8,0)))","v":0},0,1,0,0,0,0,{"$f":"IF(ISERROR(VLOOKUP($A781,#REF!,8,0)),0,(VLOOKUP($A781,#REF!,8,0)))","v":0},0,1,0,0,0,0,{"$f":"IF(ISERROR(VLOOKUP($A781,#REF!,8,0)),0,(VLOOKUP($A781,#REF!,8,0)))","v":0},0,1,0,0,0,0,698.72313599999995,698.72313599999995,1,0]
["29.09.09","Conector parafuso fendido split-bolt - para cabo de 35mm² - fornecimento e instalação.","un",80,72,8,4.8355399999999999,386.84320000000002,5.0008799999999995,400.07039999999995,0,0,9.8364200000000004,78.691360000000003,708.22224000000006,null,0,0,0,0,0,null,0,0.9,0,0,0,0,null,0,0.9,0,0,0,0,null,0,0.9,0,0,0,0,null,0,0.9,0,0,0,0,null,0,0.9,0,0,0,0,{"$f":"IF(ISERROR(VLOOKUP(A792,'7ª MEDIÇÃO'!$A$5:$J$1048576,8,0)),0,(VLOOKUP(A792,'7ª MEDIÇÃO'!$A$5:$J$1048576,8,0)))","v":0},0,0.9,0,0,0,0,{"$f":"IF(ISERROR(VLOOKUP(A792,'8ª MEDIÇÃO'!$A$5:$J$1048576,8,0)),0,(VLOOKUP(A792,'8ª MEDIÇÃO'!$A$5:$J$1048576,8,0)))","v":0},0,0.9,0,0,0,0,{"$f":"IF(ISERROR(VLOOKUP(A792,'9ª MEDIÇÃO'!$A$5:$J$1048576,8,0)),0,(VLOOKUP(A792,'9ª MEDIÇÃO'!$A$5:$J$1048576,8,0)))","v":0},0,0.9,0,0,0,0,{"$f":"IF(ISERROR(VLOOKUP(A792,#REF!,8,0)),0,(VLOOKUP(A792,#REF!,8,0)))","v":0},0,0.9,0,0,0,0,{"$f":"IF(ISERROR(VLOOKUP($A792,#REF!,8,0)),0,(VLOOKUP($A792,#REF!,8,0)))","v":0},0,0.9,0,0,0,0,{"$f":"IF(ISERROR(VLOOKUP($A792,#REF!,8,0)),0,(VLOOKUP($A792,#REF!,8,0)))","v":0},0,0.9,0,0,0,0,{"$f":"IF(ISERROR(VLOOKUP($A792,#REF!,8,0)),0,(VLOOKUP($A792,#REF!,8,0)))","v":0},0,0.9,0,0,0,0,{"$f":"IF(ISERROR(VLOOKUP($A792,#REF!,8,0)),0,(VLOOKUP($A792,#REF!,8,0)))","v":0},0,0.9,0,0,0,0,{"$f":"IF(ISERROR(VLOOKUP($A792,#REF!,8,0)),0,(VLOOKUP($A792,#REF!,8,0)))","v":0},0,0.9,0,0,0,0,{"$f":"IF(ISERROR(VLOOKUP($A792,#REF!,8,0)),0,(VLOOKUP($A792,#REF!,8,0)))","v":0},0,0.9,0,0,0,0,{"$f":"IF(ISERROR(VLOOKUP($A792,#REF!,8,0)),0,(VLOOKUP($A792,#REF!,8,0)))","v":0},0,0.9,0,0,0,0,{"$f":"IF(ISERROR(VLOOKUP($A792,#REF!,8,0)),0,(VLOOKUP($A792,#REF!,8,0)))","v":0},0,0.9,0,0,0,0,{"$f":"IF(ISERROR(VLOOKUP($A792,#REF!,8,0)),0,(VLOOKUP($A792,#REF!,8,0)))","v":0},0,0.9,0,0,0,0,{"$f":"IF(ISERROR(VLOOKUP($A792,#REF!,8,0)),0,(VLOOKUP($A792,#REF!,8,0)))","v":0},0,0.9,0,0,0,0,{"$f":"IF(ISERROR(VLOOKUP($A792,#REF!,8,0)),0,(VLOOKUP($A792,#REF!,8,0)))","v":0},0,0.9,0,0,0,0,{"$f":"IF(ISERROR(VLOOKUP($A792,#REF!,8,0)),0,(VLOOKUP($A792,#REF!,8,0)))","v":0},0,0.9,0,0,0,0,{"$f":"IF(ISERROR(VLOOKUP($A792,#REF!,8,0)),0,(VLOOKUP($A792,#REF!,8,0)))","v":0},0,0.9,0,0,0,0,{"$f":"IF(ISERROR(VLOOKUP($A792,#REF!,8,0)),0,(VLOOKUP($A792,#REF!,8,0)))","v":0},0,0.9,0,0,0,0,{"$f":"IF(ISERROR(VLOOKUP($A792,#REF!,8,0)),0,(VLOOKUP($A792,#REF!,8,0)))","v":0},0,0.9,0,0,0,0,{"$f":"IF(ISERROR(VLOOKUP($A792,#REF!,8,0)),0,(VLOOKUP($A792,#REF!,8,0)))","v":0},0,0.9,0,0,0,0,{"$f":"IF(ISERROR(VLOOKUP($A792,#REF!,8,0)),0,(VLOOKUP($A792,#REF!,8,0)))","v":0},0,0.9,0,0,0,0,{"$f":"IF(ISERROR(VLOOKUP($A792,#REF!,8,0)),0,(VLOOKUP($A792,#REF!,8,0)))","v":0},0,0.9,0,0,0,0,{"$f":"IF(ISERROR(VLOOKUP($A792,#REF!,8,0)),0,(VLOOKUP($A792,#REF!,8,0)))","v":0},0,0.9,0,0,0,0,{"$f":"IF(ISERROR(VLOOKUP($A792,#REF!,8,0)),0,(VLOOKUP($A792,#REF!,8,0)))","v":0},0,0.9,0,0,0,0,{"$f":"IF(ISERROR(VLOOKUP($A792,#REF!,8,0)),0,(VLOOKUP($A792,#REF!,8,0)))","v":0},0,0.9,0,0,0,0,{"$f":"IF(ISERROR(VLOOKUP($A792,#REF!,8,0)),0,(VLOOKUP($A792,#REF!,8,0)))","v":0},0,0.9,0,0,0,0,{"$f":"IF(ISERROR(VLOOKUP($A792,#REF!,8,0)),0,(VLOOKUP($A792,#REF!,8,0)))","v":0},0,0.9,0,0,0,0,{"$f":"IF(ISERROR(VLOOKUP($A792,#REF!,8,0)),0,(VLOOKUP($A792,#REF!,8,0)))","v":0},0,0.9,0,0,0,0,{"$f":"IF(ISERROR(VLOOKUP($A792,#REF!,8,0)),0,(VLOOKUP($A792,#REF!,8,0)))","v":0},0,0.9,0,0,0,0,{"$f":"IF(ISERROR(VLOOKUP($A792,#REF!,8,0)),0,(VLOOKUP($A792,#REF!,8,0)))","v":0},0,0.9,0,0,0,0,{"$f":"IF(ISERROR(VLOOKUP($A792,#REF!,8,0)),0,(VLOOKUP($A792,#REF!,8,0)))","v":0},0,0.9,0,0,0,0,{"$f":"IF(ISERROR(VLOOKUP($A792,#REF!,8,0)),0,(VLOOKUP($A792,#REF!,8,0)))","v":0},0,0.9,0,0,0,0,{"$f":"IF(ISERROR(VLOOKUP($A792,#REF!,8,0)),0,(VLOOKUP($A792,#REF!,8,0)))","v":0},0,0.9,0,0,0,0,{"$f":"IF(ISERROR(VLOOKUP($A792,#REF!,8,0)),0,(VLOOKUP($A792,#REF!,8,0)))","v":0},0,0.9,0,0,0,0,{"$f":"IF(ISERROR(VLOOKUP($A792,#REF!,8,0)),0,(VLOOKUP($A792,#REF!,8,0)))","v":0},0,0.9,0,0,0,0,{"$f":"IF(ISERROR(VLOOKUP($A792,#REF!,8,0)),0,(VLOOKUP($A792,#REF!,8,0)))","v":0},0,0.9,0,0,0,0,{"$f":"IF(ISERROR(VLOOKUP($A792,#REF!,8,0)),0,(VLOOKUP($A792,#REF!,8,0)))","v":0},0,0.9,0,0,0,0,{"$f":"IF(ISERROR(VLOOKUP($A792,#REF!,8,0)),0,(VLOOKUP($A792,#REF!,8,0)))","v":0},0,0.9,0,0,0,0,{"$f":"IF(ISERROR(VLOOKUP($A792,#REF!,8,0)),0,(VLOOKUP($A792,#REF!,8,0)))","v":0},0,0.9,0,0,0,0,{"$f":"IF(ISERROR(VLOOKUP($A792,#REF!,8,0)),0,(VLOOKUP($A792,#REF!,8,0)))","v":0},0,0.9,0,0,0,0,{"$f":"IF(ISERROR(VLOOKUP($A792,#REF!,8,0)),0,(VLOOKUP($A792,#REF!,8,0)))","v":0},0,0.9,0,0,0,0,{"$f":"IF(ISERROR(VLOOKUP($A792,#REF!,8,0)),0,(VLOOKUP($A792,#REF!,8,0)))","v":0},0,0.9,0,0,0,0,{"$f":"IF(ISERROR(VLOOKUP($A792,#REF!,8,0)),0,(VLOOKUP($A792,#REF!,8,0)))","v":0},0,0.9,0,0,0,0,{"$f":"IF(ISERROR(VLOOKUP($A792,#REF!,8,0)),0,(VLOOKUP($A792,#REF!,8,0)))","v":0},0,0.9,0,0,0,0,{"$f":"IF(ISERROR(VLOOKUP($A792,#REF!,8,0)),0,(VLOOKUP($A792,#REF!,8,0)))","v":0},0,0.9,0,0,0,0,{"$f":"IF(ISERROR(VLOOKUP($A792,#REF!,8,0)),0,(VLOOKUP($A792,#REF!,8,0)))","v":0},0,0.9,0,0,0,0,{"$f":"IF(ISERROR(VLOOKUP($A792,#REF!,8,0)),0,(VLOOKUP($A792,#REF!,8,0)))","v":0},0,0.9,0,0,0,0,{"$f":"IF(ISERROR(VLOOKUP($A792,#REF!,8,0)),0,(VLOOKUP($A792,#REF!,8,0)))","v":0},0,0.9,0,0,0,0,{"$f":"IF(ISERROR(VLOOKUP($A792,#REF!,8,0)),0,(VLOOKUP($A792,#REF!,8,0)))","v":0},0,0.9,0,0,0,0,708.22224000000006,708.22224000000006,1,0]
["29.09.17","Fornecimento e Instalação de sinalizador noturno de obstáculos, automático, com suporte para 2 lâmpadas, TEL-600 ou equivalente.","un",1,1,0,156.48279200000002,156.48279200000002,37.431959999999997,37.431959999999997,0,0,193.91475200000002,0,193.91475200000002,null,0,0,0,0,0,null,0,1,0,0,0,0,null,0,1,0,0,0,0,null,0,1,0,0,0,0,null,0,1,0,0,0,0,null,0,1,0,0,0,0,{"$f":"IF(ISERROR(VLOOKUP(A800,'7ª MEDIÇÃO'!$A$5:$J$1048576,8,0)),0,(VLOOKUP(A800,'7ª MEDIÇÃO'!$A$5:$J$1048576,8,0)))","v":0},0,1,0,0,0,0,{"$f":"IF(ISERROR(VLOOKUP(A800,'8ª MEDIÇÃO'!$A$5:$J$1048576,8,0)),0,(VLOOKUP(A800,'8ª MEDIÇÃO'!$A$5:$J$1048576,8,0)))","v":0},0,1,0,0,0,0,{"$f":"IF(ISERROR(VLOOKUP(A800,'9ª MEDIÇÃO'!$A$5:$J$1048576,8,0)),0,(VLOOKUP(A800,'9ª MEDIÇÃO'!$A$5:$J$1048576,8,0)))","v":0},0,1,0,0,0,0,{"$f":"IF(ISERROR(VLOOKUP(A800,#REF!,8,0)),0,(VLOOKUP(A800,#REF!,8,0)))","v":0},0,1,0,0,0,0,{"$f":"IF(ISERROR(VLOOKUP($A800,#REF!,8,0)),0,(VLOOKUP($A800,#REF!,8,0)))","v":0},0,1,0,0,0,0,{"$f":"IF(ISERROR(VLOOKUP($A800,#REF!,8,0)),0,(VLOOKUP($A800,#REF!,8,0)))","v":0},0,1,0,0,0,0,{"$f":"IF(ISERROR(VLOOKUP($A800,#REF!,8,0)),0,(VLOOKUP($A800,#REF!,8,0)))","v":0},0,1,0,0,0,0,{"$f":"IF(ISERROR(VLOOKUP($A800,#REF!,8,0)),0,(VLOOKUP($A800,#REF!,8,0)))","v":0},0,1,0,0,0,0,{"$f":"IF(ISERROR(VLOOKUP($A800,#REF!,8,0)),0,(VLOOKUP($A800,#REF!,8,0)))","v":0},0,1,0,0,0,0,{"$f":"IF(ISERROR(VLOOKUP($A800,#REF!,8,0)),0,(VLOOKUP($A800,#REF!,8,0)))","v":0},0,1,0,0,0,0,{"$f":"IF(ISERROR(VLOOKUP($A800,#REF!,8,0)),0,(VLOOKUP($A800,#REF!,8,0)))","v":0},0,1,0,0,0,0,{"$f":"IF(ISERROR(VLOOKUP($A800,#REF!,8,0)),0,(VLOOKUP($A800,#REF!,8,0)))","v":0},0,1,0,0,0,0,{"$f":"IF(ISERROR(VLOOKUP($A800,#REF!,8,0)),0,(VLOOKUP($A800,#REF!,8,0)))","v":0},0,1,0,0,0,0,{"$f":"IF(ISERROR(VLOOKUP($A800,#REF!,8,0)),0,(VLOOKUP($A800,#REF!,8,0)))","v":0},0,1,0,0,0,0,{"$f":"IF(ISERROR(VLOOKUP($A800,#REF!,8,0)),0,(VLOOKUP($A800,#REF!,8,0)))","v":0},0,1,0,0,0,0,{"$f":"IF(ISERROR(VLOOKUP($A800,#REF!,8,0)),0,(VLOOKUP($A800,#REF!,8,0)))","v":0},0,1,0,0,0,0,{"$f":"IF(ISERROR(VLOOKUP($A800,#REF!,8,0)),0,(VLOOKUP($A800,#REF!,8,0)))","v":0},0,1,0,0,0,0,{"$f":"IF(ISERROR(VLOOKUP($A800,#REF!,8,0)),0,(VLOOKUP($A800,#REF!,8,0)))","v":0},0,1,0,0,0,0,{"$f":"IF(ISERROR(VLOOKUP($A800,#REF!,8,0)),0,(VLOOKUP($A800,#REF!,8,0)))","v":0},0,1,0,0,0,0,{"$f":"IF(ISERROR(VLOOKUP($A800,#REF!,8,0)),0,(VLOOKUP($A800,#REF!,8,0)))","v":0},0,1,0,0,0,0,{"$f":"IF(ISERROR(VLOOKUP($A800,#REF!,8,0)),0,(VLOOKUP($A800,#REF!,8,0)))","v":0},0,1,0,0,0,0,{"$f":"IF(ISERROR(VLOOKUP($A800,#REF!,8,0)),0,(VLOOKUP($A800,#REF!,8,0)))","v":0},0,1,0,0,0,0,{"$f":"IF(ISERROR(VLOOKUP($A800,#REF!,8,0)),0,(VLOOKUP($A800,#REF!,8,0)))","v":0},0,1,0,0,0,0,{"$f":"IF(ISERROR(VLOOKUP($A800,#REF!,8,0)),0,(VLOOKUP($A800,#REF!,8,0)))","v":0},0,1,0,0,0,0,{"$f":"IF(ISERROR(VLOOKUP($A800,#REF!,8,0)),0,(VLOOKUP($A800,#REF!,8,0)))","v":0},0,1,0,0,0,0,{"$f":"IF(ISERROR(VLOOKUP($A800,#REF!,8,0)),0,(VLOOKUP($A800,#REF!,8,0)))","v":0},0,1,0,0,0,0,{"$f":"IF(ISERROR(VLOOKUP($A800,#REF!,8,0)),0,(VLOOKUP($A800,#REF!,8,0)))","v":0},0,1,0,0,0,0,{"$f":"IF(ISERROR(VLOOKUP($A800,#REF!,8,0)),0,(VLOOKUP($A800,#REF!,8,0)))","v":0},0,1,0,0,0,0,{"$f":"IF(ISERROR(VLOOKUP($A800,#REF!,8,0)),0,(VLOOKUP($A800,#REF!,8,0)))","v":0},0,1,0,0,0,0,{"$f":"IF(ISERROR(VLOOKUP($A800,#REF!,8,0)),0,(VLOOKUP($A800,#REF!,8,0)))","v":0},0,1,0,0,0,0,{"$f":"IF(ISERROR(VLOOKUP($A800,#REF!,8,0)),0,(VLOOKUP($A800,#REF!,8,0)))","v":0},0,1,0,0,0,0,{"$f":"IF(ISERROR(VLOOKUP($A800,#REF!,8,0)),0,(VLOOKUP($A800,#REF!,8,0)))","v":0},0,1,0,0,0,0,{"$f":"IF(ISERROR(VLOOKUP($A800,#REF!,8,0)),0,(VLOOKUP($A800,#REF!,8,0)))","v":0},0,1,0,0,0,0,{"$f":"IF(ISERROR(VLOOKUP($A800,#REF!,8,0)),0,(VLOOKUP($A800,#REF!,8,0)))","v":0},0,1,0,0,0,0,{"$f":"IF(ISERROR(VLOOKUP($A800,#REF!,8,0)),0,(VLOOKUP($A800,#REF!,8,0)))","v":0},0,1,0,0,0,0,{"$f":"IF(ISERROR(VLOOKUP($A800,#REF!,8,0)),0,(VLOOKUP($A800,#REF!,8,0)))","v":0},0,1,0,0,0,0,{"$f":"IF(ISERROR(VLOOKUP($A800,#REF!,8,0)),0,(VLOOKUP($A800,#REF!,8,0)))","v":0},0,1,0,0,0,0,{"$f":"IF(ISERROR(VLOOKUP($A800,#REF!,8,0)),0,(VLOOKUP($A800,#REF!,8,0)))","v":0},0,1,0,0,0,0,{"$f":"IF(ISERROR(VLOOKUP($A800,#REF!,8,0)),0,(VLOOKUP($A800,#REF!,8,0)))","v":0},0,1,0,0,0,0,{"$f":"IF(ISERROR(VLOOKUP($A800,#REF!,8,0)),0,(VLOOKUP($A800,#REF!,8,0)))","v":0},0,1,0,0,0,0,{"$f":"IF(ISERROR(VLOOKUP($A800,#REF!,8,0)),0,(VLOOKUP($A800,#REF!,8,0)))","v":0},0,1,0,0,0,0,{"$f":"IF(ISERROR(VLOOKUP($A800,#REF!,8,0)),0,(VLOOKUP($A800,#REF!,8,0)))","v":0},0,1,0,0,0,0,{"$f":"IF(ISERROR(VLOOKUP($A800,#REF!,8,0)),0,(VLOOKUP($A800,#REF!,8,0)))","v":0},0,1,0,0,0,0,{"$f":"IF(ISERROR(VLOOKUP($A800,#REF!,8,0)),0,(VLOOKUP($A800,#REF!,8,0)))","v":0},0,1,0,0,0,0,{"$f":"IF(ISERROR(VLOOKUP($A800,#REF!,8,0)),0,(VLOOKUP($A800,#REF!,8,0)))","v":0},0,1,0,0,0,0,{"$f":"IF(ISERROR(VLOOKUP($A800,#REF!,8,0)),0,(VLOOKUP($A800,#REF!,8,0)))","v":0},0,1,0,0,0,0,{"$f":"IF(ISERROR(VLOOKUP($A800,#REF!,8,0)),0,(VLOOKUP($A800,#REF!,8,0)))","v":0},0,1,0,0,0,0,{"$f":"IF(ISERROR(VLOOKUP($A800,#REF!,8,0)),0,(VLOOKUP($A800,#REF!,8,0)))","v":0},0,1,0,0,0,0,{"$f":"IF(ISERROR(VLOOKUP($A800,#REF!,8,0)),0,(VLOOKUP($A800,#REF!,8,0)))","v":0},0,1,0,0,0,0,193.91475200000002,193.91475200000002,1,0]
["29.09.26","Fornecimento e Instalação de abraçadeira guia reforçada 2\" - TEL 390, Termotécnica ou equivalente, fabricante Termotécnica ou equivalente.","un",1,1,0,24.295640000000002,24.295640000000002,1.6172,1.6172,0,0,25.912840000000003,0,25.912840000000003,null,0,0,0,0,0,null,0,1,0,0,0,0,null,0,1,0,0,0,0,null,0,1,0,0,0,0,null,0,1,0,0,0,0,null,0,1,0,0,0,0,{"$f":"IF(ISERROR(VLOOKUP(A809,'7ª MEDIÇÃO'!$A$5:$J$1048576,8,0)),0,(VLOOKUP(A809,'7ª MEDIÇÃO'!$A$5:$J$1048576,8,0)))","v":0},0,1,0,0,0,0,{"$f":"IF(ISERROR(VLOOKUP(A809,'8ª MEDIÇÃO'!$A$5:$J$1048576,8,0)),0,(VLOOKUP(A809,'8ª MEDIÇÃO'!$A$5:$J$1048576,8,0)))","v":0},0,1,0,0,0,0,{"$f":"IF(ISERROR(VLOOKUP(A809,'9ª MEDIÇÃO'!$A$5:$J$1048576,8,0)),0,(VLOOKUP(A809,'9ª MEDIÇÃO'!$A$5:$J$1048576,8,0)))","v":0},0,1,0,0,0,0,{"$f":"IF(ISERROR(VLOOKUP(A809,#REF!,8,0)),0,(VLOOKUP(A809,#REF!,8,0)))","v":0},0,1,0,0,0,0,{"$f":"IF(ISERROR(VLOOKUP($A809,#REF!,8,0)),0,(VLOOKUP($A809,#REF!,8,0)))","v":0},0,1,0,0,0,0,{"$f":"IF(ISERROR(VLOOKUP($A809,#REF!,8,0)),0,(VLOOKUP($A809,#REF!,8,0)))","v":0},0,1,0,0,0,0,{"$f":"IF(ISERROR(VLOOKUP($A809,#REF!,8,0)),0,(VLOOKUP($A809,#REF!,8,0)))","v":0},0,1,0,0,0,0,{"$f":"IF(ISERROR(VLOOKUP($A809,#REF!,8,0)),0,(VLOOKUP($A809,#REF!,8,0)))","v":0},0,1,0,0,0,0,{"$f":"IF(ISERROR(VLOOKUP($A809,#REF!,8,0)),0,(VLOOKUP($A809,#REF!,8,0)))","v":0},0,1,0,0,0,0,{"$f":"IF(ISERROR(VLOOKUP($A809,#REF!,8,0)),0,(VLOOKUP($A809,#REF!,8,0)))","v":0},0,1,0,0,0,0,{"$f":"IF(ISERROR(VLOOKUP($A809,#REF!,8,0)),0,(VLOOKUP($A809,#REF!,8,0)))","v":0},0,1,0,0,0,0,{"$f":"IF(ISERROR(VLOOKUP($A809,#REF!,8,0)),0,(VLOOKUP($A809,#REF!,8,0)))","v":0},0,1,0,0,0,0,{"$f":"IF(ISERROR(VLOOKUP($A809,#REF!,8,0)),0,(VLOOKUP($A809,#REF!,8,0)))","v":0},0,1,0,0,0,0,{"$f":"IF(ISERROR(VLOOKUP($A809,#REF!,8,0)),0,(VLOOKUP($A809,#REF!,8,0)))","v":0},0,1,0,0,0,0,{"$f":"IF(ISERROR(VLOOKUP($A809,#REF!,8,0)),0,(VLOOKUP($A809,#REF!,8,0)))","v":0},0,1,0,0,0,0,{"$f":"IF(ISERROR(VLOOKUP($A809,#REF!,8,0)),0,(VLOOKUP($A809,#REF!,8,0)))","v":0},0,1,0,0,0,0,{"$f":"IF(ISERROR(VLOOKUP($A809,#REF!,8,0)),0,(VLOOKUP($A809,#REF!,8,0)))","v":0},0,1,0,0,0,0,{"$f":"IF(ISERROR(VLOOKUP($A809,#REF!,8,0)),0,(VLOOKUP($A809,#REF!,8,0)))","v":0},0,1,0,0,0,0,{"$f":"IF(ISERROR(VLOOKUP($A809,#REF!,8,0)),0,(VLOOKUP($A809,#REF!,8,0)))","v":0},0,1,0,0,0,0,{"$f":"IF(ISERROR(VLOOKUP($A809,#REF!,8,0)),0,(VLOOKUP($A809,#REF!,8,0)))","v":0},0,1,0,0,0,0,{"$f":"IF(ISERROR(VLOOKUP($A809,#REF!,8,0)),0,(VLOOKUP($A809,#REF!,8,0)))","v":0},0,1,0,0,0,0,{"$f":"IF(ISERROR(VLOOKUP($A809,#REF!,8,0)),0,(VLOOKUP($A809,#REF!,8,0)))","v":0},0,1,0,0,0,0,{"$f":"IF(ISERROR(VLOOKUP($A809,#REF!,8,0)),0,(VLOOKUP($A809,#REF!,8,0)))","v":0},0,1,0,0,0,0,{"$f":"IF(ISERROR(VLOOKUP($A809,#REF!,8,0)),0,(VLOOKUP($A809,#REF!,8,0)))","v":0},0,1,0,0,0,0,{"$f":"IF(ISERROR(VLOOKUP($A809,#REF!,8,0)),0,(VLOOKUP($A809,#REF!,8,0)))","v":0},0,1,0,0,0,0,{"$f":"IF(ISERROR(VLOOKUP($A809,#REF!,8,0)),0,(VLOOKUP($A809,#REF!,8,0)))","v":0},0,1,0,0,0,0,{"$f":"IF(ISERROR(VLOOKUP($A809,#REF!,8,0)),0,(VLOOKUP($A809,#REF!,8,0)))","v":0},0,1,0,0,0,0,{"$f":"IF(ISERROR(VLOOKUP($A809,#REF!,8,0)),0,(VLOOKUP($A809,#REF!,8,0)))","v":0},0,1,0,0,0,0,{"$f":"IF(ISERROR(VLOOKUP($A809,#REF!,8,0)),0,(VLOOKUP($A809,#REF!,8,0)))","v":0},0,1,0,0,0,0,{"$f":"IF(ISERROR(VLOOKUP($A809,#REF!,8,0)),0,(VLOOKUP($A809,#REF!,8,0)))","v":0},0,1,0,0,0,0,{"$f":"IF(ISERROR(VLOOKUP($A809,#REF!,8,0)),0,(VLOOKUP($A809,#REF!,8,0)))","v":0},0,1,0,0,0,0,{"$f":"IF(ISERROR(VLOOKUP($A809,#REF!,8,0)),0,(VLOOKUP($A809,#REF!,8,0)))","v":0},0,1,0,0,0,0,{"$f":"IF(ISERROR(VLOOKUP($A809,#REF!,8,0)),0,(VLOOKUP($A809,#REF!,8,0)))","v":0},0,1,0,0,0,0,{"$f":"IF(ISERROR(VLOOKUP($A809,#REF!,8,0)),0,(VLOOKUP($A809,#REF!,8,0)))","v":0},0,1,0,0,0,0,{"$f":"IF(ISERROR(VLOOKUP($A809,#REF!,8,0)),0,(VLOOKUP($A809,#REF!,8,0)))","v":0},0,1,0,0,0,0,{"$f":"IF(ISERROR(VLOOKUP($A809,#REF!,8,0)),0,(VLOOKUP($A809,#REF!,8,0)))","v":0},0,1,0,0,0,0,{"$f":"IF(ISERROR(VLOOKUP($A809,#REF!,8,0)),0,(VLOOKUP($A809,#REF!,8,0)))","v":0},0,1,0,0,0,0,{"$f":"IF(ISERROR(VLOOKUP($A809,#REF!,8,0)),0,(VLOOKUP($A809,#REF!,8,0)))","v":0},0,1,0,0,0,0,{"$f":"IF(ISERROR(VLOOKUP($A809,#REF!,8,0)),0,(VLOOKUP($A809,#REF!,8,0)))","v":0},0,1,0,0,0,0,{"$f":"IF(ISERROR(VLOOKUP($A809,#REF!,8,0)),0,(VLOOKUP($A809,#REF!,8,0)))","v":0},0,1,0,0,0,0,{"$f":"IF(ISERROR(VLOOKUP($A809,#REF!,8,0)),0,(VLOOKUP($A809,#REF!,8,0)))","v":0},0,1,0,0,0,0,{"$f":"IF(ISERROR(VLOOKUP($A809,#REF!,8,0)),0,(VLOOKUP($A809,#REF!,8,0)))","v":0},0,1,0,0,0,0,{"$f":"IF(ISERROR(VLOOKUP($A809,#REF!,8,0)),0,(VLOOKUP($A809,#REF!,8,0)))","v":0},0,1,0,0,0,0,{"$f":"IF(ISERROR(VLOOKUP($A809,#REF!,8,0)),0,(VLOOKUP($A809,#REF!,8,0)))","v":0},0,1,0,0,0,0,{"$f":"IF(ISERROR(VLOOKUP($A809,#REF!,8,0)),0,(VLOOKUP($A809,#REF!,8,0)))","v":0},0,1,0,0,0,0,{"$f":"IF(ISERROR(VLOOKUP($A809,#REF!,8,0)),0,(VLOOKUP($A809,#REF!,8,0)))","v":0},0,1,0,0,0,0,{"$f":"IF(ISERROR(VLOOKUP($A809,#REF!,8,0)),0,(VLOOKUP($A809,#REF!,8,0)))","v":0},0,1,0,0,0,0,{"$f":"IF(ISERROR(VLOOKUP($A809,#REF!,8,0)),0,(VLOOKUP($A809,#REF!,8,0)))","v":0},0,1,0,0,0,0,{"$f":"IF(ISERROR(VLOOKUP($A809,#REF!,8,0)),0,(VLOOKUP($A809,#REF!,8,0)))","v":0},0,1,0,0,0,0,25.912840000000003,25.912840000000003,1,0]
["29.09.35","Fornecimento e instalação de terminal de compressão TEL 5116","un",6,6,0,0.74302199999999996,4.458132,2.15212,12.91272,0,0,2.8951419999999999,0,17.370851999999999,null,0,0,0,0,0,null,0,1,0,0,0,0,null,0,1,0,0,0,0,null,0,1,0,0,0,0,null,0,1,0,0,0,0,null,0,1,0,0,0,0,{"$f":"IF(ISERROR(VLOOKUP(A818,'7ª MEDIÇÃO'!$A$5:$J$1048576,8,0)),0,(VLOOKUP(A818,'7ª MEDIÇÃO'!$A$5:$J$1048576,8,0)))","v":0},0,1,0,0,0,0,{"$f":"IF(ISERROR(VLOOKUP(A818,'8ª MEDIÇÃO'!$A$5:$J$1048576,8,0)),0,(VLOOKUP(A818,'8ª MEDIÇÃO'!$A$5:$J$1048576,8,0)))","v":0},0,1,0,0,0,0,{"$f":"IF(ISERROR(VLOOKUP(A818,'9ª MEDIÇÃO'!$A$5:$J$1048576,8,0)),0,(VLOOKUP(A818,'9ª MEDIÇÃO'!$A$5:$J$1048576,8,0)))","v":0},0,1,0,0,0,0,{"$f":"IF(ISERROR(VLOOKUP(A818,#REF!,8,0)),0,(VLOOKUP(A818,#REF!,8,0)))","v":0},0,1,0,0,0,0,{"$f":"IF(ISERROR(VLOOKUP($A818,#REF!,8,0)),0,(VLOOKUP($A818,#REF!,8,0)))","v":0},0,1,0,0,0,0,{"$f":"IF(ISERROR(VLOOKUP($A818,#REF!,8,0)),0,(VLOOKUP($A818,#REF!,8,0)))","v":0},0,1,0,0,0,0,{"$f":"IF(ISERROR(VLOOKUP($A818,#REF!,8,0)),0,(VLOOKUP($A818,#REF!,8,0)))","v":0},0,1,0,0,0,0,{"$f":"IF(ISERROR(VLOOKUP($A818,#REF!,8,0)),0,(VLOOKUP($A818,#REF!,8,0)))","v":0},0,1,0,0,0,0,{"$f":"IF(ISERROR(VLOOKUP($A818,#REF!,8,0)),0,(VLOOKUP($A818,#REF!,8,0)))","v":0},0,1,0,0,0,0,{"$f":"IF(ISERROR(VLOOKUP($A818,#REF!,8,0)),0,(VLOOKUP($A818,#REF!,8,0)))","v":0},0,1,0,0,0,0,{"$f":"IF(ISERROR(VLOOKUP($A818,#REF!,8,0)),0,(VLOOKUP($A818,#REF!,8,0)))","v":0},0,1,0,0,0,0,{"$f":"IF(ISERROR(VLOOKUP($A818,#REF!,8,0)),0,(VLOOKUP($A818,#REF!,8,0)))","v":0},0,1,0,0,0,0,{"$f":"IF(ISERROR(VLOOKUP($A818,#REF!,8,0)),0,(VLOOKUP($A818,#REF!,8,0)))","v":0},0,1,0,0,0,0,{"$f":"IF(ISERROR(VLOOKUP($A818,#REF!,8,0)),0,(VLOOKUP($A818,#REF!,8,0)))","v":0},0,1,0,0,0,0,{"$f":"IF(ISERROR(VLOOKUP($A818,#REF!,8,0)),0,(VLOOKUP($A818,#REF!,8,0)))","v":0},0,1,0,0,0,0,{"$f":"IF(ISERROR(VLOOKUP($A818,#REF!,8,0)),0,(VLOOKUP($A818,#REF!,8,0)))","v":0},0,1,0,0,0,0,{"$f":"IF(ISERROR(VLOOKUP($A818,#REF!,8,0)),0,(VLOOKUP($A818,#REF!,8,0)))","v":0},0,1,0,0,0,0,{"$f":"IF(ISERROR(VLOOKUP($A818,#REF!,8,0)),0,(VLOOKUP($A818,#REF!,8,0)))","v":0},0,1,0,0,0,0,{"$f":"IF(ISERROR(VLOOKUP($A818,#REF!,8,0)),0,(VLOOKUP($A818,#REF!,8,0)))","v":0},0,1,0,0,0,0,{"$f":"IF(ISERROR(VLOOKUP($A818,#REF!,8,0)),0,(VLOOKUP($A818,#REF!,8,0)))","v":0},0,1,0,0,0,0,{"$f":"IF(ISERROR(VLOOKUP($A818,#REF!,8,0)),0,(VLOOKUP($A818,#REF!,8,0)))","v":0},0,1,0,0,0,0,{"$f":"IF(ISERROR(VLOOKUP($A818,#REF!,8,0)),0,(VLOOKUP($A818,#REF!,8,0)))","v":0},0,1,0,0,0,0,{"$f":"IF(ISERROR(VLOOKUP($A818,#REF!,8,0)),0,(VLOOKUP($A818,#REF!,8,0)))","v":0},0,1,0,0,0,0,{"$f":"IF(ISERROR(VLOOKUP($A818,#REF!,8,0)),0,(VLOOKUP($A818,#REF!,8,0)))","v":0},0,1,0,0,0,0,{"$f":"IF(ISERROR(VLOOKUP($A818,#REF!,8,0)),0,(VLOOKUP($A818,#REF!,8,0)))","v":0},0,1,0,0,0,0,{"$f":"IF(ISERROR(VLOOKUP($A818,#REF!,8,0)),0,(VLOOKUP($A818,#REF!,8,0)))","v":0},0,1,0,0,0,0,{"$f":"IF(ISERROR(VLOOKUP($A818,#REF!,8,0)),0,(VLOOKUP($A818,#REF!,8,0)))","v":0},0,1,0,0,0,0,{"$f":"IF(ISERROR(VLOOKUP($A818,#REF!,8,0)),0,(VLOOKUP($A818,#REF!,8,0)))","v":0},0,1,0,0,0,0,{"$f":"IF(ISERROR(VLOOKUP($A818,#REF!,8,0)),0,(VLOOKUP($A818,#REF!,8,0)))","v":0},0,1,0,0,0,0,{"$f":"IF(ISERROR(VLOOKUP($A818,#REF!,8,0)),0,(VLOOKUP($A818,#REF!,8,0)))","v":0},0,1,0,0,0,0,{"$f":"IF(ISERROR(VLOOKUP($A818,#REF!,8,0)),0,(VLOOKUP($A818,#REF!,8,0)))","v":0},0,1,0,0,0,0,{"$f":"IF(ISERROR(VLOOKUP($A818,#REF!,8,0)),0,(VLOOKUP($A818,#REF!,8,0)))","v":0},0,1,0,0,0,0,{"$f":"IF(ISERROR(VLOOKUP($A818,#REF!,8,0)),0,(VLOOKUP($A818,#REF!,8,0)))","v":0},0,1,0,0,0,0,{"$f":"IF(ISERROR(VLOOKUP($A818,#REF!,8,0)),0,(VLOOKUP($A818,#REF!,8,0)))","v":0},0,1,0,0,0,0,{"$f":"IF(ISERROR(VLOOKUP($A818,#REF!,8,0)),0,(VLOOKUP($A818,#REF!,8,0)))","v":0},0,1,0,0,0,0,{"$f":"IF(ISERROR(VLOOKUP($A818,#REF!,8,0)),0,(VLOOKUP($A818,#REF!,8,0)))","v":0},0,1,0,0,0,0,{"$f":"IF(ISERROR(VLOOKUP($A818,#REF!,8,0)),0,(VLOOKUP($A818,#REF!,8,0)))","v":0},0,1,0,0,0,0,{"$f":"IF(ISERROR(VLOOKUP($A818,#REF!,8,0)),0,(VLOOKUP($A818,#REF!,8,0)))","v":0},0,1,0,0,0,0,{"$f":"IF(ISERROR(VLOOKUP($A818,#REF!,8,0)),0,(VLOOKUP($A818,#REF!,8,0)))","v":0},0,1,0,0,0,0,{"$f":"IF(ISERROR(VLOOKUP($A818,#REF!,8,0)),0,(VLOOKUP($A818,#REF!,8,0)))","v":0},0,1,0,0,0,0,{"$f":"IF(ISERROR(VLOOKUP($A818,#REF!,8,0)),0,(VLOOKUP($A818,#REF!,8,0)))","v":0},0,1,0,0,0,0,{"$f":"IF(ISERROR(VLOOKUP($A818,#REF!,8,0)),0,(VLOOKUP($A818,#REF!,8,0)))","v":0},0,1,0,0,0,0,{"$f":"IF(ISERROR(VLOOKUP($A818,#REF!,8,0)),0,(VLOOKUP($A818,#REF!,8,0)))","v":0},0,1,0,0,0,0,{"$f":"IF(ISERROR(VLOOKUP($A818,#REF!,8,0)),0,(VLOOKUP($A818,#REF!,8,0)))","v":0},0,1,0,0,0,0,{"$f":"IF(ISERROR(VLOOKUP($A818,#REF!,8,0)),0,(VLOOKUP($A818,#REF!,8,0)))","v":0},0,1,0,0,0,0,{"$f":"IF(ISERROR(VLOOKUP($A818,#REF!,8,0)),0,(VLOOKUP($A818,#REF!,8,0)))","v":0},0,1,0,0,0,0,{"$f":"IF(ISERROR(VLOOKUP($A818,#REF!,8,0)),0,(VLOOKUP($A818,#REF!,8,0)))","v":0},0,1,0,0,0,0,{"$f":"IF(ISERROR(VLOOKUP($A818,#REF!,8,0)),0,(VLOOKUP($A818,#REF!,8,0)))","v":0},0,1,0,0,0,0,{"$f":"IF(ISERROR(VLOOKUP($A818,#REF!,8,0)),0,(VLOOKUP($A818,#REF!,8,0)))","v":0},0,1,0,0,0,0,17.370851999999999,17.370851999999999,1,0]
["29.10.02","Ponto simples para voz/dados em Dry-Wall, composto por tubulação em eletroduto de PVC rígido 1\",  eletroduto corrugado de 25mm com luva de rosca interna, curva e acessórios, cabo Utp 4 pares (2x), cat. 6, Furukawa ou equivalente, para duas tomadas RJ45 (voz/dados) incluindo a reserva técnica de cabo de 11m (2x5,5m).","pt",4,4,0,99.517771999999994,398.07108799999997,90.127800000000008,360.51120000000003,0,0,189.64557200000002,0,758.58228800000006,null,0,0,0,0,0,null,0,1,0,0,0,0,null,0,1,0,0,0,0,null,0,1,0,0,0,0,null,0,1,0,0,0,0,null,0,1,0,0,0,0,{"$f":"IF(ISERROR(VLOOKUP(A827,'7ª MEDIÇÃO'!$A$5:$J$1048576,8,0)),0,(VLOOKUP(A827,'7ª MEDIÇÃO'!$A$5:$J$1048576,8,0)))","v":0},0,1,0,0,0,0,{"$f":"IF(ISERROR(VLOOKUP(A827,'8ª MEDIÇÃO'!$A$5:$J$1048576,8,0)),0,(VLOOKUP(A827,'8ª MEDIÇÃO'!$A$5:$J$1048576,8,0)))","v":0},0,1,0,0,0,0,{"$f":"IF(ISERROR(VLOOKUP(A827,'9ª MEDIÇÃO'!$A$5:$J$1048576,8,0)),0,(VLOOKUP(A827,'9ª MEDIÇÃO'!$A$5:$J$1048576,8,0)))","v":0},0,1,0,0,0,0,{"$f":"IF(ISERROR(VLOOKUP(A827,#REF!,8,0)),0,(VLOOKUP(A827,#REF!,8,0)))","v":0},0,1,0,0,0,0,{"$f":"IF(ISERROR(VLOOKUP($A827,#REF!,8,0)),0,(VLOOKUP($A827,#REF!,8,0)))","v":0},0,1,0,0,0,0,{"$f":"IF(ISERROR(VLOOKUP($A827,#REF!,8,0)),0,(VLOOKUP($A827,#REF!,8,0)))","v":0},0,1,0,0,0,0,{"$f":"IF(ISERROR(VLOOKUP($A827,#REF!,8,0)),0,(VLOOKUP($A827,#REF!,8,0)))","v":0},0,1,0,0,0,0,{"$f":"IF(ISERROR(VLOOKUP($A827,#REF!,8,0)),0,(VLOOKUP($A827,#REF!,8,0)))","v":0},0,1,0,0,0,0,{"$f":"IF(ISERROR(VLOOKUP($A827,#REF!,8,0)),0,(VLOOKUP($A827,#REF!,8,0)))","v":0},0,1,0,0,0,0,{"$f":"IF(ISERROR(VLOOKUP($A827,#REF!,8,0)),0,(VLOOKUP($A827,#REF!,8,0)))","v":0},0,1,0,0,0,0,{"$f":"IF(ISERROR(VLOOKUP($A827,#REF!,8,0)),0,(VLOOKUP($A827,#REF!,8,0)))","v":0},0,1,0,0,0,0,{"$f":"IF(ISERROR(VLOOKUP($A827,#REF!,8,0)),0,(VLOOKUP($A827,#REF!,8,0)))","v":0},0,1,0,0,0,0,{"$f":"IF(ISERROR(VLOOKUP($A827,#REF!,8,0)),0,(VLOOKUP($A827,#REF!,8,0)))","v":0},0,1,0,0,0,0,{"$f":"IF(ISERROR(VLOOKUP($A827,#REF!,8,0)),0,(VLOOKUP($A827,#REF!,8,0)))","v":0},0,1,0,0,0,0,{"$f":"IF(ISERROR(VLOOKUP($A827,#REF!,8,0)),0,(VLOOKUP($A827,#REF!,8,0)))","v":0},0,1,0,0,0,0,{"$f":"IF(ISERROR(VLOOKUP($A827,#REF!,8,0)),0,(VLOOKUP($A827,#REF!,8,0)))","v":0},0,1,0,0,0,0,{"$f":"IF(ISERROR(VLOOKUP($A827,#REF!,8,0)),0,(VLOOKUP($A827,#REF!,8,0)))","v":0},0,1,0,0,0,0,{"$f":"IF(ISERROR(VLOOKUP($A827,#REF!,8,0)),0,(VLOOKUP($A827,#REF!,8,0)))","v":0},0,1,0,0,0,0,{"$f":"IF(ISERROR(VLOOKUP($A827,#REF!,8,0)),0,(VLOOKUP($A827,#REF!,8,0)))","v":0},0,1,0,0,0,0,{"$f":"IF(ISERROR(VLOOKUP($A827,#REF!,8,0)),0,(VLOOKUP($A827,#REF!,8,0)))","v":0},0,1,0,0,0,0,{"$f":"IF(ISERROR(VLOOKUP($A827,#REF!,8,0)),0,(VLOOKUP($A827,#REF!,8,0)))","v":0},0,1,0,0,0,0,{"$f":"IF(ISERROR(VLOOKUP($A827,#REF!,8,0)),0,(VLOOKUP($A827,#REF!,8,0)))","v":0},0,1,0,0,0,0,{"$f":"IF(ISERROR(VLOOKUP($A827,#REF!,8,0)),0,(VLOOKUP($A827,#REF!,8,0)))","v":0},0,1,0,0,0,0,{"$f":"IF(ISERROR(VLOOKUP($A827,#REF!,8,0)),0,(VLOOKUP($A827,#REF!,8,0)))","v":0},0,1,0,0,0,0,{"$f":"IF(ISERROR(VLOOKUP($A827,#REF!,8,0)),0,(VLOOKUP($A827,#REF!,8,0)))","v":0},0,1,0,0,0,0,{"$f":"IF(ISERROR(VLOOKUP($A827,#REF!,8,0)),0,(VLOOKUP($A827,#REF!,8,0)))","v":0},0,1,0,0,0,0,{"$f":"IF(ISERROR(VLOOKUP($A827,#REF!,8,0)),0,(VLOOKUP($A827,#REF!,8,0)))","v":0},0,1,0,0,0,0,{"$f":"IF(ISERROR(VLOOKUP($A827,#REF!,8,0)),0,(VLOOKUP($A827,#REF!,8,0)))","v":0},0,1,0,0,0,0,{"$f":"IF(ISERROR(VLOOKUP($A827,#REF!,8,0)),0,(VLOOKUP($A827,#REF!,8,0)))","v":0},0,1,0,0,0,0,{"$f":"IF(ISERROR(VLOOKUP($A827,#REF!,8,0)),0,(VLOOKUP($A827,#REF!,8,0)))","v":0},0,1,0,0,0,0,{"$f":"IF(ISERROR(VLOOKUP($A827,#REF!,8,0)),0,(VLOOKUP($A827,#REF!,8,0)))","v":0},0,1,0,0,0,0,{"$f":"IF(ISERROR(VLOOKUP($A827,#REF!,8,0)),0,(VLOOKUP($A827,#REF!,8,0)))","v":0},0,1,0,0,0,0,{"$f":"IF(ISERROR(VLOOKUP($A827,#REF!,8,0)),0,(VLOOKUP($A827,#REF!,8,0)))","v":0},0,1,0,0,0,0,{"$f":"IF(ISERROR(VLOOKUP($A827,#REF!,8,0)),0,(VLOOKUP($A827,#REF!,8,0)))","v":0},0,1,0,0,0,0,{"$f":"IF(ISERROR(VLOOKUP($A827,#REF!,8,0)),0,(VLOOKUP($A827,#REF!,8,0)))","v":0},0,1,0,0,0,0,{"$f":"IF(ISERROR(VLOOKUP($A827,#REF!,8,0)),0,(VLOOKUP($A827,#REF!,8,0)))","v":0},0,1,0,0,0,0,{"$f":"IF(ISERROR(VLOOKUP($A827,#REF!,8,0)),0,(VLOOKUP($A827,#REF!,8,0)))","v":0},0,1,0,0,0,0,{"$f":"IF(ISERROR(VLOOKUP($A827,#REF!,8,0)),0,(VLOOKUP($A827,#REF!,8,0)))","v":0},0,1,0,0,0,0,{"$f":"IF(ISERROR(VLOOKUP($A827,#REF!,8,0)),0,(VLOOKUP($A827,#REF!,8,0)))","v":0},0,1,0,0,0,0,{"$f":"IF(ISERROR(VLOOKUP($A827,#REF!,8,0)),0,(VLOOKUP($A827,#REF!,8,0)))","v":0},0,1,0,0,0,0,{"$f":"IF(ISERROR(VLOOKUP($A827,#REF!,8,0)),0,(VLOOKUP($A827,#REF!,8,0)))","v":0},0,1,0,0,0,0,{"$f":"IF(ISERROR(VLOOKUP($A827,#REF!,8,0)),0,(VLOOKUP($A827,#REF!,8,0)))","v":0},0,1,0,0,0,0,{"$f":"IF(ISERROR(VLOOKUP($A827,#REF!,8,0)),0,(VLOOKUP($A827,#REF!,8,0)))","v":0},0,1,0,0,0,0,{"$f":"IF(ISERROR(VLOOKUP($A827,#REF!,8,0)),0,(VLOOKUP($A827,#REF!,8,0)))","v":0},0,1,0,0,0,0,{"$f":"IF(ISERROR(VLOOKUP($A827,#REF!,8,0)),0,(VLOOKUP($A827,#REF!,8,0)))","v":0},0,1,0,0,0,0,{"$f":"IF(ISERROR(VLOOKUP($A827,#REF!,8,0)),0,(VLOOKUP($A827,#REF!,8,0)))","v":0},0,1,0,0,0,0,{"$f":"IF(ISERROR(VLOOKUP($A827,#REF!,8,0)),0,(VLOOKUP($A827,#REF!,8,0)))","v":0},0,1,0,0,0,0,{"$f":"IF(ISERROR(VLOOKUP($A827,#REF!,8,0)),0,(VLOOKUP($A827,#REF!,8,0)))","v":0},0,1,0,0,0,0,{"$f":"IF(ISERROR(VLOOKUP($A827,#REF!,8,0)),0,(VLOOKUP($A827,#REF!,8,0)))","v":0},0,1,0,0,0,0,758.58228800000006,758.58228800000006,1,0]
["29.10.04","Ponto duplo para voz/dados em Dry-Wall, composto por tubulação em eletroduto de PVC rígido 1\",  eletroduto corrugado de 25mm, com luva de rosca interna, curva e acessórios, cabo Utp 4 pares (2x), cat. 6, Furukawa ou equivalente, para duas tomadas RJ45 (voz/dados) incluindo a reserva técnica de cabo de 11m (2x5,5m).","pt",119,119,0,187.276926,22285.954194000002,154.30576000000002,18362.385440000002,0,0,341.58268600000002,0,40648.339634000004,null,0,0,0,0,0,null,0,1,0,0,0,0,null,0,1,0,0,0,0,null,0,1,0,0,0,0,null,0,1,0,0,0,0,null,0,1,0,0,0,0,{"$f":"IF(ISERROR(VLOOKUP(A829,'7ª MEDIÇÃO'!$A$5:$J$1048576,8,0)),0,(VLOOKUP(A829,'7ª MEDIÇÃO'!$A$5:$J$1048576,8,0)))","v":0},0,1,0,0,0,0,{"$f":"IF(ISERROR(VLOOKUP(A829,'8ª MEDIÇÃO'!$A$5:$J$1048576,8,0)),0,(VLOOKUP(A829,'8ª MEDIÇÃO'!$A$5:$J$1048576,8,0)))","v":0},0,1,0,0,0,0,{"$f":"IF(ISERROR(VLOOKUP(A829,'9ª MEDIÇÃO'!$A$5:$J$1048576,8,0)),0,(VLOOKUP(A829,'9ª MEDIÇÃO'!$A$5:$J$1048576,8,0)))","v":0},0,1,0,0,0,0,{"$f":"IF(ISERROR(VLOOKUP(A829,#REF!,8,0)),0,(VLOOKUP(A829,#REF!,8,0)))","v":0},0,1,0,0,0,0,{"$f":"IF(ISERROR(VLOOKUP($A829,#REF!,8,0)),0,(VLOOKUP($A829,#REF!,8,0)))","v":0},0,1,0,0,0,0,{"$f":"IF(ISERROR(VLOOKUP($A829,#REF!,8,0)),0,(VLOOKUP($A829,#REF!,8,0)))","v":0},0,1,0,0,0,0,{"$f":"IF(ISERROR(VLOOKUP($A829,#REF!,8,0)),0,(VLOOKUP($A829,#REF!,8,0)))","v":0},0,1,0,0,0,0,{"$f":"IF(ISERROR(VLOOKUP($A829,#REF!,8,0)),0,(VLOOKUP($A829,#REF!,8,0)))","v":0},0,1,0,0,0,0,{"$f":"IF(ISERROR(VLOOKUP($A829,#REF!,8,0)),0,(VLOOKUP($A829,#REF!,8,0)))","v":0},0,1,0,0,0,0,{"$f":"IF(ISERROR(VLOOKUP($A829,#REF!,8,0)),0,(VLOOKUP($A829,#REF!,8,0)))","v":0},0,1,0,0,0,0,{"$f":"IF(ISERROR(VLOOKUP($A829,#REF!,8,0)),0,(VLOOKUP($A829,#REF!,8,0)))","v":0},0,1,0,0,0,0,{"$f":"IF(ISERROR(VLOOKUP($A829,#REF!,8,0)),0,(VLOOKUP($A829,#REF!,8,0)))","v":0},0,1,0,0,0,0,{"$f":"IF(ISERROR(VLOOKUP($A829,#REF!,8,0)),0,(VLOOKUP($A829,#REF!,8,0)))","v":0},0,1,0,0,0,0,{"$f":"IF(ISERROR(VLOOKUP($A829,#REF!,8,0)),0,(VLOOKUP($A829,#REF!,8,0)))","v":0},0,1,0,0,0,0,{"$f":"IF(ISERROR(VLOOKUP($A829,#REF!,8,0)),0,(VLOOKUP($A829,#REF!,8,0)))","v":0},0,1,0,0,0,0,{"$f":"IF(ISERROR(VLOOKUP($A829,#REF!,8,0)),0,(VLOOKUP($A829,#REF!,8,0)))","v":0},0,1,0,0,0,0,{"$f":"IF(ISERROR(VLOOKUP($A829,#REF!,8,0)),0,(VLOOKUP($A829,#REF!,8,0)))","v":0},0,1,0,0,0,0,{"$f":"IF(ISERROR(VLOOKUP($A829,#REF!,8,0)),0,(VLOOKUP($A829,#REF!,8,0)))","v":0},0,1,0,0,0,0,{"$f":"IF(ISERROR(VLOOKUP($A829,#REF!,8,0)),0,(VLOOKUP($A829,#REF!,8,0)))","v":0},0,1,0,0,0,0,{"$f":"IF(ISERROR(VLOOKUP($A829,#REF!,8,0)),0,(VLOOKUP($A829,#REF!,8,0)))","v":0},0,1,0,0,0,0,{"$f":"IF(ISERROR(VLOOKUP($A829,#REF!,8,0)),0,(VLOOKUP($A829,#REF!,8,0)))","v":0},0,1,0,0,0,0,{"$f":"IF(ISERROR(VLOOKUP($A829,#REF!,8,0)),0,(VLOOKUP($A829,#REF!,8,0)))","v":0},0,1,0,0,0,0,{"$f":"IF(ISERROR(VLOOKUP($A829,#REF!,8,0)),0,(VLOOKUP($A829,#REF!,8,0)))","v":0},0,1,0,0,0,0,{"$f":"IF(ISERROR(VLOOKUP($A829,#REF!,8,0)),0,(VLOOKUP($A829,#REF!,8,0)))","v":0},0,1,0,0,0,0,{"$f":"IF(ISERROR(VLOOKUP($A829,#REF!,8,0)),0,(VLOOKUP($A829,#REF!,8,0)))","v":0},0,1,0,0,0,0,{"$f":"IF(ISERROR(VLOOKUP($A829,#REF!,8,0)),0,(VLOOKUP($A829,#REF!,8,0)))","v":0},0,1,0,0,0,0,{"$f":"IF(ISERROR(VLOOKUP($A829,#REF!,8,0)),0,(VLOOKUP($A829,#REF!,8,0)))","v":0},0,1,0,0,0,0,{"$f":"IF(ISERROR(VLOOKUP($A829,#REF!,8,0)),0,(VLOOKUP($A829,#REF!,8,0)))","v":0},0,1,0,0,0,0,{"$f":"IF(ISERROR(VLOOKUP($A829,#REF!,8,0)),0,(VLOOKUP($A829,#REF!,8,0)))","v":0},0,1,0,0,0,0,{"$f":"IF(ISERROR(VLOOKUP($A829,#REF!,8,0)),0,(VLOOKUP($A829,#REF!,8,0)))","v":0},0,1,0,0,0,0,{"$f":"IF(ISERROR(VLOOKUP($A829,#REF!,8,0)),0,(VLOOKUP($A829,#REF!,8,0)))","v":0},0,1,0,0,0,0,{"$f":"IF(ISERROR(VLOOKUP($A829,#REF!,8,0)),0,(VLOOKUP($A829,#REF!,8,0)))","v":0},0,1,0,0,0,0,{"$f":"IF(ISERROR(VLOOKUP($A829,#REF!,8,0)),0,(VLOOKUP($A829,#REF!,8,0)))","v":0},0,1,0,0,0,0,{"$f":"IF(ISERROR(VLOOKUP($A829,#REF!,8,0)),0,(VLOOKUP($A829,#REF!,8,0)))","v":0},0,1,0,0,0,0,{"$f":"IF(ISERROR(VLOOKUP($A829,#REF!,8,0)),0,(VLOOKUP($A829,#REF!,8,0)))","v":0},0,1,0,0,0,0,{"$f":"IF(ISERROR(VLOOKUP($A829,#REF!,8,0)),0,(VLOOKUP($A829,#REF!,8,0)))","v":0},0,1,0,0,0,0,{"$f":"IF(ISERROR(VLOOKUP($A829,#REF!,8,0)),0,(VLOOKUP($A829,#REF!,8,0)))","v":0},0,1,0,0,0,0,{"$f":"IF(ISERROR(VLOOKUP($A829,#REF!,8,0)),0,(VLOOKUP($A829,#REF!,8,0)))","v":0},0,1,0,0,0,0,{"$f":"IF(ISERROR(VLOOKUP($A829,#REF!,8,0)),0,(VLOOKUP($A829,#REF!,8,0)))","v":0},0,1,0,0,0,0,{"$f":"IF(ISERROR(VLOOKUP($A829,#REF!,8,0)),0,(VLOOKUP($A829,#REF!,8,0)))","v":0},0,1,0,0,0,0,{"$f":"IF(ISERROR(VLOOKUP($A829,#REF!,8,0)),0,(VLOOKUP($A829,#REF!,8,0)))","v":0},0,1,0,0,0,0,{"$f":"IF(ISERROR(VLOOKUP($A829,#REF!,8,0)),0,(VLOOKUP($A829,#REF!,8,0)))","v":0},0,1,0,0,0,0,{"$f":"IF(ISERROR(VLOOKUP($A829,#REF!,8,0)),0,(VLOOKUP($A829,#REF!,8,0)))","v":0},0,1,0,0,0,0,{"$f":"IF(ISERROR(VLOOKUP($A829,#REF!,8,0)),0,(VLOOKUP($A829,#REF!,8,0)))","v":0},0,1,0,0,0,0,{"$f":"IF(ISERROR(VLOOKUP($A829,#REF!,8,0)),0,(VLOOKUP($A829,#REF!,8,0)))","v":0},0,1,0,0,0,0,{"$f":"IF(ISERROR(VLOOKUP($A829,#REF!,8,0)),0,(VLOOKUP($A829,#REF!,8,0)))","v":0},0,1,0,0,0,0,{"$f":"IF(ISERROR(VLOOKUP($A829,#REF!,8,0)),0,(VLOOKUP($A829,#REF!,8,0)))","v":0},0,1,0,0,0,0,{"$f":"IF(ISERROR(VLOOKUP($A829,#REF!,8,0)),0,(VLOOKUP($A829,#REF!,8,0)))","v":0},0,1,0,0,0,0,{"$f":"IF(ISERROR(VLOOKUP($A829,#REF!,8,0)),0,(VLOOKUP($A829,#REF!,8,0)))","v":0},0,1,0,0,0,0,40648.339634000004,40648.339634000004,1,0]
["29.10.13","Fornecimento e instalação de eletrocalha perfurada, dim (50X50)mm, inclusive acessórios de derivação e fixação.","m",440,440,0,20.427208,8987.971520000001,28.935440000000003,12731.593600000002,0,0,49.362648000000007,0,21719.565120000003,null,0,0,0,0,0,null,0,1,0,0,0,0,null,0,1,0,0,0,0,null,0,1,0,0,0,0,null,0,1,0,0,0,0,null,0,1,0,0,0,0,{"$f":"IF(ISERROR(VLOOKUP(A838,'7ª MEDIÇÃO'!$A$5:$J$1048576,8,0)),0,(VLOOKUP(A838,'7ª MEDIÇÃO'!$A$5:$J$1048576,8,0)))","v":0},0,1,0,0,0,0,{"$f":"IF(ISERROR(VLOOKUP(A838,'8ª MEDIÇÃO'!$A$5:$J$1048576,8,0)),0,(VLOOKUP(A838,'8ª MEDIÇÃO'!$A$5:$J$1048576,8,0)))","v":0},0,1,0,0,0,0,{"$f":"IF(ISERROR(VLOOKUP(A838,'9ª MEDIÇÃO'!$A$5:$J$1048576,8,0)),0,(VLOOKUP(A838,'9ª MEDIÇÃO'!$A$5:$J$1048576,8,0)))","v":0},0,1,0,0,0,0,{"$f":"IF(ISERROR(VLOOKUP(A838,#REF!,8,0)),0,(VLOOKUP(A838,#REF!,8,0)))","v":0},0,1,0,0,0,0,{"$f":"IF(ISERROR(VLOOKUP($A838,#REF!,8,0)),0,(VLOOKUP($A838,#REF!,8,0)))","v":0},0,1,0,0,0,0,{"$f":"IF(ISERROR(VLOOKUP($A838,#REF!,8,0)),0,(VLOOKUP($A838,#REF!,8,0)))","v":0},0,1,0,0,0,0,{"$f":"IF(ISERROR(VLOOKUP($A838,#REF!,8,0)),0,(VLOOKUP($A838,#REF!,8,0)))","v":0},0,1,0,0,0,0,{"$f":"IF(ISERROR(VLOOKUP($A838,#REF!,8,0)),0,(VLOOKUP($A838,#REF!,8,0)))","v":0},0,1,0,0,0,0,{"$f":"IF(ISERROR(VLOOKUP($A838,#REF!,8,0)),0,(VLOOKUP($A838,#REF!,8,0)))","v":0},0,1,0,0,0,0,{"$f":"IF(ISERROR(VLOOKUP($A838,#REF!,8,0)),0,(VLOOKUP($A838,#REF!,8,0)))","v":0},0,1,0,0,0,0,{"$f":"IF(ISERROR(VLOOKUP($A838,#REF!,8,0)),0,(VLOOKUP($A838,#REF!,8,0)))","v":0},0,1,0,0,0,0,{"$f":"IF(ISERROR(VLOOKUP($A838,#REF!,8,0)),0,(VLOOKUP($A838,#REF!,8,0)))","v":0},0,1,0,0,0,0,{"$f":"IF(ISERROR(VLOOKUP($A838,#REF!,8,0)),0,(VLOOKUP($A838,#REF!,8,0)))","v":0},0,1,0,0,0,0,{"$f":"IF(ISERROR(VLOOKUP($A838,#REF!,8,0)),0,(VLOOKUP($A838,#REF!,8,0)))","v":0},0,1,0,0,0,0,{"$f":"IF(ISERROR(VLOOKUP($A838,#REF!,8,0)),0,(VLOOKUP($A838,#REF!,8,0)))","v":0},0,1,0,0,0,0,{"$f":"IF(ISERROR(VLOOKUP($A838,#REF!,8,0)),0,(VLOOKUP($A838,#REF!,8,0)))","v":0},0,1,0,0,0,0,{"$f":"IF(ISERROR(VLOOKUP($A838,#REF!,8,0)),0,(VLOOKUP($A838,#REF!,8,0)))","v":0},0,1,0,0,0,0,{"$f":"IF(ISERROR(VLOOKUP($A838,#REF!,8,0)),0,(VLOOKUP($A838,#REF!,8,0)))","v":0},0,1,0,0,0,0,{"$f":"IF(ISERROR(VLOOKUP($A838,#REF!,8,0)),0,(VLOOKUP($A838,#REF!,8,0)))","v":0},0,1,0,0,0,0,{"$f":"IF(ISERROR(VLOOKUP($A838,#REF!,8,0)),0,(VLOOKUP($A838,#REF!,8,0)))","v":0},0,1,0,0,0,0,{"$f":"IF(ISERROR(VLOOKUP($A838,#REF!,8,0)),0,(VLOOKUP($A838,#REF!,8,0)))","v":0},0,1,0,0,0,0,{"$f":"IF(ISERROR(VLOOKUP($A838,#REF!,8,0)),0,(VLOOKUP($A838,#REF!,8,0)))","v":0},0,1,0,0,0,0,{"$f":"IF(ISERROR(VLOOKUP($A838,#REF!,8,0)),0,(VLOOKUP($A838,#REF!,8,0)))","v":0},0,1,0,0,0,0,{"$f":"IF(ISERROR(VLOOKUP($A838,#REF!,8,0)),0,(VLOOKUP($A838,#REF!,8,0)))","v":0},0,1,0,0,0,0,{"$f":"IF(ISERROR(VLOOKUP($A838,#REF!,8,0)),0,(VLOOKUP($A838,#REF!,8,0)))","v":0},0,1,0,0,0,0,{"$f":"IF(ISERROR(VLOOKUP($A838,#REF!,8,0)),0,(VLOOKUP($A838,#REF!,8,0)))","v":0},0,1,0,0,0,0,{"$f":"IF(ISERROR(VLOOKUP($A838,#REF!,8,0)),0,(VLOOKUP($A838,#REF!,8,0)))","v":0},0,1,0,0,0,0,{"$f":"IF(ISERROR(VLOOKUP($A838,#REF!,8,0)),0,(VLOOKUP($A838,#REF!,8,0)))","v":0},0,1,0,0,0,0,{"$f":"IF(ISERROR(VLOOKUP($A838,#REF!,8,0)),0,(VLOOKUP($A838,#REF!,8,0)))","v":0},0,1,0,0,0,0,{"$f":"IF(ISERROR(VLOOKUP($A838,#REF!,8,0)),0,(VLOOKUP($A838,#REF!,8,0)))","v":0},0,1,0,0,0,0,{"$f":"IF(ISERROR(VLOOKUP($A838,#REF!,8,0)),0,(VLOOKUP($A838,#REF!,8,0)))","v":0},0,1,0,0,0,0,{"$f":"IF(ISERROR(VLOOKUP($A838,#REF!,8,0)),0,(VLOOKUP($A838,#REF!,8,0)))","v":0},0,1,0,0,0,0,{"$f":"IF(ISERROR(VLOOKUP($A838,#REF!,8,0)),0,(VLOOKUP($A838,#REF!,8,0)))","v":0},0,1,0,0,0,0,{"$f":"IF(ISERROR(VLOOKUP($A838,#REF!,8,0)),0,(VLOOKUP($A838,#REF!,8,0)))","v":0},0,1,0,0,0,0,{"$f":"IF(ISERROR(VLOOKUP($A838,#REF!,8,0)),0,(VLOOKUP($A838,#REF!,8,0)))","v":0},0,1,0,0,0,0,{"$f":"IF(ISERROR(VLOOKUP($A838,#REF!,8,0)),0,(VLOOKUP($A838,#REF!,8,0)))","v":0},0,1,0,0,0,0,{"$f":"IF(ISERROR(VLOOKUP($A838,#REF!,8,0)),0,(VLOOKUP($A838,#REF!,8,0)))","v":0},0,1,0,0,0,0,{"$f":"IF(ISERROR(VLOOKUP($A838,#REF!,8,0)),0,(VLOOKUP($A838,#REF!,8,0)))","v":0},0,1,0,0,0,0,{"$f":"IF(ISERROR(VLOOKUP($A838,#REF!,8,0)),0,(VLOOKUP($A838,#REF!,8,0)))","v":0},0,1,0,0,0,0,{"$f":"IF(ISERROR(VLOOKUP($A838,#REF!,8,0)),0,(VLOOKUP($A838,#REF!,8,0)))","v":0},0,1,0,0,0,0,{"$f":"IF(ISERROR(VLOOKUP($A838,#REF!,8,0)),0,(VLOOKUP($A838,#REF!,8,0)))","v":0},0,1,0,0,0,0,{"$f":"IF(ISERROR(VLOOKUP($A838,#REF!,8,0)),0,(VLOOKUP($A838,#REF!,8,0)))","v":0},0,1,0,0,0,0,{"$f":"IF(ISERROR(VLOOKUP($A838,#REF!,8,0)),0,(VLOOKUP($A838,#REF!,8,0)))","v":0},0,1,0,0,0,0,{"$f":"IF(ISERROR(VLOOKUP($A838,#REF!,8,0)),0,(VLOOKUP($A838,#REF!,8,0)))","v":0},0,1,0,0,0,0,{"$f":"IF(ISERROR(VLOOKUP($A838,#REF!,8,0)),0,(VLOOKUP($A838,#REF!,8,0)))","v":0},0,1,0,0,0,0,{"$f":"IF(ISERROR(VLOOKUP($A838,#REF!,8,0)),0,(VLOOKUP($A838,#REF!,8,0)))","v":0},0,1,0,0,0,0,{"$f":"IF(ISERROR(VLOOKUP($A838,#REF!,8,0)),0,(VLOOKUP($A838,#REF!,8,0)))","v":0},0,1,0,0,0,0,{"$f":"IF(ISERROR(VLOOKUP($A838,#REF!,8,0)),0,(VLOOKUP($A838,#REF!,8,0)))","v":0},0,1,0,0,0,0,{"$f":"IF(ISERROR(VLOOKUP($A838,#REF!,8,0)),0,(VLOOKUP($A838,#REF!,8,0)))","v":0},0,1,0,0,0,0,21719.565120000003,21719.565120000003,1,0]
["29.10.22","Quadro para telefone com bloco BLI de 10 pares, de embutir, nas dimensões de (0,40x0,40x0,15)m, inclusive instalação.","un ",2,0,2,89.080082000000004,178.16016400000001,12.477319999999999,24.954639999999998,0,0,101.557402,203.11480399999999,0,null,0,0,0,0,0,null,0,0,0,0,0,0,null,0,0,0,0,0,0,null,0,0,0,0,0,0,null,0,0,0,0,0,0,null,0,0,0,0,0,0,{"$f":"IF(ISERROR(VLOOKUP(A847,'7ª MEDIÇÃO'!$A$5:$J$1048576,8,0)),0,(VLOOKUP(A847,'7ª MEDIÇÃO'!$A$5:$J$1048576,8,0)))","v":0},0,0,0,0,0,0,{"$f":"IF(ISERROR(VLOOKUP(A847,'8ª MEDIÇÃO'!$A$5:$J$1048576,8,0)),0,(VLOOKUP(A847,'8ª MEDIÇÃO'!$A$5:$J$1048576,8,0)))","v":0},0,0,0,0,0,0,{"$f":"IF(ISERROR(VLOOKUP(A847,'9ª MEDIÇÃO'!$A$5:$J$1048576,8,0)),0,(VLOOKUP(A847,'9ª MEDIÇÃO'!$A$5:$J$1048576,8,0)))","v":0},0,0,0,0,0,0,{"$f":"IF(ISERROR(VLOOKUP(A847,#REF!,8,0)),0,(VLOOKUP(A847,#REF!,8,0)))","v":0},0,0,0,0,0,0,{"$f":"IF(ISERROR(VLOOKUP($A847,#REF!,8,0)),0,(VLOOKUP($A847,#REF!,8,0)))","v":0},0,0,0,0,0,0,{"$f":"IF(ISERROR(VLOOKUP($A847,#REF!,8,0)),0,(VLOOKUP($A847,#REF!,8,0)))","v":0},0,0,0,0,0,0,{"$f":"IF(ISERROR(VLOOKUP($A847,#REF!,8,0)),0,(VLOOKUP($A847,#REF!,8,0)))","v":0},0,0,0,0,0,0,{"$f":"IF(ISERROR(VLOOKUP($A847,#REF!,8,0)),0,(VLOOKUP($A847,#REF!,8,0)))","v":0},0,0,0,0,0,0,{"$f":"IF(ISERROR(VLOOKUP($A847,#REF!,8,0)),0,(VLOOKUP($A847,#REF!,8,0)))","v":0},0,0,0,0,0,0,{"$f":"IF(ISERROR(VLOOKUP($A847,#REF!,8,0)),0,(VLOOKUP($A847,#REF!,8,0)))","v":0},0,0,0,0,0,0,{"$f":"IF(ISERROR(VLOOKUP($A847,#REF!,8,0)),0,(VLOOKUP($A847,#REF!,8,0)))","v":0},0,0,0,0,0,0,{"$f":"IF(ISERROR(VLOOKUP($A847,#REF!,8,0)),0,(VLOOKUP($A847,#REF!,8,0)))","v":0},0,0,0,0,0,0,{"$f":"IF(ISERROR(VLOOKUP($A847,#REF!,8,0)),0,(VLOOKUP($A847,#REF!,8,0)))","v":0},0,0,0,0,0,0,{"$f":"IF(ISERROR(VLOOKUP($A847,#REF!,8,0)),0,(VLOOKUP($A847,#REF!,8,0)))","v":0},0,0,0,0,0,0,{"$f":"IF(ISERROR(VLOOKUP($A847,#REF!,8,0)),0,(VLOOKUP($A847,#REF!,8,0)))","v":0},0,0,0,0,0,0,{"$f":"IF(ISERROR(VLOOKUP($A847,#REF!,8,0)),0,(VLOOKUP($A847,#REF!,8,0)))","v":0},0,0,0,0,0,0,{"$f":"IF(ISERROR(VLOOKUP($A847,#REF!,8,0)),0,(VLOOKUP($A847,#REF!,8,0)))","v":0},0,0,0,0,0,0,{"$f":"IF(ISERROR(VLOOKUP($A847,#REF!,8,0)),0,(VLOOKUP($A847,#REF!,8,0)))","v":0},0,0,0,0,0,0,{"$f":"IF(ISERROR(VLOOKUP($A847,#REF!,8,0)),0,(VLOOKUP($A847,#REF!,8,0)))","v":0},0,0,0,0,0,0,{"$f":"IF(ISERROR(VLOOKUP($A847,#REF!,8,0)),0,(VLOOKUP($A847,#REF!,8,0)))","v":0},0,0,0,0,0,0,{"$f":"IF(ISERROR(VLOOKUP($A847,#REF!,8,0)),0,(VLOOKUP($A847,#REF!,8,0)))","v":0},0,0,0,0,0,0,{"$f":"IF(ISERROR(VLOOKUP($A847,#REF!,8,0)),0,(VLOOKUP($A847,#REF!,8,0)))","v":0},0,0,0,0,0,0,{"$f":"IF(ISERROR(VLOOKUP($A847,#REF!,8,0)),0,(VLOOKUP($A847,#REF!,8,0)))","v":0},0,0,0,0,0,0,{"$f":"IF(ISERROR(VLOOKUP($A847,#REF!,8,0)),0,(VLOOKUP($A847,#REF!,8,0)))","v":0},0,0,0,0,0,0,{"$f":"IF(ISERROR(VLOOKUP($A847,#REF!,8,0)),0,(VLOOKUP($A847,#REF!,8,0)))","v":0},0,0,0,0,0,0,{"$f":"IF(ISERROR(VLOOKUP($A847,#REF!,8,0)),0,(VLOOKUP($A847,#REF!,8,0)))","v":0},0,0,0,0,0,0,{"$f":"IF(ISERROR(VLOOKUP($A847,#REF!,8,0)),0,(VLOOKUP($A847,#REF!,8,0)))","v":0},0,0,0,0,0,0,{"$f":"IF(ISERROR(VLOOKUP($A847,#REF!,8,0)),0,(VLOOKUP($A847,#REF!,8,0)))","v":0},0,0,0,0,0,0,{"$f":"IF(ISERROR(VLOOKUP($A847,#REF!,8,0)),0,(VLOOKUP($A847,#REF!,8,0)))","v":0},0,0,0,0,0,0,{"$f":"IF(ISERROR(VLOOKUP($A847,#REF!,8,0)),0,(VLOOKUP($A847,#REF!,8,0)))","v":0},0,0,0,0,0,0,{"$f":"IF(ISERROR(VLOOKUP($A847,#REF!,8,0)),0,(VLOOKUP($A847,#REF!,8,0)))","v":0},0,0,0,0,0,0,{"$f":"IF(ISERROR(VLOOKUP($A847,#REF!,8,0)),0,(VLOOKUP($A847,#REF!,8,0)))","v":0},0,0,0,0,0,0,{"$f":"IF(ISERROR(VLOOKUP($A847,#REF!,8,0)),0,(VLOOKUP($A847,#REF!,8,0)))","v":0},0,0,0,0,0,0,{"$f":"IF(ISERROR(VLOOKUP($A847,#REF!,8,0)),0,(VLOOKUP($A847,#REF!,8,0)))","v":0},0,0,0,0,0,0,{"$f":"IF(ISERROR(VLOOKUP($A847,#REF!,8,0)),0,(VLOOKUP($A847,#REF!,8,0)))","v":0},0,0,0,0,0,0,{"$f":"IF(ISERROR(VLOOKUP($A847,#REF!,8,0)),0,(VLOOKUP($A847,#REF!,8,0)))","v":0},0,0,0,0,0,0,{"$f":"IF(ISERROR(VLOOKUP($A847,#REF!,8,0)),0,(VLOOKUP($A847,#REF!,8,0)))","v":0},0,0,0,0,0,0,{"$f":"IF(ISERROR(VLOOKUP($A847,#REF!,8,0)),0,(VLOOKUP($A847,#REF!,8,0)))","v":0},0,0,0,0,0,0,{"$f":"IF(ISERROR(VLOOKUP($A847,#REF!,8,0)),0,(VLOOKUP($A847,#REF!,8,0)))","v":0},0,0,0,0,0,0,{"$f":"IF(ISERROR(VLOOKUP($A847,#REF!,8,0)),0,(VLOOKUP($A847,#REF!,8,0)))","v":0},0,0,0,0,0,0,{"$f":"IF(ISERROR(VLOOKUP($A847,#REF!,8,0)),0,(VLOOKUP($A847,#REF!,8,0)))","v":0},0,0,0,0,0,0,{"$f":"IF(ISERROR(VLOOKUP($A847,#REF!,8,0)),0,(VLOOKUP($A847,#REF!,8,0)))","v":0},0,0,0,0,0,0,{"$f":"IF(ISERROR(VLOOKUP($A847,#REF!,8,0)),0,(VLOOKUP($A847,#REF!,8,0)))","v":0},0,0,0,0,0,0,{"$f":"IF(ISERROR(VLOOKUP($A847,#REF!,8,0)),0,(VLOOKUP($A847,#REF!,8,0)))","v":0},0,0,0,0,0,0,{"$f":"IF(ISERROR(VLOOKUP($A847,#REF!,8,0)),0,(VLOOKUP($A847,#REF!,8,0)))","v":0},0,0,0,0,0,0,{"$f":"IF(ISERROR(VLOOKUP($A847,#REF!,8,0)),0,(VLOOKUP($A847,#REF!,8,0)))","v":0},0,0,0,0,0,0,{"$f":"IF(ISERROR(VLOOKUP($A847,#REF!,8,0)),0,(VLOOKUP($A847,#REF!,8,0)))","v":0},0,0,0,0,0,0,{"$f":"IF(ISERROR(VLOOKUP($A847,#REF!,8,0)),0,(VLOOKUP($A847,#REF!,8,0)))","v":0},0,0,0,0,0,0,{"$f":"IF(ISERROR(VLOOKUP($A847,#REF!,8,0)),0,(VLOOKUP($A847,#REF!,8,0)))","v":0},0,0,0,0,0,0,0,0,{"$error":"#DIV/0!"},0]
["29.10.31","Caixa De Passagem 20X20X25 Fundo Brita Com Tampa","un ",3,0,3,13.173897999999999,39.521693999999997,21.073360000000001,63.220080000000003,0,0,34.247258000000002,102.74177400000001,0,null,0,0,0,0,0,null,0,0,0,0,0,0,null,0,0,0,0,0,0,null,0,0,0,0,0,0,null,0,0,0,0,0,0,null,0,0,0,0,0,0,{"$f":"IF(ISERROR(VLOOKUP(A856,'7ª MEDIÇÃO'!$A$5:$J$1048576,8,0)),0,(VLOOKUP(A856,'7ª MEDIÇÃO'!$A$5:$J$1048576,8,0)))","v":0},0,0,0,0,0,0,{"$f":"IF(ISERROR(VLOOKUP(A856,'8ª MEDIÇÃO'!$A$5:$J$1048576,8,0)),0,(VLOOKUP(A856,'8ª MEDIÇÃO'!$A$5:$J$1048576,8,0)))","v":0},0,0,0,0,0,0,{"$f":"IF(ISERROR(VLOOKUP(A856,'9ª MEDIÇÃO'!$A$5:$J$1048576,8,0)),0,(VLOOKUP(A856,'9ª MEDIÇÃO'!$A$5:$J$1048576,8,0)))","v":0},0,0,0,0,0,0,{"$f":"IF(ISERROR(VLOOKUP(A856,#REF!,8,0)),0,(VLOOKUP(A856,#REF!,8,0)))","v":0},0,0,0,0,0,0,{"$f":"IF(ISERROR(VLOOKUP($A856,#REF!,8,0)),0,(VLOOKUP($A856,#REF!,8,0)))","v":0},0,0,0,0,0,0,{"$f":"IF(ISERROR(VLOOKUP($A856,#REF!,8,0)),0,(VLOOKUP($A856,#REF!,8,0)))","v":0},0,0,0,0,0,0,{"$f":"IF(ISERROR(VLOOKUP($A856,#REF!,8,0)),0,(VLOOKUP($A856,#REF!,8,0)))","v":0},0,0,0,0,0,0,{"$f":"IF(ISERROR(VLOOKUP($A856,#REF!,8,0)),0,(VLOOKUP($A856,#REF!,8,0)))","v":0},0,0,0,0,0,0,{"$f":"IF(ISERROR(VLOOKUP($A856,#REF!,8,0)),0,(VLOOKUP($A856,#REF!,8,0)))","v":0},0,0,0,0,0,0,{"$f":"IF(ISERROR(VLOOKUP($A856,#REF!,8,0)),0,(VLOOKUP($A856,#REF!,8,0)))","v":0},0,0,0,0,0,0,{"$f":"IF(ISERROR(VLOOKUP($A856,#REF!,8,0)),0,(VLOOKUP($A856,#REF!,8,0)))","v":0},0,0,0,0,0,0,{"$f":"IF(ISERROR(VLOOKUP($A856,#REF!,8,0)),0,(VLOOKUP($A856,#REF!,8,0)))","v":0},0,0,0,0,0,0,{"$f":"IF(ISERROR(VLOOKUP($A856,#REF!,8,0)),0,(VLOOKUP($A856,#REF!,8,0)))","v":0},0,0,0,0,0,0,{"$f":"IF(ISERROR(VLOOKUP($A856,#REF!,8,0)),0,(VLOOKUP($A856,#REF!,8,0)))","v":0},0,0,0,0,0,0,{"$f":"IF(ISERROR(VLOOKUP($A856,#REF!,8,0)),0,(VLOOKUP($A856,#REF!,8,0)))","v":0},0,0,0,0,0,0,{"$f":"IF(ISERROR(VLOOKUP($A856,#REF!,8,0)),0,(VLOOKUP($A856,#REF!,8,0)))","v":0},0,0,0,0,0,0,{"$f":"IF(ISERROR(VLOOKUP($A856,#REF!,8,0)),0,(VLOOKUP($A856,#REF!,8,0)))","v":0},0,0,0,0,0,0,{"$f":"IF(ISERROR(VLOOKUP($A856,#REF!,8,0)),0,(VLOOKUP($A856,#REF!,8,0)))","v":0},0,0,0,0,0,0,{"$f":"IF(ISERROR(VLOOKUP($A856,#REF!,8,0)),0,(VLOOKUP($A856,#REF!,8,0)))","v":0},0,0,0,0,0,0,{"$f":"IF(ISERROR(VLOOKUP($A856,#REF!,8,0)),0,(VLOOKUP($A856,#REF!,8,0)))","v":0},0,0,0,0,0,0,{"$f":"IF(ISERROR(VLOOKUP($A856,#REF!,8,0)),0,(VLOOKUP($A856,#REF!,8,0)))","v":0},0,0,0,0,0,0,{"$f":"IF(ISERROR(VLOOKUP($A856,#REF!,8,0)),0,(VLOOKUP($A856,#REF!,8,0)))","v":0},0,0,0,0,0,0,{"$f":"IF(ISERROR(VLOOKUP($A856,#REF!,8,0)),0,(VLOOKUP($A856,#REF!,8,0)))","v":0},0,0,0,0,0,0,{"$f":"IF(ISERROR(VLOOKUP($A856,#REF!,8,0)),0,(VLOOKUP($A856,#REF!,8,0)))","v":0},0,0,0,0,0,0,{"$f":"IF(ISERROR(VLOOKUP($A856,#REF!,8,0)),0,(VLOOKUP($A856,#REF!,8,0)))","v":0},0,0,0,0,0,0,{"$f":"IF(ISERROR(VLOOKUP($A856,#REF!,8,0)),0,(VLOOKUP($A856,#REF!,8,0)))","v":0},0,0,0,0,0,0,{"$f":"IF(ISERROR(VLOOKUP($A856,#REF!,8,0)),0,(VLOOKUP($A856,#REF!,8,0)))","v":0},0,0,0,0,0,0,{"$f":"IF(ISERROR(VLOOKUP($A856,#REF!,8,0)),0,(VLOOKUP($A856,#REF!,8,0)))","v":0},0,0,0,0,0,0,{"$f":"IF(ISERROR(VLOOKUP($A856,#REF!,8,0)),0,(VLOOKUP($A856,#REF!,8,0)))","v":0},0,0,0,0,0,0,{"$f":"IF(ISERROR(VLOOKUP($A856,#REF!,8,0)),0,(VLOOKUP($A856,#REF!,8,0)))","v":0},0,0,0,0,0,0,{"$f":"IF(ISERROR(VLOOKUP($A856,#REF!,8,0)),0,(VLOOKUP($A856,#REF!,8,0)))","v":0},0,0,0,0,0,0,{"$f":"IF(ISERROR(VLOOKUP($A856,#REF!,8,0)),0,(VLOOKUP($A856,#REF!,8,0)))","v":0},0,0,0,0,0,0,{"$f":"IF(ISERROR(VLOOKUP($A856,#REF!,8,0)),0,(VLOOKUP($A856,#REF!,8,0)))","v":0},0,0,0,0,0,0,{"$f":"IF(ISERROR(VLOOKUP($A856,#REF!,8,0)),0,(VLOOKUP($A856,#REF!,8,0)))","v":0},0,0,0,0,0,0,{"$f":"IF(ISERROR(VLOOKUP($A856,#REF!,8,0)),0,(VLOOKUP($A856,#REF!,8,0)))","v":0},0,0,0,0,0,0,{"$f":"IF(ISERROR(VLOOKUP($A856,#REF!,8,0)),0,(VLOOKUP($A856,#REF!,8,0)))","v":0},0,0,0,0,0,0,{"$f":"IF(ISERROR(VLOOKUP($A856,#REF!,8,0)),0,(VLOOKUP($A856,#REF!,8,0)))","v":0},0,0,0,0,0,0,{"$f":"IF(ISERROR(VLOOKUP($A856,#REF!,8,0)),0,(VLOOKUP($A856,#REF!,8,0)))","v":0},0,0,0,0,0,0,{"$f":"IF(ISERROR(VLOOKUP($A856,#REF!,8,0)),0,(VLOOKUP($A856,#REF!,8,0)))","v":0},0,0,0,0,0,0,{"$f":"IF(ISERROR(VLOOKUP($A856,#REF!,8,0)),0,(VLOOKUP($A856,#REF!,8,0)))","v":0},0,0,0,0,0,0,{"$f":"IF(ISERROR(VLOOKUP($A856,#REF!,8,0)),0,(VLOOKUP($A856,#REF!,8,0)))","v":0},0,0,0,0,0,0,{"$f":"IF(ISERROR(VLOOKUP($A856,#REF!,8,0)),0,(VLOOKUP($A856,#REF!,8,0)))","v":0},0,0,0,0,0,0,{"$f":"IF(ISERROR(VLOOKUP($A856,#REF!,8,0)),0,(VLOOKUP($A856,#REF!,8,0)))","v":0},0,0,0,0,0,0,{"$f":"IF(ISERROR(VLOOKUP($A856,#REF!,8,0)),0,(VLOOKUP($A856,#REF!,8,0)))","v":0},0,0,0,0,0,0,{"$f":"IF(ISERROR(VLOOKUP($A856,#REF!,8,0)),0,(VLOOKUP($A856,#REF!,8,0)))","v":0},0,0,0,0,0,0,{"$f":"IF(ISERROR(VLOOKUP($A856,#REF!,8,0)),0,(VLOOKUP($A856,#REF!,8,0)))","v":0},0,0,0,0,0,0,{"$f":"IF(ISERROR(VLOOKUP($A856,#REF!,8,0)),0,(VLOOKUP($A856,#REF!,8,0)))","v":0},0,0,0,0,0,0,{"$f":"IF(ISERROR(VLOOKUP($A856,#REF!,8,0)),0,(VLOOKUP($A856,#REF!,8,0)))","v":0},0,0,0,0,0,0,{"$f":"IF(ISERROR(VLOOKUP($A856,#REF!,8,0)),0,(VLOOKUP($A856,#REF!,8,0)))","v":0},0,0,0,0,0,0,0,0,{"$error":"#DIV/0!"},0]
["29.11.03","Tomada de embutir para computador em caixa 4x4 pol., com quatro tomadas 2p+t, sendo três módulos de 10A, mais um módulo de 20A. com placa e módulos na linha Pialplus ou equivalente.","un ",246,246,0,21.205612000000002,5216.5805520000004,15.226560000000001,3745.7337600000001,0,0,36.432172000000001,0,8962.3143120000004,null,0,0,0,0,0,null,0,1,0,0,0,0,null,0,1,0,0,0,0,null,0,1,0,0,0,0,null,0,1,0,0,0,0,null,0,1,0,0,0,0,{"$f":"IF(ISERROR(VLOOKUP(A865,'7ª MEDIÇÃO'!$A$5:$J$1048576,8,0)),0,(VLOOKUP(A865,'7ª MEDIÇÃO'!$A$5:$J$1048576,8,0)))","v":0},0,1,0,0,0,0,{"$f":"IF(ISERROR(VLOOKUP(A865,'8ª MEDIÇÃO'!$A$5:$J$1048576,8,0)),0,(VLOOKUP(A865,'8ª MEDIÇÃO'!$A$5:$J$1048576,8,0)))","v":0},0,1,0,0,0,0,{"$f":"IF(ISERROR(VLOOKUP(A865,'9ª MEDIÇÃO'!$A$5:$J$1048576,8,0)),0,(VLOOKUP(A865,'9ª MEDIÇÃO'!$A$5:$J$1048576,8,0)))","v":0},0,1,0,0,0,0,{"$f":"IF(ISERROR(VLOOKUP(A865,#REF!,8,0)),0,(VLOOKUP(A865,#REF!,8,0)))","v":0},0,1,0,0,0,0,{"$f":"IF(ISERROR(VLOOKUP($A865,#REF!,8,0)),0,(VLOOKUP($A865,#REF!,8,0)))","v":0},0,1,0,0,0,0,{"$f":"IF(ISERROR(VLOOKUP($A865,#REF!,8,0)),0,(VLOOKUP($A865,#REF!,8,0)))","v":0},0,1,0,0,0,0,{"$f":"IF(ISERROR(VLOOKUP($A865,#REF!,8,0)),0,(VLOOKUP($A865,#REF!,8,0)))","v":0},0,1,0,0,0,0,{"$f":"IF(ISERROR(VLOOKUP($A865,#REF!,8,0)),0,(VLOOKUP($A865,#REF!,8,0)))","v":0},0,1,0,0,0,0,{"$f":"IF(ISERROR(VLOOKUP($A865,#REF!,8,0)),0,(VLOOKUP($A865,#REF!,8,0)))","v":0},0,1,0,0,0,0,{"$f":"IF(ISERROR(VLOOKUP($A865,#REF!,8,0)),0,(VLOOKUP($A865,#REF!,8,0)))","v":0},0,1,0,0,0,0,{"$f":"IF(ISERROR(VLOOKUP($A865,#REF!,8,0)),0,(VLOOKUP($A865,#REF!,8,0)))","v":0},0,1,0,0,0,0,{"$f":"IF(ISERROR(VLOOKUP($A865,#REF!,8,0)),0,(VLOOKUP($A865,#REF!,8,0)))","v":0},0,1,0,0,0,0,{"$f":"IF(ISERROR(VLOOKUP($A865,#REF!,8,0)),0,(VLOOKUP($A865,#REF!,8,0)))","v":0},0,1,0,0,0,0,{"$f":"IF(ISERROR(VLOOKUP($A865,#REF!,8,0)),0,(VLOOKUP($A865,#REF!,8,0)))","v":0},0,1,0,0,0,0,{"$f":"IF(ISERROR(VLOOKUP($A865,#REF!,8,0)),0,(VLOOKUP($A865,#REF!,8,0)))","v":0},0,1,0,0,0,0,{"$f":"IF(ISERROR(VLOOKUP($A865,#REF!,8,0)),0,(VLOOKUP($A865,#REF!,8,0)))","v":0},0,1,0,0,0,0,{"$f":"IF(ISERROR(VLOOKUP($A865,#REF!,8,0)),0,(VLOOKUP($A865,#REF!,8,0)))","v":0},0,1,0,0,0,0,{"$f":"IF(ISERROR(VLOOKUP($A865,#REF!,8,0)),0,(VLOOKUP($A865,#REF!,8,0)))","v":0},0,1,0,0,0,0,{"$f":"IF(ISERROR(VLOOKUP($A865,#REF!,8,0)),0,(VLOOKUP($A865,#REF!,8,0)))","v":0},0,1,0,0,0,0,{"$f":"IF(ISERROR(VLOOKUP($A865,#REF!,8,0)),0,(VLOOKUP($A865,#REF!,8,0)))","v":0},0,1,0,0,0,0,{"$f":"IF(ISERROR(VLOOKUP($A865,#REF!,8,0)),0,(VLOOKUP($A865,#REF!,8,0)))","v":0},0,1,0,0,0,0,{"$f":"IF(ISERROR(VLOOKUP($A865,#REF!,8,0)),0,(VLOOKUP($A865,#REF!,8,0)))","v":0},0,1,0,0,0,0,{"$f":"IF(ISERROR(VLOOKUP($A865,#REF!,8,0)),0,(VLOOKUP($A865,#REF!,8,0)))","v":0},0,1,0,0,0,0,{"$f":"IF(ISERROR(VLOOKUP($A865,#REF!,8,0)),0,(VLOOKUP($A865,#REF!,8,0)))","v":0},0,1,0,0,0,0,{"$f":"IF(ISERROR(VLOOKUP($A865,#REF!,8,0)),0,(VLOOKUP($A865,#REF!,8,0)))","v":0},0,1,0,0,0,0,{"$f":"IF(ISERROR(VLOOKUP($A865,#REF!,8,0)),0,(VLOOKUP($A865,#REF!,8,0)))","v":0},0,1,0,0,0,0,{"$f":"IF(ISERROR(VLOOKUP($A865,#REF!,8,0)),0,(VLOOKUP($A865,#REF!,8,0)))","v":0},0,1,0,0,0,0,{"$f":"IF(ISERROR(VLOOKUP($A865,#REF!,8,0)),0,(VLOOKUP($A865,#REF!,8,0)))","v":0},0,1,0,0,0,0,{"$f":"IF(ISERROR(VLOOKUP($A865,#REF!,8,0)),0,(VLOOKUP($A865,#REF!,8,0)))","v":0},0,1,0,0,0,0,{"$f":"IF(ISERROR(VLOOKUP($A865,#REF!,8,0)),0,(VLOOKUP($A865,#REF!,8,0)))","v":0},0,1,0,0,0,0,{"$f":"IF(ISERROR(VLOOKUP($A865,#REF!,8,0)),0,(VLOOKUP($A865,#REF!,8,0)))","v":0},0,1,0,0,0,0,{"$f":"IF(ISERROR(VLOOKUP($A865,#REF!,8,0)),0,(VLOOKUP($A865,#REF!,8,0)))","v":0},0,1,0,0,0,0,{"$f":"IF(ISERROR(VLOOKUP($A865,#REF!,8,0)),0,(VLOOKUP($A865,#REF!,8,0)))","v":0},0,1,0,0,0,0,{"$f":"IF(ISERROR(VLOOKUP($A865,#REF!,8,0)),0,(VLOOKUP($A865,#REF!,8,0)))","v":0},0,1,0,0,0,0,{"$f":"IF(ISERROR(VLOOKUP($A865,#REF!,8,0)),0,(VLOOKUP($A865,#REF!,8,0)))","v":0},0,1,0,0,0,0,{"$f":"IF(ISERROR(VLOOKUP($A865,#REF!,8,0)),0,(VLOOKUP($A865,#REF!,8,0)))","v":0},0,1,0,0,0,0,{"$f":"IF(ISERROR(VLOOKUP($A865,#REF!,8,0)),0,(VLOOKUP($A865,#REF!,8,0)))","v":0},0,1,0,0,0,0,{"$f":"IF(ISERROR(VLOOKUP($A865,#REF!,8,0)),0,(VLOOKUP($A865,#REF!,8,0)))","v":0},0,1,0,0,0,0,{"$f":"IF(ISERROR(VLOOKUP($A865,#REF!,8,0)),0,(VLOOKUP($A865,#REF!,8,0)))","v":0},0,1,0,0,0,0,{"$f":"IF(ISERROR(VLOOKUP($A865,#REF!,8,0)),0,(VLOOKUP($A865,#REF!,8,0)))","v":0},0,1,0,0,0,0,{"$f":"IF(ISERROR(VLOOKUP($A865,#REF!,8,0)),0,(VLOOKUP($A865,#REF!,8,0)))","v":0},0,1,0,0,0,0,{"$f":"IF(ISERROR(VLOOKUP($A865,#REF!,8,0)),0,(VLOOKUP($A865,#REF!,8,0)))","v":0},0,1,0,0,0,0,{"$f":"IF(ISERROR(VLOOKUP($A865,#REF!,8,0)),0,(VLOOKUP($A865,#REF!,8,0)))","v":0},0,1,0,0,0,0,{"$f":"IF(ISERROR(VLOOKUP($A865,#REF!,8,0)),0,(VLOOKUP($A865,#REF!,8,0)))","v":0},0,1,0,0,0,0,{"$f":"IF(ISERROR(VLOOKUP($A865,#REF!,8,0)),0,(VLOOKUP($A865,#REF!,8,0)))","v":0},0,1,0,0,0,0,{"$f":"IF(ISERROR(VLOOKUP($A865,#REF!,8,0)),0,(VLOOKUP($A865,#REF!,8,0)))","v":0},0,1,0,0,0,0,{"$f":"IF(ISERROR(VLOOKUP($A865,#REF!,8,0)),0,(VLOOKUP($A865,#REF!,8,0)))","v":0},0,1,0,0,0,0,{"$f":"IF(ISERROR(VLOOKUP($A865,#REF!,8,0)),0,(VLOOKUP($A865,#REF!,8,0)))","v":0},0,1,0,0,0,0,{"$f":"IF(ISERROR(VLOOKUP($A865,#REF!,8,0)),0,(VLOOKUP($A865,#REF!,8,0)))","v":0},0,1,0,0,0,0,8962.3143120000004,8962.3143120000004,1,0]
["29.11.12","Cabo de cobre AFUMEX, ATOX, AFITOX ou equivalente (Não-Halogenado), isolação 0,6/1kV., de 35mm². , inclusive instalação em eletroduto/eletrocalha/leito.","m",25.5,25.5,0,17.584854,448.41377699999998,3.7444399999999995,95.483219999999989,0,0,21.329294000000001,0,543.89699700000006,null,0,0,0,0,0,null,0,1,0,0,0,0,null,0,1,0,0,0,0,null,0,1,0,0,0,0,null,0,1,0,0,0,0,null,0,1,0,0,0,0,{"$f":"IF(ISERROR(VLOOKUP(A874,'7ª MEDIÇÃO'!$A$5:$J$1048576,8,0)),0,(VLOOKUP(A874,'7ª MEDIÇÃO'!$A$5:$J$1048576,8,0)))","v":0},0,1,0,0,0,0,{"$f":"IF(ISERROR(VLOOKUP(A874,'8ª MEDIÇÃO'!$A$5:$J$1048576,8,0)),0,(VLOOKUP(A874,'8ª MEDIÇÃO'!$A$5:$J$1048576,8,0)))","v":0},0,1,0,0,0,0,{"$f":"IF(ISERROR(VLOOKUP(A874,'9ª MEDIÇÃO'!$A$5:$J$1048576,8,0)),0,(VLOOKUP(A874,'9ª MEDIÇÃO'!$A$5:$J$1048576,8,0)))","v":0},0,1,0,0,0,0,{"$f":"IF(ISERROR(VLOOKUP(A874,#REF!,8,0)),0,(VLOOKUP(A874,#REF!,8,0)))","v":0},0,1,0,0,0,0,{"$f":"IF(ISERROR(VLOOKUP($A874,#REF!,8,0)),0,(VLOOKUP($A874,#REF!,8,0)))","v":0},0,1,0,0,0,0,{"$f":"IF(ISERROR(VLOOKUP($A874,#REF!,8,0)),0,(VLOOKUP($A874,#REF!,8,0)))","v":0},0,1,0,0,0,0,{"$f":"IF(ISERROR(VLOOKUP($A874,#REF!,8,0)),0,(VLOOKUP($A874,#REF!,8,0)))","v":0},0,1,0,0,0,0,{"$f":"IF(ISERROR(VLOOKUP($A874,#REF!,8,0)),0,(VLOOKUP($A874,#REF!,8,0)))","v":0},0,1,0,0,0,0,{"$f":"IF(ISERROR(VLOOKUP($A874,#REF!,8,0)),0,(VLOOKUP($A874,#REF!,8,0)))","v":0},0,1,0,0,0,0,{"$f":"IF(ISERROR(VLOOKUP($A874,#REF!,8,0)),0,(VLOOKUP($A874,#REF!,8,0)))","v":0},0,1,0,0,0,0,{"$f":"IF(ISERROR(VLOOKUP($A874,#REF!,8,0)),0,(VLOOKUP($A874,#REF!,8,0)))","v":0},0,1,0,0,0,0,{"$f":"IF(ISERROR(VLOOKUP($A874,#REF!,8,0)),0,(VLOOKUP($A874,#REF!,8,0)))","v":0},0,1,0,0,0,0,{"$f":"IF(ISERROR(VLOOKUP($A874,#REF!,8,0)),0,(VLOOKUP($A874,#REF!,8,0)))","v":0},0,1,0,0,0,0,{"$f":"IF(ISERROR(VLOOKUP($A874,#REF!,8,0)),0,(VLOOKUP($A874,#REF!,8,0)))","v":0},0,1,0,0,0,0,{"$f":"IF(ISERROR(VLOOKUP($A874,#REF!,8,0)),0,(VLOOKUP($A874,#REF!,8,0)))","v":0},0,1,0,0,0,0,{"$f":"IF(ISERROR(VLOOKUP($A874,#REF!,8,0)),0,(VLOOKUP($A874,#REF!,8,0)))","v":0},0,1,0,0,0,0,{"$f":"IF(ISERROR(VLOOKUP($A874,#REF!,8,0)),0,(VLOOKUP($A874,#REF!,8,0)))","v":0},0,1,0,0,0,0,{"$f":"IF(ISERROR(VLOOKUP($A874,#REF!,8,0)),0,(VLOOKUP($A874,#REF!,8,0)))","v":0},0,1,0,0,0,0,{"$f":"IF(ISERROR(VLOOKUP($A874,#REF!,8,0)),0,(VLOOKUP($A874,#REF!,8,0)))","v":0},0,1,0,0,0,0,{"$f":"IF(ISERROR(VLOOKUP($A874,#REF!,8,0)),0,(VLOOKUP($A874,#REF!,8,0)))","v":0},0,1,0,0,0,0,{"$f":"IF(ISERROR(VLOOKUP($A874,#REF!,8,0)),0,(VLOOKUP($A874,#REF!,8,0)))","v":0},0,1,0,0,0,0,{"$f":"IF(ISERROR(VLOOKUP($A874,#REF!,8,0)),0,(VLOOKUP($A874,#REF!,8,0)))","v":0},0,1,0,0,0,0,{"$f":"IF(ISERROR(VLOOKUP($A874,#REF!,8,0)),0,(VLOOKUP($A874,#REF!,8,0)))","v":0},0,1,0,0,0,0,{"$f":"IF(ISERROR(VLOOKUP($A874,#REF!,8,0)),0,(VLOOKUP($A874,#REF!,8,0)))","v":0},0,1,0,0,0,0,{"$f":"IF(ISERROR(VLOOKUP($A874,#REF!,8,0)),0,(VLOOKUP($A874,#REF!,8,0)))","v":0},0,1,0,0,0,0,{"$f":"IF(ISERROR(VLOOKUP($A874,#REF!,8,0)),0,(VLOOKUP($A874,#REF!,8,0)))","v":0},0,1,0,0,0,0,{"$f":"IF(ISERROR(VLOOKUP($A874,#REF!,8,0)),0,(VLOOKUP($A874,#REF!,8,0)))","v":0},0,1,0,0,0,0,{"$f":"IF(ISERROR(VLOOKUP($A874,#REF!,8,0)),0,(VLOOKUP($A874,#REF!,8,0)))","v":0},0,1,0,0,0,0,{"$f":"IF(ISERROR(VLOOKUP($A874,#REF!,8,0)),0,(VLOOKUP($A874,#REF!,8,0)))","v":0},0,1,0,0,0,0,{"$f":"IF(ISERROR(VLOOKUP($A874,#REF!,8,0)),0,(VLOOKUP($A874,#REF!,8,0)))","v":0},0,1,0,0,0,0,{"$f":"IF(ISERROR(VLOOKUP($A874,#REF!,8,0)),0,(VLOOKUP($A874,#REF!,8,0)))","v":0},0,1,0,0,0,0,{"$f":"IF(ISERROR(VLOOKUP($A874,#REF!,8,0)),0,(VLOOKUP($A874,#REF!,8,0)))","v":0},0,1,0,0,0,0,{"$f":"IF(ISERROR(VLOOKUP($A874,#REF!,8,0)),0,(VLOOKUP($A874,#REF!,8,0)))","v":0},0,1,0,0,0,0,{"$f":"IF(ISERROR(VLOOKUP($A874,#REF!,8,0)),0,(VLOOKUP($A874,#REF!,8,0)))","v":0},0,1,0,0,0,0,{"$f":"IF(ISERROR(VLOOKUP($A874,#REF!,8,0)),0,(VLOOKUP($A874,#REF!,8,0)))","v":0},0,1,0,0,0,0,{"$f":"IF(ISERROR(VLOOKUP($A874,#REF!,8,0)),0,(VLOOKUP($A874,#REF!,8,0)))","v":0},0,1,0,0,0,0,{"$f":"IF(ISERROR(VLOOKUP($A874,#REF!,8,0)),0,(VLOOKUP($A874,#REF!,8,0)))","v":0},0,1,0,0,0,0,{"$f":"IF(ISERROR(VLOOKUP($A874,#REF!,8,0)),0,(VLOOKUP($A874,#REF!,8,0)))","v":0},0,1,0,0,0,0,{"$f":"IF(ISERROR(VLOOKUP($A874,#REF!,8,0)),0,(VLOOKUP($A874,#REF!,8,0)))","v":0},0,1,0,0,0,0,{"$f":"IF(ISERROR(VLOOKUP($A874,#REF!,8,0)),0,(VLOOKUP($A874,#REF!,8,0)))","v":0},0,1,0,0,0,0,{"$f":"IF(ISERROR(VLOOKUP($A874,#REF!,8,0)),0,(VLOOKUP($A874,#REF!,8,0)))","v":0},0,1,0,0,0,0,{"$f":"IF(ISERROR(VLOOKUP($A874,#REF!,8,0)),0,(VLOOKUP($A874,#REF!,8,0)))","v":0},0,1,0,0,0,0,{"$f":"IF(ISERROR(VLOOKUP($A874,#REF!,8,0)),0,(VLOOKUP($A874,#REF!,8,0)))","v":0},0,1,0,0,0,0,{"$f":"IF(ISERROR(VLOOKUP($A874,#REF!,8,0)),0,(VLOOKUP($A874,#REF!,8,0)))","v":0},0,1,0,0,0,0,{"$f":"IF(ISERROR(VLOOKUP($A874,#REF!,8,0)),0,(VLOOKUP($A874,#REF!,8,0)))","v":0},0,1,0,0,0,0,{"$f":"IF(ISERROR(VLOOKUP($A874,#REF!,8,0)),0,(VLOOKUP($A874,#REF!,8,0)))","v":0},0,1,0,0,0,0,{"$f":"IF(ISERROR(VLOOKUP($A874,#REF!,8,0)),0,(VLOOKUP($A874,#REF!,8,0)))","v":0},0,1,0,0,0,0,{"$f":"IF(ISERROR(VLOOKUP($A874,#REF!,8,0)),0,(VLOOKUP($A874,#REF!,8,0)))","v":0},0,1,0,0,0,0,{"$f":"IF(ISERROR(VLOOKUP($A874,#REF!,8,0)),0,(VLOOKUP($A874,#REF!,8,0)))","v":0},0,1,0,0,0,0,543.89699700000006,543.89699700000006,1,0]
["29.11.19","Disjuntor tripolar termomagnético até 50A Eletromar padrão IEC ou equivalente, inclusive instalação em quadro de distribuição, conforme projeto.","un ",12,3,9,63.817334000000002,765.80800799999997,9.9893199999999993,119.87183999999999,0,0,73.806654000000009,664.25988600000005,221.41996200000003,null,0,0,0,0,0,null,0,0.25,0,0,0,0,null,0,0.25,0,0,0,0,null,0,0.25,0,0,0,0,null,0,0.25,0,0,0,0,null,0,0.25,0,0,0,0,{"$f":"IF(ISERROR(VLOOKUP(A881,'7ª MEDIÇÃO'!$A$5:$J$1048576,8,0)),0,(VLOOKUP(A881,'7ª MEDIÇÃO'!$A$5:$J$1048576,8,0)))","v":0},0,0.25,0,0,0,0,{"$f":"IF(ISERROR(VLOOKUP(A881,'8ª MEDIÇÃO'!$A$5:$J$1048576,8,0)),0,(VLOOKUP(A881,'8ª MEDIÇÃO'!$A$5:$J$1048576,8,0)))","v":0},0,0.25,0,0,0,0,{"$f":"IF(ISERROR(VLOOKUP(A881,'9ª MEDIÇÃO'!$A$5:$J$1048576,8,0)),0,(VLOOKUP(A881,'9ª MEDIÇÃO'!$A$5:$J$1048576,8,0)))","v":0},0,0.25,0,0,0,0,{"$f":"IF(ISERROR(VLOOKUP(A881,#REF!,8,0)),0,(VLOOKUP(A881,#REF!,8,0)))","v":0},0,0.25,0,0,0,0,{"$f":"IF(ISERROR(VLOOKUP($A881,#REF!,8,0)),0,(VLOOKUP($A881,#REF!,8,0)))","v":0},0,0.25,0,0,0,0,{"$f":"IF(ISERROR(VLOOKUP($A881,#REF!,8,0)),0,(VLOOKUP($A881,#REF!,8,0)))","v":0},0,0.25,0,0,0,0,{"$f":"IF(ISERROR(VLOOKUP($A881,#REF!,8,0)),0,(VLOOKUP($A881,#REF!,8,0)))","v":0},0,0.25,0,0,0,0,{"$f":"IF(ISERROR(VLOOKUP($A881,#REF!,8,0)),0,(VLOOKUP($A881,#REF!,8,0)))","v":0},0,0.25,0,0,0,0,{"$f":"IF(ISERROR(VLOOKUP($A881,#REF!,8,0)),0,(VLOOKUP($A881,#REF!,8,0)))","v":0},0,0.25,0,0,0,0,{"$f":"IF(ISERROR(VLOOKUP($A881,#REF!,8,0)),0,(VLOOKUP($A881,#REF!,8,0)))","v":0},0,0.25,0,0,0,0,{"$f":"IF(ISERROR(VLOOKUP($A881,#REF!,8,0)),0,(VLOOKUP($A881,#REF!,8,0)))","v":0},0,0.25,0,0,0,0,{"$f":"IF(ISERROR(VLOOKUP($A881,#REF!,8,0)),0,(VLOOKUP($A881,#REF!,8,0)))","v":0},0,0.25,0,0,0,0,{"$f":"IF(ISERROR(VLOOKUP($A881,#REF!,8,0)),0,(VLOOKUP($A881,#REF!,8,0)))","v":0},0,0.25,0,0,0,0,{"$f":"IF(ISERROR(VLOOKUP($A881,#REF!,8,0)),0,(VLOOKUP($A881,#REF!,8,0)))","v":0},0,0.25,0,0,0,0,{"$f":"IF(ISERROR(VLOOKUP($A881,#REF!,8,0)),0,(VLOOKUP($A881,#REF!,8,0)))","v":0},0,0.25,0,0,0,0,{"$f":"IF(ISERROR(VLOOKUP($A881,#REF!,8,0)),0,(VLOOKUP($A881,#REF!,8,0)))","v":0},0,0.25,0,0,0,0,{"$f":"IF(ISERROR(VLOOKUP($A881,#REF!,8,0)),0,(VLOOKUP($A881,#REF!,8,0)))","v":0},0,0.25,0,0,0,0,{"$f":"IF(ISERROR(VLOOKUP($A881,#REF!,8,0)),0,(VLOOKUP($A881,#REF!,8,0)))","v":0},0,0.25,0,0,0,0,{"$f":"IF(ISERROR(VLOOKUP($A881,#REF!,8,0)),0,(VLOOKUP($A881,#REF!,8,0)))","v":0},0,0.25,0,0,0,0,{"$f":"IF(ISERROR(VLOOKUP($A881,#REF!,8,0)),0,(VLOOKUP($A881,#REF!,8,0)))","v":0},0,0.25,0,0,0,0,{"$f":"IF(ISERROR(VLOOKUP($A881,#REF!,8,0)),0,(VLOOKUP($A881,#REF!,8,0)))","v":0},0,0.25,0,0,0,0,{"$f":"IF(ISERROR(VLOOKUP($A881,#REF!,8,0)),0,(VLOOKUP($A881,#REF!,8,0)))","v":0},0,0.25,0,0,0,0,{"$f":"IF(ISERROR(VLOOKUP($A881,#REF!,8,0)),0,(VLOOKUP($A881,#REF!,8,0)))","v":0},0,0.25,0,0,0,0,{"$f":"IF(ISERROR(VLOOKUP($A881,#REF!,8,0)),0,(VLOOKUP($A881,#REF!,8,0)))","v":0},0,0.25,0,0,0,0,{"$f":"IF(ISERROR(VLOOKUP($A881,#REF!,8,0)),0,(VLOOKUP($A881,#REF!,8,0)))","v":0},0,0.25,0,0,0,0,{"$f":"IF(ISERROR(VLOOKUP($A881,#REF!,8,0)),0,(VLOOKUP($A881,#REF!,8,0)))","v":0},0,0.25,0,0,0,0,{"$f":"IF(ISERROR(VLOOKUP($A881,#REF!,8,0)),0,(VLOOKUP($A881,#REF!,8,0)))","v":0},0,0.25,0,0,0,0,{"$f":"IF(ISERROR(VLOOKUP($A881,#REF!,8,0)),0,(VLOOKUP($A881,#REF!,8,0)))","v":0},0,0.25,0,0,0,0,{"$f":"IF(ISERROR(VLOOKUP($A881,#REF!,8,0)),0,(VLOOKUP($A881,#REF!,8,0)))","v":0},0,0.25,0,0,0,0,{"$f":"IF(ISERROR(VLOOKUP($A881,#REF!,8,0)),0,(VLOOKUP($A881,#REF!,8,0)))","v":0},0,0.25,0,0,0,0,{"$f":"IF(ISERROR(VLOOKUP($A881,#REF!,8,0)),0,(VLOOKUP($A881,#REF!,8,0)))","v":0},0,0.25,0,0,0,0,{"$f":"IF(ISERROR(VLOOKUP($A881,#REF!,8,0)),0,(VLOOKUP($A881,#REF!,8,0)))","v":0},0,0.25,0,0,0,0,{"$f":"IF(ISERROR(VLOOKUP($A881,#REF!,8,0)),0,(VLOOKUP($A881,#REF!,8,0)))","v":0},0,0.25,0,0,0,0,{"$f":"IF(ISERROR(VLOOKUP($A881,#REF!,8,0)),0,(VLOOKUP($A881,#REF!,8,0)))","v":0},0,0.25,0,0,0,0,{"$f":"IF(ISERROR(VLOOKUP($A881,#REF!,8,0)),0,(VLOOKUP($A881,#REF!,8,0)))","v":0},0,0.25,0,0,0,0,{"$f":"IF(ISERROR(VLOOKUP($A881,#REF!,8,0)),0,(VLOOKUP($A881,#REF!,8,0)))","v":0},0,0.25,0,0,0,0,{"$f":"IF(ISERROR(VLOOKUP($A881,#REF!,8,0)),0,(VLOOKUP($A881,#REF!,8,0)))","v":0},0,0.25,0,0,0,0,{"$f":"IF(ISERROR(VLOOKUP($A881,#REF!,8,0)),0,(VLOOKUP($A881,#REF!,8,0)))","v":0},0,0.25,0,0,0,0,{"$f":"IF(ISERROR(VLOOKUP($A881,#REF!,8,0)),0,(VLOOKUP($A881,#REF!,8,0)))","v":0},0,0.25,0,0,0,0,{"$f":"IF(ISERROR(VLOOKUP($A881,#REF!,8,0)),0,(VLOOKUP($A881,#REF!,8,0)))","v":0},0,0.25,0,0,0,0,{"$f":"IF(ISERROR(VLOOKUP($A881,#REF!,8,0)),0,(VLOOKUP($A881,#REF!,8,0)))","v":0},0,0.25,0,0,0,0,{"$f":"IF(ISERROR(VLOOKUP($A881,#REF!,8,0)),0,(VLOOKUP($A881,#REF!,8,0)))","v":0},0,0.25,0,0,0,0,{"$f":"IF(ISERROR(VLOOKUP($A881,#REF!,8,0)),0,(VLOOKUP($A881,#REF!,8,0)))","v":0},0,0.25,0,0,0,0,{"$f":"IF(ISERROR(VLOOKUP($A881,#REF!,8,0)),0,(VLOOKUP($A881,#REF!,8,0)))","v":0},0,0.25,0,0,0,0,{"$f":"IF(ISERROR(VLOOKUP($A881,#REF!,8,0)),0,(VLOOKUP($A881,#REF!,8,0)))","v":0},0,0.25,0,0,0,0,{"$f":"IF(ISERROR(VLOOKUP($A881,#REF!,8,0)),0,(VLOOKUP($A881,#REF!,8,0)))","v":0},0,0.25,0,0,0,0,{"$f":"IF(ISERROR(VLOOKUP($A881,#REF!,8,0)),0,(VLOOKUP($A881,#REF!,8,0)))","v":0},0,0.25,0,0,0,0,{"$f":"IF(ISERROR(VLOOKUP($A881,#REF!,8,0)),0,(VLOOKUP($A881,#REF!,8,0)))","v":0},0,0.25,0,0,0,0,{"$f":"IF(ISERROR(VLOOKUP($A881,#REF!,8,0)),0,(VLOOKUP($A881,#REF!,8,0)))","v":0},0,0.25,0,0,0,0,221.41996200000003,221.41996200000003,1,0]
["29.11.31","Caixa de passagem 40X40X50 Fundo Brita Com Tampa","un",3,0,3,41.774348000000003,125.32304400000001,78.39688000000001,235.19064000000003,0,0,120.17122800000001,360.51368400000001,0,null,0,0,0,0,0,null,0,0,0,0,0,0,null,0,0,0,0,0,0,null,0,0,0,0,0,0,null,0,0,0,0,0,0,null,0,0,0,0,0,0,{"$f":"IF(ISERROR(VLOOKUP(A893,'7ª MEDIÇÃO'!$A$5:$J$1048576,8,0)),0,(VLOOKUP(A893,'7ª MEDIÇÃO'!$A$5:$J$1048576,8,0)))","v":0},0,0,0,0,0,0,{"$f":"IF(ISERROR(VLOOKUP(A893,'8ª MEDIÇÃO'!$A$5:$J$1048576,8,0)),0,(VLOOKUP(A893,'8ª MEDIÇÃO'!$A$5:$J$1048576,8,0)))","v":0},0,0,0,0,0,0,{"$f":"IF(ISERROR(VLOOKUP(A893,'9ª MEDIÇÃO'!$A$5:$J$1048576,8,0)),0,(VLOOKUP(A893,'9ª MEDIÇÃO'!$A$5:$J$1048576,8,0)))","v":0},0,0,0,0,0,0,{"$f":"IF(ISERROR(VLOOKUP(A893,#REF!,8,0)),0,(VLOOKUP(A893,#REF!,8,0)))","v":0},0,0,0,0,0,0,{"$f":"IF(ISERROR(VLOOKUP($A893,#REF!,8,0)),0,(VLOOKUP($A893,#REF!,8,0)))","v":0},0,0,0,0,0,0,{"$f":"IF(ISERROR(VLOOKUP($A893,#REF!,8,0)),0,(VLOOKUP($A893,#REF!,8,0)))","v":0},0,0,0,0,0,0,{"$f":"IF(ISERROR(VLOOKUP($A893,#REF!,8,0)),0,(VLOOKUP($A893,#REF!,8,0)))","v":0},0,0,0,0,0,0,{"$f":"IF(ISERROR(VLOOKUP($A893,#REF!,8,0)),0,(VLOOKUP($A893,#REF!,8,0)))","v":0},0,0,0,0,0,0,{"$f":"IF(ISERROR(VLOOKUP($A893,#REF!,8,0)),0,(VLOOKUP($A893,#REF!,8,0)))","v":0},0,0,0,0,0,0,{"$f":"IF(ISERROR(VLOOKUP($A893,#REF!,8,0)),0,(VLOOKUP($A893,#REF!,8,0)))","v":0},0,0,0,0,0,0,{"$f":"IF(ISERROR(VLOOKUP($A893,#REF!,8,0)),0,(VLOOKUP($A893,#REF!,8,0)))","v":0},0,0,0,0,0,0,{"$f":"IF(ISERROR(VLOOKUP($A893,#REF!,8,0)),0,(VLOOKUP($A893,#REF!,8,0)))","v":0},0,0,0,0,0,0,{"$f":"IF(ISERROR(VLOOKUP($A893,#REF!,8,0)),0,(VLOOKUP($A893,#REF!,8,0)))","v":0},0,0,0,0,0,0,{"$f":"IF(ISERROR(VLOOKUP($A893,#REF!,8,0)),0,(VLOOKUP($A893,#REF!,8,0)))","v":0},0,0,0,0,0,0,{"$f":"IF(ISERROR(VLOOKUP($A893,#REF!,8,0)),0,(VLOOKUP($A893,#REF!,8,0)))","v":0},0,0,0,0,0,0,{"$f":"IF(ISERROR(VLOOKUP($A893,#REF!,8,0)),0,(VLOOKUP($A893,#REF!,8,0)))","v":0},0,0,0,0,0,0,{"$f":"IF(ISERROR(VLOOKUP($A893,#REF!,8,0)),0,(VLOOKUP($A893,#REF!,8,0)))","v":0},0,0,0,0,0,0,{"$f":"IF(ISERROR(VLOOKUP($A893,#REF!,8,0)),0,(VLOOKUP($A893,#REF!,8,0)))","v":0},0,0,0,0,0,0,{"$f":"IF(ISERROR(VLOOKUP($A893,#REF!,8,0)),0,(VLOOKUP($A893,#REF!,8,0)))","v":0},0,0,0,0,0,0,{"$f":"IF(ISERROR(VLOOKUP($A893,#REF!,8,0)),0,(VLOOKUP($A893,#REF!,8,0)))","v":0},0,0,0,0,0,0,{"$f":"IF(ISERROR(VLOOKUP($A893,#REF!,8,0)),0,(VLOOKUP($A893,#REF!,8,0)))","v":0},0,0,0,0,0,0,{"$f":"IF(ISERROR(VLOOKUP($A893,#REF!,8,0)),0,(VLOOKUP($A893,#REF!,8,0)))","v":0},0,0,0,0,0,0,{"$f":"IF(ISERROR(VLOOKUP($A893,#REF!,8,0)),0,(VLOOKUP($A893,#REF!,8,0)))","v":0},0,0,0,0,0,0,{"$f":"IF(ISERROR(VLOOKUP($A893,#REF!,8,0)),0,(VLOOKUP($A893,#REF!,8,0)))","v":0},0,0,0,0,0,0,{"$f":"IF(ISERROR(VLOOKUP($A893,#REF!,8,0)),0,(VLOOKUP($A893,#REF!,8,0)))","v":0},0,0,0,0,0,0,{"$f":"IF(ISERROR(VLOOKUP($A893,#REF!,8,0)),0,(VLOOKUP($A893,#REF!,8,0)))","v":0},0,0,0,0,0,0,{"$f":"IF(ISERROR(VLOOKUP($A893,#REF!,8,0)),0,(VLOOKUP($A893,#REF!,8,0)))","v":0},0,0,0,0,0,0,{"$f":"IF(ISERROR(VLOOKUP($A893,#REF!,8,0)),0,(VLOOKUP($A893,#REF!,8,0)))","v":0},0,0,0,0,0,0,{"$f":"IF(ISERROR(VLOOKUP($A893,#REF!,8,0)),0,(VLOOKUP($A893,#REF!,8,0)))","v":0},0,0,0,0,0,0,{"$f":"IF(ISERROR(VLOOKUP($A893,#REF!,8,0)),0,(VLOOKUP($A893,#REF!,8,0)))","v":0},0,0,0,0,0,0,{"$f":"IF(ISERROR(VLOOKUP($A893,#REF!,8,0)),0,(VLOOKUP($A893,#REF!,8,0)))","v":0},0,0,0,0,0,0,{"$f":"IF(ISERROR(VLOOKUP($A893,#REF!,8,0)),0,(VLOOKUP($A893,#REF!,8,0)))","v":0},0,0,0,0,0,0,{"$f":"IF(ISERROR(VLOOKUP($A893,#REF!,8,0)),0,(VLOOKUP($A893,#REF!,8,0)))","v":0},0,0,0,0,0,0,{"$f":"IF(ISERROR(VLOOKUP($A893,#REF!,8,0)),0,(VLOOKUP($A893,#REF!,8,0)))","v":0},0,0,0,0,0,0,{"$f":"IF(ISERROR(VLOOKUP($A893,#REF!,8,0)),0,(VLOOKUP($A893,#REF!,8,0)))","v":0},0,0,0,0,0,0,{"$f":"IF(ISERROR(VLOOKUP($A893,#REF!,8,0)),0,(VLOOKUP($A893,#REF!,8,0)))","v":0},0,0,0,0,0,0,{"$f":"IF(ISERROR(VLOOKUP($A893,#REF!,8,0)),0,(VLOOKUP($A893,#REF!,8,0)))","v":0},0,0,0,0,0,0,{"$f":"IF(ISERROR(VLOOKUP($A893,#REF!,8,0)),0,(VLOOKUP($A893,#REF!,8,0)))","v":0},0,0,0,0,0,0,{"$f":"IF(ISERROR(VLOOKUP($A893,#REF!,8,0)),0,(VLOOKUP($A893,#REF!,8,0)))","v":0},0,0,0,0,0,0,{"$f":"IF(ISERROR(VLOOKUP($A893,#REF!,8,0)),0,(VLOOKUP($A893,#REF!,8,0)))","v":0},0,0,0,0,0,0,{"$f":"IF(ISERROR(VLOOKUP($A893,#REF!,8,0)),0,(VLOOKUP($A893,#REF!,8,0)))","v":0},0,0,0,0,0,0,{"$f":"IF(ISERROR(VLOOKUP($A893,#REF!,8,0)),0,(VLOOKUP($A893,#REF!,8,0)))","v":0},0,0,0,0,0,0,{"$f":"IF(ISERROR(VLOOKUP($A893,#REF!,8,0)),0,(VLOOKUP($A893,#REF!,8,0)))","v":0},0,0,0,0,0,0,{"$f":"IF(ISERROR(VLOOKUP($A893,#REF!,8,0)),0,(VLOOKUP($A893,#REF!,8,0)))","v":0},0,0,0,0,0,0,{"$f":"IF(ISERROR(VLOOKUP($A893,#REF!,8,0)),0,(VLOOKUP($A893,#REF!,8,0)))","v":0},0,0,0,0,0,0,{"$f":"IF(ISERROR(VLOOKUP($A893,#REF!,8,0)),0,(VLOOKUP($A893,#REF!,8,0)))","v":0},0,0,0,0,0,0,{"$f":"IF(ISERROR(VLOOKUP($A893,#REF!,8,0)),0,(VLOOKUP($A893,#REF!,8,0)))","v":0},0,0,0,0,0,0,{"$f":"IF(ISERROR(VLOOKUP($A893,#REF!,8,0)),0,(VLOOKUP($A893,#REF!,8,0)))","v":0},0,0,0,0,0,0,{"$f":"IF(ISERROR(VLOOKUP($A893,#REF!,8,0)),0,(VLOOKUP($A893,#REF!,8,0)))","v":0},0,0,0,0,0,0,0,0,{"$error":"#DIV/0!"},0]
["29.12.02","Fornecimento e instalação de Perfilado perfurado, dim.: 38x38mm, inclusive acessórios de derivação e fixação.","m",159,159,0,12.702138,2019.639942,28.935440000000003,4600.7349600000007,0,0,41.637578000000005,0,6620.3749020000005,null,0,0,0,0,0,null,0,1,0,0,0,0,null,0,1,0,0,0,0,null,0,1,0,0,0,0,null,0,1,0,0,0,0,null,0,1,0,0,0,0,{"$f":"IF(ISERROR(VLOOKUP(A902,'7ª MEDIÇÃO'!$A$5:$J$1048576,8,0)),0,(VLOOKUP(A902,'7ª MEDIÇÃO'!$A$5:$J$1048576,8,0)))","v":0},0,1,0,0,0,0,{"$f":"IF(ISERROR(VLOOKUP(A902,'8ª MEDIÇÃO'!$A$5:$J$1048576,8,0)),0,(VLOOKUP(A902,'8ª MEDIÇÃO'!$A$5:$J$1048576,8,0)))","v":0},0,1,0,0,0,0,{"$f":"IF(ISERROR(VLOOKUP(A902,'9ª MEDIÇÃO'!$A$5:$J$1048576,8,0)),0,(VLOOKUP(A902,'9ª MEDIÇÃO'!$A$5:$J$1048576,8,0)))","v":0},0,1,0,0,0,0,{"$f":"IF(ISERROR(VLOOKUP(A902,#REF!,8,0)),0,(VLOOKUP(A902,#REF!,8,0)))","v":0},0,1,0,0,0,0,{"$f":"IF(ISERROR(VLOOKUP($A902,#REF!,8,0)),0,(VLOOKUP($A902,#REF!,8,0)))","v":0},0,1,0,0,0,0,{"$f":"IF(ISERROR(VLOOKUP($A902,#REF!,8,0)),0,(VLOOKUP($A902,#REF!,8,0)))","v":0},0,1,0,0,0,0,{"$f":"IF(ISERROR(VLOOKUP($A902,#REF!,8,0)),0,(VLOOKUP($A902,#REF!,8,0)))","v":0},0,1,0,0,0,0,{"$f":"IF(ISERROR(VLOOKUP($A902,#REF!,8,0)),0,(VLOOKUP($A902,#REF!,8,0)))","v":0},0,1,0,0,0,0,{"$f":"IF(ISERROR(VLOOKUP($A902,#REF!,8,0)),0,(VLOOKUP($A902,#REF!,8,0)))","v":0},0,1,0,0,0,0,{"$f":"IF(ISERROR(VLOOKUP($A902,#REF!,8,0)),0,(VLOOKUP($A902,#REF!,8,0)))","v":0},0,1,0,0,0,0,{"$f":"IF(ISERROR(VLOOKUP($A902,#REF!,8,0)),0,(VLOOKUP($A902,#REF!,8,0)))","v":0},0,1,0,0,0,0,{"$f":"IF(ISERROR(VLOOKUP($A902,#REF!,8,0)),0,(VLOOKUP($A902,#REF!,8,0)))","v":0},0,1,0,0,0,0,{"$f":"IF(ISERROR(VLOOKUP($A902,#REF!,8,0)),0,(VLOOKUP($A902,#REF!,8,0)))","v":0},0,1,0,0,0,0,{"$f":"IF(ISERROR(VLOOKUP($A902,#REF!,8,0)),0,(VLOOKUP($A902,#REF!,8,0)))","v":0},0,1,0,0,0,0,{"$f":"IF(ISERROR(VLOOKUP($A902,#REF!,8,0)),0,(VLOOKUP($A902,#REF!,8,0)))","v":0},0,1,0,0,0,0,{"$f":"IF(ISERROR(VLOOKUP($A902,#REF!,8,0)),0,(VLOOKUP($A902,#REF!,8,0)))","v":0},0,1,0,0,0,0,{"$f":"IF(ISERROR(VLOOKUP($A902,#REF!,8,0)),0,(VLOOKUP($A902,#REF!,8,0)))","v":0},0,1,0,0,0,0,{"$f":"IF(ISERROR(VLOOKUP($A902,#REF!,8,0)),0,(VLOOKUP($A902,#REF!,8,0)))","v":0},0,1,0,0,0,0,{"$f":"IF(ISERROR(VLOOKUP($A902,#REF!,8,0)),0,(VLOOKUP($A902,#REF!,8,0)))","v":0},0,1,0,0,0,0,{"$f":"IF(ISERROR(VLOOKUP($A902,#REF!,8,0)),0,(VLOOKUP($A902,#REF!,8,0)))","v":0},0,1,0,0,0,0,{"$f":"IF(ISERROR(VLOOKUP($A902,#REF!,8,0)),0,(VLOOKUP($A902,#REF!,8,0)))","v":0},0,1,0,0,0,0,{"$f":"IF(ISERROR(VLOOKUP($A902,#REF!,8,0)),0,(VLOOKUP($A902,#REF!,8,0)))","v":0},0,1,0,0,0,0,{"$f":"IF(ISERROR(VLOOKUP($A902,#REF!,8,0)),0,(VLOOKUP($A902,#REF!,8,0)))","v":0},0,1,0,0,0,0,{"$f":"IF(ISERROR(VLOOKUP($A902,#REF!,8,0)),0,(VLOOKUP($A902,#REF!,8,0)))","v":0},0,1,0,0,0,0,{"$f":"IF(ISERROR(VLOOKUP($A902,#REF!,8,0)),0,(VLOOKUP($A902,#REF!,8,0)))","v":0},0,1,0,0,0,0,{"$f":"IF(ISERROR(VLOOKUP($A902,#REF!,8,0)),0,(VLOOKUP($A902,#REF!,8,0)))","v":0},0,1,0,0,0,0,{"$f":"IF(ISERROR(VLOOKUP($A902,#REF!,8,0)),0,(VLOOKUP($A902,#REF!,8,0)))","v":0},0,1,0,0,0,0,{"$f":"IF(ISERROR(VLOOKUP($A902,#REF!,8,0)),0,(VLOOKUP($A902,#REF!,8,0)))","v":0},0,1,0,0,0,0,{"$f":"IF(ISERROR(VLOOKUP($A902,#REF!,8,0)),0,(VLOOKUP($A902,#REF!,8,0)))","v":0},0,1,0,0,0,0,{"$f":"IF(ISERROR(VLOOKUP($A902,#REF!,8,0)),0,(VLOOKUP($A902,#REF!,8,0)))","v":0},0,1,0,0,0,0,{"$f":"IF(ISERROR(VLOOKUP($A902,#REF!,8,0)),0,(VLOOKUP($A902,#REF!,8,0)))","v":0},0,1,0,0,0,0,{"$f":"IF(ISERROR(VLOOKUP($A902,#REF!,8,0)),0,(VLOOKUP($A902,#REF!,8,0)))","v":0},0,1,0,0,0,0,{"$f":"IF(ISERROR(VLOOKUP($A902,#REF!,8,0)),0,(VLOOKUP($A902,#REF!,8,0)))","v":0},0,1,0,0,0,0,{"$f":"IF(ISERROR(VLOOKUP($A902,#REF!,8,0)),0,(VLOOKUP($A902,#REF!,8,0)))","v":0},0,1,0,0,0,0,{"$f":"IF(ISERROR(VLOOKUP($A902,#REF!,8,0)),0,(VLOOKUP($A902,#REF!,8,0)))","v":0},0,1,0,0,0,0,{"$f":"IF(ISERROR(VLOOKUP($A902,#REF!,8,0)),0,(VLOOKUP($A902,#REF!,8,0)))","v":0},0,1,0,0,0,0,{"$f":"IF(ISERROR(VLOOKUP($A902,#REF!,8,0)),0,(VLOOKUP($A902,#REF!,8,0)))","v":0},0,1,0,0,0,0,{"$f":"IF(ISERROR(VLOOKUP($A902,#REF!,8,0)),0,(VLOOKUP($A902,#REF!,8,0)))","v":0},0,1,0,0,0,0,{"$f":"IF(ISERROR(VLOOKUP($A902,#REF!,8,0)),0,(VLOOKUP($A902,#REF!,8,0)))","v":0},0,1,0,0,0,0,{"$f":"IF(ISERROR(VLOOKUP($A902,#REF!,8,0)),0,(VLOOKUP($A902,#REF!,8,0)))","v":0},0,1,0,0,0,0,{"$f":"IF(ISERROR(VLOOKUP($A902,#REF!,8,0)),0,(VLOOKUP($A902,#REF!,8,0)))","v":0},0,1,0,0,0,0,{"$f":"IF(ISERROR(VLOOKUP($A902,#REF!,8,0)),0,(VLOOKUP($A902,#REF!,8,0)))","v":0},0,1,0,0,0,0,{"$f":"IF(ISERROR(VLOOKUP($A902,#REF!,8,0)),0,(VLOOKUP($A902,#REF!,8,0)))","v":0},0,1,0,0,0,0,{"$f":"IF(ISERROR(VLOOKUP($A902,#REF!,8,0)),0,(VLOOKUP($A902,#REF!,8,0)))","v":0},0,1,0,0,0,0,{"$f":"IF(ISERROR(VLOOKUP($A902,#REF!,8,0)),0,(VLOOKUP($A902,#REF!,8,0)))","v":0},0,1,0,0,0,0,{"$f":"IF(ISERROR(VLOOKUP($A902,#REF!,8,0)),0,(VLOOKUP($A902,#REF!,8,0)))","v":0},0,1,0,0,0,0,{"$f":"IF(ISERROR(VLOOKUP($A902,#REF!,8,0)),0,(VLOOKUP($A902,#REF!,8,0)))","v":0},0,1,0,0,0,0,{"$f":"IF(ISERROR(VLOOKUP($A902,#REF!,8,0)),0,(VLOOKUP($A902,#REF!,8,0)))","v":0},0,1,0,0,0,0,{"$f":"IF(ISERROR(VLOOKUP($A902,#REF!,8,0)),0,(VLOOKUP($A902,#REF!,8,0)))","v":0},0,1,0,0,0,0,6620.3749020000005,6620.3749020000005,1,0]
["29.12.03","Fornecimento e assentamento de eletroduto de PVC rígido de 1\" com luvas de rosca interna, curvas e demais acessórios de fixação.","m",166.2,166.2,0,4.2222520000000001,701.7382824,7.4888799999999991,1244.6518559999997,0,0,11.711131999999999,0,1946.3901383999998,null,0,0,0,0,0,null,0,1,0,0,0,0,null,0,1,0,0,0,0,null,0,1,0,0,0,0,null,0,1,0,0,0,0,null,0,1,0,0,0,0,{"$f":"IF(ISERROR(VLOOKUP(A903,'7ª MEDIÇÃO'!$A$5:$J$1048576,8,0)),0,(VLOOKUP(A903,'7ª MEDIÇÃO'!$A$5:$J$1048576,8,0)))","v":0},0,1,0,0,0,0,{"$f":"IF(ISERROR(VLOOKUP(A903,'8ª MEDIÇÃO'!$A$5:$J$1048576,8,0)),0,(VLOOKUP(A903,'8ª MEDIÇÃO'!$A$5:$J$1048576,8,0)))","v":0},0,1,0,0,0,0,{"$f":"IF(ISERROR(VLOOKUP(A903,'9ª MEDIÇÃO'!$A$5:$J$1048576,8,0)),0,(VLOOKUP(A903,'9ª MEDIÇÃO'!$A$5:$J$1048576,8,0)))","v":0},0,1,0,0,0,0,{"$f":"IF(ISERROR(VLOOKUP(A903,#REF!,8,0)),0,(VLOOKUP(A903,#REF!,8,0)))","v":0},0,1,0,0,0,0,{"$f":"IF(ISERROR(VLOOKUP($A903,#REF!,8,0)),0,(VLOOKUP($A903,#REF!,8,0)))","v":0},0,1,0,0,0,0,{"$f":"IF(ISERROR(VLOOKUP($A903,#REF!,8,0)),0,(VLOOKUP($A903,#REF!,8,0)))","v":0},0,1,0,0,0,0,{"$f":"IF(ISERROR(VLOOKUP($A903,#REF!,8,0)),0,(VLOOKUP($A903,#REF!,8,0)))","v":0},0,1,0,0,0,0,{"$f":"IF(ISERROR(VLOOKUP($A903,#REF!,8,0)),0,(VLOOKUP($A903,#REF!,8,0)))","v":0},0,1,0,0,0,0,{"$f":"IF(ISERROR(VLOOKUP($A903,#REF!,8,0)),0,(VLOOKUP($A903,#REF!,8,0)))","v":0},0,1,0,0,0,0,{"$f":"IF(ISERROR(VLOOKUP($A903,#REF!,8,0)),0,(VLOOKUP($A903,#REF!,8,0)))","v":0},0,1,0,0,0,0,{"$f":"IF(ISERROR(VLOOKUP($A903,#REF!,8,0)),0,(VLOOKUP($A903,#REF!,8,0)))","v":0},0,1,0,0,0,0,{"$f":"IF(ISERROR(VLOOKUP($A903,#REF!,8,0)),0,(VLOOKUP($A903,#REF!,8,0)))","v":0},0,1,0,0,0,0,{"$f":"IF(ISERROR(VLOOKUP($A903,#REF!,8,0)),0,(VLOOKUP($A903,#REF!,8,0)))","v":0},0,1,0,0,0,0,{"$f":"IF(ISERROR(VLOOKUP($A903,#REF!,8,0)),0,(VLOOKUP($A903,#REF!,8,0)))","v":0},0,1,0,0,0,0,{"$f":"IF(ISERROR(VLOOKUP($A903,#REF!,8,0)),0,(VLOOKUP($A903,#REF!,8,0)))","v":0},0,1,0,0,0,0,{"$f":"IF(ISERROR(VLOOKUP($A903,#REF!,8,0)),0,(VLOOKUP($A903,#REF!,8,0)))","v":0},0,1,0,0,0,0,{"$f":"IF(ISERROR(VLOOKUP($A903,#REF!,8,0)),0,(VLOOKUP($A903,#REF!,8,0)))","v":0},0,1,0,0,0,0,{"$f":"IF(ISERROR(VLOOKUP($A903,#REF!,8,0)),0,(VLOOKUP($A903,#REF!,8,0)))","v":0},0,1,0,0,0,0,{"$f":"IF(ISERROR(VLOOKUP($A903,#REF!,8,0)),0,(VLOOKUP($A903,#REF!,8,0)))","v":0},0,1,0,0,0,0,{"$f":"IF(ISERROR(VLOOKUP($A903,#REF!,8,0)),0,(VLOOKUP($A903,#REF!,8,0)))","v":0},0,1,0,0,0,0,{"$f":"IF(ISERROR(VLOOKUP($A903,#REF!,8,0)),0,(VLOOKUP($A903,#REF!,8,0)))","v":0},0,1,0,0,0,0,{"$f":"IF(ISERROR(VLOOKUP($A903,#REF!,8,0)),0,(VLOOKUP($A903,#REF!,8,0)))","v":0},0,1,0,0,0,0,{"$f":"IF(ISERROR(VLOOKUP($A903,#REF!,8,0)),0,(VLOOKUP($A903,#REF!,8,0)))","v":0},0,1,0,0,0,0,{"$f":"IF(ISERROR(VLOOKUP($A903,#REF!,8,0)),0,(VLOOKUP($A903,#REF!,8,0)))","v":0},0,1,0,0,0,0,{"$f":"IF(ISERROR(VLOOKUP($A903,#REF!,8,0)),0,(VLOOKUP($A903,#REF!,8,0)))","v":0},0,1,0,0,0,0,{"$f":"IF(ISERROR(VLOOKUP($A903,#REF!,8,0)),0,(VLOOKUP($A903,#REF!,8,0)))","v":0},0,1,0,0,0,0,{"$f":"IF(ISERROR(VLOOKUP($A903,#REF!,8,0)),0,(VLOOKUP($A903,#REF!,8,0)))","v":0},0,1,0,0,0,0,{"$f":"IF(ISERROR(VLOOKUP($A903,#REF!,8,0)),0,(VLOOKUP($A903,#REF!,8,0)))","v":0},0,1,0,0,0,0,{"$f":"IF(ISERROR(VLOOKUP($A903,#REF!,8,0)),0,(VLOOKUP($A903,#REF!,8,0)))","v":0},0,1,0,0,0,0,{"$f":"IF(ISERROR(VLOOKUP($A903,#REF!,8,0)),0,(VLOOKUP($A903,#REF!,8,0)))","v":0},0,1,0,0,0,0,{"$f":"IF(ISERROR(VLOOKUP($A903,#REF!,8,0)),0,(VLOOKUP($A903,#REF!,8,0)))","v":0},0,1,0,0,0,0,{"$f":"IF(ISERROR(VLOOKUP($A903,#REF!,8,0)),0,(VLOOKUP($A903,#REF!,8,0)))","v":0},0,1,0,0,0,0,{"$f":"IF(ISERROR(VLOOKUP($A903,#REF!,8,0)),0,(VLOOKUP($A903,#REF!,8,0)))","v":0},0,1,0,0,0,0,{"$f":"IF(ISERROR(VLOOKUP($A903,#REF!,8,0)),0,(VLOOKUP($A903,#REF!,8,0)))","v":0},0,1,0,0,0,0,{"$f":"IF(ISERROR(VLOOKUP($A903,#REF!,8,0)),0,(VLOOKUP($A903,#REF!,8,0)))","v":0},0,1,0,0,0,0,{"$f":"IF(ISERROR(VLOOKUP($A903,#REF!,8,0)),0,(VLOOKUP($A903,#REF!,8,0)))","v":0},0,1,0,0,0,0,{"$f":"IF(ISERROR(VLOOKUP($A903,#REF!,8,0)),0,(VLOOKUP($A903,#REF!,8,0)))","v":0},0,1,0,0,0,0,{"$f":"IF(ISERROR(VLOOKUP($A903,#REF!,8,0)),0,(VLOOKUP($A903,#REF!,8,0)))","v":0},0,1,0,0,0,0,{"$f":"IF(ISERROR(VLOOKUP($A903,#REF!,8,0)),0,(VLOOKUP($A903,#REF!,8,0)))","v":0},0,1,0,0,0,0,{"$f":"IF(ISERROR(VLOOKUP($A903,#REF!,8,0)),0,(VLOOKUP($A903,#REF!,8,0)))","v":0},0,1,0,0,0,0,{"$f":"IF(ISERROR(VLOOKUP($A903,#REF!,8,0)),0,(VLOOKUP($A903,#REF!,8,0)))","v":0},0,1,0,0,0,0,{"$f":"IF(ISERROR(VLOOKUP($A903,#REF!,8,0)),0,(VLOOKUP($A903,#REF!,8,0)))","v":0},0,1,0,0,0,0,{"$f":"IF(ISERROR(VLOOKUP($A903,#REF!,8,0)),0,(VLOOKUP($A903,#REF!,8,0)))","v":0},0,1,0,0,0,0,{"$f":"IF(ISERROR(VLOOKUP($A903,#REF!,8,0)),0,(VLOOKUP($A903,#REF!,8,0)))","v":0},0,1,0,0,0,0,{"$f":"IF(ISERROR(VLOOKUP($A903,#REF!,8,0)),0,(VLOOKUP($A903,#REF!,8,0)))","v":0},0,1,0,0,0,0,{"$f":"IF(ISERROR(VLOOKUP($A903,#REF!,8,0)),0,(VLOOKUP($A903,#REF!,8,0)))","v":0},0,1,0,0,0,0,{"$f":"IF(ISERROR(VLOOKUP($A903,#REF!,8,0)),0,(VLOOKUP($A903,#REF!,8,0)))","v":0},0,1,0,0,0,0,{"$f":"IF(ISERROR(VLOOKUP($A903,#REF!,8,0)),0,(VLOOKUP($A903,#REF!,8,0)))","v":0},0,1,0,0,0,0,{"$f":"IF(ISERROR(VLOOKUP($A903,#REF!,8,0)),0,(VLOOKUP($A903,#REF!,8,0)))","v":0},0,1,0,0,0,0,1946.3901383999998,1946.3901383999998,1,0]
["29.12.12","Disjuntor tripolar termomagnético até 150A Eletromar padrão IEC ou equivalente, inclusive instalação em quadro de distribuição, conforme o projeto.","un",1,1,0,194.57741199999998,194.57741199999998,9.9893199999999993,9.9893199999999993,0,0,204.56673199999997,0,204.56673199999997,null,0,0,0,0,0,null,0,1,0,0,0,0,null,0,1,0,0,0,0,null,0,1,0,0,0,0,null,0,1,0,0,0,0,null,0,1,0,0,0,0,{"$f":"IF(ISERROR(VLOOKUP(A912,'7ª MEDIÇÃO'!$A$5:$J$1048576,8,0)),0,(VLOOKUP(A912,'7ª MEDIÇÃO'!$A$5:$J$1048576,8,0)))","v":0},0,1,0,0,0,0,{"$f":"IF(ISERROR(VLOOKUP(A912,'8ª MEDIÇÃO'!$A$5:$J$1048576,8,0)),0,(VLOOKUP(A912,'8ª MEDIÇÃO'!$A$5:$J$1048576,8,0)))","v":0},0,1,0,0,0,0,{"$f":"IF(ISERROR(VLOOKUP(A912,'9ª MEDIÇÃO'!$A$5:$J$1048576,8,0)),0,(VLOOKUP(A912,'9ª MEDIÇÃO'!$A$5:$J$1048576,8,0)))","v":0},0,1,0,0,0,0,{"$f":"IF(ISERROR(VLOOKUP(A912,#REF!,8,0)),0,(VLOOKUP(A912,#REF!,8,0)))","v":0},0,1,0,0,0,0,{"$f":"IF(ISERROR(VLOOKUP($A912,#REF!,8,0)),0,(VLOOKUP($A912,#REF!,8,0)))","v":0},0,1,0,0,0,0,{"$f":"IF(ISERROR(VLOOKUP($A912,#REF!,8,0)),0,(VLOOKUP($A912,#REF!,8,0)))","v":0},0,1,0,0,0,0,{"$f":"IF(ISERROR(VLOOKUP($A912,#REF!,8,0)),0,(VLOOKUP($A912,#REF!,8,0)))","v":0},0,1,0,0,0,0,{"$f":"IF(ISERROR(VLOOKUP($A912,#REF!,8,0)),0,(VLOOKUP($A912,#REF!,8,0)))","v":0},0,1,0,0,0,0,{"$f":"IF(ISERROR(VLOOKUP($A912,#REF!,8,0)),0,(VLOOKUP($A912,#REF!,8,0)))","v":0},0,1,0,0,0,0,{"$f":"IF(ISERROR(VLOOKUP($A912,#REF!,8,0)),0,(VLOOKUP($A912,#REF!,8,0)))","v":0},0,1,0,0,0,0,{"$f":"IF(ISERROR(VLOOKUP($A912,#REF!,8,0)),0,(VLOOKUP($A912,#REF!,8,0)))","v":0},0,1,0,0,0,0,{"$f":"IF(ISERROR(VLOOKUP($A912,#REF!,8,0)),0,(VLOOKUP($A912,#REF!,8,0)))","v":0},0,1,0,0,0,0,{"$f":"IF(ISERROR(VLOOKUP($A912,#REF!,8,0)),0,(VLOOKUP($A912,#REF!,8,0)))","v":0},0,1,0,0,0,0,{"$f":"IF(ISERROR(VLOOKUP($A912,#REF!,8,0)),0,(VLOOKUP($A912,#REF!,8,0)))","v":0},0,1,0,0,0,0,{"$f":"IF(ISERROR(VLOOKUP($A912,#REF!,8,0)),0,(VLOOKUP($A912,#REF!,8,0)))","v":0},0,1,0,0,0,0,{"$f":"IF(ISERROR(VLOOKUP($A912,#REF!,8,0)),0,(VLOOKUP($A912,#REF!,8,0)))","v":0},0,1,0,0,0,0,{"$f":"IF(ISERROR(VLOOKUP($A912,#REF!,8,0)),0,(VLOOKUP($A912,#REF!,8,0)))","v":0},0,1,0,0,0,0,{"$f":"IF(ISERROR(VLOOKUP($A912,#REF!,8,0)),0,(VLOOKUP($A912,#REF!,8,0)))","v":0},0,1,0,0,0,0,{"$f":"IF(ISERROR(VLOOKUP($A912,#REF!,8,0)),0,(VLOOKUP($A912,#REF!,8,0)))","v":0},0,1,0,0,0,0,{"$f":"IF(ISERROR(VLOOKUP($A912,#REF!,8,0)),0,(VLOOKUP($A912,#REF!,8,0)))","v":0},0,1,0,0,0,0,{"$f":"IF(ISERROR(VLOOKUP($A912,#REF!,8,0)),0,(VLOOKUP($A912,#REF!,8,0)))","v":0},0,1,0,0,0,0,{"$f":"IF(ISERROR(VLOOKUP($A912,#REF!,8,0)),0,(VLOOKUP($A912,#REF!,8,0)))","v":0},0,1,0,0,0,0,{"$f":"IF(ISERROR(VLOOKUP($A912,#REF!,8,0)),0,(VLOOKUP($A912,#REF!,8,0)))","v":0},0,1,0,0,0,0,{"$f":"IF(ISERROR(VLOOKUP($A912,#REF!,8,0)),0,(VLOOKUP($A912,#REF!,8,0)))","v":0},0,1,0,0,0,0,{"$f":"IF(ISERROR(VLOOKUP($A912,#REF!,8,0)),0,(VLOOKUP($A912,#REF!,8,0)))","v":0},0,1,0,0,0,0,{"$f":"IF(ISERROR(VLOOKUP($A912,#REF!,8,0)),0,(VLOOKUP($A912,#REF!,8,0)))","v":0},0,1,0,0,0,0,{"$f":"IF(ISERROR(VLOOKUP($A912,#REF!,8,0)),0,(VLOOKUP($A912,#REF!,8,0)))","v":0},0,1,0,0,0,0,{"$f":"IF(ISERROR(VLOOKUP($A912,#REF!,8,0)),0,(VLOOKUP($A912,#REF!,8,0)))","v":0},0,1,0,0,0,0,{"$f":"IF(ISERROR(VLOOKUP($A912,#REF!,8,0)),0,(VLOOKUP($A912,#REF!,8,0)))","v":0},0,1,0,0,0,0,{"$f":"IF(ISERROR(VLOOKUP($A912,#REF!,8,0)),0,(VLOOKUP($A912,#REF!,8,0)))","v":0},0,1,0,0,0,0,{"$f":"IF(ISERROR(VLOOKUP($A912,#REF!,8,0)),0,(VLOOKUP($A912,#REF!,8,0)))","v":0},0,1,0,0,0,0,{"$f":"IF(ISERROR(VLOOKUP($A912,#REF!,8,0)),0,(VLOOKUP($A912,#REF!,8,0)))","v":0},0,1,0,0,0,0,{"$f":"IF(ISERROR(VLOOKUP($A912,#REF!,8,0)),0,(VLOOKUP($A912,#REF!,8,0)))","v":0},0,1,0,0,0,0,{"$f":"IF(ISERROR(VLOOKUP($A912,#REF!,8,0)),0,(VLOOKUP($A912,#REF!,8,0)))","v":0},0,1,0,0,0,0,{"$f":"IF(ISERROR(VLOOKUP($A912,#REF!,8,0)),0,(VLOOKUP($A912,#REF!,8,0)))","v":0},0,1,0,0,0,0,{"$f":"IF(ISERROR(VLOOKUP($A912,#REF!,8,0)),0,(VLOOKUP($A912,#REF!,8,0)))","v":0},0,1,0,0,0,0,{"$f":"IF(ISERROR(VLOOKUP($A912,#REF!,8,0)),0,(VLOOKUP($A912,#REF!,8,0)))","v":0},0,1,0,0,0,0,{"$f":"IF(ISERROR(VLOOKUP($A912,#REF!,8,0)),0,(VLOOKUP($A912,#REF!,8,0)))","v":0},0,1,0,0,0,0,{"$f":"IF(ISERROR(VLOOKUP($A912,#REF!,8,0)),0,(VLOOKUP($A912,#REF!,8,0)))","v":0},0,1,0,0,0,0,{"$f":"IF(ISERROR(VLOOKUP($A912,#REF!,8,0)),0,(VLOOKUP($A912,#REF!,8,0)))","v":0},0,1,0,0,0,0,{"$f":"IF(ISERROR(VLOOKUP($A912,#REF!,8,0)),0,(VLOOKUP($A912,#REF!,8,0)))","v":0},0,1,0,0,0,0,{"$f":"IF(ISERROR(VLOOKUP($A912,#REF!,8,0)),0,(VLOOKUP($A912,#REF!,8,0)))","v":0},0,1,0,0,0,0,{"$f":"IF(ISERROR(VLOOKUP($A912,#REF!,8,0)),0,(VLOOKUP($A912,#REF!,8,0)))","v":0},0,1,0,0,0,0,{"$f":"IF(ISERROR(VLOOKUP($A912,#REF!,8,0)),0,(VLOOKUP($A912,#REF!,8,0)))","v":0},0,1,0,0,0,0,{"$f":"IF(ISERROR(VLOOKUP($A912,#REF!,8,0)),0,(VLOOKUP($A912,#REF!,8,0)))","v":0},0,1,0,0,0,0,{"$f":"IF(ISERROR(VLOOKUP($A912,#REF!,8,0)),0,(VLOOKUP($A912,#REF!,8,0)))","v":0},0,1,0,0,0,0,{"$f":"IF(ISERROR(VLOOKUP($A912,#REF!,8,0)),0,(VLOOKUP($A912,#REF!,8,0)))","v":0},0,1,0,0,0,0,{"$f":"IF(ISERROR(VLOOKUP($A912,#REF!,8,0)),0,(VLOOKUP($A912,#REF!,8,0)))","v":0},0,1,0,0,0,0,{"$f":"IF(ISERROR(VLOOKUP($A912,#REF!,8,0)),0,(VLOOKUP($A912,#REF!,8,0)))","v":0},0,1,0,0,0,0,204.56673199999997,204.56673199999997,1,0]
["29.13.10","Quadro de distribuição metálico de sobrepor, em chapa 16 BWG, para 8 circuitos monopolares padrão DIN, com barra de neutro e terra, com porta e trinco, Cemar ou equivalente,  inclusive instalação conforme projeto.","un",1,0,1,214.36774399999999,214.36774399999999,49.909279999999995,49.909279999999995,0,0,264.27702399999998,264.27702399999998,0,null,0,0,0,0,0,null,0,0,0,0,0,0,null,0,0,0,0,0,0,null,0,0,0,0,0,0,null,0,0,0,0,0,0,null,0,0,0,0,0,0,{"$f":"IF(ISERROR(VLOOKUP(A927,'7ª MEDIÇÃO'!$A$5:$J$1048576,8,0)),0,(VLOOKUP(A927,'7ª MEDIÇÃO'!$A$5:$J$1048576,8,0)))","v":0},0,0,0,0,0,0,{"$f":"IF(ISERROR(VLOOKUP(A927,'8ª MEDIÇÃO'!$A$5:$J$1048576,8,0)),0,(VLOOKUP(A927,'8ª MEDIÇÃO'!$A$5:$J$1048576,8,0)))","v":0},0,0,0,0,0,0,{"$f":"IF(ISERROR(VLOOKUP(A927,'9ª MEDIÇÃO'!$A$5:$J$1048576,8,0)),0,(VLOOKUP(A927,'9ª MEDIÇÃO'!$A$5:$J$1048576,8,0)))","v":0},0,0,0,0,0,0,{"$f":"IF(ISERROR(VLOOKUP(A927,#REF!,8,0)),0,(VLOOKUP(A927,#REF!,8,0)))","v":0},0,0,0,0,0,0,{"$f":"IF(ISERROR(VLOOKUP($A927,#REF!,8,0)),0,(VLOOKUP($A927,#REF!,8,0)))","v":0},0,0,0,0,0,0,{"$f":"IF(ISERROR(VLOOKUP($A927,#REF!,8,0)),0,(VLOOKUP($A927,#REF!,8,0)))","v":0},0,0,0,0,0,0,{"$f":"IF(ISERROR(VLOOKUP($A927,#REF!,8,0)),0,(VLOOKUP($A927,#REF!,8,0)))","v":0},0,0,0,0,0,0,{"$f":"IF(ISERROR(VLOOKUP($A927,#REF!,8,0)),0,(VLOOKUP($A927,#REF!,8,0)))","v":0},0,0,0,0,0,0,{"$f":"IF(ISERROR(VLOOKUP($A927,#REF!,8,0)),0,(VLOOKUP($A927,#REF!,8,0)))","v":0},0,0,0,0,0,0,{"$f":"IF(ISERROR(VLOOKUP($A927,#REF!,8,0)),0,(VLOOKUP($A927,#REF!,8,0)))","v":0},0,0,0,0,0,0,{"$f":"IF(ISERROR(VLOOKUP($A927,#REF!,8,0)),0,(VLOOKUP($A927,#REF!,8,0)))","v":0},0,0,0,0,0,0,{"$f":"IF(ISERROR(VLOOKUP($A927,#REF!,8,0)),0,(VLOOKUP($A927,#REF!,8,0)))","v":0},0,0,0,0,0,0,{"$f":"IF(ISERROR(VLOOKUP($A927,#REF!,8,0)),0,(VLOOKUP($A927,#REF!,8,0)))","v":0},0,0,0,0,0,0,{"$f":"IF(ISERROR(VLOOKUP($A927,#REF!,8,0)),0,(VLOOKUP($A927,#REF!,8,0)))","v":0},0,0,0,0,0,0,{"$f":"IF(ISERROR(VLOOKUP($A927,#REF!,8,0)),0,(VLOOKUP($A927,#REF!,8,0)))","v":0},0,0,0,0,0,0,{"$f":"IF(ISERROR(VLOOKUP($A927,#REF!,8,0)),0,(VLOOKUP($A927,#REF!,8,0)))","v":0},0,0,0,0,0,0,{"$f":"IF(ISERROR(VLOOKUP($A927,#REF!,8,0)),0,(VLOOKUP($A927,#REF!,8,0)))","v":0},0,0,0,0,0,0,{"$f":"IF(ISERROR(VLOOKUP($A927,#REF!,8,0)),0,(VLOOKUP($A927,#REF!,8,0)))","v":0},0,0,0,0,0,0,{"$f":"IF(ISERROR(VLOOKUP($A927,#REF!,8,0)),0,(VLOOKUP($A927,#REF!,8,0)))","v":0},0,0,0,0,0,0,{"$f":"IF(ISERROR(VLOOKUP($A927,#REF!,8,0)),0,(VLOOKUP($A927,#REF!,8,0)))","v":0},0,0,0,0,0,0,{"$f":"IF(ISERROR(VLOOKUP($A927,#REF!,8,0)),0,(VLOOKUP($A927,#REF!,8,0)))","v":0},0,0,0,0,0,0,{"$f":"IF(ISERROR(VLOOKUP($A927,#REF!,8,0)),0,(VLOOKUP($A927,#REF!,8,0)))","v":0},0,0,0,0,0,0,{"$f":"IF(ISERROR(VLOOKUP($A927,#REF!,8,0)),0,(VLOOKUP($A927,#REF!,8,0)))","v":0},0,0,0,0,0,0,{"$f":"IF(ISERROR(VLOOKUP($A927,#REF!,8,0)),0,(VLOOKUP($A927,#REF!,8,0)))","v":0},0,0,0,0,0,0,{"$f":"IF(ISERROR(VLOOKUP($A927,#REF!,8,0)),0,(VLOOKUP($A927,#REF!,8,0)))","v":0},0,0,0,0,0,0,{"$f":"IF(ISERROR(VLOOKUP($A927,#REF!,8,0)),0,(VLOOKUP($A927,#REF!,8,0)))","v":0},0,0,0,0,0,0,{"$f":"IF(ISERROR(VLOOKUP($A927,#REF!,8,0)),0,(VLOOKUP($A927,#REF!,8,0)))","v":0},0,0,0,0,0,0,{"$f":"IF(ISERROR(VLOOKUP($A927,#REF!,8,0)),0,(VLOOKUP($A927,#REF!,8,0)))","v":0},0,0,0,0,0,0,{"$f":"IF(ISERROR(VLOOKUP($A927,#REF!,8,0)),0,(VLOOKUP($A927,#REF!,8,0)))","v":0},0,0,0,0,0,0,{"$f":"IF(ISERROR(VLOOKUP($A927,#REF!,8,0)),0,(VLOOKUP($A927,#REF!,8,0)))","v":0},0,0,0,0,0,0,{"$f":"IF(ISERROR(VLOOKUP($A927,#REF!,8,0)),0,(VLOOKUP($A927,#REF!,8,0)))","v":0},0,0,0,0,0,0,{"$f":"IF(ISERROR(VLOOKUP($A927,#REF!,8,0)),0,(VLOOKUP($A927,#REF!,8,0)))","v":0},0,0,0,0,0,0,{"$f":"IF(ISERROR(VLOOKUP($A927,#REF!,8,0)),0,(VLOOKUP($A927,#REF!,8,0)))","v":0},0,0,0,0,0,0,{"$f":"IF(ISERROR(VLOOKUP($A927,#REF!,8,0)),0,(VLOOKUP($A927,#REF!,8,0)))","v":0},0,0,0,0,0,0,{"$f":"IF(ISERROR(VLOOKUP($A927,#REF!,8,0)),0,(VLOOKUP($A927,#REF!,8,0)))","v":0},0,0,0,0,0,0,{"$f":"IF(ISERROR(VLOOKUP($A927,#REF!,8,0)),0,(VLOOKUP($A927,#REF!,8,0)))","v":0},0,0,0,0,0,0,{"$f":"IF(ISERROR(VLOOKUP($A927,#REF!,8,0)),0,(VLOOKUP($A927,#REF!,8,0)))","v":0},0,0,0,0,0,0,{"$f":"IF(ISERROR(VLOOKUP($A927,#REF!,8,0)),0,(VLOOKUP($A927,#REF!,8,0)))","v":0},0,0,0,0,0,0,{"$f":"IF(ISERROR(VLOOKUP($A927,#REF!,8,0)),0,(VLOOKUP($A927,#REF!,8,0)))","v":0},0,0,0,0,0,0,{"$f":"IF(ISERROR(VLOOKUP($A927,#REF!,8,0)),0,(VLOOKUP($A927,#REF!,8,0)))","v":0},0,0,0,0,0,0,{"$f":"IF(ISERROR(VLOOKUP($A927,#REF!,8,0)),0,(VLOOKUP($A927,#REF!,8,0)))","v":0},0,0,0,0,0,0,{"$f":"IF(ISERROR(VLOOKUP($A927,#REF!,8,0)),0,(VLOOKUP($A927,#REF!,8,0)))","v":0},0,0,0,0,0,0,{"$f":"IF(ISERROR(VLOOKUP($A927,#REF!,8,0)),0,(VLOOKUP($A927,#REF!,8,0)))","v":0},0,0,0,0,0,0,{"$f":"IF(ISERROR(VLOOKUP($A927,#REF!,8,0)),0,(VLOOKUP($A927,#REF!,8,0)))","v":0},0,0,0,0,0,0,{"$f":"IF(ISERROR(VLOOKUP($A927,#REF!,8,0)),0,(VLOOKUP($A927,#REF!,8,0)))","v":0},0,0,0,0,0,0,{"$f":"IF(ISERROR(VLOOKUP($A927,#REF!,8,0)),0,(VLOOKUP($A927,#REF!,8,0)))","v":0},0,0,0,0,0,0,{"$f":"IF(ISERROR(VLOOKUP($A927,#REF!,8,0)),0,(VLOOKUP($A927,#REF!,8,0)))","v":0},0,0,0,0,0,0,{"$f":"IF(ISERROR(VLOOKUP($A927,#REF!,8,0)),0,(VLOOKUP($A927,#REF!,8,0)))","v":0},0,0,0,0,0,0,{"$f":"IF(ISERROR(VLOOKUP($A927,#REF!,8,0)),0,(VLOOKUP($A927,#REF!,8,0)))","v":0},0,0,0,0,0,0,0,0,{"$error":"#DIV/0!"},0]
["30.03","Fornecimento e instalação de Cruzeta de concreto tipo T 1200mm, inclusive acessórios para instalação .                        ","pç",1,0,1,81.107337999999999,81.107337999999999,66.131039999999999,66.131039999999999,0,0,147.23837800000001,147.23837800000001,0,null,0,0,0,0,0,null,0,0,0,0,0,0,null,0,0,0,0,0,0,null,0,0,0,0,0,0,null,0,0,0,0,0,0,null,0,0,0,0,0,0,{"$f":"IF(ISERROR(VLOOKUP(A931,'7ª MEDIÇÃO'!$A$5:$J$1048576,8,0)),0,(VLOOKUP(A931,'7ª MEDIÇÃO'!$A$5:$J$1048576,8,0)))","v":0},0,0,0,0,0,0,{"$f":"IF(ISERROR(VLOOKUP(A931,'8ª MEDIÇÃO'!$A$5:$J$1048576,8,0)),0,(VLOOKUP(A931,'8ª MEDIÇÃO'!$A$5:$J$1048576,8,0)))","v":0},0,0,0,0,0,0,{"$f":"IF(ISERROR(VLOOKUP(A931,'9ª MEDIÇÃO'!$A$5:$J$1048576,8,0)),0,(VLOOKUP(A931,'9ª MEDIÇÃO'!$A$5:$J$1048576,8,0)))","v":0},0,0,0,0,0,0,{"$f":"IF(ISERROR(VLOOKUP(A931,#REF!,8,0)),0,(VLOOKUP(A931,#REF!,8,0)))","v":0},0,0,0,0,0,0,{"$f":"IF(ISERROR(VLOOKUP($A931,#REF!,8,0)),0,(VLOOKUP($A931,#REF!,8,0)))","v":0},0,0,0,0,0,0,{"$f":"IF(ISERROR(VLOOKUP($A931,#REF!,8,0)),0,(VLOOKUP($A931,#REF!,8,0)))","v":0},0,0,0,0,0,0,{"$f":"IF(ISERROR(VLOOKUP($A931,#REF!,8,0)),0,(VLOOKUP($A931,#REF!,8,0)))","v":0},0,0,0,0,0,0,{"$f":"IF(ISERROR(VLOOKUP($A931,#REF!,8,0)),0,(VLOOKUP($A931,#REF!,8,0)))","v":0},0,0,0,0,0,0,{"$f":"IF(ISERROR(VLOOKUP($A931,#REF!,8,0)),0,(VLOOKUP($A931,#REF!,8,0)))","v":0},0,0,0,0,0,0,{"$f":"IF(ISERROR(VLOOKUP($A931,#REF!,8,0)),0,(VLOOKUP($A931,#REF!,8,0)))","v":0},0,0,0,0,0,0,{"$f":"IF(ISERROR(VLOOKUP($A931,#REF!,8,0)),0,(VLOOKUP($A931,#REF!,8,0)))","v":0},0,0,0,0,0,0,{"$f":"IF(ISERROR(VLOOKUP($A931,#REF!,8,0)),0,(VLOOKUP($A931,#REF!,8,0)))","v":0},0,0,0,0,0,0,{"$f":"IF(ISERROR(VLOOKUP($A931,#REF!,8,0)),0,(VLOOKUP($A931,#REF!,8,0)))","v":0},0,0,0,0,0,0,{"$f":"IF(ISERROR(VLOOKUP($A931,#REF!,8,0)),0,(VLOOKUP($A931,#REF!,8,0)))","v":0},0,0,0,0,0,0,{"$f":"IF(ISERROR(VLOOKUP($A931,#REF!,8,0)),0,(VLOOKUP($A931,#REF!,8,0)))","v":0},0,0,0,0,0,0,{"$f":"IF(ISERROR(VLOOKUP($A931,#REF!,8,0)),0,(VLOOKUP($A931,#REF!,8,0)))","v":0},0,0,0,0,0,0,{"$f":"IF(ISERROR(VLOOKUP($A931,#REF!,8,0)),0,(VLOOKUP($A931,#REF!,8,0)))","v":0},0,0,0,0,0,0,{"$f":"IF(ISERROR(VLOOKUP($A931,#REF!,8,0)),0,(VLOOKUP($A931,#REF!,8,0)))","v":0},0,0,0,0,0,0,{"$f":"IF(ISERROR(VLOOKUP($A931,#REF!,8,0)),0,(VLOOKUP($A931,#REF!,8,0)))","v":0},0,0,0,0,0,0,{"$f":"IF(ISERROR(VLOOKUP($A931,#REF!,8,0)),0,(VLOOKUP($A931,#REF!,8,0)))","v":0},0,0,0,0,0,0,{"$f":"IF(ISERROR(VLOOKUP($A931,#REF!,8,0)),0,(VLOOKUP($A931,#REF!,8,0)))","v":0},0,0,0,0,0,0,{"$f":"IF(ISERROR(VLOOKUP($A931,#REF!,8,0)),0,(VLOOKUP($A931,#REF!,8,0)))","v":0},0,0,0,0,0,0,{"$f":"IF(ISERROR(VLOOKUP($A931,#REF!,8,0)),0,(VLOOKUP($A931,#REF!,8,0)))","v":0},0,0,0,0,0,0,{"$f":"IF(ISERROR(VLOOKUP($A931,#REF!,8,0)),0,(VLOOKUP($A931,#REF!,8,0)))","v":0},0,0,0,0,0,0,{"$f":"IF(ISERROR(VLOOKUP($A931,#REF!,8,0)),0,(VLOOKUP($A931,#REF!,8,0)))","v":0},0,0,0,0,0,0,{"$f":"IF(ISERROR(VLOOKUP($A931,#REF!,8,0)),0,(VLOOKUP($A931,#REF!,8,0)))","v":0},0,0,0,0,0,0,{"$f":"IF(ISERROR(VLOOKUP($A931,#REF!,8,0)),0,(VLOOKUP($A931,#REF!,8,0)))","v":0},0,0,0,0,0,0,{"$f":"IF(ISERROR(VLOOKUP($A931,#REF!,8,0)),0,(VLOOKUP($A931,#REF!,8,0)))","v":0},0,0,0,0,0,0,{"$f":"IF(ISERROR(VLOOKUP($A931,#REF!,8,0)),0,(VLOOKUP($A931,#REF!,8,0)))","v":0},0,0,0,0,0,0,{"$f":"IF(ISERROR(VLOOKUP($A931,#REF!,8,0)),0,(VLOOKUP($A931,#REF!,8,0)))","v":0},0,0,0,0,0,0,{"$f":"IF(ISERROR(VLOOKUP($A931,#REF!,8,0)),0,(VLOOKUP($A931,#REF!,8,0)))","v":0},0,0,0,0,0,0,{"$f":"IF(ISERROR(VLOOKUP($A931,#REF!,8,0)),0,(VLOOKUP($A931,#REF!,8,0)))","v":0},0,0,0,0,0,0,{"$f":"IF(ISERROR(VLOOKUP($A931,#REF!,8,0)),0,(VLOOKUP($A931,#REF!,8,0)))","v":0},0,0,0,0,0,0,{"$f":"IF(ISERROR(VLOOKUP($A931,#REF!,8,0)),0,(VLOOKUP($A931,#REF!,8,0)))","v":0},0,0,0,0,0,0,{"$f":"IF(ISERROR(VLOOKUP($A931,#REF!,8,0)),0,(VLOOKUP($A931,#REF!,8,0)))","v":0},0,0,0,0,0,0,{"$f":"IF(ISERROR(VLOOKUP($A931,#REF!,8,0)),0,(VLOOKUP($A931,#REF!,8,0)))","v":0},0,0,0,0,0,0,{"$f":"IF(ISERROR(VLOOKUP($A931,#REF!,8,0)),0,(VLOOKUP($A931,#REF!,8,0)))","v":0},0,0,0,0,0,0,{"$f":"IF(ISERROR(VLOOKUP($A931,#REF!,8,0)),0,(VLOOKUP($A931,#REF!,8,0)))","v":0},0,0,0,0,0,0,{"$f":"IF(ISERROR(VLOOKUP($A931,#REF!,8,0)),0,(VLOOKUP($A931,#REF!,8,0)))","v":0},0,0,0,0,0,0,{"$f":"IF(ISERROR(VLOOKUP($A931,#REF!,8,0)),0,(VLOOKUP($A931,#REF!,8,0)))","v":0},0,0,0,0,0,0,{"$f":"IF(ISERROR(VLOOKUP($A931,#REF!,8,0)),0,(VLOOKUP($A931,#REF!,8,0)))","v":0},0,0,0,0,0,0,{"$f":"IF(ISERROR(VLOOKUP($A931,#REF!,8,0)),0,(VLOOKUP($A931,#REF!,8,0)))","v":0},0,0,0,0,0,0,{"$f":"IF(ISERROR(VLOOKUP($A931,#REF!,8,0)),0,(VLOOKUP($A931,#REF!,8,0)))","v":0},0,0,0,0,0,0,{"$f":"IF(ISERROR(VLOOKUP($A931,#REF!,8,0)),0,(VLOOKUP($A931,#REF!,8,0)))","v":0},0,0,0,0,0,0,{"$f":"IF(ISERROR(VLOOKUP($A931,#REF!,8,0)),0,(VLOOKUP($A931,#REF!,8,0)))","v":0},0,0,0,0,0,0,{"$f":"IF(ISERROR(VLOOKUP($A931,#REF!,8,0)),0,(VLOOKUP($A931,#REF!,8,0)))","v":0},0,0,0,0,0,0,{"$f":"IF(ISERROR(VLOOKUP($A931,#REF!,8,0)),0,(VLOOKUP($A931,#REF!,8,0)))","v":0},0,0,0,0,0,0,{"$f":"IF(ISERROR(VLOOKUP($A931,#REF!,8,0)),0,(VLOOKUP($A931,#REF!,8,0)))","v":0},0,0,0,0,0,0,{"$f":"IF(ISERROR(VLOOKUP($A931,#REF!,8,0)),0,(VLOOKUP($A931,#REF!,8,0)))","v":0},0,0,0,0,0,0,0,0,{"$error":"#DIV/0!"},0]
["30.12","Haste copperweld 5/8 x 3m com conector revestida com camada de cobre, inclusive conector, TEL-584, fab.Termotécnica ou equivalente.","un",1,1,0,33.742634000000002,33.742634000000002,9.9893199999999993,9.9893199999999993,0,0,43.731954000000002,0,43.731954000000002,null,0,0,0,0,0,null,0,1,0,0,0,0,null,0,1,0,0,0,0,null,0,1,0,0,0,0,null,0,1,0,0,0,0,null,0,1,0,0,0,0,{"$f":"IF(ISERROR(VLOOKUP(A940,'7ª MEDIÇÃO'!$A$5:$J$1048576,8,0)),0,(VLOOKUP(A940,'7ª MEDIÇÃO'!$A$5:$J$1048576,8,0)))","v":0},0,1,0,0,0,0,{"$f":"IF(ISERROR(VLOOKUP(A940,'8ª MEDIÇÃO'!$A$5:$J$1048576,8,0)),0,(VLOOKUP(A940,'8ª MEDIÇÃO'!$A$5:$J$1048576,8,0)))","v":0},0,1,0,0,0,0,{"$f":"IF(ISERROR(VLOOKUP(A940,'9ª MEDIÇÃO'!$A$5:$J$1048576,8,0)),0,(VLOOKUP(A940,'9ª MEDIÇÃO'!$A$5:$J$1048576,8,0)))","v":0},0,1,0,0,0,0,{"$f":"IF(ISERROR(VLOOKUP(A940,#REF!,8,0)),0,(VLOOKUP(A940,#REF!,8,0)))","v":0},0,1,0,0,0,0,{"$f":"IF(ISERROR(VLOOKUP($A940,#REF!,8,0)),0,(VLOOKUP($A940,#REF!,8,0)))","v":0},0,1,0,0,0,0,{"$f":"IF(ISERROR(VLOOKUP($A940,#REF!,8,0)),0,(VLOOKUP($A940,#REF!,8,0)))","v":0},0,1,0,0,0,0,{"$f":"IF(ISERROR(VLOOKUP($A940,#REF!,8,0)),0,(VLOOKUP($A940,#REF!,8,0)))","v":0},0,1,0,0,0,0,{"$f":"IF(ISERROR(VLOOKUP($A940,#REF!,8,0)),0,(VLOOKUP($A940,#REF!,8,0)))","v":0},0,1,0,0,0,0,{"$f":"IF(ISERROR(VLOOKUP($A940,#REF!,8,0)),0,(VLOOKUP($A940,#REF!,8,0)))","v":0},0,1,0,0,0,0,{"$f":"IF(ISERROR(VLOOKUP($A940,#REF!,8,0)),0,(VLOOKUP($A940,#REF!,8,0)))","v":0},0,1,0,0,0,0,{"$f":"IF(ISERROR(VLOOKUP($A940,#REF!,8,0)),0,(VLOOKUP($A940,#REF!,8,0)))","v":0},0,1,0,0,0,0,{"$f":"IF(ISERROR(VLOOKUP($A940,#REF!,8,0)),0,(VLOOKUP($A940,#REF!,8,0)))","v":0},0,1,0,0,0,0,{"$f":"IF(ISERROR(VLOOKUP($A940,#REF!,8,0)),0,(VLOOKUP($A940,#REF!,8,0)))","v":0},0,1,0,0,0,0,{"$f":"IF(ISERROR(VLOOKUP($A940,#REF!,8,0)),0,(VLOOKUP($A940,#REF!,8,0)))","v":0},0,1,0,0,0,0,{"$f":"IF(ISERROR(VLOOKUP($A940,#REF!,8,0)),0,(VLOOKUP($A940,#REF!,8,0)))","v":0},0,1,0,0,0,0,{"$f":"IF(ISERROR(VLOOKUP($A940,#REF!,8,0)),0,(VLOOKUP($A940,#REF!,8,0)))","v":0},0,1,0,0,0,0,{"$f":"IF(ISERROR(VLOOKUP($A940,#REF!,8,0)),0,(VLOOKUP($A940,#REF!,8,0)))","v":0},0,1,0,0,0,0,{"$f":"IF(ISERROR(VLOOKUP($A940,#REF!,8,0)),0,(VLOOKUP($A940,#REF!,8,0)))","v":0},0,1,0,0,0,0,{"$f":"IF(ISERROR(VLOOKUP($A940,#REF!,8,0)),0,(VLOOKUP($A940,#REF!,8,0)))","v":0},0,1,0,0,0,0,{"$f":"IF(ISERROR(VLOOKUP($A940,#REF!,8,0)),0,(VLOOKUP($A940,#REF!,8,0)))","v":0},0,1,0,0,0,0,{"$f":"IF(ISERROR(VLOOKUP($A940,#REF!,8,0)),0,(VLOOKUP($A940,#REF!,8,0)))","v":0},0,1,0,0,0,0,{"$f":"IF(ISERROR(VLOOKUP($A940,#REF!,8,0)),0,(VLOOKUP($A940,#REF!,8,0)))","v":0},0,1,0,0,0,0,{"$f":"IF(ISERROR(VLOOKUP($A940,#REF!,8,0)),0,(VLOOKUP($A940,#REF!,8,0)))","v":0},0,1,0,0,0,0,{"$f":"IF(ISERROR(VLOOKUP($A940,#REF!,8,0)),0,(VLOOKUP($A940,#REF!,8,0)))","v":0},0,1,0,0,0,0,{"$f":"IF(ISERROR(VLOOKUP($A940,#REF!,8,0)),0,(VLOOKUP($A940,#REF!,8,0)))","v":0},0,1,0,0,0,0,{"$f":"IF(ISERROR(VLOOKUP($A940,#REF!,8,0)),0,(VLOOKUP($A940,#REF!,8,0)))","v":0},0,1,0,0,0,0,{"$f":"IF(ISERROR(VLOOKUP($A940,#REF!,8,0)),0,(VLOOKUP($A940,#REF!,8,0)))","v":0},0,1,0,0,0,0,{"$f":"IF(ISERROR(VLOOKUP($A940,#REF!,8,0)),0,(VLOOKUP($A940,#REF!,8,0)))","v":0},0,1,0,0,0,0,{"$f":"IF(ISERROR(VLOOKUP($A940,#REF!,8,0)),0,(VLOOKUP($A940,#REF!,8,0)))","v":0},0,1,0,0,0,0,{"$f":"IF(ISERROR(VLOOKUP($A940,#REF!,8,0)),0,(VLOOKUP($A940,#REF!,8,0)))","v":0},0,1,0,0,0,0,{"$f":"IF(ISERROR(VLOOKUP($A940,#REF!,8,0)),0,(VLOOKUP($A940,#REF!,8,0)))","v":0},0,1,0,0,0,0,{"$f":"IF(ISERROR(VLOOKUP($A940,#REF!,8,0)),0,(VLOOKUP($A940,#REF!,8,0)))","v":0},0,1,0,0,0,0,{"$f":"IF(ISERROR(VLOOKUP($A940,#REF!,8,0)),0,(VLOOKUP($A940,#REF!,8,0)))","v":0},0,1,0,0,0,0,{"$f":"IF(ISERROR(VLOOKUP($A940,#REF!,8,0)),0,(VLOOKUP($A940,#REF!,8,0)))","v":0},0,1,0,0,0,0,{"$f":"IF(ISERROR(VLOOKUP($A940,#REF!,8,0)),0,(VLOOKUP($A940,#REF!,8,0)))","v":0},0,1,0,0,0,0,{"$f":"IF(ISERROR(VLOOKUP($A940,#REF!,8,0)),0,(VLOOKUP($A940,#REF!,8,0)))","v":0},0,1,0,0,0,0,{"$f":"IF(ISERROR(VLOOKUP($A940,#REF!,8,0)),0,(VLOOKUP($A940,#REF!,8,0)))","v":0},0,1,0,0,0,0,{"$f":"IF(ISERROR(VLOOKUP($A940,#REF!,8,0)),0,(VLOOKUP($A940,#REF!,8,0)))","v":0},0,1,0,0,0,0,{"$f":"IF(ISERROR(VLOOKUP($A940,#REF!,8,0)),0,(VLOOKUP($A940,#REF!,8,0)))","v":0},0,1,0,0,0,0,{"$f":"IF(ISERROR(VLOOKUP($A940,#REF!,8,0)),0,(VLOOKUP($A940,#REF!,8,0)))","v":0},0,1,0,0,0,0,{"$f":"IF(ISERROR(VLOOKUP($A940,#REF!,8,0)),0,(VLOOKUP($A940,#REF!,8,0)))","v":0},0,1,0,0,0,0,{"$f":"IF(ISERROR(VLOOKUP($A940,#REF!,8,0)),0,(VLOOKUP($A940,#REF!,8,0)))","v":0},0,1,0,0,0,0,{"$f":"IF(ISERROR(VLOOKUP($A940,#REF!,8,0)),0,(VLOOKUP($A940,#REF!,8,0)))","v":0},0,1,0,0,0,0,{"$f":"IF(ISERROR(VLOOKUP($A940,#REF!,8,0)),0,(VLOOKUP($A940,#REF!,8,0)))","v":0},0,1,0,0,0,0,{"$f":"IF(ISERROR(VLOOKUP($A940,#REF!,8,0)),0,(VLOOKUP($A940,#REF!,8,0)))","v":0},0,1,0,0,0,0,{"$f":"IF(ISERROR(VLOOKUP($A940,#REF!,8,0)),0,(VLOOKUP($A940,#REF!,8,0)))","v":0},0,1,0,0,0,0,{"$f":"IF(ISERROR(VLOOKUP($A940,#REF!,8,0)),0,(VLOOKUP($A940,#REF!,8,0)))","v":0},0,1,0,0,0,0,{"$f":"IF(ISERROR(VLOOKUP($A940,#REF!,8,0)),0,(VLOOKUP($A940,#REF!,8,0)))","v":0},0,1,0,0,0,0,{"$f":"IF(ISERROR(VLOOKUP($A940,#REF!,8,0)),0,(VLOOKUP($A940,#REF!,8,0)))","v":0},0,1,0,0,0,0,43.731954000000002,43.731954000000002,1,0]
["30.21","Fornecimento e instalação de mufla singela termocontratil 20kV para cabo 35mm².","un ",4,4,0,240.99859599999999,963.99438399999997,24.954639999999998,99.818559999999991,0,0,265.953236,0,1063.812944,null,0,0,0,0,0,null,0,1,0,0,0,0,null,0,1,0,0,0,0,null,0,1,0,0,0,0,null,0,1,0,0,0,0,null,0,1,0,0,0,0,{"$f":"IF(ISERROR(VLOOKUP(A949,'7ª MEDIÇÃO'!$A$5:$J$1048576,8,0)),0,(VLOOKUP(A949,'7ª MEDIÇÃO'!$A$5:$J$1048576,8,0)))","v":0},0,1,0,0,0,0,{"$f":"IF(ISERROR(VLOOKUP(A949,'8ª MEDIÇÃO'!$A$5:$J$1048576,8,0)),0,(VLOOKUP(A949,'8ª MEDIÇÃO'!$A$5:$J$1048576,8,0)))","v":0},0,1,0,0,0,0,{"$f":"IF(ISERROR(VLOOKUP(A949,'9ª MEDIÇÃO'!$A$5:$J$1048576,8,0)),0,(VLOOKUP(A949,'9ª MEDIÇÃO'!$A$5:$J$1048576,8,0)))","v":0},0,1,0,0,0,0,{"$f":"IF(ISERROR(VLOOKUP(A949,#REF!,8,0)),0,(VLOOKUP(A949,#REF!,8,0)))","v":0},0,1,0,0,0,0,{"$f":"IF(ISERROR(VLOOKUP($A949,#REF!,8,0)),0,(VLOOKUP($A949,#REF!,8,0)))","v":0},0,1,0,0,0,0,{"$f":"IF(ISERROR(VLOOKUP($A949,#REF!,8,0)),0,(VLOOKUP($A949,#REF!,8,0)))","v":0},0,1,0,0,0,0,{"$f":"IF(ISERROR(VLOOKUP($A949,#REF!,8,0)),0,(VLOOKUP($A949,#REF!,8,0)))","v":0},0,1,0,0,0,0,{"$f":"IF(ISERROR(VLOOKUP($A949,#REF!,8,0)),0,(VLOOKUP($A949,#REF!,8,0)))","v":0},0,1,0,0,0,0,{"$f":"IF(ISERROR(VLOOKUP($A949,#REF!,8,0)),0,(VLOOKUP($A949,#REF!,8,0)))","v":0},0,1,0,0,0,0,{"$f":"IF(ISERROR(VLOOKUP($A949,#REF!,8,0)),0,(VLOOKUP($A949,#REF!,8,0)))","v":0},0,1,0,0,0,0,{"$f":"IF(ISERROR(VLOOKUP($A949,#REF!,8,0)),0,(VLOOKUP($A949,#REF!,8,0)))","v":0},0,1,0,0,0,0,{"$f":"IF(ISERROR(VLOOKUP($A949,#REF!,8,0)),0,(VLOOKUP($A949,#REF!,8,0)))","v":0},0,1,0,0,0,0,{"$f":"IF(ISERROR(VLOOKUP($A949,#REF!,8,0)),0,(VLOOKUP($A949,#REF!,8,0)))","v":0},0,1,0,0,0,0,{"$f":"IF(ISERROR(VLOOKUP($A949,#REF!,8,0)),0,(VLOOKUP($A949,#REF!,8,0)))","v":0},0,1,0,0,0,0,{"$f":"IF(ISERROR(VLOOKUP($A949,#REF!,8,0)),0,(VLOOKUP($A949,#REF!,8,0)))","v":0},0,1,0,0,0,0,{"$f":"IF(ISERROR(VLOOKUP($A949,#REF!,8,0)),0,(VLOOKUP($A949,#REF!,8,0)))","v":0},0,1,0,0,0,0,{"$f":"IF(ISERROR(VLOOKUP($A949,#REF!,8,0)),0,(VLOOKUP($A949,#REF!,8,0)))","v":0},0,1,0,0,0,0,{"$f":"IF(ISERROR(VLOOKUP($A949,#REF!,8,0)),0,(VLOOKUP($A949,#REF!,8,0)))","v":0},0,1,0,0,0,0,{"$f":"IF(ISERROR(VLOOKUP($A949,#REF!,8,0)),0,(VLOOKUP($A949,#REF!,8,0)))","v":0},0,1,0,0,0,0,{"$f":"IF(ISERROR(VLOOKUP($A949,#REF!,8,0)),0,(VLOOKUP($A949,#REF!,8,0)))","v":0},0,1,0,0,0,0,{"$f":"IF(ISERROR(VLOOKUP($A949,#REF!,8,0)),0,(VLOOKUP($A949,#REF!,8,0)))","v":0},0,1,0,0,0,0,{"$f":"IF(ISERROR(VLOOKUP($A949,#REF!,8,0)),0,(VLOOKUP($A949,#REF!,8,0)))","v":0},0,1,0,0,0,0,{"$f":"IF(ISERROR(VLOOKUP($A949,#REF!,8,0)),0,(VLOOKUP($A949,#REF!,8,0)))","v":0},0,1,0,0,0,0,{"$f":"IF(ISERROR(VLOOKUP($A949,#REF!,8,0)),0,(VLOOKUP($A949,#REF!,8,0)))","v":0},0,1,0,0,0,0,{"$f":"IF(ISERROR(VLOOKUP($A949,#REF!,8,0)),0,(VLOOKUP($A949,#REF!,8,0)))","v":0},0,1,0,0,0,0,{"$f":"IF(ISERROR(VLOOKUP($A949,#REF!,8,0)),0,(VLOOKUP($A949,#REF!,8,0)))","v":0},0,1,0,0,0,0,{"$f":"IF(ISERROR(VLOOKUP($A949,#REF!,8,0)),0,(VLOOKUP($A949,#REF!,8,0)))","v":0},0,1,0,0,0,0,{"$f":"IF(ISERROR(VLOOKUP($A949,#REF!,8,0)),0,(VLOOKUP($A949,#REF!,8,0)))","v":0},0,1,0,0,0,0,{"$f":"IF(ISERROR(VLOOKUP($A949,#REF!,8,0)),0,(VLOOKUP($A949,#REF!,8,0)))","v":0},0,1,0,0,0,0,{"$f":"IF(ISERROR(VLOOKUP($A949,#REF!,8,0)),0,(VLOOKUP($A949,#REF!,8,0)))","v":0},0,1,0,0,0,0,{"$f":"IF(ISERROR(VLOOKUP($A949,#REF!,8,0)),0,(VLOOKUP($A949,#REF!,8,0)))","v":0},0,1,0,0,0,0,{"$f":"IF(ISERROR(VLOOKUP($A949,#REF!,8,0)),0,(VLOOKUP($A949,#REF!,8,0)))","v":0},0,1,0,0,0,0,{"$f":"IF(ISERROR(VLOOKUP($A949,#REF!,8,0)),0,(VLOOKUP($A949,#REF!,8,0)))","v":0},0,1,0,0,0,0,{"$f":"IF(ISERROR(VLOOKUP($A949,#REF!,8,0)),0,(VLOOKUP($A949,#REF!,8,0)))","v":0},0,1,0,0,0,0,{"$f":"IF(ISERROR(VLOOKUP($A949,#REF!,8,0)),0,(VLOOKUP($A949,#REF!,8,0)))","v":0},0,1,0,0,0,0,{"$f":"IF(ISERROR(VLOOKUP($A949,#REF!,8,0)),0,(VLOOKUP($A949,#REF!,8,0)))","v":0},0,1,0,0,0,0,{"$f":"IF(ISERROR(VLOOKUP($A949,#REF!,8,0)),0,(VLOOKUP($A949,#REF!,8,0)))","v":0},0,1,0,0,0,0,{"$f":"IF(ISERROR(VLOOKUP($A949,#REF!,8,0)),0,(VLOOKUP($A949,#REF!,8,0)))","v":0},0,1,0,0,0,0,{"$f":"IF(ISERROR(VLOOKUP($A949,#REF!,8,0)),0,(VLOOKUP($A949,#REF!,8,0)))","v":0},0,1,0,0,0,0,{"$f":"IF(ISERROR(VLOOKUP($A949,#REF!,8,0)),0,(VLOOKUP($A949,#REF!,8,0)))","v":0},0,1,0,0,0,0,{"$f":"IF(ISERROR(VLOOKUP($A949,#REF!,8,0)),0,(VLOOKUP($A949,#REF!,8,0)))","v":0},0,1,0,0,0,0,{"$f":"IF(ISERROR(VLOOKUP($A949,#REF!,8,0)),0,(VLOOKUP($A949,#REF!,8,0)))","v":0},0,1,0,0,0,0,{"$f":"IF(ISERROR(VLOOKUP($A949,#REF!,8,0)),0,(VLOOKUP($A949,#REF!,8,0)))","v":0},0,1,0,0,0,0,{"$f":"IF(ISERROR(VLOOKUP($A949,#REF!,8,0)),0,(VLOOKUP($A949,#REF!,8,0)))","v":0},0,1,0,0,0,0,{"$f":"IF(ISERROR(VLOOKUP($A949,#REF!,8,0)),0,(VLOOKUP($A949,#REF!,8,0)))","v":0},0,1,0,0,0,0,{"$f":"IF(ISERROR(VLOOKUP($A949,#REF!,8,0)),0,(VLOOKUP($A949,#REF!,8,0)))","v":0},0,1,0,0,0,0,{"$f":"IF(ISERROR(VLOOKUP($A949,#REF!,8,0)),0,(VLOOKUP($A949,#REF!,8,0)))","v":0},0,1,0,0,0,0,{"$f":"IF(ISERROR(VLOOKUP($A949,#REF!,8,0)),0,(VLOOKUP($A949,#REF!,8,0)))","v":0},0,1,0,0,0,0,{"$f":"IF(ISERROR(VLOOKUP($A949,#REF!,8,0)),0,(VLOOKUP($A949,#REF!,8,0)))","v":0},0,1,0,0,0,0,1063.812944,1063.812944,1,0]
["30.30","Fornecimento e instalação de transformador de corrente RTC = 400/5A classe 15kV","un ",3,3,0,723.361402,2170.084206,12.477319999999999,37.431959999999997,0,0,735.83872199999996,0,2207.5161659999999,null,0,0,0,0,0,null,0,1,0,0,0,0,null,0,1,0,0,0,0,null,0,1,0,0,0,0,null,0,1,0,0,0,0,null,0,1,0,0,0,0,{"$f":"IF(ISERROR(VLOOKUP(A958,'7ª MEDIÇÃO'!$A$5:$J$1048576,8,0)),0,(VLOOKUP(A958,'7ª MEDIÇÃO'!$A$5:$J$1048576,8,0)))","v":0},0,1,0,0,0,0,{"$f":"IF(ISERROR(VLOOKUP(A958,'8ª MEDIÇÃO'!$A$5:$J$1048576,8,0)),0,(VLOOKUP(A958,'8ª MEDIÇÃO'!$A$5:$J$1048576,8,0)))","v":0},0,1,0,0,0,0,{"$f":"IF(ISERROR(VLOOKUP(A958,'9ª MEDIÇÃO'!$A$5:$J$1048576,8,0)),0,(VLOOKUP(A958,'9ª MEDIÇÃO'!$A$5:$J$1048576,8,0)))","v":0},0,1,0,0,0,0,{"$f":"IF(ISERROR(VLOOKUP(A958,#REF!,8,0)),0,(VLOOKUP(A958,#REF!,8,0)))","v":0},0,1,0,0,0,0,{"$f":"IF(ISERROR(VLOOKUP($A958,#REF!,8,0)),0,(VLOOKUP($A958,#REF!,8,0)))","v":0},0,1,0,0,0,0,{"$f":"IF(ISERROR(VLOOKUP($A958,#REF!,8,0)),0,(VLOOKUP($A958,#REF!,8,0)))","v":0},0,1,0,0,0,0,{"$f":"IF(ISERROR(VLOOKUP($A958,#REF!,8,0)),0,(VLOOKUP($A958,#REF!,8,0)))","v":0},0,1,0,0,0,0,{"$f":"IF(ISERROR(VLOOKUP($A958,#REF!,8,0)),0,(VLOOKUP($A958,#REF!,8,0)))","v":0},0,1,0,0,0,0,{"$f":"IF(ISERROR(VLOOKUP($A958,#REF!,8,0)),0,(VLOOKUP($A958,#REF!,8,0)))","v":0},0,1,0,0,0,0,{"$f":"IF(ISERROR(VLOOKUP($A958,#REF!,8,0)),0,(VLOOKUP($A958,#REF!,8,0)))","v":0},0,1,0,0,0,0,{"$f":"IF(ISERROR(VLOOKUP($A958,#REF!,8,0)),0,(VLOOKUP($A958,#REF!,8,0)))","v":0},0,1,0,0,0,0,{"$f":"IF(ISERROR(VLOOKUP($A958,#REF!,8,0)),0,(VLOOKUP($A958,#REF!,8,0)))","v":0},0,1,0,0,0,0,{"$f":"IF(ISERROR(VLOOKUP($A958,#REF!,8,0)),0,(VLOOKUP($A958,#REF!,8,0)))","v":0},0,1,0,0,0,0,{"$f":"IF(ISERROR(VLOOKUP($A958,#REF!,8,0)),0,(VLOOKUP($A958,#REF!,8,0)))","v":0},0,1,0,0,0,0,{"$f":"IF(ISERROR(VLOOKUP($A958,#REF!,8,0)),0,(VLOOKUP($A958,#REF!,8,0)))","v":0},0,1,0,0,0,0,{"$f":"IF(ISERROR(VLOOKUP($A958,#REF!,8,0)),0,(VLOOKUP($A958,#REF!,8,0)))","v":0},0,1,0,0,0,0,{"$f":"IF(ISERROR(VLOOKUP($A958,#REF!,8,0)),0,(VLOOKUP($A958,#REF!,8,0)))","v":0},0,1,0,0,0,0,{"$f":"IF(ISERROR(VLOOKUP($A958,#REF!,8,0)),0,(VLOOKUP($A958,#REF!,8,0)))","v":0},0,1,0,0,0,0,{"$f":"IF(ISERROR(VLOOKUP($A958,#REF!,8,0)),0,(VLOOKUP($A958,#REF!,8,0)))","v":0},0,1,0,0,0,0,{"$f":"IF(ISERROR(VLOOKUP($A958,#REF!,8,0)),0,(VLOOKUP($A958,#REF!,8,0)))","v":0},0,1,0,0,0,0,{"$f":"IF(ISERROR(VLOOKUP($A958,#REF!,8,0)),0,(VLOOKUP($A958,#REF!,8,0)))","v":0},0,1,0,0,0,0,{"$f":"IF(ISERROR(VLOOKUP($A958,#REF!,8,0)),0,(VLOOKUP($A958,#REF!,8,0)))","v":0},0,1,0,0,0,0,{"$f":"IF(ISERROR(VLOOKUP($A958,#REF!,8,0)),0,(VLOOKUP($A958,#REF!,8,0)))","v":0},0,1,0,0,0,0,{"$f":"IF(ISERROR(VLOOKUP($A958,#REF!,8,0)),0,(VLOOKUP($A958,#REF!,8,0)))","v":0},0,1,0,0,0,0,{"$f":"IF(ISERROR(VLOOKUP($A958,#REF!,8,0)),0,(VLOOKUP($A958,#REF!,8,0)))","v":0},0,1,0,0,0,0,{"$f":"IF(ISERROR(VLOOKUP($A958,#REF!,8,0)),0,(VLOOKUP($A958,#REF!,8,0)))","v":0},0,1,0,0,0,0,{"$f":"IF(ISERROR(VLOOKUP($A958,#REF!,8,0)),0,(VLOOKUP($A958,#REF!,8,0)))","v":0},0,1,0,0,0,0,{"$f":"IF(ISERROR(VLOOKUP($A958,#REF!,8,0)),0,(VLOOKUP($A958,#REF!,8,0)))","v":0},0,1,0,0,0,0,{"$f":"IF(ISERROR(VLOOKUP($A958,#REF!,8,0)),0,(VLOOKUP($A958,#REF!,8,0)))","v":0},0,1,0,0,0,0,{"$f":"IF(ISERROR(VLOOKUP($A958,#REF!,8,0)),0,(VLOOKUP($A958,#REF!,8,0)))","v":0},0,1,0,0,0,0,{"$f":"IF(ISERROR(VLOOKUP($A958,#REF!,8,0)),0,(VLOOKUP($A958,#REF!,8,0)))","v":0},0,1,0,0,0,0,{"$f":"IF(ISERROR(VLOOKUP($A958,#REF!,8,0)),0,(VLOOKUP($A958,#REF!,8,0)))","v":0},0,1,0,0,0,0,{"$f":"IF(ISERROR(VLOOKUP($A958,#REF!,8,0)),0,(VLOOKUP($A958,#REF!,8,0)))","v":0},0,1,0,0,0,0,{"$f":"IF(ISERROR(VLOOKUP($A958,#REF!,8,0)),0,(VLOOKUP($A958,#REF!,8,0)))","v":0},0,1,0,0,0,0,{"$f":"IF(ISERROR(VLOOKUP($A958,#REF!,8,0)),0,(VLOOKUP($A958,#REF!,8,0)))","v":0},0,1,0,0,0,0,{"$f":"IF(ISERROR(VLOOKUP($A958,#REF!,8,0)),0,(VLOOKUP($A958,#REF!,8,0)))","v":0},0,1,0,0,0,0,{"$f":"IF(ISERROR(VLOOKUP($A958,#REF!,8,0)),0,(VLOOKUP($A958,#REF!,8,0)))","v":0},0,1,0,0,0,0,{"$f":"IF(ISERROR(VLOOKUP($A958,#REF!,8,0)),0,(VLOOKUP($A958,#REF!,8,0)))","v":0},0,1,0,0,0,0,{"$f":"IF(ISERROR(VLOOKUP($A958,#REF!,8,0)),0,(VLOOKUP($A958,#REF!,8,0)))","v":0},0,1,0,0,0,0,{"$f":"IF(ISERROR(VLOOKUP($A958,#REF!,8,0)),0,(VLOOKUP($A958,#REF!,8,0)))","v":0},0,1,0,0,0,0,{"$f":"IF(ISERROR(VLOOKUP($A958,#REF!,8,0)),0,(VLOOKUP($A958,#REF!,8,0)))","v":0},0,1,0,0,0,0,{"$f":"IF(ISERROR(VLOOKUP($A958,#REF!,8,0)),0,(VLOOKUP($A958,#REF!,8,0)))","v":0},0,1,0,0,0,0,{"$f":"IF(ISERROR(VLOOKUP($A958,#REF!,8,0)),0,(VLOOKUP($A958,#REF!,8,0)))","v":0},0,1,0,0,0,0,{"$f":"IF(ISERROR(VLOOKUP($A958,#REF!,8,0)),0,(VLOOKUP($A958,#REF!,8,0)))","v":0},0,1,0,0,0,0,{"$f":"IF(ISERROR(VLOOKUP($A958,#REF!,8,0)),0,(VLOOKUP($A958,#REF!,8,0)))","v":0},0,1,0,0,0,0,{"$f":"IF(ISERROR(VLOOKUP($A958,#REF!,8,0)),0,(VLOOKUP($A958,#REF!,8,0)))","v":0},0,1,0,0,0,0,{"$f":"IF(ISERROR(VLOOKUP($A958,#REF!,8,0)),0,(VLOOKUP($A958,#REF!,8,0)))","v":0},0,1,0,0,0,0,{"$f":"IF(ISERROR(VLOOKUP($A958,#REF!,8,0)),0,(VLOOKUP($A958,#REF!,8,0)))","v":0},0,1,0,0,0,0,{"$f":"IF(ISERROR(VLOOKUP($A958,#REF!,8,0)),0,(VLOOKUP($A958,#REF!,8,0)))","v":0},0,1,0,0,0,0,2207.5161659999999,2207.5161659999999,1,0]
["30.39","Fornecimento e assentamento de eletroduto de Ferro Galvanizado de 1\", inclusive assentamento e demais acessórios de fixação.","m",15,0,15,14.718912000000001,220.78368000000003,12.477319999999999,187.15979999999999,0,0,27.196232000000002,407.94348000000002,0,null,0,0,0,0,0,null,0,0,0,0,0,0,null,0,0,0,0,0,0,null,0,0,0,0,0,0,null,0,0,0,0,0,0,null,0,0,0,0,0,0,{"$f":"IF(ISERROR(VLOOKUP(A967,'7ª MEDIÇÃO'!$A$5:$J$1048576,8,0)),0,(VLOOKUP(A967,'7ª MEDIÇÃO'!$A$5:$J$1048576,8,0)))","v":0},0,0,0,0,0,0,{"$f":"IF(ISERROR(VLOOKUP(A967,'8ª MEDIÇÃO'!$A$5:$J$1048576,8,0)),0,(VLOOKUP(A967,'8ª MEDIÇÃO'!$A$5:$J$1048576,8,0)))","v":0},0,0,0,0,0,0,{"$f":"IF(ISERROR(VLOOKUP(A967,'9ª MEDIÇÃO'!$A$5:$J$1048576,8,0)),0,(VLOOKUP(A967,'9ª MEDIÇÃO'!$A$5:$J$1048576,8,0)))","v":0},0,0,0,0,0,0,{"$f":"IF(ISERROR(VLOOKUP(A967,#REF!,8,0)),0,(VLOOKUP(A967,#REF!,8,0)))","v":0},0,0,0,0,0,0,{"$f":"IF(ISERROR(VLOOKUP($A967,#REF!,8,0)),0,(VLOOKUP($A967,#REF!,8,0)))","v":0},0,0,0,0,0,0,{"$f":"IF(ISERROR(VLOOKUP($A967,#REF!,8,0)),0,(VLOOKUP($A967,#REF!,8,0)))","v":0},0,0,0,0,0,0,{"$f":"IF(ISERROR(VLOOKUP($A967,#REF!,8,0)),0,(VLOOKUP($A967,#REF!,8,0)))","v":0},0,0,0,0,0,0,{"$f":"IF(ISERROR(VLOOKUP($A967,#REF!,8,0)),0,(VLOOKUP($A967,#REF!,8,0)))","v":0},0,0,0,0,0,0,{"$f":"IF(ISERROR(VLOOKUP($A967,#REF!,8,0)),0,(VLOOKUP($A967,#REF!,8,0)))","v":0},0,0,0,0,0,0,{"$f":"IF(ISERROR(VLOOKUP($A967,#REF!,8,0)),0,(VLOOKUP($A967,#REF!,8,0)))","v":0},0,0,0,0,0,0,{"$f":"IF(ISERROR(VLOOKUP($A967,#REF!,8,0)),0,(VLOOKUP($A967,#REF!,8,0)))","v":0},0,0,0,0,0,0,{"$f":"IF(ISERROR(VLOOKUP($A967,#REF!,8,0)),0,(VLOOKUP($A967,#REF!,8,0)))","v":0},0,0,0,0,0,0,{"$f":"IF(ISERROR(VLOOKUP($A967,#REF!,8,0)),0,(VLOOKUP($A967,#REF!,8,0)))","v":0},0,0,0,0,0,0,{"$f":"IF(ISERROR(VLOOKUP($A967,#REF!,8,0)),0,(VLOOKUP($A967,#REF!,8,0)))","v":0},0,0,0,0,0,0,{"$f":"IF(ISERROR(VLOOKUP($A967,#REF!,8,0)),0,(VLOOKUP($A967,#REF!,8,0)))","v":0},0,0,0,0,0,0,{"$f":"IF(ISERROR(VLOOKUP($A967,#REF!,8,0)),0,(VLOOKUP($A967,#REF!,8,0)))","v":0},0,0,0,0,0,0,{"$f":"IF(ISERROR(VLOOKUP($A967,#REF!,8,0)),0,(VLOOKUP($A967,#REF!,8,0)))","v":0},0,0,0,0,0,0,{"$f":"IF(ISERROR(VLOOKUP($A967,#REF!,8,0)),0,(VLOOKUP($A967,#REF!,8,0)))","v":0},0,0,0,0,0,0,{"$f":"IF(ISERROR(VLOOKUP($A967,#REF!,8,0)),0,(VLOOKUP($A967,#REF!,8,0)))","v":0},0,0,0,0,0,0,{"$f":"IF(ISERROR(VLOOKUP($A967,#REF!,8,0)),0,(VLOOKUP($A967,#REF!,8,0)))","v":0},0,0,0,0,0,0,{"$f":"IF(ISERROR(VLOOKUP($A967,#REF!,8,0)),0,(VLOOKUP($A967,#REF!,8,0)))","v":0},0,0,0,0,0,0,{"$f":"IF(ISERROR(VLOOKUP($A967,#REF!,8,0)),0,(VLOOKUP($A967,#REF!,8,0)))","v":0},0,0,0,0,0,0,{"$f":"IF(ISERROR(VLOOKUP($A967,#REF!,8,0)),0,(VLOOKUP($A967,#REF!,8,0)))","v":0},0,0,0,0,0,0,{"$f":"IF(ISERROR(VLOOKUP($A967,#REF!,8,0)),0,(VLOOKUP($A967,#REF!,8,0)))","v":0},0,0,0,0,0,0,{"$f":"IF(ISERROR(VLOOKUP($A967,#REF!,8,0)),0,(VLOOKUP($A967,#REF!,8,0)))","v":0},0,0,0,0,0,0,{"$f":"IF(ISERROR(VLOOKUP($A967,#REF!,8,0)),0,(VLOOKUP($A967,#REF!,8,0)))","v":0},0,0,0,0,0,0,{"$f":"IF(ISERROR(VLOOKUP($A967,#REF!,8,0)),0,(VLOOKUP($A967,#REF!,8,0)))","v":0},0,0,0,0,0,0,{"$f":"IF(ISERROR(VLOOKUP($A967,#REF!,8,0)),0,(VLOOKUP($A967,#REF!,8,0)))","v":0},0,0,0,0,0,0,{"$f":"IF(ISERROR(VLOOKUP($A967,#REF!,8,0)),0,(VLOOKUP($A967,#REF!,8,0)))","v":0},0,0,0,0,0,0,{"$f":"IF(ISERROR(VLOOKUP($A967,#REF!,8,0)),0,(VLOOKUP($A967,#REF!,8,0)))","v":0},0,0,0,0,0,0,{"$f":"IF(ISERROR(VLOOKUP($A967,#REF!,8,0)),0,(VLOOKUP($A967,#REF!,8,0)))","v":0},0,0,0,0,0,0,{"$f":"IF(ISERROR(VLOOKUP($A967,#REF!,8,0)),0,(VLOOKUP($A967,#REF!,8,0)))","v":0},0,0,0,0,0,0,{"$f":"IF(ISERROR(VLOOKUP($A967,#REF!,8,0)),0,(VLOOKUP($A967,#REF!,8,0)))","v":0},0,0,0,0,0,0,{"$f":"IF(ISERROR(VLOOKUP($A967,#REF!,8,0)),0,(VLOOKUP($A967,#REF!,8,0)))","v":0},0,0,0,0,0,0,{"$f":"IF(ISERROR(VLOOKUP($A967,#REF!,8,0)),0,(VLOOKUP($A967,#REF!,8,0)))","v":0},0,0,0,0,0,0,{"$f":"IF(ISERROR(VLOOKUP($A967,#REF!,8,0)),0,(VLOOKUP($A967,#REF!,8,0)))","v":0},0,0,0,0,0,0,{"$f":"IF(ISERROR(VLOOKUP($A967,#REF!,8,0)),0,(VLOOKUP($A967,#REF!,8,0)))","v":0},0,0,0,0,0,0,{"$f":"IF(ISERROR(VLOOKUP($A967,#REF!,8,0)),0,(VLOOKUP($A967,#REF!,8,0)))","v":0},0,0,0,0,0,0,{"$f":"IF(ISERROR(VLOOKUP($A967,#REF!,8,0)),0,(VLOOKUP($A967,#REF!,8,0)))","v":0},0,0,0,0,0,0,{"$f":"IF(ISERROR(VLOOKUP($A967,#REF!,8,0)),0,(VLOOKUP($A967,#REF!,8,0)))","v":0},0,0,0,0,0,0,{"$f":"IF(ISERROR(VLOOKUP($A967,#REF!,8,0)),0,(VLOOKUP($A967,#REF!,8,0)))","v":0},0,0,0,0,0,0,{"$f":"IF(ISERROR(VLOOKUP($A967,#REF!,8,0)),0,(VLOOKUP($A967,#REF!,8,0)))","v":0},0,0,0,0,0,0,{"$f":"IF(ISERROR(VLOOKUP($A967,#REF!,8,0)),0,(VLOOKUP($A967,#REF!,8,0)))","v":0},0,0,0,0,0,0,{"$f":"IF(ISERROR(VLOOKUP($A967,#REF!,8,0)),0,(VLOOKUP($A967,#REF!,8,0)))","v":0},0,0,0,0,0,0,{"$f":"IF(ISERROR(VLOOKUP($A967,#REF!,8,0)),0,(VLOOKUP($A967,#REF!,8,0)))","v":0},0,0,0,0,0,0,{"$f":"IF(ISERROR(VLOOKUP($A967,#REF!,8,0)),0,(VLOOKUP($A967,#REF!,8,0)))","v":0},0,0,0,0,0,0,{"$f":"IF(ISERROR(VLOOKUP($A967,#REF!,8,0)),0,(VLOOKUP($A967,#REF!,8,0)))","v":0},0,0,0,0,0,0,{"$f":"IF(ISERROR(VLOOKUP($A967,#REF!,8,0)),0,(VLOOKUP($A967,#REF!,8,0)))","v":0},0,0,0,0,0,0,{"$f":"IF(ISERROR(VLOOKUP($A967,#REF!,8,0)),0,(VLOOKUP($A967,#REF!,8,0)))","v":0},0,0,0,0,0,0,0,0,{"$error":"#DIV/0!"},0]
["30.47","Fornecimento e assentamento de luva de Ferro galvanizado 4”.","un",2,2,0,31.784829999999999,63.569659999999999,3.7444399999999995,7.4888799999999991,0,0,35.529269999999997,0,71.058539999999994,null,0,0,0,0,0,null,0,1,0,0,0,0,null,0,1,0,0,0,0,null,0,1,0,0,0,0,null,0,1,0,0,0,0,null,0,1,0,0,0,0,{"$f":"IF(ISERROR(VLOOKUP(A975,'7ª MEDIÇÃO'!$A$5:$J$1048576,8,0)),0,(VLOOKUP(A975,'7ª MEDIÇÃO'!$A$5:$J$1048576,8,0)))","v":0},0,1,0,0,0,0,{"$f":"IF(ISERROR(VLOOKUP(A975,'8ª MEDIÇÃO'!$A$5:$J$1048576,8,0)),0,(VLOOKUP(A975,'8ª MEDIÇÃO'!$A$5:$J$1048576,8,0)))","v":0},0,1,0,0,0,0,{"$f":"IF(ISERROR(VLOOKUP(A975,'9ª MEDIÇÃO'!$A$5:$J$1048576,8,0)),0,(VLOOKUP(A975,'9ª MEDIÇÃO'!$A$5:$J$1048576,8,0)))","v":0},0,1,0,0,0,0,{"$f":"IF(ISERROR(VLOOKUP(A975,#REF!,8,0)),0,(VLOOKUP(A975,#REF!,8,0)))","v":0},0,1,0,0,0,0,{"$f":"IF(ISERROR(VLOOKUP($A975,#REF!,8,0)),0,(VLOOKUP($A975,#REF!,8,0)))","v":0},0,1,0,0,0,0,{"$f":"IF(ISERROR(VLOOKUP($A975,#REF!,8,0)),0,(VLOOKUP($A975,#REF!,8,0)))","v":0},0,1,0,0,0,0,{"$f":"IF(ISERROR(VLOOKUP($A975,#REF!,8,0)),0,(VLOOKUP($A975,#REF!,8,0)))","v":0},0,1,0,0,0,0,{"$f":"IF(ISERROR(VLOOKUP($A975,#REF!,8,0)),0,(VLOOKUP($A975,#REF!,8,0)))","v":0},0,1,0,0,0,0,{"$f":"IF(ISERROR(VLOOKUP($A975,#REF!,8,0)),0,(VLOOKUP($A975,#REF!,8,0)))","v":0},0,1,0,0,0,0,{"$f":"IF(ISERROR(VLOOKUP($A975,#REF!,8,0)),0,(VLOOKUP($A975,#REF!,8,0)))","v":0},0,1,0,0,0,0,{"$f":"IF(ISERROR(VLOOKUP($A975,#REF!,8,0)),0,(VLOOKUP($A975,#REF!,8,0)))","v":0},0,1,0,0,0,0,{"$f":"IF(ISERROR(VLOOKUP($A975,#REF!,8,0)),0,(VLOOKUP($A975,#REF!,8,0)))","v":0},0,1,0,0,0,0,{"$f":"IF(ISERROR(VLOOKUP($A975,#REF!,8,0)),0,(VLOOKUP($A975,#REF!,8,0)))","v":0},0,1,0,0,0,0,{"$f":"IF(ISERROR(VLOOKUP($A975,#REF!,8,0)),0,(VLOOKUP($A975,#REF!,8,0)))","v":0},0,1,0,0,0,0,{"$f":"IF(ISERROR(VLOOKUP($A975,#REF!,8,0)),0,(VLOOKUP($A975,#REF!,8,0)))","v":0},0,1,0,0,0,0,{"$f":"IF(ISERROR(VLOOKUP($A975,#REF!,8,0)),0,(VLOOKUP($A975,#REF!,8,0)))","v":0},0,1,0,0,0,0,{"$f":"IF(ISERROR(VLOOKUP($A975,#REF!,8,0)),0,(VLOOKUP($A975,#REF!,8,0)))","v":0},0,1,0,0,0,0,{"$f":"IF(ISERROR(VLOOKUP($A975,#REF!,8,0)),0,(VLOOKUP($A975,#REF!,8,0)))","v":0},0,1,0,0,0,0,{"$f":"IF(ISERROR(VLOOKUP($A975,#REF!,8,0)),0,(VLOOKUP($A975,#REF!,8,0)))","v":0},0,1,0,0,0,0,{"$f":"IF(ISERROR(VLOOKUP($A975,#REF!,8,0)),0,(VLOOKUP($A975,#REF!,8,0)))","v":0},0,1,0,0,0,0,{"$f":"IF(ISERROR(VLOOKUP($A975,#REF!,8,0)),0,(VLOOKUP($A975,#REF!,8,0)))","v":0},0,1,0,0,0,0,{"$f":"IF(ISERROR(VLOOKUP($A975,#REF!,8,0)),0,(VLOOKUP($A975,#REF!,8,0)))","v":0},0,1,0,0,0,0,{"$f":"IF(ISERROR(VLOOKUP($A975,#REF!,8,0)),0,(VLOOKUP($A975,#REF!,8,0)))","v":0},0,1,0,0,0,0,{"$f":"IF(ISERROR(VLOOKUP($A975,#REF!,8,0)),0,(VLOOKUP($A975,#REF!,8,0)))","v":0},0,1,0,0,0,0,{"$f":"IF(ISERROR(VLOOKUP($A975,#REF!,8,0)),0,(VLOOKUP($A975,#REF!,8,0)))","v":0},0,1,0,0,0,0,{"$f":"IF(ISERROR(VLOOKUP($A975,#REF!,8,0)),0,(VLOOKUP($A975,#REF!,8,0)))","v":0},0,1,0,0,0,0,{"$f":"IF(ISERROR(VLOOKUP($A975,#REF!,8,0)),0,(VLOOKUP($A975,#REF!,8,0)))","v":0},0,1,0,0,0,0,{"$f":"IF(ISERROR(VLOOKUP($A975,#REF!,8,0)),0,(VLOOKUP($A975,#REF!,8,0)))","v":0},0,1,0,0,0,0,{"$f":"IF(ISERROR(VLOOKUP($A975,#REF!,8,0)),0,(VLOOKUP($A975,#REF!,8,0)))","v":0},0,1,0,0,0,0,{"$f":"IF(ISERROR(VLOOKUP($A975,#REF!,8,0)),0,(VLOOKUP($A975,#REF!,8,0)))","v":0},0,1,0,0,0,0,{"$f":"IF(ISERROR(VLOOKUP($A975,#REF!,8,0)),0,(VLOOKUP($A975,#REF!,8,0)))","v":0},0,1,0,0,0,0,{"$f":"IF(ISERROR(VLOOKUP($A975,#REF!,8,0)),0,(VLOOKUP($A975,#REF!,8,0)))","v":0},0,1,0,0,0,0,{"$f":"IF(ISERROR(VLOOKUP($A975,#REF!,8,0)),0,(VLOOKUP($A975,#REF!,8,0)))","v":0},0,1,0,0,0,0,{"$f":"IF(ISERROR(VLOOKUP($A975,#REF!,8,0)),0,(VLOOKUP($A975,#REF!,8,0)))","v":0},0,1,0,0,0,0,{"$f":"IF(ISERROR(VLOOKUP($A975,#REF!,8,0)),0,(VLOOKUP($A975,#REF!,8,0)))","v":0},0,1,0,0,0,0,{"$f":"IF(ISERROR(VLOOKUP($A975,#REF!,8,0)),0,(VLOOKUP($A975,#REF!,8,0)))","v":0},0,1,0,0,0,0,{"$f":"IF(ISERROR(VLOOKUP($A975,#REF!,8,0)),0,(VLOOKUP($A975,#REF!,8,0)))","v":0},0,1,0,0,0,0,{"$f":"IF(ISERROR(VLOOKUP($A975,#REF!,8,0)),0,(VLOOKUP($A975,#REF!,8,0)))","v":0},0,1,0,0,0,0,{"$f":"IF(ISERROR(VLOOKUP($A975,#REF!,8,0)),0,(VLOOKUP($A975,#REF!,8,0)))","v":0},0,1,0,0,0,0,{"$f":"IF(ISERROR(VLOOKUP($A975,#REF!,8,0)),0,(VLOOKUP($A975,#REF!,8,0)))","v":0},0,1,0,0,0,0,{"$f":"IF(ISERROR(VLOOKUP($A975,#REF!,8,0)),0,(VLOOKUP($A975,#REF!,8,0)))","v":0},0,1,0,0,0,0,{"$f":"IF(ISERROR(VLOOKUP($A975,#REF!,8,0)),0,(VLOOKUP($A975,#REF!,8,0)))","v":0},0,1,0,0,0,0,{"$f":"IF(ISERROR(VLOOKUP($A975,#REF!,8,0)),0,(VLOOKUP($A975,#REF!,8,0)))","v":0},0,1,0,0,0,0,{"$f":"IF(ISERROR(VLOOKUP($A975,#REF!,8,0)),0,(VLOOKUP($A975,#REF!,8,0)))","v":0},0,1,0,0,0,0,{"$f":"IF(ISERROR(VLOOKUP($A975,#REF!,8,0)),0,(VLOOKUP($A975,#REF!,8,0)))","v":0},0,1,0,0,0,0,{"$f":"IF(ISERROR(VLOOKUP($A975,#REF!,8,0)),0,(VLOOKUP($A975,#REF!,8,0)))","v":0},0,1,0,0,0,0,{"$f":"IF(ISERROR(VLOOKUP($A975,#REF!,8,0)),0,(VLOOKUP($A975,#REF!,8,0)))","v":0},0,1,0,0,0,0,{"$f":"IF(ISERROR(VLOOKUP($A975,#REF!,8,0)),0,(VLOOKUP($A975,#REF!,8,0)))","v":0},0,1,0,0,0,0,{"$f":"IF(ISERROR(VLOOKUP($A975,#REF!,8,0)),0,(VLOOKUP($A975,#REF!,8,0)))","v":0},0,1,0,0,0,0,71.058539999999994,71.058539999999994,1,0]
["30.50","Terminal ou conector de pressão - para cabo de 240mm² - fornecimento e instalação.","un",50,50,0,15.945487999999999,797.27440000000001,5.0008799999999995,250.04399999999998,0,0,20.946368,0,1047.3183999999999,null,0,0,0,0,0,null,0,1,0,0,0,0,null,0,1,0,0,0,0,null,0,1,0,0,0,0,null,0,1,0,0,0,0,null,0,1,0,0,0,0,{"$f":"IF(ISERROR(VLOOKUP(A978,'7ª MEDIÇÃO'!$A$5:$J$1048576,8,0)),0,(VLOOKUP(A978,'7ª MEDIÇÃO'!$A$5:$J$1048576,8,0)))","v":0},0,1,0,0,0,0,{"$f":"IF(ISERROR(VLOOKUP(A978,'8ª MEDIÇÃO'!$A$5:$J$1048576,8,0)),0,(VLOOKUP(A978,'8ª MEDIÇÃO'!$A$5:$J$1048576,8,0)))","v":0},0,1,0,0,0,0,{"$f":"IF(ISERROR(VLOOKUP(A978,'9ª MEDIÇÃO'!$A$5:$J$1048576,8,0)),0,(VLOOKUP(A978,'9ª MEDIÇÃO'!$A$5:$J$1048576,8,0)))","v":0},0,1,0,0,0,0,{"$f":"IF(ISERROR(VLOOKUP(A978,#REF!,8,0)),0,(VLOOKUP(A978,#REF!,8,0)))","v":0},0,1,0,0,0,0,{"$f":"IF(ISERROR(VLOOKUP($A978,#REF!,8,0)),0,(VLOOKUP($A978,#REF!,8,0)))","v":0},0,1,0,0,0,0,{"$f":"IF(ISERROR(VLOOKUP($A978,#REF!,8,0)),0,(VLOOKUP($A978,#REF!,8,0)))","v":0},0,1,0,0,0,0,{"$f":"IF(ISERROR(VLOOKUP($A978,#REF!,8,0)),0,(VLOOKUP($A978,#REF!,8,0)))","v":0},0,1,0,0,0,0,{"$f":"IF(ISERROR(VLOOKUP($A978,#REF!,8,0)),0,(VLOOKUP($A978,#REF!,8,0)))","v":0},0,1,0,0,0,0,{"$f":"IF(ISERROR(VLOOKUP($A978,#REF!,8,0)),0,(VLOOKUP($A978,#REF!,8,0)))","v":0},0,1,0,0,0,0,{"$f":"IF(ISERROR(VLOOKUP($A978,#REF!,8,0)),0,(VLOOKUP($A978,#REF!,8,0)))","v":0},0,1,0,0,0,0,{"$f":"IF(ISERROR(VLOOKUP($A978,#REF!,8,0)),0,(VLOOKUP($A978,#REF!,8,0)))","v":0},0,1,0,0,0,0,{"$f":"IF(ISERROR(VLOOKUP($A978,#REF!,8,0)),0,(VLOOKUP($A978,#REF!,8,0)))","v":0},0,1,0,0,0,0,{"$f":"IF(ISERROR(VLOOKUP($A978,#REF!,8,0)),0,(VLOOKUP($A978,#REF!,8,0)))","v":0},0,1,0,0,0,0,{"$f":"IF(ISERROR(VLOOKUP($A978,#REF!,8,0)),0,(VLOOKUP($A978,#REF!,8,0)))","v":0},0,1,0,0,0,0,{"$f":"IF(ISERROR(VLOOKUP($A978,#REF!,8,0)),0,(VLOOKUP($A978,#REF!,8,0)))","v":0},0,1,0,0,0,0,{"$f":"IF(ISERROR(VLOOKUP($A978,#REF!,8,0)),0,(VLOOKUP($A978,#REF!,8,0)))","v":0},0,1,0,0,0,0,{"$f":"IF(ISERROR(VLOOKUP($A978,#REF!,8,0)),0,(VLOOKUP($A978,#REF!,8,0)))","v":0},0,1,0,0,0,0,{"$f":"IF(ISERROR(VLOOKUP($A978,#REF!,8,0)),0,(VLOOKUP($A978,#REF!,8,0)))","v":0},0,1,0,0,0,0,{"$f":"IF(ISERROR(VLOOKUP($A978,#REF!,8,0)),0,(VLOOKUP($A978,#REF!,8,0)))","v":0},0,1,0,0,0,0,{"$f":"IF(ISERROR(VLOOKUP($A978,#REF!,8,0)),0,(VLOOKUP($A978,#REF!,8,0)))","v":0},0,1,0,0,0,0,{"$f":"IF(ISERROR(VLOOKUP($A978,#REF!,8,0)),0,(VLOOKUP($A978,#REF!,8,0)))","v":0},0,1,0,0,0,0,{"$f":"IF(ISERROR(VLOOKUP($A978,#REF!,8,0)),0,(VLOOKUP($A978,#REF!,8,0)))","v":0},0,1,0,0,0,0,{"$f":"IF(ISERROR(VLOOKUP($A978,#REF!,8,0)),0,(VLOOKUP($A978,#REF!,8,0)))","v":0},0,1,0,0,0,0,{"$f":"IF(ISERROR(VLOOKUP($A978,#REF!,8,0)),0,(VLOOKUP($A978,#REF!,8,0)))","v":0},0,1,0,0,0,0,{"$f":"IF(ISERROR(VLOOKUP($A978,#REF!,8,0)),0,(VLOOKUP($A978,#REF!,8,0)))","v":0},0,1,0,0,0,0,{"$f":"IF(ISERROR(VLOOKUP($A978,#REF!,8,0)),0,(VLOOKUP($A978,#REF!,8,0)))","v":0},0,1,0,0,0,0,{"$f":"IF(ISERROR(VLOOKUP($A978,#REF!,8,0)),0,(VLOOKUP($A978,#REF!,8,0)))","v":0},0,1,0,0,0,0,{"$f":"IF(ISERROR(VLOOKUP($A978,#REF!,8,0)),0,(VLOOKUP($A978,#REF!,8,0)))","v":0},0,1,0,0,0,0,{"$f":"IF(ISERROR(VLOOKUP($A978,#REF!,8,0)),0,(VLOOKUP($A978,#REF!,8,0)))","v":0},0,1,0,0,0,0,{"$f":"IF(ISERROR(VLOOKUP($A978,#REF!,8,0)),0,(VLOOKUP($A978,#REF!,8,0)))","v":0},0,1,0,0,0,0,{"$f":"IF(ISERROR(VLOOKUP($A978,#REF!,8,0)),0,(VLOOKUP($A978,#REF!,8,0)))","v":0},0,1,0,0,0,0,{"$f":"IF(ISERROR(VLOOKUP($A978,#REF!,8,0)),0,(VLOOKUP($A978,#REF!,8,0)))","v":0},0,1,0,0,0,0,{"$f":"IF(ISERROR(VLOOKUP($A978,#REF!,8,0)),0,(VLOOKUP($A978,#REF!,8,0)))","v":0},0,1,0,0,0,0,{"$f":"IF(ISERROR(VLOOKUP($A978,#REF!,8,0)),0,(VLOOKUP($A978,#REF!,8,0)))","v":0},0,1,0,0,0,0,{"$f":"IF(ISERROR(VLOOKUP($A978,#REF!,8,0)),0,(VLOOKUP($A978,#REF!,8,0)))","v":0},0,1,0,0,0,0,{"$f":"IF(ISERROR(VLOOKUP($A978,#REF!,8,0)),0,(VLOOKUP($A978,#REF!,8,0)))","v":0},0,1,0,0,0,0,{"$f":"IF(ISERROR(VLOOKUP($A978,#REF!,8,0)),0,(VLOOKUP($A978,#REF!,8,0)))","v":0},0,1,0,0,0,0,{"$f":"IF(ISERROR(VLOOKUP($A978,#REF!,8,0)),0,(VLOOKUP($A978,#REF!,8,0)))","v":0},0,1,0,0,0,0,{"$f":"IF(ISERROR(VLOOKUP($A978,#REF!,8,0)),0,(VLOOKUP($A978,#REF!,8,0)))","v":0},0,1,0,0,0,0,{"$f":"IF(ISERROR(VLOOKUP($A978,#REF!,8,0)),0,(VLOOKUP($A978,#REF!,8,0)))","v":0},0,1,0,0,0,0,{"$f":"IF(ISERROR(VLOOKUP($A978,#REF!,8,0)),0,(VLOOKUP($A978,#REF!,8,0)))","v":0},0,1,0,0,0,0,{"$f":"IF(ISERROR(VLOOKUP($A978,#REF!,8,0)),0,(VLOOKUP($A978,#REF!,8,0)))","v":0},0,1,0,0,0,0,{"$f":"IF(ISERROR(VLOOKUP($A978,#REF!,8,0)),0,(VLOOKUP($A978,#REF!,8,0)))","v":0},0,1,0,0,0,0,{"$f":"IF(ISERROR(VLOOKUP($A978,#REF!,8,0)),0,(VLOOKUP($A978,#REF!,8,0)))","v":0},0,1,0,0,0,0,{"$f":"IF(ISERROR(VLOOKUP($A978,#REF!,8,0)),0,(VLOOKUP($A978,#REF!,8,0)))","v":0},0,1,0,0,0,0,{"$f":"IF(ISERROR(VLOOKUP($A978,#REF!,8,0)),0,(VLOOKUP($A978,#REF!,8,0)))","v":0},0,1,0,0,0,0,{"$f":"IF(ISERROR(VLOOKUP($A978,#REF!,8,0)),0,(VLOOKUP($A978,#REF!,8,0)))","v":0},0,1,0,0,0,0,{"$f":"IF(ISERROR(VLOOKUP($A978,#REF!,8,0)),0,(VLOOKUP($A978,#REF!,8,0)))","v":0},0,1,0,0,0,0,{"$f":"IF(ISERROR(VLOOKUP($A978,#REF!,8,0)),0,(VLOOKUP($A978,#REF!,8,0)))","v":0},0,1,0,0,0,0,1047.3183999999999,1047.3183999999999,1,0]
["30.59","Ponto de luz em teto ou parede, incluindo caixa 4 x 4 pol. Tigreflex ou equivalente, tubulação PVC rígido e fiação, até o quadro de distribuição.","pt",5,5,0,24.389991999999999,121.94996,25.203440000000001,126.0172,0,0,49.593432,0,247.96716000000001,null,0,0,0,0,0,null,0,1,0,0,0,0,null,0,1,0,0,0,0,null,0,1,0,0,0,0,null,0,1,0,0,0,0,null,0,1,0,0,0,0,{"$f":"IF(ISERROR(VLOOKUP(A987,'7ª MEDIÇÃO'!$A$5:$J$1048576,8,0)),0,(VLOOKUP(A987,'7ª MEDIÇÃO'!$A$5:$J$1048576,8,0)))","v":0},0,1,0,0,0,0,{"$f":"IF(ISERROR(VLOOKUP(A987,'8ª MEDIÇÃO'!$A$5:$J$1048576,8,0)),0,(VLOOKUP(A987,'8ª MEDIÇÃO'!$A$5:$J$1048576,8,0)))","v":0},0,1,0,0,0,0,{"$f":"IF(ISERROR(VLOOKUP(A987,'9ª MEDIÇÃO'!$A$5:$J$1048576,8,0)),0,(VLOOKUP(A987,'9ª MEDIÇÃO'!$A$5:$J$1048576,8,0)))","v":0},0,1,0,0,0,0,{"$f":"IF(ISERROR(VLOOKUP(A987,#REF!,8,0)),0,(VLOOKUP(A987,#REF!,8,0)))","v":0},0,1,0,0,0,0,{"$f":"IF(ISERROR(VLOOKUP($A987,#REF!,8,0)),0,(VLOOKUP($A987,#REF!,8,0)))","v":0},0,1,0,0,0,0,{"$f":"IF(ISERROR(VLOOKUP($A987,#REF!,8,0)),0,(VLOOKUP($A987,#REF!,8,0)))","v":0},0,1,0,0,0,0,{"$f":"IF(ISERROR(VLOOKUP($A987,#REF!,8,0)),0,(VLOOKUP($A987,#REF!,8,0)))","v":0},0,1,0,0,0,0,{"$f":"IF(ISERROR(VLOOKUP($A987,#REF!,8,0)),0,(VLOOKUP($A987,#REF!,8,0)))","v":0},0,1,0,0,0,0,{"$f":"IF(ISERROR(VLOOKUP($A987,#REF!,8,0)),0,(VLOOKUP($A987,#REF!,8,0)))","v":0},0,1,0,0,0,0,{"$f":"IF(ISERROR(VLOOKUP($A987,#REF!,8,0)),0,(VLOOKUP($A987,#REF!,8,0)))","v":0},0,1,0,0,0,0,{"$f":"IF(ISERROR(VLOOKUP($A987,#REF!,8,0)),0,(VLOOKUP($A987,#REF!,8,0)))","v":0},0,1,0,0,0,0,{"$f":"IF(ISERROR(VLOOKUP($A987,#REF!,8,0)),0,(VLOOKUP($A987,#REF!,8,0)))","v":0},0,1,0,0,0,0,{"$f":"IF(ISERROR(VLOOKUP($A987,#REF!,8,0)),0,(VLOOKUP($A987,#REF!,8,0)))","v":0},0,1,0,0,0,0,{"$f":"IF(ISERROR(VLOOKUP($A987,#REF!,8,0)),0,(VLOOKUP($A987,#REF!,8,0)))","v":0},0,1,0,0,0,0,{"$f":"IF(ISERROR(VLOOKUP($A987,#REF!,8,0)),0,(VLOOKUP($A987,#REF!,8,0)))","v":0},0,1,0,0,0,0,{"$f":"IF(ISERROR(VLOOKUP($A987,#REF!,8,0)),0,(VLOOKUP($A987,#REF!,8,0)))","v":0},0,1,0,0,0,0,{"$f":"IF(ISERROR(VLOOKUP($A987,#REF!,8,0)),0,(VLOOKUP($A987,#REF!,8,0)))","v":0},0,1,0,0,0,0,{"$f":"IF(ISERROR(VLOOKUP($A987,#REF!,8,0)),0,(VLOOKUP($A987,#REF!,8,0)))","v":0},0,1,0,0,0,0,{"$f":"IF(ISERROR(VLOOKUP($A987,#REF!,8,0)),0,(VLOOKUP($A987,#REF!,8,0)))","v":0},0,1,0,0,0,0,{"$f":"IF(ISERROR(VLOOKUP($A987,#REF!,8,0)),0,(VLOOKUP($A987,#REF!,8,0)))","v":0},0,1,0,0,0,0,{"$f":"IF(ISERROR(VLOOKUP($A987,#REF!,8,0)),0,(VLOOKUP($A987,#REF!,8,0)))","v":0},0,1,0,0,0,0,{"$f":"IF(ISERROR(VLOOKUP($A987,#REF!,8,0)),0,(VLOOKUP($A987,#REF!,8,0)))","v":0},0,1,0,0,0,0,{"$f":"IF(ISERROR(VLOOKUP($A987,#REF!,8,0)),0,(VLOOKUP($A987,#REF!,8,0)))","v":0},0,1,0,0,0,0,{"$f":"IF(ISERROR(VLOOKUP($A987,#REF!,8,0)),0,(VLOOKUP($A987,#REF!,8,0)))","v":0},0,1,0,0,0,0,{"$f":"IF(ISERROR(VLOOKUP($A987,#REF!,8,0)),0,(VLOOKUP($A987,#REF!,8,0)))","v":0},0,1,0,0,0,0,{"$f":"IF(ISERROR(VLOOKUP($A987,#REF!,8,0)),0,(VLOOKUP($A987,#REF!,8,0)))","v":0},0,1,0,0,0,0,{"$f":"IF(ISERROR(VLOOKUP($A987,#REF!,8,0)),0,(VLOOKUP($A987,#REF!,8,0)))","v":0},0,1,0,0,0,0,{"$f":"IF(ISERROR(VLOOKUP($A987,#REF!,8,0)),0,(VLOOKUP($A987,#REF!,8,0)))","v":0},0,1,0,0,0,0,{"$f":"IF(ISERROR(VLOOKUP($A987,#REF!,8,0)),0,(VLOOKUP($A987,#REF!,8,0)))","v":0},0,1,0,0,0,0,{"$f":"IF(ISERROR(VLOOKUP($A987,#REF!,8,0)),0,(VLOOKUP($A987,#REF!,8,0)))","v":0},0,1,0,0,0,0,{"$f":"IF(ISERROR(VLOOKUP($A987,#REF!,8,0)),0,(VLOOKUP($A987,#REF!,8,0)))","v":0},0,1,0,0,0,0,{"$f":"IF(ISERROR(VLOOKUP($A987,#REF!,8,0)),0,(VLOOKUP($A987,#REF!,8,0)))","v":0},0,1,0,0,0,0,{"$f":"IF(ISERROR(VLOOKUP($A987,#REF!,8,0)),0,(VLOOKUP($A987,#REF!,8,0)))","v":0},0,1,0,0,0,0,{"$f":"IF(ISERROR(VLOOKUP($A987,#REF!,8,0)),0,(VLOOKUP($A987,#REF!,8,0)))","v":0},0,1,0,0,0,0,{"$f":"IF(ISERROR(VLOOKUP($A987,#REF!,8,0)),0,(VLOOKUP($A987,#REF!,8,0)))","v":0},0,1,0,0,0,0,{"$f":"IF(ISERROR(VLOOKUP($A987,#REF!,8,0)),0,(VLOOKUP($A987,#REF!,8,0)))","v":0},0,1,0,0,0,0,{"$f":"IF(ISERROR(VLOOKUP($A987,#REF!,8,0)),0,(VLOOKUP($A987,#REF!,8,0)))","v":0},0,1,0,0,0,0,{"$f":"IF(ISERROR(VLOOKUP($A987,#REF!,8,0)),0,(VLOOKUP($A987,#REF!,8,0)))","v":0},0,1,0,0,0,0,{"$f":"IF(ISERROR(VLOOKUP($A987,#REF!,8,0)),0,(VLOOKUP($A987,#REF!,8,0)))","v":0},0,1,0,0,0,0,{"$f":"IF(ISERROR(VLOOKUP($A987,#REF!,8,0)),0,(VLOOKUP($A987,#REF!,8,0)))","v":0},0,1,0,0,0,0,{"$f":"IF(ISERROR(VLOOKUP($A987,#REF!,8,0)),0,(VLOOKUP($A987,#REF!,8,0)))","v":0},0,1,0,0,0,0,{"$f":"IF(ISERROR(VLOOKUP($A987,#REF!,8,0)),0,(VLOOKUP($A987,#REF!,8,0)))","v":0},0,1,0,0,0,0,{"$f":"IF(ISERROR(VLOOKUP($A987,#REF!,8,0)),0,(VLOOKUP($A987,#REF!,8,0)))","v":0},0,1,0,0,0,0,{"$f":"IF(ISERROR(VLOOKUP($A987,#REF!,8,0)),0,(VLOOKUP($A987,#REF!,8,0)))","v":0},0,1,0,0,0,0,{"$f":"IF(ISERROR(VLOOKUP($A987,#REF!,8,0)),0,(VLOOKUP($A987,#REF!,8,0)))","v":0},0,1,0,0,0,0,{"$f":"IF(ISERROR(VLOOKUP($A987,#REF!,8,0)),0,(VLOOKUP($A987,#REF!,8,0)))","v":0},0,1,0,0,0,0,{"$f":"IF(ISERROR(VLOOKUP($A987,#REF!,8,0)),0,(VLOOKUP($A987,#REF!,8,0)))","v":0},0,1,0,0,0,0,{"$f":"IF(ISERROR(VLOOKUP($A987,#REF!,8,0)),0,(VLOOKUP($A987,#REF!,8,0)))","v":0},0,1,0,0,0,0,{"$f":"IF(ISERROR(VLOOKUP($A987,#REF!,8,0)),0,(VLOOKUP($A987,#REF!,8,0)))","v":0},0,1,0,0,0,0,247.96716000000001,247.96716000000001,1,0]
["30.68","Fornecimento e instalação de cabo de cobre nu 35mm² classe 2 normatizado","m",50,50,0,18.776047999999999,938.80239999999992,5.2372399999999999,261.86199999999997,0,0,24.013287999999999,0,1200.6643999999999,null,0,0,0,0,0,null,0,1,0,0,0,0,null,0,1,0,0,0,0,null,0,1,0,0,0,0,null,0,1,0,0,0,0,null,0,1,0,0,0,0,{"$f":"IF(ISERROR(VLOOKUP(A996,'7ª MEDIÇÃO'!$A$5:$J$1048576,8,0)),0,(VLOOKUP(A996,'7ª MEDIÇÃO'!$A$5:$J$1048576,8,0)))","v":0},0,1,0,0,0,0,{"$f":"IF(ISERROR(VLOOKUP(A996,'8ª MEDIÇÃO'!$A$5:$J$1048576,8,0)),0,(VLOOKUP(A996,'8ª MEDIÇÃO'!$A$5:$J$1048576,8,0)))","v":0},0,1,0,0,0,0,{"$f":"IF(ISERROR(VLOOKUP(A996,'9ª MEDIÇÃO'!$A$5:$J$1048576,8,0)),0,(VLOOKUP(A996,'9ª MEDIÇÃO'!$A$5:$J$1048576,8,0)))","v":0},0,1,0,0,0,0,{"$f":"IF(ISERROR(VLOOKUP(A996,#REF!,8,0)),0,(VLOOKUP(A996,#REF!,8,0)))","v":0},0,1,0,0,0,0,{"$f":"IF(ISERROR(VLOOKUP($A996,#REF!,8,0)),0,(VLOOKUP($A996,#REF!,8,0)))","v":0},0,1,0,0,0,0,{"$f":"IF(ISERROR(VLOOKUP($A996,#REF!,8,0)),0,(VLOOKUP($A996,#REF!,8,0)))","v":0},0,1,0,0,0,0,{"$f":"IF(ISERROR(VLOOKUP($A996,#REF!,8,0)),0,(VLOOKUP($A996,#REF!,8,0)))","v":0},0,1,0,0,0,0,{"$f":"IF(ISERROR(VLOOKUP($A996,#REF!,8,0)),0,(VLOOKUP($A996,#REF!,8,0)))","v":0},0,1,0,0,0,0,{"$f":"IF(ISERROR(VLOOKUP($A996,#REF!,8,0)),0,(VLOOKUP($A996,#REF!,8,0)))","v":0},0,1,0,0,0,0,{"$f":"IF(ISERROR(VLOOKUP($A996,#REF!,8,0)),0,(VLOOKUP($A996,#REF!,8,0)))","v":0},0,1,0,0,0,0,{"$f":"IF(ISERROR(VLOOKUP($A996,#REF!,8,0)),0,(VLOOKUP($A996,#REF!,8,0)))","v":0},0,1,0,0,0,0,{"$f":"IF(ISERROR(VLOOKUP($A996,#REF!,8,0)),0,(VLOOKUP($A996,#REF!,8,0)))","v":0},0,1,0,0,0,0,{"$f":"IF(ISERROR(VLOOKUP($A996,#REF!,8,0)),0,(VLOOKUP($A996,#REF!,8,0)))","v":0},0,1,0,0,0,0,{"$f":"IF(ISERROR(VLOOKUP($A996,#REF!,8,0)),0,(VLOOKUP($A996,#REF!,8,0)))","v":0},0,1,0,0,0,0,{"$f":"IF(ISERROR(VLOOKUP($A996,#REF!,8,0)),0,(VLOOKUP($A996,#REF!,8,0)))","v":0},0,1,0,0,0,0,{"$f":"IF(ISERROR(VLOOKUP($A996,#REF!,8,0)),0,(VLOOKUP($A996,#REF!,8,0)))","v":0},0,1,0,0,0,0,{"$f":"IF(ISERROR(VLOOKUP($A996,#REF!,8,0)),0,(VLOOKUP($A996,#REF!,8,0)))","v":0},0,1,0,0,0,0,{"$f":"IF(ISERROR(VLOOKUP($A996,#REF!,8,0)),0,(VLOOKUP($A996,#REF!,8,0)))","v":0},0,1,0,0,0,0,{"$f":"IF(ISERROR(VLOOKUP($A996,#REF!,8,0)),0,(VLOOKUP($A996,#REF!,8,0)))","v":0},0,1,0,0,0,0,{"$f":"IF(ISERROR(VLOOKUP($A996,#REF!,8,0)),0,(VLOOKUP($A996,#REF!,8,0)))","v":0},0,1,0,0,0,0,{"$f":"IF(ISERROR(VLOOKUP($A996,#REF!,8,0)),0,(VLOOKUP($A996,#REF!,8,0)))","v":0},0,1,0,0,0,0,{"$f":"IF(ISERROR(VLOOKUP($A996,#REF!,8,0)),0,(VLOOKUP($A996,#REF!,8,0)))","v":0},0,1,0,0,0,0,{"$f":"IF(ISERROR(VLOOKUP($A996,#REF!,8,0)),0,(VLOOKUP($A996,#REF!,8,0)))","v":0},0,1,0,0,0,0,{"$f":"IF(ISERROR(VLOOKUP($A996,#REF!,8,0)),0,(VLOOKUP($A996,#REF!,8,0)))","v":0},0,1,0,0,0,0,{"$f":"IF(ISERROR(VLOOKUP($A996,#REF!,8,0)),0,(VLOOKUP($A996,#REF!,8,0)))","v":0},0,1,0,0,0,0,{"$f":"IF(ISERROR(VLOOKUP($A996,#REF!,8,0)),0,(VLOOKUP($A996,#REF!,8,0)))","v":0},0,1,0,0,0,0,{"$f":"IF(ISERROR(VLOOKUP($A996,#REF!,8,0)),0,(VLOOKUP($A996,#REF!,8,0)))","v":0},0,1,0,0,0,0,{"$f":"IF(ISERROR(VLOOKUP($A996,#REF!,8,0)),0,(VLOOKUP($A996,#REF!,8,0)))","v":0},0,1,0,0,0,0,{"$f":"IF(ISERROR(VLOOKUP($A996,#REF!,8,0)),0,(VLOOKUP($A996,#REF!,8,0)))","v":0},0,1,0,0,0,0,{"$f":"IF(ISERROR(VLOOKUP($A996,#REF!,8,0)),0,(VLOOKUP($A996,#REF!,8,0)))","v":0},0,1,0,0,0,0,{"$f":"IF(ISERROR(VLOOKUP($A996,#REF!,8,0)),0,(VLOOKUP($A996,#REF!,8,0)))","v":0},0,1,0,0,0,0,{"$f":"IF(ISERROR(VLOOKUP($A996,#REF!,8,0)),0,(VLOOKUP($A996,#REF!,8,0)))","v":0},0,1,0,0,0,0,{"$f":"IF(ISERROR(VLOOKUP($A996,#REF!,8,0)),0,(VLOOKUP($A996,#REF!,8,0)))","v":0},0,1,0,0,0,0,{"$f":"IF(ISERROR(VLOOKUP($A996,#REF!,8,0)),0,(VLOOKUP($A996,#REF!,8,0)))","v":0},0,1,0,0,0,0,{"$f":"IF(ISERROR(VLOOKUP($A996,#REF!,8,0)),0,(VLOOKUP($A996,#REF!,8,0)))","v":0},0,1,0,0,0,0,{"$f":"IF(ISERROR(VLOOKUP($A996,#REF!,8,0)),0,(VLOOKUP($A996,#REF!,8,0)))","v":0},0,1,0,0,0,0,{"$f":"IF(ISERROR(VLOOKUP($A996,#REF!,8,0)),0,(VLOOKUP($A996,#REF!,8,0)))","v":0},0,1,0,0,0,0,{"$f":"IF(ISERROR(VLOOKUP($A996,#REF!,8,0)),0,(VLOOKUP($A996,#REF!,8,0)))","v":0},0,1,0,0,0,0,{"$f":"IF(ISERROR(VLOOKUP($A996,#REF!,8,0)),0,(VLOOKUP($A996,#REF!,8,0)))","v":0},0,1,0,0,0,0,{"$f":"IF(ISERROR(VLOOKUP($A996,#REF!,8,0)),0,(VLOOKUP($A996,#REF!,8,0)))","v":0},0,1,0,0,0,0,{"$f":"IF(ISERROR(VLOOKUP($A996,#REF!,8,0)),0,(VLOOKUP($A996,#REF!,8,0)))","v":0},0,1,0,0,0,0,{"$f":"IF(ISERROR(VLOOKUP($A996,#REF!,8,0)),0,(VLOOKUP($A996,#REF!,8,0)))","v":0},0,1,0,0,0,0,{"$f":"IF(ISERROR(VLOOKUP($A996,#REF!,8,0)),0,(VLOOKUP($A996,#REF!,8,0)))","v":0},0,1,0,0,0,0,{"$f":"IF(ISERROR(VLOOKUP($A996,#REF!,8,0)),0,(VLOOKUP($A996,#REF!,8,0)))","v":0},0,1,0,0,0,0,{"$f":"IF(ISERROR(VLOOKUP($A996,#REF!,8,0)),0,(VLOOKUP($A996,#REF!,8,0)))","v":0},0,1,0,0,0,0,{"$f":"IF(ISERROR(VLOOKUP($A996,#REF!,8,0)),0,(VLOOKUP($A996,#REF!,8,0)))","v":0},0,1,0,0,0,0,{"$f":"IF(ISERROR(VLOOKUP($A996,#REF!,8,0)),0,(VLOOKUP($A996,#REF!,8,0)))","v":0},0,1,0,0,0,0,{"$f":"IF(ISERROR(VLOOKUP($A996,#REF!,8,0)),0,(VLOOKUP($A996,#REF!,8,0)))","v":0},0,1,0,0,0,0,{"$f":"IF(ISERROR(VLOOKUP($A996,#REF!,8,0)),0,(VLOOKUP($A996,#REF!,8,0)))","v":0},0,1,0,0,0,0,1200.6643999999999,1200.6643999999999,1,0]
["31.02","Luminária tipo arandela, externa, em alumínio fundido, pintado na cor branca, com difusor em vidro prismático transparente, inclusive com uma lâmpada fluorescente compacta eletrônica de 14 W, Philips ou equivalente,  demais acessórios e instalação.","cj",14,14,0,88.030416000000002,1232.4258239999999,24.954639999999998,349.36496,0,0,112.985056,0,1581.790784,null,0,0,0,0,0,null,0,1,0,0,0,0,null,0,1,0,0,0,0,null,0,1,0,0,0,0,null,0,1,0,0,0,0,null,0,1,0,0,0,0,{"$f":"IF(ISERROR(VLOOKUP(A1005,'7ª MEDIÇÃO'!$A$5:$J$1048576,8,0)),0,(VLOOKUP(A1005,'7ª MEDIÇÃO'!$A$5:$J$1048576,8,0)))","v":0},0,1,0,0,0,0,{"$f":"IF(ISERROR(VLOOKUP(A1005,'8ª MEDIÇÃO'!$A$5:$J$1048576,8,0)),0,(VLOOKUP(A1005,'8ª MEDIÇÃO'!$A$5:$J$1048576,8,0)))","v":0},0,1,0,0,0,0,{"$f":"IF(ISERROR(VLOOKUP(A1005,'9ª MEDIÇÃO'!$A$5:$J$1048576,8,0)),0,(VLOOKUP(A1005,'9ª MEDIÇÃO'!$A$5:$J$1048576,8,0)))","v":0},0,1,0,0,0,0,{"$f":"IF(ISERROR(VLOOKUP(A1005,#REF!,8,0)),0,(VLOOKUP(A1005,#REF!,8,0)))","v":0},0,1,0,0,0,0,{"$f":"IF(ISERROR(VLOOKUP($A1005,#REF!,8,0)),0,(VLOOKUP($A1005,#REF!,8,0)))","v":0},0,1,0,0,0,0,{"$f":"IF(ISERROR(VLOOKUP($A1005,#REF!,8,0)),0,(VLOOKUP($A1005,#REF!,8,0)))","v":0},0,1,0,0,0,0,{"$f":"IF(ISERROR(VLOOKUP($A1005,#REF!,8,0)),0,(VLOOKUP($A1005,#REF!,8,0)))","v":0},0,1,0,0,0,0,{"$f":"IF(ISERROR(VLOOKUP($A1005,#REF!,8,0)),0,(VLOOKUP($A1005,#REF!,8,0)))","v":0},0,1,0,0,0,0,{"$f":"IF(ISERROR(VLOOKUP($A1005,#REF!,8,0)),0,(VLOOKUP($A1005,#REF!,8,0)))","v":0},0,1,0,0,0,0,{"$f":"IF(ISERROR(VLOOKUP($A1005,#REF!,8,0)),0,(VLOOKUP($A1005,#REF!,8,0)))","v":0},0,1,0,0,0,0,{"$f":"IF(ISERROR(VLOOKUP($A1005,#REF!,8,0)),0,(VLOOKUP($A1005,#REF!,8,0)))","v":0},0,1,0,0,0,0,{"$f":"IF(ISERROR(VLOOKUP($A1005,#REF!,8,0)),0,(VLOOKUP($A1005,#REF!,8,0)))","v":0},0,1,0,0,0,0,{"$f":"IF(ISERROR(VLOOKUP($A1005,#REF!,8,0)),0,(VLOOKUP($A1005,#REF!,8,0)))","v":0},0,1,0,0,0,0,{"$f":"IF(ISERROR(VLOOKUP($A1005,#REF!,8,0)),0,(VLOOKUP($A1005,#REF!,8,0)))","v":0},0,1,0,0,0,0,{"$f":"IF(ISERROR(VLOOKUP($A1005,#REF!,8,0)),0,(VLOOKUP($A1005,#REF!,8,0)))","v":0},0,1,0,0,0,0,{"$f":"IF(ISERROR(VLOOKUP($A1005,#REF!,8,0)),0,(VLOOKUP($A1005,#REF!,8,0)))","v":0},0,1,0,0,0,0,{"$f":"IF(ISERROR(VLOOKUP($A1005,#REF!,8,0)),0,(VLOOKUP($A1005,#REF!,8,0)))","v":0},0,1,0,0,0,0,{"$f":"IF(ISERROR(VLOOKUP($A1005,#REF!,8,0)),0,(VLOOKUP($A1005,#REF!,8,0)))","v":0},0,1,0,0,0,0,{"$f":"IF(ISERROR(VLOOKUP($A1005,#REF!,8,0)),0,(VLOOKUP($A1005,#REF!,8,0)))","v":0},0,1,0,0,0,0,{"$f":"IF(ISERROR(VLOOKUP($A1005,#REF!,8,0)),0,(VLOOKUP($A1005,#REF!,8,0)))","v":0},0,1,0,0,0,0,{"$f":"IF(ISERROR(VLOOKUP($A1005,#REF!,8,0)),0,(VLOOKUP($A1005,#REF!,8,0)))","v":0},0,1,0,0,0,0,{"$f":"IF(ISERROR(VLOOKUP($A1005,#REF!,8,0)),0,(VLOOKUP($A1005,#REF!,8,0)))","v":0},0,1,0,0,0,0,{"$f":"IF(ISERROR(VLOOKUP($A1005,#REF!,8,0)),0,(VLOOKUP($A1005,#REF!,8,0)))","v":0},0,1,0,0,0,0,{"$f":"IF(ISERROR(VLOOKUP($A1005,#REF!,8,0)),0,(VLOOKUP($A1005,#REF!,8,0)))","v":0},0,1,0,0,0,0,{"$f":"IF(ISERROR(VLOOKUP($A1005,#REF!,8,0)),0,(VLOOKUP($A1005,#REF!,8,0)))","v":0},0,1,0,0,0,0,{"$f":"IF(ISERROR(VLOOKUP($A1005,#REF!,8,0)),0,(VLOOKUP($A1005,#REF!,8,0)))","v":0},0,1,0,0,0,0,{"$f":"IF(ISERROR(VLOOKUP($A1005,#REF!,8,0)),0,(VLOOKUP($A1005,#REF!,8,0)))","v":0},0,1,0,0,0,0,{"$f":"IF(ISERROR(VLOOKUP($A1005,#REF!,8,0)),0,(VLOOKUP($A1005,#REF!,8,0)))","v":0},0,1,0,0,0,0,{"$f":"IF(ISERROR(VLOOKUP($A1005,#REF!,8,0)),0,(VLOOKUP($A1005,#REF!,8,0)))","v":0},0,1,0,0,0,0,{"$f":"IF(ISERROR(VLOOKUP($A1005,#REF!,8,0)),0,(VLOOKUP($A1005,#REF!,8,0)))","v":0},0,1,0,0,0,0,{"$f":"IF(ISERROR(VLOOKUP($A1005,#REF!,8,0)),0,(VLOOKUP($A1005,#REF!,8,0)))","v":0},0,1,0,0,0,0,{"$f":"IF(ISERROR(VLOOKUP($A1005,#REF!,8,0)),0,(VLOOKUP($A1005,#REF!,8,0)))","v":0},0,1,0,0,0,0,{"$f":"IF(ISERROR(VLOOKUP($A1005,#REF!,8,0)),0,(VLOOKUP($A1005,#REF!,8,0)))","v":0},0,1,0,0,0,0,{"$f":"IF(ISERROR(VLOOKUP($A1005,#REF!,8,0)),0,(VLOOKUP($A1005,#REF!,8,0)))","v":0},0,1,0,0,0,0,{"$f":"IF(ISERROR(VLOOKUP($A1005,#REF!,8,0)),0,(VLOOKUP($A1005,#REF!,8,0)))","v":0},0,1,0,0,0,0,{"$f":"IF(ISERROR(VLOOKUP($A1005,#REF!,8,0)),0,(VLOOKUP($A1005,#REF!,8,0)))","v":0},0,1,0,0,0,0,{"$f":"IF(ISERROR(VLOOKUP($A1005,#REF!,8,0)),0,(VLOOKUP($A1005,#REF!,8,0)))","v":0},0,1,0,0,0,0,{"$f":"IF(ISERROR(VLOOKUP($A1005,#REF!,8,0)),0,(VLOOKUP($A1005,#REF!,8,0)))","v":0},0,1,0,0,0,0,{"$f":"IF(ISERROR(VLOOKUP($A1005,#REF!,8,0)),0,(VLOOKUP($A1005,#REF!,8,0)))","v":0},0,1,0,0,0,0,{"$f":"IF(ISERROR(VLOOKUP($A1005,#REF!,8,0)),0,(VLOOKUP($A1005,#REF!,8,0)))","v":0},0,1,0,0,0,0,{"$f":"IF(ISERROR(VLOOKUP($A1005,#REF!,8,0)),0,(VLOOKUP($A1005,#REF!,8,0)))","v":0},0,1,0,0,0,0,{"$f":"IF(ISERROR(VLOOKUP($A1005,#REF!,8,0)),0,(VLOOKUP($A1005,#REF!,8,0)))","v":0},0,1,0,0,0,0,{"$f":"IF(ISERROR(VLOOKUP($A1005,#REF!,8,0)),0,(VLOOKUP($A1005,#REF!,8,0)))","v":0},0,1,0,0,0,0,{"$f":"IF(ISERROR(VLOOKUP($A1005,#REF!,8,0)),0,(VLOOKUP($A1005,#REF!,8,0)))","v":0},0,1,0,0,0,0,{"$f":"IF(ISERROR(VLOOKUP($A1005,#REF!,8,0)),0,(VLOOKUP($A1005,#REF!,8,0)))","v":0},0,1,0,0,0,0,{"$f":"IF(ISERROR(VLOOKUP($A1005,#REF!,8,0)),0,(VLOOKUP($A1005,#REF!,8,0)))","v":0},0,1,0,0,0,0,{"$f":"IF(ISERROR(VLOOKUP($A1005,#REF!,8,0)),0,(VLOOKUP($A1005,#REF!,8,0)))","v":0},0,1,0,0,0,0,{"$f":"IF(ISERROR(VLOOKUP($A1005,#REF!,8,0)),0,(VLOOKUP($A1005,#REF!,8,0)))","v":0},0,1,0,0,0,0,{"$f":"IF(ISERROR(VLOOKUP($A1005,#REF!,8,0)),0,(VLOOKUP($A1005,#REF!,8,0)))","v":0},0,1,0,0,0,0,1581.790784,1581.790784,1,0]
["31.09","Fornecimento de tubos de ferro galvanizado, de 3\", inclusive conexões e abertura de rasgos em alvenaria, para colunas de água, para hidrante.","m",170,0,170,77.415816000000007,13160.688720000002,24.954639999999998,4242.2887999999994,0,0,102.370456,17402.97752,0,null,0,0,0,0,0,null,0,0,0,0,0,0,null,0,0,0,0,0,0,null,0,0,0,0,0,0,null,0,0,0,0,0,0,null,0,0,0,0,0,0,{"$f":"IF(ISERROR(VLOOKUP(A1012,'7ª MEDIÇÃO'!$A$5:$J$1048576,8,0)),0,(VLOOKUP(A1012,'7ª MEDIÇÃO'!$A$5:$J$1048576,8,0)))","v":0},0,0,0,0,0,0,{"$f":"IF(ISERROR(VLOOKUP(A1012,'8ª MEDIÇÃO'!$A$5:$J$1048576,8,0)),0,(VLOOKUP(A1012,'8ª MEDIÇÃO'!$A$5:$J$1048576,8,0)))","v":0},0,0,0,0,0,0,{"$f":"IF(ISERROR(VLOOKUP(A1012,'9ª MEDIÇÃO'!$A$5:$J$1048576,8,0)),0,(VLOOKUP(A1012,'9ª MEDIÇÃO'!$A$5:$J$1048576,8,0)))","v":0},0,0,0,0,0,0,{"$f":"IF(ISERROR(VLOOKUP(A1012,#REF!,8,0)),0,(VLOOKUP(A1012,#REF!,8,0)))","v":0},0,0,0,0,0,0,{"$f":"IF(ISERROR(VLOOKUP($A1012,#REF!,8,0)),0,(VLOOKUP($A1012,#REF!,8,0)))","v":0},0,0,0,0,0,0,{"$f":"IF(ISERROR(VLOOKUP($A1012,#REF!,8,0)),0,(VLOOKUP($A1012,#REF!,8,0)))","v":0},0,0,0,0,0,0,{"$f":"IF(ISERROR(VLOOKUP($A1012,#REF!,8,0)),0,(VLOOKUP($A1012,#REF!,8,0)))","v":0},0,0,0,0,0,0,{"$f":"IF(ISERROR(VLOOKUP($A1012,#REF!,8,0)),0,(VLOOKUP($A1012,#REF!,8,0)))","v":0},0,0,0,0,0,0,{"$f":"IF(ISERROR(VLOOKUP($A1012,#REF!,8,0)),0,(VLOOKUP($A1012,#REF!,8,0)))","v":0},0,0,0,0,0,0,{"$f":"IF(ISERROR(VLOOKUP($A1012,#REF!,8,0)),0,(VLOOKUP($A1012,#REF!,8,0)))","v":0},0,0,0,0,0,0,{"$f":"IF(ISERROR(VLOOKUP($A1012,#REF!,8,0)),0,(VLOOKUP($A1012,#REF!,8,0)))","v":0},0,0,0,0,0,0,{"$f":"IF(ISERROR(VLOOKUP($A1012,#REF!,8,0)),0,(VLOOKUP($A1012,#REF!,8,0)))","v":0},0,0,0,0,0,0,{"$f":"IF(ISERROR(VLOOKUP($A1012,#REF!,8,0)),0,(VLOOKUP($A1012,#REF!,8,0)))","v":0},0,0,0,0,0,0,{"$f":"IF(ISERROR(VLOOKUP($A1012,#REF!,8,0)),0,(VLOOKUP($A1012,#REF!,8,0)))","v":0},0,0,0,0,0,0,{"$f":"IF(ISERROR(VLOOKUP($A1012,#REF!,8,0)),0,(VLOOKUP($A1012,#REF!,8,0)))","v":0},0,0,0,0,0,0,{"$f":"IF(ISERROR(VLOOKUP($A1012,#REF!,8,0)),0,(VLOOKUP($A1012,#REF!,8,0)))","v":0},0,0,0,0,0,0,{"$f":"IF(ISERROR(VLOOKUP($A1012,#REF!,8,0)),0,(VLOOKUP($A1012,#REF!,8,0)))","v":0},0,0,0,0,0,0,{"$f":"IF(ISERROR(VLOOKUP($A1012,#REF!,8,0)),0,(VLOOKUP($A1012,#REF!,8,0)))","v":0},0,0,0,0,0,0,{"$f":"IF(ISERROR(VLOOKUP($A1012,#REF!,8,0)),0,(VLOOKUP($A1012,#REF!,8,0)))","v":0},0,0,0,0,0,0,{"$f":"IF(ISERROR(VLOOKUP($A1012,#REF!,8,0)),0,(VLOOKUP($A1012,#REF!,8,0)))","v":0},0,0,0,0,0,0,{"$f":"IF(ISERROR(VLOOKUP($A1012,#REF!,8,0)),0,(VLOOKUP($A1012,#REF!,8,0)))","v":0},0,0,0,0,0,0,{"$f":"IF(ISERROR(VLOOKUP($A1012,#REF!,8,0)),0,(VLOOKUP($A1012,#REF!,8,0)))","v":0},0,0,0,0,0,0,{"$f":"IF(ISERROR(VLOOKUP($A1012,#REF!,8,0)),0,(VLOOKUP($A1012,#REF!,8,0)))","v":0},0,0,0,0,0,0,{"$f":"IF(ISERROR(VLOOKUP($A1012,#REF!,8,0)),0,(VLOOKUP($A1012,#REF!,8,0)))","v":0},0,0,0,0,0,0,{"$f":"IF(ISERROR(VLOOKUP($A1012,#REF!,8,0)),0,(VLOOKUP($A1012,#REF!,8,0)))","v":0},0,0,0,0,0,0,{"$f":"IF(ISERROR(VLOOKUP($A1012,#REF!,8,0)),0,(VLOOKUP($A1012,#REF!,8,0)))","v":0},0,0,0,0,0,0,{"$f":"IF(ISERROR(VLOOKUP($A1012,#REF!,8,0)),0,(VLOOKUP($A1012,#REF!,8,0)))","v":0},0,0,0,0,0,0,{"$f":"IF(ISERROR(VLOOKUP($A1012,#REF!,8,0)),0,(VLOOKUP($A1012,#REF!,8,0)))","v":0},0,0,0,0,0,0,{"$f":"IF(ISERROR(VLOOKUP($A1012,#REF!,8,0)),0,(VLOOKUP($A1012,#REF!,8,0)))","v":0},0,0,0,0,0,0,{"$f":"IF(ISERROR(VLOOKUP($A1012,#REF!,8,0)),0,(VLOOKUP($A1012,#REF!,8,0)))","v":0},0,0,0,0,0,0,{"$f":"IF(ISERROR(VLOOKUP($A1012,#REF!,8,0)),0,(VLOOKUP($A1012,#REF!,8,0)))","v":0},0,0,0,0,0,0,{"$f":"IF(ISERROR(VLOOKUP($A1012,#REF!,8,0)),0,(VLOOKUP($A1012,#REF!,8,0)))","v":0},0,0,0,0,0,0,{"$f":"IF(ISERROR(VLOOKUP($A1012,#REF!,8,0)),0,(VLOOKUP($A1012,#REF!,8,0)))","v":0},0,0,0,0,0,0,{"$f":"IF(ISERROR(VLOOKUP($A1012,#REF!,8,0)),0,(VLOOKUP($A1012,#REF!,8,0)))","v":0},0,0,0,0,0,0,{"$f":"IF(ISERROR(VLOOKUP($A1012,#REF!,8,0)),0,(VLOOKUP($A1012,#REF!,8,0)))","v":0},0,0,0,0,0,0,{"$f":"IF(ISERROR(VLOOKUP($A1012,#REF!,8,0)),0,(VLOOKUP($A1012,#REF!,8,0)))","v":0},0,0,0,0,0,0,{"$f":"IF(ISERROR(VLOOKUP($A1012,#REF!,8,0)),0,(VLOOKUP($A1012,#REF!,8,0)))","v":0},0,0,0,0,0,0,{"$f":"IF(ISERROR(VLOOKUP($A1012,#REF!,8,0)),0,(VLOOKUP($A1012,#REF!,8,0)))","v":0},0,0,0,0,0,0,{"$f":"IF(ISERROR(VLOOKUP($A1012,#REF!,8,0)),0,(VLOOKUP($A1012,#REF!,8,0)))","v":0},0,0,0,0,0,0,{"$f":"IF(ISERROR(VLOOKUP($A1012,#REF!,8,0)),0,(VLOOKUP($A1012,#REF!,8,0)))","v":0},0,0,0,0,0,0,{"$f":"IF(ISERROR(VLOOKUP($A1012,#REF!,8,0)),0,(VLOOKUP($A1012,#REF!,8,0)))","v":0},0,0,0,0,0,0,{"$f":"IF(ISERROR(VLOOKUP($A1012,#REF!,8,0)),0,(VLOOKUP($A1012,#REF!,8,0)))","v":0},0,0,0,0,0,0,{"$f":"IF(ISERROR(VLOOKUP($A1012,#REF!,8,0)),0,(VLOOKUP($A1012,#REF!,8,0)))","v":0},0,0,0,0,0,0,{"$f":"IF(ISERROR(VLOOKUP($A1012,#REF!,8,0)),0,(VLOOKUP($A1012,#REF!,8,0)))","v":0},0,0,0,0,0,0,{"$f":"IF(ISERROR(VLOOKUP($A1012,#REF!,8,0)),0,(VLOOKUP($A1012,#REF!,8,0)))","v":0},0,0,0,0,0,0,{"$f":"IF(ISERROR(VLOOKUP($A1012,#REF!,8,0)),0,(VLOOKUP($A1012,#REF!,8,0)))","v":0},0,0,0,0,0,0,{"$f":"IF(ISERROR(VLOOKUP($A1012,#REF!,8,0)),0,(VLOOKUP($A1012,#REF!,8,0)))","v":0},0,0,0,0,0,0,{"$f":"IF(ISERROR(VLOOKUP($A1012,#REF!,8,0)),0,(VLOOKUP($A1012,#REF!,8,0)))","v":0},0,0,0,0,0,0,{"$f":"IF(ISERROR(VLOOKUP($A1012,#REF!,8,0)),0,(VLOOKUP($A1012,#REF!,8,0)))","v":0},0,0,0,0,0,0,0,0,{"$error":"#DIV/0!"},0]
["31.21","Tubulação de aço galvanizado pesado de  2 pol., inclusive conexões e acessórios de fixação e instalação, fabricação Tupy ou equivalente. ","m",185,64.400000000000006,120.6,47.258558000000001,8742.8332300000002,39.919960000000003,7385.1926000000003,0,0,87.178517999999997,10513.729270799999,5614.2965592,null,0,0,0,0,0,null,0,0.34810810810810816,0,0,0,0,null,0,0.34810810810810816,0,0,0,0,null,0,0.34810810810810816,0,0,0,0,null,0,0.34810810810810816,0,0,0,0,null,0,0.34810810810810816,0,0,0,0,{"$f":"IF(ISERROR(VLOOKUP(A1024,'7ª MEDIÇÃO'!$A$5:$J$1048576,8,0)),0,(VLOOKUP(A1024,'7ª MEDIÇÃO'!$A$5:$J$1048576,8,0)))","v":0},0,0.34810810810810816,0,0,0,0,{"$f":"IF(ISERROR(VLOOKUP(A1024,'8ª MEDIÇÃO'!$A$5:$J$1048576,8,0)),0,(VLOOKUP(A1024,'8ª MEDIÇÃO'!$A$5:$J$1048576,8,0)))","v":0},0,0.34810810810810816,0,0,0,0,{"$f":"IF(ISERROR(VLOOKUP(A1024,'9ª MEDIÇÃO'!$A$5:$J$1048576,8,0)),0,(VLOOKUP(A1024,'9ª MEDIÇÃO'!$A$5:$J$1048576,8,0)))","v":0},0,0.34810810810810816,0,0,0,0,{"$f":"IF(ISERROR(VLOOKUP(A1024,#REF!,8,0)),0,(VLOOKUP(A1024,#REF!,8,0)))","v":0},0,0.34810810810810816,0,0,0,0,{"$f":"IF(ISERROR(VLOOKUP($A1024,#REF!,8,0)),0,(VLOOKUP($A1024,#REF!,8,0)))","v":0},0,0.34810810810810816,0,0,0,0,{"$f":"IF(ISERROR(VLOOKUP($A1024,#REF!,8,0)),0,(VLOOKUP($A1024,#REF!,8,0)))","v":0},0,0.34810810810810816,0,0,0,0,{"$f":"IF(ISERROR(VLOOKUP($A1024,#REF!,8,0)),0,(VLOOKUP($A1024,#REF!,8,0)))","v":0},0,0.34810810810810816,0,0,0,0,{"$f":"IF(ISERROR(VLOOKUP($A1024,#REF!,8,0)),0,(VLOOKUP($A1024,#REF!,8,0)))","v":0},0,0.34810810810810816,0,0,0,0,{"$f":"IF(ISERROR(VLOOKUP($A1024,#REF!,8,0)),0,(VLOOKUP($A1024,#REF!,8,0)))","v":0},0,0.34810810810810816,0,0,0,0,{"$f":"IF(ISERROR(VLOOKUP($A1024,#REF!,8,0)),0,(VLOOKUP($A1024,#REF!,8,0)))","v":0},0,0.34810810810810816,0,0,0,0,{"$f":"IF(ISERROR(VLOOKUP($A1024,#REF!,8,0)),0,(VLOOKUP($A1024,#REF!,8,0)))","v":0},0,0.34810810810810816,0,0,0,0,{"$f":"IF(ISERROR(VLOOKUP($A1024,#REF!,8,0)),0,(VLOOKUP($A1024,#REF!,8,0)))","v":0},0,0.34810810810810816,0,0,0,0,{"$f":"IF(ISERROR(VLOOKUP($A1024,#REF!,8,0)),0,(VLOOKUP($A1024,#REF!,8,0)))","v":0},0,0.34810810810810816,0,0,0,0,{"$f":"IF(ISERROR(VLOOKUP($A1024,#REF!,8,0)),0,(VLOOKUP($A1024,#REF!,8,0)))","v":0},0,0.34810810810810816,0,0,0,0,{"$f":"IF(ISERROR(VLOOKUP($A1024,#REF!,8,0)),0,(VLOOKUP($A1024,#REF!,8,0)))","v":0},0,0.34810810810810816,0,0,0,0,{"$f":"IF(ISERROR(VLOOKUP($A1024,#REF!,8,0)),0,(VLOOKUP($A1024,#REF!,8,0)))","v":0},0,0.34810810810810816,0,0,0,0,{"$f":"IF(ISERROR(VLOOKUP($A1024,#REF!,8,0)),0,(VLOOKUP($A1024,#REF!,8,0)))","v":0},0,0.34810810810810816,0,0,0,0,{"$f":"IF(ISERROR(VLOOKUP($A1024,#REF!,8,0)),0,(VLOOKUP($A1024,#REF!,8,0)))","v":0},0,0.34810810810810816,0,0,0,0,{"$f":"IF(ISERROR(VLOOKUP($A1024,#REF!,8,0)),0,(VLOOKUP($A1024,#REF!,8,0)))","v":0},0,0.34810810810810816,0,0,0,0,{"$f":"IF(ISERROR(VLOOKUP($A1024,#REF!,8,0)),0,(VLOOKUP($A1024,#REF!,8,0)))","v":0},0,0.34810810810810816,0,0,0,0,{"$f":"IF(ISERROR(VLOOKUP($A1024,#REF!,8,0)),0,(VLOOKUP($A1024,#REF!,8,0)))","v":0},0,0.34810810810810816,0,0,0,0,{"$f":"IF(ISERROR(VLOOKUP($A1024,#REF!,8,0)),0,(VLOOKUP($A1024,#REF!,8,0)))","v":0},0,0.34810810810810816,0,0,0,0,{"$f":"IF(ISERROR(VLOOKUP($A1024,#REF!,8,0)),0,(VLOOKUP($A1024,#REF!,8,0)))","v":0},0,0.34810810810810816,0,0,0,0,{"$f":"IF(ISERROR(VLOOKUP($A1024,#REF!,8,0)),0,(VLOOKUP($A1024,#REF!,8,0)))","v":0},0,0.34810810810810816,0,0,0,0,{"$f":"IF(ISERROR(VLOOKUP($A1024,#REF!,8,0)),0,(VLOOKUP($A1024,#REF!,8,0)))","v":0},0,0.34810810810810816,0,0,0,0,{"$f":"IF(ISERROR(VLOOKUP($A1024,#REF!,8,0)),0,(VLOOKUP($A1024,#REF!,8,0)))","v":0},0,0.34810810810810816,0,0,0,0,{"$f":"IF(ISERROR(VLOOKUP($A1024,#REF!,8,0)),0,(VLOOKUP($A1024,#REF!,8,0)))","v":0},0,0.34810810810810816,0,0,0,0,{"$f":"IF(ISERROR(VLOOKUP($A1024,#REF!,8,0)),0,(VLOOKUP($A1024,#REF!,8,0)))","v":0},0,0.34810810810810816,0,0,0,0,{"$f":"IF(ISERROR(VLOOKUP($A1024,#REF!,8,0)),0,(VLOOKUP($A1024,#REF!,8,0)))","v":0},0,0.34810810810810816,0,0,0,0,{"$f":"IF(ISERROR(VLOOKUP($A1024,#REF!,8,0)),0,(VLOOKUP($A1024,#REF!,8,0)))","v":0},0,0.34810810810810816,0,0,0,0,{"$f":"IF(ISERROR(VLOOKUP($A1024,#REF!,8,0)),0,(VLOOKUP($A1024,#REF!,8,0)))","v":0},0,0.34810810810810816,0,0,0,0,{"$f":"IF(ISERROR(VLOOKUP($A1024,#REF!,8,0)),0,(VLOOKUP($A1024,#REF!,8,0)))","v":0},0,0.34810810810810816,0,0,0,0,{"$f":"IF(ISERROR(VLOOKUP($A1024,#REF!,8,0)),0,(VLOOKUP($A1024,#REF!,8,0)))","v":0},0,0.34810810810810816,0,0,0,0,{"$f":"IF(ISERROR(VLOOKUP($A1024,#REF!,8,0)),0,(VLOOKUP($A1024,#REF!,8,0)))","v":0},0,0.34810810810810816,0,0,0,0,{"$f":"IF(ISERROR(VLOOKUP($A1024,#REF!,8,0)),0,(VLOOKUP($A1024,#REF!,8,0)))","v":0},0,0.34810810810810816,0,0,0,0,{"$f":"IF(ISERROR(VLOOKUP($A1024,#REF!,8,0)),0,(VLOOKUP($A1024,#REF!,8,0)))","v":0},0,0.34810810810810816,0,0,0,0,{"$f":"IF(ISERROR(VLOOKUP($A1024,#REF!,8,0)),0,(VLOOKUP($A1024,#REF!,8,0)))","v":0},0,0.34810810810810816,0,0,0,0,{"$f":"IF(ISERROR(VLOOKUP($A1024,#REF!,8,0)),0,(VLOOKUP($A1024,#REF!,8,0)))","v":0},0,0.34810810810810816,0,0,0,0,{"$f":"IF(ISERROR(VLOOKUP($A1024,#REF!,8,0)),0,(VLOOKUP($A1024,#REF!,8,0)))","v":0},0,0.34810810810810816,0,0,0,0,{"$f":"IF(ISERROR(VLOOKUP($A1024,#REF!,8,0)),0,(VLOOKUP($A1024,#REF!,8,0)))","v":0},0,0.34810810810810816,0,0,0,0,{"$f":"IF(ISERROR(VLOOKUP($A1024,#REF!,8,0)),0,(VLOOKUP($A1024,#REF!,8,0)))","v":0},0,0.34810810810810816,0,0,0,0,{"$f":"IF(ISERROR(VLOOKUP($A1024,#REF!,8,0)),0,(VLOOKUP($A1024,#REF!,8,0)))","v":0},0,0.34810810810810816,0,0,0,0,{"$f":"IF(ISERROR(VLOOKUP($A1024,#REF!,8,0)),0,(VLOOKUP($A1024,#REF!,8,0)))","v":0},0,0.34810810810810816,0,0,0,0,{"$f":"IF(ISERROR(VLOOKUP($A1024,#REF!,8,0)),0,(VLOOKUP($A1024,#REF!,8,0)))","v":0},0,0.34810810810810816,0,0,0,0,{"$f":"IF(ISERROR(VLOOKUP($A1024,#REF!,8,0)),0,(VLOOKUP($A1024,#REF!,8,0)))","v":0},0,0.34810810810810816,0,0,0,0,{"$f":"IF(ISERROR(VLOOKUP($A1024,#REF!,8,0)),0,(VLOOKUP($A1024,#REF!,8,0)))","v":0},0,0.34810810810810816,0,0,0,0,{"$f":"IF(ISERROR(VLOOKUP($A1024,#REF!,8,0)),0,(VLOOKUP($A1024,#REF!,8,0)))","v":0},0,0.34810810810810816,0,0,0,0,{"$f":"IF(ISERROR(VLOOKUP($A1024,#REF!,8,0)),0,(VLOOKUP($A1024,#REF!,8,0)))","v":0},0,0.34810810810810816,0,0,0,0,{"$f":"IF(ISERROR(VLOOKUP($A1024,#REF!,8,0)),0,(VLOOKUP($A1024,#REF!,8,0)))","v":0},0,0.34810810810810816,0,0,0,0,5614.2965592,5614.2965592,1,0]
["31.30","Fornecimento  de bomba centrífuga de 1/2 CV jockey.Q= 60L/min, HMT= 12mca, inclusive balão de pressurização. ","un",1,0,1,523.50027799999998,523.50027799999998,199.33856,199.33856,0,0,722.83883800000001,722.83883800000001,0,null,0,0,0,0,0,null,0,0,0,0,0,0,null,0,0,0,0,0,0,null,0,0,0,0,0,0,null,0,0,0,0,0,0,null,0,0,0,0,0,0,{"$f":"IF(ISERROR(VLOOKUP(A1033,'7ª MEDIÇÃO'!$A$5:$J$1048576,8,0)),0,(VLOOKUP(A1033,'7ª MEDIÇÃO'!$A$5:$J$1048576,8,0)))","v":0},0,0,0,0,0,0,{"$f":"IF(ISERROR(VLOOKUP(A1033,'8ª MEDIÇÃO'!$A$5:$J$1048576,8,0)),0,(VLOOKUP(A1033,'8ª MEDIÇÃO'!$A$5:$J$1048576,8,0)))","v":0},0,0,0,0,0,0,{"$f":"IF(ISERROR(VLOOKUP(A1033,'9ª MEDIÇÃO'!$A$5:$J$1048576,8,0)),0,(VLOOKUP(A1033,'9ª MEDIÇÃO'!$A$5:$J$1048576,8,0)))","v":0},0,0,0,0,0,0,{"$f":"IF(ISERROR(VLOOKUP(A1033,#REF!,8,0)),0,(VLOOKUP(A1033,#REF!,8,0)))","v":0},0,0,0,0,0,0,{"$f":"IF(ISERROR(VLOOKUP($A1033,#REF!,8,0)),0,(VLOOKUP($A1033,#REF!,8,0)))","v":0},0,0,0,0,0,0,{"$f":"IF(ISERROR(VLOOKUP($A1033,#REF!,8,0)),0,(VLOOKUP($A1033,#REF!,8,0)))","v":0},0,0,0,0,0,0,{"$f":"IF(ISERROR(VLOOKUP($A1033,#REF!,8,0)),0,(VLOOKUP($A1033,#REF!,8,0)))","v":0},0,0,0,0,0,0,{"$f":"IF(ISERROR(VLOOKUP($A1033,#REF!,8,0)),0,(VLOOKUP($A1033,#REF!,8,0)))","v":0},0,0,0,0,0,0,{"$f":"IF(ISERROR(VLOOKUP($A1033,#REF!,8,0)),0,(VLOOKUP($A1033,#REF!,8,0)))","v":0},0,0,0,0,0,0,{"$f":"IF(ISERROR(VLOOKUP($A1033,#REF!,8,0)),0,(VLOOKUP($A1033,#REF!,8,0)))","v":0},0,0,0,0,0,0,{"$f":"IF(ISERROR(VLOOKUP($A1033,#REF!,8,0)),0,(VLOOKUP($A1033,#REF!,8,0)))","v":0},0,0,0,0,0,0,{"$f":"IF(ISERROR(VLOOKUP($A1033,#REF!,8,0)),0,(VLOOKUP($A1033,#REF!,8,0)))","v":0},0,0,0,0,0,0,{"$f":"IF(ISERROR(VLOOKUP($A1033,#REF!,8,0)),0,(VLOOKUP($A1033,#REF!,8,0)))","v":0},0,0,0,0,0,0,{"$f":"IF(ISERROR(VLOOKUP($A1033,#REF!,8,0)),0,(VLOOKUP($A1033,#REF!,8,0)))","v":0},0,0,0,0,0,0,{"$f":"IF(ISERROR(VLOOKUP($A1033,#REF!,8,0)),0,(VLOOKUP($A1033,#REF!,8,0)))","v":0},0,0,0,0,0,0,{"$f":"IF(ISERROR(VLOOKUP($A1033,#REF!,8,0)),0,(VLOOKUP($A1033,#REF!,8,0)))","v":0},0,0,0,0,0,0,{"$f":"IF(ISERROR(VLOOKUP($A1033,#REF!,8,0)),0,(VLOOKUP($A1033,#REF!,8,0)))","v":0},0,0,0,0,0,0,{"$f":"IF(ISERROR(VLOOKUP($A1033,#REF!,8,0)),0,(VLOOKUP($A1033,#REF!,8,0)))","v":0},0,0,0,0,0,0,{"$f":"IF(ISERROR(VLOOKUP($A1033,#REF!,8,0)),0,(VLOOKUP($A1033,#REF!,8,0)))","v":0},0,0,0,0,0,0,{"$f":"IF(ISERROR(VLOOKUP($A1033,#REF!,8,0)),0,(VLOOKUP($A1033,#REF!,8,0)))","v":0},0,0,0,0,0,0,{"$f":"IF(ISERROR(VLOOKUP($A1033,#REF!,8,0)),0,(VLOOKUP($A1033,#REF!,8,0)))","v":0},0,0,0,0,0,0,{"$f":"IF(ISERROR(VLOOKUP($A1033,#REF!,8,0)),0,(VLOOKUP($A1033,#REF!,8,0)))","v":0},0,0,0,0,0,0,{"$f":"IF(ISERROR(VLOOKUP($A1033,#REF!,8,0)),0,(VLOOKUP($A1033,#REF!,8,0)))","v":0},0,0,0,0,0,0,{"$f":"IF(ISERROR(VLOOKUP($A1033,#REF!,8,0)),0,(VLOOKUP($A1033,#REF!,8,0)))","v":0},0,0,0,0,0,0,{"$f":"IF(ISERROR(VLOOKUP($A1033,#REF!,8,0)),0,(VLOOKUP($A1033,#REF!,8,0)))","v":0},0,0,0,0,0,0,{"$f":"IF(ISERROR(VLOOKUP($A1033,#REF!,8,0)),0,(VLOOKUP($A1033,#REF!,8,0)))","v":0},0,0,0,0,0,0,{"$f":"IF(ISERROR(VLOOKUP($A1033,#REF!,8,0)),0,(VLOOKUP($A1033,#REF!,8,0)))","v":0},0,0,0,0,0,0,{"$f":"IF(ISERROR(VLOOKUP($A1033,#REF!,8,0)),0,(VLOOKUP($A1033,#REF!,8,0)))","v":0},0,0,0,0,0,0,{"$f":"IF(ISERROR(VLOOKUP($A1033,#REF!,8,0)),0,(VLOOKUP($A1033,#REF!,8,0)))","v":0},0,0,0,0,0,0,{"$f":"IF(ISERROR(VLOOKUP($A1033,#REF!,8,0)),0,(VLOOKUP($A1033,#REF!,8,0)))","v":0},0,0,0,0,0,0,{"$f":"IF(ISERROR(VLOOKUP($A1033,#REF!,8,0)),0,(VLOOKUP($A1033,#REF!,8,0)))","v":0},0,0,0,0,0,0,{"$f":"IF(ISERROR(VLOOKUP($A1033,#REF!,8,0)),0,(VLOOKUP($A1033,#REF!,8,0)))","v":0},0,0,0,0,0,0,{"$f":"IF(ISERROR(VLOOKUP($A1033,#REF!,8,0)),0,(VLOOKUP($A1033,#REF!,8,0)))","v":0},0,0,0,0,0,0,{"$f":"IF(ISERROR(VLOOKUP($A1033,#REF!,8,0)),0,(VLOOKUP($A1033,#REF!,8,0)))","v":0},0,0,0,0,0,0,{"$f":"IF(ISERROR(VLOOKUP($A1033,#REF!,8,0)),0,(VLOOKUP($A1033,#REF!,8,0)))","v":0},0,0,0,0,0,0,{"$f":"IF(ISERROR(VLOOKUP($A1033,#REF!,8,0)),0,(VLOOKUP($A1033,#REF!,8,0)))","v":0},0,0,0,0,0,0,{"$f":"IF(ISERROR(VLOOKUP($A1033,#REF!,8,0)),0,(VLOOKUP($A1033,#REF!,8,0)))","v":0},0,0,0,0,0,0,{"$f":"IF(ISERROR(VLOOKUP($A1033,#REF!,8,0)),0,(VLOOKUP($A1033,#REF!,8,0)))","v":0},0,0,0,0,0,0,{"$f":"IF(ISERROR(VLOOKUP($A1033,#REF!,8,0)),0,(VLOOKUP($A1033,#REF!,8,0)))","v":0},0,0,0,0,0,0,{"$f":"IF(ISERROR(VLOOKUP($A1033,#REF!,8,0)),0,(VLOOKUP($A1033,#REF!,8,0)))","v":0},0,0,0,0,0,0,{"$f":"IF(ISERROR(VLOOKUP($A1033,#REF!,8,0)),0,(VLOOKUP($A1033,#REF!,8,0)))","v":0},0,0,0,0,0,0,{"$f":"IF(ISERROR(VLOOKUP($A1033,#REF!,8,0)),0,(VLOOKUP($A1033,#REF!,8,0)))","v":0},0,0,0,0,0,0,{"$f":"IF(ISERROR(VLOOKUP($A1033,#REF!,8,0)),0,(VLOOKUP($A1033,#REF!,8,0)))","v":0},0,0,0,0,0,0,{"$f":"IF(ISERROR(VLOOKUP($A1033,#REF!,8,0)),0,(VLOOKUP($A1033,#REF!,8,0)))","v":0},0,0,0,0,0,0,{"$f":"IF(ISERROR(VLOOKUP($A1033,#REF!,8,0)),0,(VLOOKUP($A1033,#REF!,8,0)))","v":0},0,0,0,0,0,0,{"$f":"IF(ISERROR(VLOOKUP($A1033,#REF!,8,0)),0,(VLOOKUP($A1033,#REF!,8,0)))","v":0},0,0,0,0,0,0,{"$f":"IF(ISERROR(VLOOKUP($A1033,#REF!,8,0)),0,(VLOOKUP($A1033,#REF!,8,0)))","v":0},0,0,0,0,0,0,{"$f":"IF(ISERROR(VLOOKUP($A1033,#REF!,8,0)),0,(VLOOKUP($A1033,#REF!,8,0)))","v":0},0,0,0,0,0,0,{"$f":"IF(ISERROR(VLOOKUP($A1033,#REF!,8,0)),0,(VLOOKUP($A1033,#REF!,8,0)))","v":0},0,0,0,0,0,0,0,0,{"$error":"#DIV/0!"},0]
["31.31","Conjunto moto-bomba (centrífuga), P= 2 CV, Schneider, Dancor ou equivalente, inclusive acessórios, fixação e instalação.","un",2,0,2,918.9884800000001,1837.9769600000002,49.83464,99.669280000000001,0,0,968.82312000000013,1937.6462400000003,0,null,0,0,0,0,0,null,0,0,0,0,0,0,null,0,0,0,0,0,0,null,0,0,0,0,0,0,null,0,0,0,0,0,0,null,0,0,0,0,0,0,{"$f":"IF(ISERROR(VLOOKUP(A1034,'7ª MEDIÇÃO'!$A$5:$J$1048576,8,0)),0,(VLOOKUP(A1034,'7ª MEDIÇÃO'!$A$5:$J$1048576,8,0)))","v":0},0,0,0,0,0,0,{"$f":"IF(ISERROR(VLOOKUP(A1034,'8ª MEDIÇÃO'!$A$5:$J$1048576,8,0)),0,(VLOOKUP(A1034,'8ª MEDIÇÃO'!$A$5:$J$1048576,8,0)))","v":0},0,0,0,0,0,0,{"$f":"IF(ISERROR(VLOOKUP(A1034,'9ª MEDIÇÃO'!$A$5:$J$1048576,8,0)),0,(VLOOKUP(A1034,'9ª MEDIÇÃO'!$A$5:$J$1048576,8,0)))","v":0},0,0,0,0,0,0,{"$f":"IF(ISERROR(VLOOKUP(A1034,#REF!,8,0)),0,(VLOOKUP(A1034,#REF!,8,0)))","v":0},0,0,0,0,0,0,{"$f":"IF(ISERROR(VLOOKUP($A1034,#REF!,8,0)),0,(VLOOKUP($A1034,#REF!,8,0)))","v":0},0,0,0,0,0,0,{"$f":"IF(ISERROR(VLOOKUP($A1034,#REF!,8,0)),0,(VLOOKUP($A1034,#REF!,8,0)))","v":0},0,0,0,0,0,0,{"$f":"IF(ISERROR(VLOOKUP($A1034,#REF!,8,0)),0,(VLOOKUP($A1034,#REF!,8,0)))","v":0},0,0,0,0,0,0,{"$f":"IF(ISERROR(VLOOKUP($A1034,#REF!,8,0)),0,(VLOOKUP($A1034,#REF!,8,0)))","v":0},0,0,0,0,0,0,{"$f":"IF(ISERROR(VLOOKUP($A1034,#REF!,8,0)),0,(VLOOKUP($A1034,#REF!,8,0)))","v":0},0,0,0,0,0,0,{"$f":"IF(ISERROR(VLOOKUP($A1034,#REF!,8,0)),0,(VLOOKUP($A1034,#REF!,8,0)))","v":0},0,0,0,0,0,0,{"$f":"IF(ISERROR(VLOOKUP($A1034,#REF!,8,0)),0,(VLOOKUP($A1034,#REF!,8,0)))","v":0},0,0,0,0,0,0,{"$f":"IF(ISERROR(VLOOKUP($A1034,#REF!,8,0)),0,(VLOOKUP($A1034,#REF!,8,0)))","v":0},0,0,0,0,0,0,{"$f":"IF(ISERROR(VLOOKUP($A1034,#REF!,8,0)),0,(VLOOKUP($A1034,#REF!,8,0)))","v":0},0,0,0,0,0,0,{"$f":"IF(ISERROR(VLOOKUP($A1034,#REF!,8,0)),0,(VLOOKUP($A1034,#REF!,8,0)))","v":0},0,0,0,0,0,0,{"$f":"IF(ISERROR(VLOOKUP($A1034,#REF!,8,0)),0,(VLOOKUP($A1034,#REF!,8,0)))","v":0},0,0,0,0,0,0,{"$f":"IF(ISERROR(VLOOKUP($A1034,#REF!,8,0)),0,(VLOOKUP($A1034,#REF!,8,0)))","v":0},0,0,0,0,0,0,{"$f":"IF(ISERROR(VLOOKUP($A1034,#REF!,8,0)),0,(VLOOKUP($A1034,#REF!,8,0)))","v":0},0,0,0,0,0,0,{"$f":"IF(ISERROR(VLOOKUP($A1034,#REF!,8,0)),0,(VLOOKUP($A1034,#REF!,8,0)))","v":0},0,0,0,0,0,0,{"$f":"IF(ISERROR(VLOOKUP($A1034,#REF!,8,0)),0,(VLOOKUP($A1034,#REF!,8,0)))","v":0},0,0,0,0,0,0,{"$f":"IF(ISERROR(VLOOKUP($A1034,#REF!,8,0)),0,(VLOOKUP($A1034,#REF!,8,0)))","v":0},0,0,0,0,0,0,{"$f":"IF(ISERROR(VLOOKUP($A1034,#REF!,8,0)),0,(VLOOKUP($A1034,#REF!,8,0)))","v":0},0,0,0,0,0,0,{"$f":"IF(ISERROR(VLOOKUP($A1034,#REF!,8,0)),0,(VLOOKUP($A1034,#REF!,8,0)))","v":0},0,0,0,0,0,0,{"$f":"IF(ISERROR(VLOOKUP($A1034,#REF!,8,0)),0,(VLOOKUP($A1034,#REF!,8,0)))","v":0},0,0,0,0,0,0,{"$f":"IF(ISERROR(VLOOKUP($A1034,#REF!,8,0)),0,(VLOOKUP($A1034,#REF!,8,0)))","v":0},0,0,0,0,0,0,{"$f":"IF(ISERROR(VLOOKUP($A1034,#REF!,8,0)),0,(VLOOKUP($A1034,#REF!,8,0)))","v":0},0,0,0,0,0,0,{"$f":"IF(ISERROR(VLOOKUP($A1034,#REF!,8,0)),0,(VLOOKUP($A1034,#REF!,8,0)))","v":0},0,0,0,0,0,0,{"$f":"IF(ISERROR(VLOOKUP($A1034,#REF!,8,0)),0,(VLOOKUP($A1034,#REF!,8,0)))","v":0},0,0,0,0,0,0,{"$f":"IF(ISERROR(VLOOKUP($A1034,#REF!,8,0)),0,(VLOOKUP($A1034,#REF!,8,0)))","v":0},0,0,0,0,0,0,{"$f":"IF(ISERROR(VLOOKUP($A1034,#REF!,8,0)),0,(VLOOKUP($A1034,#REF!,8,0)))","v":0},0,0,0,0,0,0,{"$f":"IF(ISERROR(VLOOKUP($A1034,#REF!,8,0)),0,(VLOOKUP($A1034,#REF!,8,0)))","v":0},0,0,0,0,0,0,{"$f":"IF(ISERROR(VLOOKUP($A1034,#REF!,8,0)),0,(VLOOKUP($A1034,#REF!,8,0)))","v":0},0,0,0,0,0,0,{"$f":"IF(ISERROR(VLOOKUP($A1034,#REF!,8,0)),0,(VLOOKUP($A1034,#REF!,8,0)))","v":0},0,0,0,0,0,0,{"$f":"IF(ISERROR(VLOOKUP($A1034,#REF!,8,0)),0,(VLOOKUP($A1034,#REF!,8,0)))","v":0},0,0,0,0,0,0,{"$f":"IF(ISERROR(VLOOKUP($A1034,#REF!,8,0)),0,(VLOOKUP($A1034,#REF!,8,0)))","v":0},0,0,0,0,0,0,{"$f":"IF(ISERROR(VLOOKUP($A1034,#REF!,8,0)),0,(VLOOKUP($A1034,#REF!,8,0)))","v":0},0,0,0,0,0,0,{"$f":"IF(ISERROR(VLOOKUP($A1034,#REF!,8,0)),0,(VLOOKUP($A1034,#REF!,8,0)))","v":0},0,0,0,0,0,0,{"$f":"IF(ISERROR(VLOOKUP($A1034,#REF!,8,0)),0,(VLOOKUP($A1034,#REF!,8,0)))","v":0},0,0,0,0,0,0,{"$f":"IF(ISERROR(VLOOKUP($A1034,#REF!,8,0)),0,(VLOOKUP($A1034,#REF!,8,0)))","v":0},0,0,0,0,0,0,{"$f":"IF(ISERROR(VLOOKUP($A1034,#REF!,8,0)),0,(VLOOKUP($A1034,#REF!,8,0)))","v":0},0,0,0,0,0,0,{"$f":"IF(ISERROR(VLOOKUP($A1034,#REF!,8,0)),0,(VLOOKUP($A1034,#REF!,8,0)))","v":0},0,0,0,0,0,0,{"$f":"IF(ISERROR(VLOOKUP($A1034,#REF!,8,0)),0,(VLOOKUP($A1034,#REF!,8,0)))","v":0},0,0,0,0,0,0,{"$f":"IF(ISERROR(VLOOKUP($A1034,#REF!,8,0)),0,(VLOOKUP($A1034,#REF!,8,0)))","v":0},0,0,0,0,0,0,{"$f":"IF(ISERROR(VLOOKUP($A1034,#REF!,8,0)),0,(VLOOKUP($A1034,#REF!,8,0)))","v":0},0,0,0,0,0,0,{"$f":"IF(ISERROR(VLOOKUP($A1034,#REF!,8,0)),0,(VLOOKUP($A1034,#REF!,8,0)))","v":0},0,0,0,0,0,0,{"$f":"IF(ISERROR(VLOOKUP($A1034,#REF!,8,0)),0,(VLOOKUP($A1034,#REF!,8,0)))","v":0},0,0,0,0,0,0,{"$f":"IF(ISERROR(VLOOKUP($A1034,#REF!,8,0)),0,(VLOOKUP($A1034,#REF!,8,0)))","v":0},0,0,0,0,0,0,{"$f":"IF(ISERROR(VLOOKUP($A1034,#REF!,8,0)),0,(VLOOKUP($A1034,#REF!,8,0)))","v":0},0,0,0,0,0,0,{"$f":"IF(ISERROR(VLOOKUP($A1034,#REF!,8,0)),0,(VLOOKUP($A1034,#REF!,8,0)))","v":0},0,0,0,0,0,0,{"$f":"IF(ISERROR(VLOOKUP($A1034,#REF!,8,0)),0,(VLOOKUP($A1034,#REF!,8,0)))","v":0},0,0,0,0,0,0,0,0,{"$error":"#DIV/0!"},0]
["32.02","Fornecimento de unidade interna(evaporadora) multisplit - Hiwall INVERTER, que utiliza o gás ecológico R-410A, com capacidade térmica de resfriamento nominal:12.000 BTU/H","pç",6,6,0,0,0,0,0,937.39639,5624.3783400000002,937.39639,0,5624.3783400000002,null,0,0,0,0,0,null,0,1,0,0,0,0,null,0,1,0,0,0,0,null,0,1,0,0,0,0,null,0,1,0,0,0,0,null,0,1,0,0,0,0,{"$f":"IF(ISERROR(VLOOKUP(A1043,'7ª MEDIÇÃO'!$A$5:$J$1048576,8,0)),0,(VLOOKUP(A1043,'7ª MEDIÇÃO'!$A$5:$J$1048576,8,0)))","v":0},0,1,0,0,0,0,{"$f":"IF(ISERROR(VLOOKUP(A1043,'8ª MEDIÇÃO'!$A$5:$J$1048576,8,0)),0,(VLOOKUP(A1043,'8ª MEDIÇÃO'!$A$5:$J$1048576,8,0)))","v":0},0,1,0,0,0,0,{"$f":"IF(ISERROR(VLOOKUP(A1043,'9ª MEDIÇÃO'!$A$5:$J$1048576,8,0)),0,(VLOOKUP(A1043,'9ª MEDIÇÃO'!$A$5:$J$1048576,8,0)))","v":0},0,1,0,0,0,0,{"$f":"IF(ISERROR(VLOOKUP(A1043,#REF!,8,0)),0,(VLOOKUP(A1043,#REF!,8,0)))","v":0},0,1,0,0,0,0,{"$f":"IF(ISERROR(VLOOKUP($A1043,#REF!,8,0)),0,(VLOOKUP($A1043,#REF!,8,0)))","v":0},0,1,0,0,0,0,{"$f":"IF(ISERROR(VLOOKUP($A1043,#REF!,8,0)),0,(VLOOKUP($A1043,#REF!,8,0)))","v":0},0,1,0,0,0,0,{"$f":"IF(ISERROR(VLOOKUP($A1043,#REF!,8,0)),0,(VLOOKUP($A1043,#REF!,8,0)))","v":0},0,1,0,0,0,0,{"$f":"IF(ISERROR(VLOOKUP($A1043,#REF!,8,0)),0,(VLOOKUP($A1043,#REF!,8,0)))","v":0},0,1,0,0,0,0,{"$f":"IF(ISERROR(VLOOKUP($A1043,#REF!,8,0)),0,(VLOOKUP($A1043,#REF!,8,0)))","v":0},0,1,0,0,0,0,{"$f":"IF(ISERROR(VLOOKUP($A1043,#REF!,8,0)),0,(VLOOKUP($A1043,#REF!,8,0)))","v":0},0,1,0,0,0,0,{"$f":"IF(ISERROR(VLOOKUP($A1043,#REF!,8,0)),0,(VLOOKUP($A1043,#REF!,8,0)))","v":0},0,1,0,0,0,0,{"$f":"IF(ISERROR(VLOOKUP($A1043,#REF!,8,0)),0,(VLOOKUP($A1043,#REF!,8,0)))","v":0},0,1,0,0,0,0,{"$f":"IF(ISERROR(VLOOKUP($A1043,#REF!,8,0)),0,(VLOOKUP($A1043,#REF!,8,0)))","v":0},0,1,0,0,0,0,{"$f":"IF(ISERROR(VLOOKUP($A1043,#REF!,8,0)),0,(VLOOKUP($A1043,#REF!,8,0)))","v":0},0,1,0,0,0,0,{"$f":"IF(ISERROR(VLOOKUP($A1043,#REF!,8,0)),0,(VLOOKUP($A1043,#REF!,8,0)))","v":0},0,1,0,0,0,0,{"$f":"IF(ISERROR(VLOOKUP($A1043,#REF!,8,0)),0,(VLOOKUP($A1043,#REF!,8,0)))","v":0},0,1,0,0,0,0,{"$f":"IF(ISERROR(VLOOKUP($A1043,#REF!,8,0)),0,(VLOOKUP($A1043,#REF!,8,0)))","v":0},0,1,0,0,0,0,{"$f":"IF(ISERROR(VLOOKUP($A1043,#REF!,8,0)),0,(VLOOKUP($A1043,#REF!,8,0)))","v":0},0,1,0,0,0,0,{"$f":"IF(ISERROR(VLOOKUP($A1043,#REF!,8,0)),0,(VLOOKUP($A1043,#REF!,8,0)))","v":0},0,1,0,0,0,0,{"$f":"IF(ISERROR(VLOOKUP($A1043,#REF!,8,0)),0,(VLOOKUP($A1043,#REF!,8,0)))","v":0},0,1,0,0,0,0,{"$f":"IF(ISERROR(VLOOKUP($A1043,#REF!,8,0)),0,(VLOOKUP($A1043,#REF!,8,0)))","v":0},0,1,0,0,0,0,{"$f":"IF(ISERROR(VLOOKUP($A1043,#REF!,8,0)),0,(VLOOKUP($A1043,#REF!,8,0)))","v":0},0,1,0,0,0,0,{"$f":"IF(ISERROR(VLOOKUP($A1043,#REF!,8,0)),0,(VLOOKUP($A1043,#REF!,8,0)))","v":0},0,1,0,0,0,0,{"$f":"IF(ISERROR(VLOOKUP($A1043,#REF!,8,0)),0,(VLOOKUP($A1043,#REF!,8,0)))","v":0},0,1,0,0,0,0,{"$f":"IF(ISERROR(VLOOKUP($A1043,#REF!,8,0)),0,(VLOOKUP($A1043,#REF!,8,0)))","v":0},0,1,0,0,0,0,{"$f":"IF(ISERROR(VLOOKUP($A1043,#REF!,8,0)),0,(VLOOKUP($A1043,#REF!,8,0)))","v":0},0,1,0,0,0,0,{"$f":"IF(ISERROR(VLOOKUP($A1043,#REF!,8,0)),0,(VLOOKUP($A1043,#REF!,8,0)))","v":0},0,1,0,0,0,0,{"$f":"IF(ISERROR(VLOOKUP($A1043,#REF!,8,0)),0,(VLOOKUP($A1043,#REF!,8,0)))","v":0},0,1,0,0,0,0,{"$f":"IF(ISERROR(VLOOKUP($A1043,#REF!,8,0)),0,(VLOOKUP($A1043,#REF!,8,0)))","v":0},0,1,0,0,0,0,{"$f":"IF(ISERROR(VLOOKUP($A1043,#REF!,8,0)),0,(VLOOKUP($A1043,#REF!,8,0)))","v":0},0,1,0,0,0,0,{"$f":"IF(ISERROR(VLOOKUP($A1043,#REF!,8,0)),0,(VLOOKUP($A1043,#REF!,8,0)))","v":0},0,1,0,0,0,0,{"$f":"IF(ISERROR(VLOOKUP($A1043,#REF!,8,0)),0,(VLOOKUP($A1043,#REF!,8,0)))","v":0},0,1,0,0,0,0,{"$f":"IF(ISERROR(VLOOKUP($A1043,#REF!,8,0)),0,(VLOOKUP($A1043,#REF!,8,0)))","v":0},0,1,0,0,0,0,{"$f":"IF(ISERROR(VLOOKUP($A1043,#REF!,8,0)),0,(VLOOKUP($A1043,#REF!,8,0)))","v":0},0,1,0,0,0,0,{"$f":"IF(ISERROR(VLOOKUP($A1043,#REF!,8,0)),0,(VLOOKUP($A1043,#REF!,8,0)))","v":0},0,1,0,0,0,0,{"$f":"IF(ISERROR(VLOOKUP($A1043,#REF!,8,0)),0,(VLOOKUP($A1043,#REF!,8,0)))","v":0},0,1,0,0,0,0,{"$f":"IF(ISERROR(VLOOKUP($A1043,#REF!,8,0)),0,(VLOOKUP($A1043,#REF!,8,0)))","v":0},0,1,0,0,0,0,{"$f":"IF(ISERROR(VLOOKUP($A1043,#REF!,8,0)),0,(VLOOKUP($A1043,#REF!,8,0)))","v":0},0,1,0,0,0,0,{"$f":"IF(ISERROR(VLOOKUP($A1043,#REF!,8,0)),0,(VLOOKUP($A1043,#REF!,8,0)))","v":0},0,1,0,0,0,0,{"$f":"IF(ISERROR(VLOOKUP($A1043,#REF!,8,0)),0,(VLOOKUP($A1043,#REF!,8,0)))","v":0},0,1,0,0,0,0,{"$f":"IF(ISERROR(VLOOKUP($A1043,#REF!,8,0)),0,(VLOOKUP($A1043,#REF!,8,0)))","v":0},0,1,0,0,0,0,{"$f":"IF(ISERROR(VLOOKUP($A1043,#REF!,8,0)),0,(VLOOKUP($A1043,#REF!,8,0)))","v":0},0,1,0,0,0,0,{"$f":"IF(ISERROR(VLOOKUP($A1043,#REF!,8,0)),0,(VLOOKUP($A1043,#REF!,8,0)))","v":0},0,1,0,0,0,0,{"$f":"IF(ISERROR(VLOOKUP($A1043,#REF!,8,0)),0,(VLOOKUP($A1043,#REF!,8,0)))","v":0},0,1,0,0,0,0,{"$f":"IF(ISERROR(VLOOKUP($A1043,#REF!,8,0)),0,(VLOOKUP($A1043,#REF!,8,0)))","v":0},0,1,0,0,0,0,null,0,1,0,0,0,0,null,0,1,0,0,0,0,null,0,1,0,0,0,0,{"$f":"IF(ISERROR(VLOOKUP($A1043,#REF!,8,0)),0,(VLOOKUP($A1043,#REF!,8,0)))","v":0},0,1,0,0,0,0,5624.3783400000002,5624.3783400000002,1,0]
["32.11","Instalação , conforme projeto, de Condicionador de ar do tipo Split/cassete, com capacidade de 18.000 BTU/h, INVERTER, realizando os serviços de confecção de linhas frigoríficas em tubo de cobre utilizando nitrogênio com fluxo constante para realização das soldas evitando impurezas e a dos drenos termicamente isolados. Fornecimento e instalação de carga de fluido refrigerante ecológico R-410A. A execução da instalação deve ser executada por Técnico de Refrigeração devidamente especializado em equipamentos INVERTER. Realizar a interligação entre as unidades Evaporadora e Condensadora com cabo PP4x1,5mm²; inclusive fixação de unidade evaporadora e interligação de drenos, calços de borracha, bem como todos os acessórios necessários para a completa instalação e funcionamento do sistema, e limpeza final da obra.  ","pç",110,91,19,834.08347400000002,91749.182140000004,227.81371999999999,25059.5092,0,0,1061.8971940000001,20176.046686000002,96632.644654000018,null,0,0,0,0,0,null,0,0.82727272727272727,0,0,0,0,null,0,0.82727272727272727,0,0,0,0,null,0,0.82727272727272727,0,0,0,0,null,0,0.82727272727272727,0,0,0,0,null,0,0.82727272727272727,0,0,0,0,{"$f":"IF(ISERROR(VLOOKUP(A1052,'7ª MEDIÇÃO'!$A$5:$J$1048576,8,0)),0,(VLOOKUP(A1052,'7ª MEDIÇÃO'!$A$5:$J$1048576,8,0)))","v":0},0,0.82727272727272727,0,0,0,0,{"$f":"IF(ISERROR(VLOOKUP(A1052,'8ª MEDIÇÃO'!$A$5:$J$1048576,8,0)),0,(VLOOKUP(A1052,'8ª MEDIÇÃO'!$A$5:$J$1048576,8,0)))","v":0},0,0.82727272727272727,0,0,0,0,{"$f":"IF(ISERROR(VLOOKUP(A1052,'9ª MEDIÇÃO'!$A$5:$J$1048576,8,0)),0,(VLOOKUP(A1052,'9ª MEDIÇÃO'!$A$5:$J$1048576,8,0)))","v":0},0,0.82727272727272727,0,0,0,0,{"$f":"IF(ISERROR(VLOOKUP(A1052,#REF!,8,0)),0,(VLOOKUP(A1052,#REF!,8,0)))","v":0},0,0.82727272727272727,0,0,0,0,{"$f":"IF(ISERROR(VLOOKUP($A1052,#REF!,8,0)),0,(VLOOKUP($A1052,#REF!,8,0)))","v":0},0,0.82727272727272727,0,0,0,0,{"$f":"IF(ISERROR(VLOOKUP($A1052,#REF!,8,0)),0,(VLOOKUP($A1052,#REF!,8,0)))","v":0},0,0.82727272727272727,0,0,0,0,{"$f":"IF(ISERROR(VLOOKUP($A1052,#REF!,8,0)),0,(VLOOKUP($A1052,#REF!,8,0)))","v":0},0,0.82727272727272727,0,0,0,0,{"$f":"IF(ISERROR(VLOOKUP($A1052,#REF!,8,0)),0,(VLOOKUP($A1052,#REF!,8,0)))","v":0},0,0.82727272727272727,0,0,0,0,{"$f":"IF(ISERROR(VLOOKUP($A1052,#REF!,8,0)),0,(VLOOKUP($A1052,#REF!,8,0)))","v":0},0,0.82727272727272727,0,0,0,0,{"$f":"IF(ISERROR(VLOOKUP($A1052,#REF!,8,0)),0,(VLOOKUP($A1052,#REF!,8,0)))","v":0},0,0.82727272727272727,0,0,0,0,{"$f":"IF(ISERROR(VLOOKUP($A1052,#REF!,8,0)),0,(VLOOKUP($A1052,#REF!,8,0)))","v":0},0,0.82727272727272727,0,0,0,0,{"$f":"IF(ISERROR(VLOOKUP($A1052,#REF!,8,0)),0,(VLOOKUP($A1052,#REF!,8,0)))","v":0},0,0.82727272727272727,0,0,0,0,{"$f":"IF(ISERROR(VLOOKUP($A1052,#REF!,8,0)),0,(VLOOKUP($A1052,#REF!,8,0)))","v":0},0,0.82727272727272727,0,0,0,0,{"$f":"IF(ISERROR(VLOOKUP($A1052,#REF!,8,0)),0,(VLOOKUP($A1052,#REF!,8,0)))","v":0},0,0.82727272727272727,0,0,0,0,{"$f":"IF(ISERROR(VLOOKUP($A1052,#REF!,8,0)),0,(VLOOKUP($A1052,#REF!,8,0)))","v":0},0,0.82727272727272727,0,0,0,0,{"$f":"IF(ISERROR(VLOOKUP($A1052,#REF!,8,0)),0,(VLOOKUP($A1052,#REF!,8,0)))","v":0},0,0.82727272727272727,0,0,0,0,{"$f":"IF(ISERROR(VLOOKUP($A1052,#REF!,8,0)),0,(VLOOKUP($A1052,#REF!,8,0)))","v":0},0,0.82727272727272727,0,0,0,0,{"$f":"IF(ISERROR(VLOOKUP($A1052,#REF!,8,0)),0,(VLOOKUP($A1052,#REF!,8,0)))","v":0},0,0.82727272727272727,0,0,0,0,{"$f":"IF(ISERROR(VLOOKUP($A1052,#REF!,8,0)),0,(VLOOKUP($A1052,#REF!,8,0)))","v":0},0,0.82727272727272727,0,0,0,0,{"$f":"IF(ISERROR(VLOOKUP($A1052,#REF!,8,0)),0,(VLOOKUP($A1052,#REF!,8,0)))","v":0},0,0.82727272727272727,0,0,0,0,{"$f":"IF(ISERROR(VLOOKUP($A1052,#REF!,8,0)),0,(VLOOKUP($A1052,#REF!,8,0)))","v":0},0,0.82727272727272727,0,0,0,0,{"$f":"IF(ISERROR(VLOOKUP($A1052,#REF!,8,0)),0,(VLOOKUP($A1052,#REF!,8,0)))","v":0},0,0.82727272727272727,0,0,0,0,{"$f":"IF(ISERROR(VLOOKUP($A1052,#REF!,8,0)),0,(VLOOKUP($A1052,#REF!,8,0)))","v":0},0,0.82727272727272727,0,0,0,0,{"$f":"IF(ISERROR(VLOOKUP($A1052,#REF!,8,0)),0,(VLOOKUP($A1052,#REF!,8,0)))","v":0},0,0.82727272727272727,0,0,0,0,{"$f":"IF(ISERROR(VLOOKUP($A1052,#REF!,8,0)),0,(VLOOKUP($A1052,#REF!,8,0)))","v":0},0,0.82727272727272727,0,0,0,0,{"$f":"IF(ISERROR(VLOOKUP($A1052,#REF!,8,0)),0,(VLOOKUP($A1052,#REF!,8,0)))","v":0},0,0.82727272727272727,0,0,0,0,{"$f":"IF(ISERROR(VLOOKUP($A1052,#REF!,8,0)),0,(VLOOKUP($A1052,#REF!,8,0)))","v":0},0,0.82727272727272727,0,0,0,0,{"$f":"IF(ISERROR(VLOOKUP($A1052,#REF!,8,0)),0,(VLOOKUP($A1052,#REF!,8,0)))","v":0},0,0.82727272727272727,0,0,0,0,{"$f":"IF(ISERROR(VLOOKUP($A1052,#REF!,8,0)),0,(VLOOKUP($A1052,#REF!,8,0)))","v":0},0,0.82727272727272727,0,0,0,0,{"$f":"IF(ISERROR(VLOOKUP($A1052,#REF!,8,0)),0,(VLOOKUP($A1052,#REF!,8,0)))","v":0},0,0.82727272727272727,0,0,0,0,{"$f":"IF(ISERROR(VLOOKUP($A1052,#REF!,8,0)),0,(VLOOKUP($A1052,#REF!,8,0)))","v":0},0,0.82727272727272727,0,0,0,0,{"$f":"IF(ISERROR(VLOOKUP($A1052,#REF!,8,0)),0,(VLOOKUP($A1052,#REF!,8,0)))","v":0},0,0.82727272727272727,0,0,0,0,{"$f":"IF(ISERROR(VLOOKUP($A1052,#REF!,8,0)),0,(VLOOKUP($A1052,#REF!,8,0)))","v":0},0,0.82727272727272727,0,0,0,0,{"$f":"IF(ISERROR(VLOOKUP($A1052,#REF!,8,0)),0,(VLOOKUP($A1052,#REF!,8,0)))","v":0},0,0.82727272727272727,0,0,0,0,{"$f":"IF(ISERROR(VLOOKUP($A1052,#REF!,8,0)),0,(VLOOKUP($A1052,#REF!,8,0)))","v":0},0,0.82727272727272727,0,0,0,0,{"$f":"IF(ISERROR(VLOOKUP($A1052,#REF!,8,0)),0,(VLOOKUP($A1052,#REF!,8,0)))","v":0},0,0.82727272727272727,0,0,0,0,{"$f":"IF(ISERROR(VLOOKUP($A1052,#REF!,8,0)),0,(VLOOKUP($A1052,#REF!,8,0)))","v":0},0,0.82727272727272727,0,0,0,0,{"$f":"IF(ISERROR(VLOOKUP($A1052,#REF!,8,0)),0,(VLOOKUP($A1052,#REF!,8,0)))","v":0},0,0.82727272727272727,0,0,0,0,{"$f":"IF(ISERROR(VLOOKUP($A1052,#REF!,8,0)),0,(VLOOKUP($A1052,#REF!,8,0)))","v":0},0,0.82727272727272727,0,0,0,0,{"$f":"IF(ISERROR(VLOOKUP($A1052,#REF!,8,0)),0,(VLOOKUP($A1052,#REF!,8,0)))","v":0},0,0.82727272727272727,0,0,0,0,{"$f":"IF(ISERROR(VLOOKUP($A1052,#REF!,8,0)),0,(VLOOKUP($A1052,#REF!,8,0)))","v":0},0,0.82727272727272727,0,0,0,0,{"$f":"IF(ISERROR(VLOOKUP($A1052,#REF!,8,0)),0,(VLOOKUP($A1052,#REF!,8,0)))","v":0},0,0.82727272727272727,0,0,0,0,16,0.14545454545454545,0.82727272727272727,13345.335584,3645.0195199999998,0,16990.36,{"$f":"IF(ISERROR(VLOOKUP($A1052,#REF!,8,0)),0,(VLOOKUP($A1052,#REF!,8,0)))","v":0},0,0.82727272727272727,0,0,0,0,{"$f":"IF(ISERROR(VLOOKUP($A1052,#REF!,8,0)),0,(VLOOKUP($A1052,#REF!,8,0)))","v":0},0,0.82727272727272727,0,0,0,0,{"$f":"IF(ISERROR(VLOOKUP($A1052,#REF!,8,0)),0,(VLOOKUP($A1052,#REF!,8,0)))","v":0},0,0.82727272727272727,0,0,0,0,{"$f":"IF(ISERROR(VLOOKUP($A1052,#REF!,8,0)),0,(VLOOKUP($A1052,#REF!,8,0)))","v":0},0,0.82727272727272727,0,0,0,0,{"$f":"IF(ISERROR(VLOOKUP($A1052,#REF!,8,0)),0,(VLOOKUP($A1052,#REF!,8,0)))","v":0},0,0.82727272727272727,0,0,0,0,{"$f":"IF(ISERROR(VLOOKUP($A1052,#REF!,8,0)),0,(VLOOKUP($A1052,#REF!,8,0)))","v":0},0,0.82727272727272727,0,0,0,0,96632.644654000018,96632.644654000018,1,0]
["32.19","Fornecimento e instalação de GRELHA VSH2M (60X60) ou equivalente","un",7,0,7,192.12426000000002,1344.8698200000001,17.080120000000001,119.56084000000001,0,0,209.20438000000001,1464.43066,0,null,0,0,0,0,0,null,0,0,0,0,0,0,null,0,0,0,0,0,0,null,0,0,0,0,0,0,null,0,0,0,0,0,0,null,0,0,0,0,0,0,{"$f":"IF(ISERROR(VLOOKUP(A1060,'7ª MEDIÇÃO'!$A$5:$J$1048576,8,0)),0,(VLOOKUP(A1060,'7ª MEDIÇÃO'!$A$5:$J$1048576,8,0)))","v":0},0,0,0,0,0,0,{"$f":"IF(ISERROR(VLOOKUP(A1060,'8ª MEDIÇÃO'!$A$5:$J$1048576,8,0)),0,(VLOOKUP(A1060,'8ª MEDIÇÃO'!$A$5:$J$1048576,8,0)))","v":0},0,0,0,0,0,0,{"$f":"IF(ISERROR(VLOOKUP(A1060,'9ª MEDIÇÃO'!$A$5:$J$1048576,8,0)),0,(VLOOKUP(A1060,'9ª MEDIÇÃO'!$A$5:$J$1048576,8,0)))","v":0},0,0,0,0,0,0,{"$f":"IF(ISERROR(VLOOKUP(A1060,#REF!,8,0)),0,(VLOOKUP(A1060,#REF!,8,0)))","v":0},0,0,0,0,0,0,{"$f":"IF(ISERROR(VLOOKUP($A1060,#REF!,8,0)),0,(VLOOKUP($A1060,#REF!,8,0)))","v":0},0,0,0,0,0,0,{"$f":"IF(ISERROR(VLOOKUP($A1060,#REF!,8,0)),0,(VLOOKUP($A1060,#REF!,8,0)))","v":0},0,0,0,0,0,0,{"$f":"IF(ISERROR(VLOOKUP($A1060,#REF!,8,0)),0,(VLOOKUP($A1060,#REF!,8,0)))","v":0},0,0,0,0,0,0,{"$f":"IF(ISERROR(VLOOKUP($A1060,#REF!,8,0)),0,(VLOOKUP($A1060,#REF!,8,0)))","v":0},0,0,0,0,0,0,{"$f":"IF(ISERROR(VLOOKUP($A1060,#REF!,8,0)),0,(VLOOKUP($A1060,#REF!,8,0)))","v":0},0,0,0,0,0,0,{"$f":"IF(ISERROR(VLOOKUP($A1060,#REF!,8,0)),0,(VLOOKUP($A1060,#REF!,8,0)))","v":0},0,0,0,0,0,0,{"$f":"IF(ISERROR(VLOOKUP($A1060,#REF!,8,0)),0,(VLOOKUP($A1060,#REF!,8,0)))","v":0},0,0,0,0,0,0,{"$f":"IF(ISERROR(VLOOKUP($A1060,#REF!,8,0)),0,(VLOOKUP($A1060,#REF!,8,0)))","v":0},0,0,0,0,0,0,{"$f":"IF(ISERROR(VLOOKUP($A1060,#REF!,8,0)),0,(VLOOKUP($A1060,#REF!,8,0)))","v":0},0,0,0,0,0,0,{"$f":"IF(ISERROR(VLOOKUP($A1060,#REF!,8,0)),0,(VLOOKUP($A1060,#REF!,8,0)))","v":0},0,0,0,0,0,0,{"$f":"IF(ISERROR(VLOOKUP($A1060,#REF!,8,0)),0,(VLOOKUP($A1060,#REF!,8,0)))","v":0},0,0,0,0,0,0,{"$f":"IF(ISERROR(VLOOKUP($A1060,#REF!,8,0)),0,(VLOOKUP($A1060,#REF!,8,0)))","v":0},0,0,0,0,0,0,{"$f":"IF(ISERROR(VLOOKUP($A1060,#REF!,8,0)),0,(VLOOKUP($A1060,#REF!,8,0)))","v":0},0,0,0,0,0,0,{"$f":"IF(ISERROR(VLOOKUP($A1060,#REF!,8,0)),0,(VLOOKUP($A1060,#REF!,8,0)))","v":0},0,0,0,0,0,0,{"$f":"IF(ISERROR(VLOOKUP($A1060,#REF!,8,0)),0,(VLOOKUP($A1060,#REF!,8,0)))","v":0},0,0,0,0,0,0,{"$f":"IF(ISERROR(VLOOKUP($A1060,#REF!,8,0)),0,(VLOOKUP($A1060,#REF!,8,0)))","v":0},0,0,0,0,0,0,{"$f":"IF(ISERROR(VLOOKUP($A1060,#REF!,8,0)),0,(VLOOKUP($A1060,#REF!,8,0)))","v":0},0,0,0,0,0,0,{"$f":"IF(ISERROR(VLOOKUP($A1060,#REF!,8,0)),0,(VLOOKUP($A1060,#REF!,8,0)))","v":0},0,0,0,0,0,0,{"$f":"IF(ISERROR(VLOOKUP($A1060,#REF!,8,0)),0,(VLOOKUP($A1060,#REF!,8,0)))","v":0},0,0,0,0,0,0,{"$f":"IF(ISERROR(VLOOKUP($A1060,#REF!,8,0)),0,(VLOOKUP($A1060,#REF!,8,0)))","v":0},0,0,0,0,0,0,{"$f":"IF(ISERROR(VLOOKUP($A1060,#REF!,8,0)),0,(VLOOKUP($A1060,#REF!,8,0)))","v":0},0,0,0,0,0,0,{"$f":"IF(ISERROR(VLOOKUP($A1060,#REF!,8,0)),0,(VLOOKUP($A1060,#REF!,8,0)))","v":0},0,0,0,0,0,0,{"$f":"IF(ISERROR(VLOOKUP($A1060,#REF!,8,0)),0,(VLOOKUP($A1060,#REF!,8,0)))","v":0},0,0,0,0,0,0,{"$f":"IF(ISERROR(VLOOKUP($A1060,#REF!,8,0)),0,(VLOOKUP($A1060,#REF!,8,0)))","v":0},0,0,0,0,0,0,{"$f":"IF(ISERROR(VLOOKUP($A1060,#REF!,8,0)),0,(VLOOKUP($A1060,#REF!,8,0)))","v":0},0,0,0,0,0,0,{"$f":"IF(ISERROR(VLOOKUP($A1060,#REF!,8,0)),0,(VLOOKUP($A1060,#REF!,8,0)))","v":0},0,0,0,0,0,0,{"$f":"IF(ISERROR(VLOOKUP($A1060,#REF!,8,0)),0,(VLOOKUP($A1060,#REF!,8,0)))","v":0},0,0,0,0,0,0,{"$f":"IF(ISERROR(VLOOKUP($A1060,#REF!,8,0)),0,(VLOOKUP($A1060,#REF!,8,0)))","v":0},0,0,0,0,0,0,{"$f":"IF(ISERROR(VLOOKUP($A1060,#REF!,8,0)),0,(VLOOKUP($A1060,#REF!,8,0)))","v":0},0,0,0,0,0,0,{"$f":"IF(ISERROR(VLOOKUP($A1060,#REF!,8,0)),0,(VLOOKUP($A1060,#REF!,8,0)))","v":0},0,0,0,0,0,0,{"$f":"IF(ISERROR(VLOOKUP($A1060,#REF!,8,0)),0,(VLOOKUP($A1060,#REF!,8,0)))","v":0},0,0,0,0,0,0,{"$f":"IF(ISERROR(VLOOKUP($A1060,#REF!,8,0)),0,(VLOOKUP($A1060,#REF!,8,0)))","v":0},0,0,0,0,0,0,{"$f":"IF(ISERROR(VLOOKUP($A1060,#REF!,8,0)),0,(VLOOKUP($A1060,#REF!,8,0)))","v":0},0,0,0,0,0,0,{"$f":"IF(ISERROR(VLOOKUP($A1060,#REF!,8,0)),0,(VLOOKUP($A1060,#REF!,8,0)))","v":0},0,0,0,0,0,0,{"$f":"IF(ISERROR(VLOOKUP($A1060,#REF!,8,0)),0,(VLOOKUP($A1060,#REF!,8,0)))","v":0},0,0,0,0,0,0,{"$f":"IF(ISERROR(VLOOKUP($A1060,#REF!,8,0)),0,(VLOOKUP($A1060,#REF!,8,0)))","v":0},0,0,0,0,0,0,{"$f":"IF(ISERROR(VLOOKUP($A1060,#REF!,8,0)),0,(VLOOKUP($A1060,#REF!,8,0)))","v":0},0,0,0,0,0,0,{"$f":"IF(ISERROR(VLOOKUP($A1060,#REF!,8,0)),0,(VLOOKUP($A1060,#REF!,8,0)))","v":0},0,0,0,0,0,0,{"$f":"IF(ISERROR(VLOOKUP($A1060,#REF!,8,0)),0,(VLOOKUP($A1060,#REF!,8,0)))","v":0},0,0,0,0,0,0,{"$f":"IF(ISERROR(VLOOKUP($A1060,#REF!,8,0)),0,(VLOOKUP($A1060,#REF!,8,0)))","v":0},0,0,0,0,0,0,{"$f":"IF(ISERROR(VLOOKUP($A1060,#REF!,8,0)),0,(VLOOKUP($A1060,#REF!,8,0)))","v":0},0,0,0,0,0,0,{"$f":"IF(ISERROR(VLOOKUP($A1060,#REF!,8,0)),0,(VLOOKUP($A1060,#REF!,8,0)))","v":0},0,0,0,0,0,0,{"$f":"IF(ISERROR(VLOOKUP($A1060,#REF!,8,0)),0,(VLOOKUP($A1060,#REF!,8,0)))","v":0},0,0,0,0,0,0,{"$f":"IF(ISERROR(VLOOKUP($A1060,#REF!,8,0)),0,(VLOOKUP($A1060,#REF!,8,0)))","v":0},0,0,0,0,0,0,{"$f":"IF(ISERROR(VLOOKUP($A1060,#REF!,8,0)),0,(VLOOKUP($A1060,#REF!,8,0)))","v":0},0,0,0,0,0,0,0,0,{"$error":"#DIV/0!"},0]
["32.30","Fornecimento e instalação de Regulador de Vazão KVR 125 ou equivalente","un",115,0,115,61.894911999999998,7117.9148799999994,11.39504,1310.4295999999999,0,0,73.289952,8428.3444799999997,0,null,0,0,0,0,0,null,0,0,0,0,0,0,null,0,0,0,0,0,0,null,0,0,0,0,0,0,null,0,0,0,0,0,0,null,0,0,0,0,0,0,{"$f":"IF(ISERROR(VLOOKUP(A1071,'7ª MEDIÇÃO'!$A$5:$J$1048576,8,0)),0,(VLOOKUP(A1071,'7ª MEDIÇÃO'!$A$5:$J$1048576,8,0)))","v":0},0,0,0,0,0,0,{"$f":"IF(ISERROR(VLOOKUP(A1071,'8ª MEDIÇÃO'!$A$5:$J$1048576,8,0)),0,(VLOOKUP(A1071,'8ª MEDIÇÃO'!$A$5:$J$1048576,8,0)))","v":0},0,0,0,0,0,0,{"$f":"IF(ISERROR(VLOOKUP(A1071,'9ª MEDIÇÃO'!$A$5:$J$1048576,8,0)),0,(VLOOKUP(A1071,'9ª MEDIÇÃO'!$A$5:$J$1048576,8,0)))","v":0},0,0,0,0,0,0,{"$f":"IF(ISERROR(VLOOKUP(A1071,#REF!,8,0)),0,(VLOOKUP(A1071,#REF!,8,0)))","v":0},0,0,0,0,0,0,{"$f":"IF(ISERROR(VLOOKUP($A1071,#REF!,8,0)),0,(VLOOKUP($A1071,#REF!,8,0)))","v":0},0,0,0,0,0,0,{"$f":"IF(ISERROR(VLOOKUP($A1071,#REF!,8,0)),0,(VLOOKUP($A1071,#REF!,8,0)))","v":0},0,0,0,0,0,0,{"$f":"IF(ISERROR(VLOOKUP($A1071,#REF!,8,0)),0,(VLOOKUP($A1071,#REF!,8,0)))","v":0},0,0,0,0,0,0,{"$f":"IF(ISERROR(VLOOKUP($A1071,#REF!,8,0)),0,(VLOOKUP($A1071,#REF!,8,0)))","v":0},0,0,0,0,0,0,{"$f":"IF(ISERROR(VLOOKUP($A1071,#REF!,8,0)),0,(VLOOKUP($A1071,#REF!,8,0)))","v":0},0,0,0,0,0,0,{"$f":"IF(ISERROR(VLOOKUP($A1071,#REF!,8,0)),0,(VLOOKUP($A1071,#REF!,8,0)))","v":0},0,0,0,0,0,0,{"$f":"IF(ISERROR(VLOOKUP($A1071,#REF!,8,0)),0,(VLOOKUP($A1071,#REF!,8,0)))","v":0},0,0,0,0,0,0,{"$f":"IF(ISERROR(VLOOKUP($A1071,#REF!,8,0)),0,(VLOOKUP($A1071,#REF!,8,0)))","v":0},0,0,0,0,0,0,{"$f":"IF(ISERROR(VLOOKUP($A1071,#REF!,8,0)),0,(VLOOKUP($A1071,#REF!,8,0)))","v":0},0,0,0,0,0,0,{"$f":"IF(ISERROR(VLOOKUP($A1071,#REF!,8,0)),0,(VLOOKUP($A1071,#REF!,8,0)))","v":0},0,0,0,0,0,0,{"$f":"IF(ISERROR(VLOOKUP($A1071,#REF!,8,0)),0,(VLOOKUP($A1071,#REF!,8,0)))","v":0},0,0,0,0,0,0,{"$f":"IF(ISERROR(VLOOKUP($A1071,#REF!,8,0)),0,(VLOOKUP($A1071,#REF!,8,0)))","v":0},0,0,0,0,0,0,{"$f":"IF(ISERROR(VLOOKUP($A1071,#REF!,8,0)),0,(VLOOKUP($A1071,#REF!,8,0)))","v":0},0,0,0,0,0,0,{"$f":"IF(ISERROR(VLOOKUP($A1071,#REF!,8,0)),0,(VLOOKUP($A1071,#REF!,8,0)))","v":0},0,0,0,0,0,0,{"$f":"IF(ISERROR(VLOOKUP($A1071,#REF!,8,0)),0,(VLOOKUP($A1071,#REF!,8,0)))","v":0},0,0,0,0,0,0,{"$f":"IF(ISERROR(VLOOKUP($A1071,#REF!,8,0)),0,(VLOOKUP($A1071,#REF!,8,0)))","v":0},0,0,0,0,0,0,{"$f":"IF(ISERROR(VLOOKUP($A1071,#REF!,8,0)),0,(VLOOKUP($A1071,#REF!,8,0)))","v":0},0,0,0,0,0,0,{"$f":"IF(ISERROR(VLOOKUP($A1071,#REF!,8,0)),0,(VLOOKUP($A1071,#REF!,8,0)))","v":0},0,0,0,0,0,0,{"$f":"IF(ISERROR(VLOOKUP($A1071,#REF!,8,0)),0,(VLOOKUP($A1071,#REF!,8,0)))","v":0},0,0,0,0,0,0,{"$f":"IF(ISERROR(VLOOKUP($A1071,#REF!,8,0)),0,(VLOOKUP($A1071,#REF!,8,0)))","v":0},0,0,0,0,0,0,{"$f":"IF(ISERROR(VLOOKUP($A1071,#REF!,8,0)),0,(VLOOKUP($A1071,#REF!,8,0)))","v":0},0,0,0,0,0,0,{"$f":"IF(ISERROR(VLOOKUP($A1071,#REF!,8,0)),0,(VLOOKUP($A1071,#REF!,8,0)))","v":0},0,0,0,0,0,0,{"$f":"IF(ISERROR(VLOOKUP($A1071,#REF!,8,0)),0,(VLOOKUP($A1071,#REF!,8,0)))","v":0},0,0,0,0,0,0,{"$f":"IF(ISERROR(VLOOKUP($A1071,#REF!,8,0)),0,(VLOOKUP($A1071,#REF!,8,0)))","v":0},0,0,0,0,0,0,{"$f":"IF(ISERROR(VLOOKUP($A1071,#REF!,8,0)),0,(VLOOKUP($A1071,#REF!,8,0)))","v":0},0,0,0,0,0,0,{"$f":"IF(ISERROR(VLOOKUP($A1071,#REF!,8,0)),0,(VLOOKUP($A1071,#REF!,8,0)))","v":0},0,0,0,0,0,0,{"$f":"IF(ISERROR(VLOOKUP($A1071,#REF!,8,0)),0,(VLOOKUP($A1071,#REF!,8,0)))","v":0},0,0,0,0,0,0,{"$f":"IF(ISERROR(VLOOKUP($A1071,#REF!,8,0)),0,(VLOOKUP($A1071,#REF!,8,0)))","v":0},0,0,0,0,0,0,{"$f":"IF(ISERROR(VLOOKUP($A1071,#REF!,8,0)),0,(VLOOKUP($A1071,#REF!,8,0)))","v":0},0,0,0,0,0,0,{"$f":"IF(ISERROR(VLOOKUP($A1071,#REF!,8,0)),0,(VLOOKUP($A1071,#REF!,8,0)))","v":0},0,0,0,0,0,0,{"$f":"IF(ISERROR(VLOOKUP($A1071,#REF!,8,0)),0,(VLOOKUP($A1071,#REF!,8,0)))","v":0},0,0,0,0,0,0,{"$f":"IF(ISERROR(VLOOKUP($A1071,#REF!,8,0)),0,(VLOOKUP($A1071,#REF!,8,0)))","v":0},0,0,0,0,0,0,{"$f":"IF(ISERROR(VLOOKUP($A1071,#REF!,8,0)),0,(VLOOKUP($A1071,#REF!,8,0)))","v":0},0,0,0,0,0,0,{"$f":"IF(ISERROR(VLOOKUP($A1071,#REF!,8,0)),0,(VLOOKUP($A1071,#REF!,8,0)))","v":0},0,0,0,0,0,0,{"$f":"IF(ISERROR(VLOOKUP($A1071,#REF!,8,0)),0,(VLOOKUP($A1071,#REF!,8,0)))","v":0},0,0,0,0,0,0,{"$f":"IF(ISERROR(VLOOKUP($A1071,#REF!,8,0)),0,(VLOOKUP($A1071,#REF!,8,0)))","v":0},0,0,0,0,0,0,{"$f":"IF(ISERROR(VLOOKUP($A1071,#REF!,8,0)),0,(VLOOKUP($A1071,#REF!,8,0)))","v":0},0,0,0,0,0,0,{"$f":"IF(ISERROR(VLOOKUP($A1071,#REF!,8,0)),0,(VLOOKUP($A1071,#REF!,8,0)))","v":0},0,0,0,0,0,0,{"$f":"IF(ISERROR(VLOOKUP($A1071,#REF!,8,0)),0,(VLOOKUP($A1071,#REF!,8,0)))","v":0},0,0,0,0,0,0,{"$f":"IF(ISERROR(VLOOKUP($A1071,#REF!,8,0)),0,(VLOOKUP($A1071,#REF!,8,0)))","v":0},0,0,0,0,0,0,{"$f":"IF(ISERROR(VLOOKUP($A1071,#REF!,8,0)),0,(VLOOKUP($A1071,#REF!,8,0)))","v":0},0,0,0,0,0,0,{"$f":"IF(ISERROR(VLOOKUP($A1071,#REF!,8,0)),0,(VLOOKUP($A1071,#REF!,8,0)))","v":0},0,0,0,0,0,0,{"$f":"IF(ISERROR(VLOOKUP($A1071,#REF!,8,0)),0,(VLOOKUP($A1071,#REF!,8,0)))","v":0},0,0,0,0,0,0,{"$f":"IF(ISERROR(VLOOKUP($A1071,#REF!,8,0)),0,(VLOOKUP($A1071,#REF!,8,0)))","v":0},0,0,0,0,0,0,{"$f":"IF(ISERROR(VLOOKUP($A1071,#REF!,8,0)),0,(VLOOKUP($A1071,#REF!,8,0)))","v":0},0,0,0,0,0,0,0,0,{"$error":"#DIV/0!"},0]
["33.7","Retirada de esquadrias de madeira ou metálicas.","m²",49,49,0,0,0,9.2802399999999992,454.73175999999995,0,0,9.2802399999999992,0,454.73175999999995,null,{"$f":"IF($D1080>0,P1080/$D1080,0)","v":0},{"$f":"P1080*$G1080","v":0},{"$f":"$I1080*P1080","v":0},{"$f":"$K1080*P1080","v":0},{"$f":"ROUND($M1080*P1080,2)","v":0},null,{"$f":"IF($D1080>0,V1080/$D1080,0)","v":0},{"$f":"IF($E1080>0,$E1080/$D1080,0)","v":1},{"$f":"V1080*$G1080","v":0},{"$f":"$I1080*V1080","v":0},{"$f":"$K1080*V1080","v":0},{"$f":"ROUND($M1080*V1080,2)","v":0},null,{"$f":"IF($D1080>0,AC1080/$D1080,0)","v":0},{"$f":"IF($E1080>0,$E1080/$D1080,0)","v":1},{"$f":"AC1080*$G1080","v":0},{"$f":"$I1080*AC1080","v":0},{"$f":"$K1080*AC1080","v":0},{"$f":"ROUND($M1080*AC1080,2)","v":0},null,{"$f":"IF($D1080>0,AJ1080/$D1080,0)","v":0},{"$f":"IF($E1080>0,$E1080/$D1080,0)","v":1},{"$f":"AJ1080*$G1080","v":0},{"$f":"$I1080*AJ1080","v":0},{"$f":"$K1080*AJ1080","v":0},{"$f":"ROUND($M1080*AJ1080,2)","v":0},null,{"$f":"IF($D1080>0,AQ1080/$D1080,0)","v":0},{"$f":"IF($E1080>0,$E1080/$D1080,0)","v":1},0,0,0,{"$f":"ROUND($M1080*AQ1080,2)","v":0},null,{"$f":"IF($D1080>0,AX1080/$D1080,0)","v":0},{"$f":"IF($E1080>0,$E1080/$D1080,0)","v":1},{"$f":"AX1080*$G1080","v":0},{"$f":"$I1080*AX1080","v":0},{"$f":"$K1080*AX1080","v":0},{"$f":"ROUND($M1080*AX1080,2)","v":0},{"$f":"IF(ISERROR(VLOOKUP(A1080,'7ª MEDIÇÃO'!$A$5:$J$1048576,8,0)),0,(VLOOKUP(A1080,'7ª MEDIÇÃO'!$A$5:$J$1048576,8,0)))","v":0},{"$f":"IF($D1080>0,BE1080/$D1080,0)","v":0},{"$f":"IF($E1080>0,$E1080/$D1080,0)","v":1},{"$f":"BE1080*$G1080","v":0},{"$f":"$I1080*BE1080","v":0},{"$f":"$K1080*BE1080","v":0},{"$f":"ROUND($M1080*BE1080,2)","v":0},{"$f":"IF(ISERROR(VLOOKUP(A1080,'8ª MEDIÇÃO'!$A$5:$J$1048576,8,0)),0,(VLOOKUP(A1080,'8ª MEDIÇÃO'!$A$5:$J$1048576,8,0)))","v":0},{"$f":"IF($D1080>0,BL1080/$D1080,0)","v":0},{"$f":"IF($E1080>0,$E1080/$D1080,0)","v":1},{"$f":"BL1080*$G1080","v":0},{"$f":"$I1080*BL1080","v":0},{"$f":"$K1080*BL1080","v":0},{"$f":"ROUND($M1080*BL1080,2)","v":0},{"$f":"IF(ISERROR(VLOOKUP(A1080,'9ª MEDIÇÃO'!$A$5:$J$1048576,8,0)),0,(VLOOKUP(A1080,'9ª MEDIÇÃO'!$A$5:$J$1048576,8,0)))","v":0},{"$f":"IF($D1080>0,BS1080/$D1080,0)","v":0},{"$f":"IF($E1080>0,$E1080/$D1080,0)","v":1},0,0,0,{"$f":"ROUND($M1080*BS1080,2)","v":0},{"$f":"IF(ISERROR(VLOOKUP(A1080,#REF!,8,0)),0,(VLOOKUP(A1080,#REF!,8,0)))","v":0},{"$f":"IF($D1080>0,BZ1080/$D1080,0)","v":0},{"$f":"IF($E1080>0,$E1080/$D1080,0)","v":1},0,0,0,{"$f":"ROUND($M1080*BZ1080,2)","v":0},{"$f":"IF(ISERROR(VLOOKUP($A1080,#REF!,8,0)),0,(VLOOKUP($A1080,#REF!,8,0)))","v":0},{"$f":"IF($D1080>0,CG1080/$D1080,0)","v":0},{"$f":"IF($E1080>0,$E1080/$D1080,0)","v":1},0,0,0,{"$f":"ROUND($M1080*CG1080,2)","v":0},{"$f":"IF(ISERROR(VLOOKUP($A1080,#REF!,8,0)),0,(VLOOKUP($A1080,#REF!,8,0)))","v":0},{"$f":"IF($D1080>0,CN1080/$D1080,0)","v":0},{"$f":"IF($E1080>0,$E1080/$D1080,0)","v":1},0,0,0,{"$f":"ROUND($M1080*CN1080,2)","v":0},{"$f":"IF(ISERROR(VLOOKUP($A1080,#REF!,8,0)),0,(VLOOKUP($A1080,#REF!,8,0)))","v":0},{"$f":"IF($D1080>0,CU1080/$D1080,0)","v":0},{"$f":"IF($E1080>0,$E1080/$D1080,0)","v":1},0,0,0,{"$f":"ROUND($M1080*CU1080,2)","v":0},{"$f":"IF(ISERROR(VLOOKUP($A1080,#REF!,8,0)),0,(VLOOKUP($A1080,#REF!,8,0)))","v":0},{"$f":"IF($D1080>0,DB1080/$D1080,0)","v":0},{"$f":"IF($E1080>0,$E1080/$D1080,0)","v":1},0,0,0,{"$f":"ROUND($M1080*DB1080,2)","v":0},{"$f":"IF(ISERROR(VLOOKUP($A1080,#REF!,8,0)),0,(VLOOKUP($A1080,#REF!,8,0)))","v":0},{"$f":"IF($D1080>0,DI1080/$D1080,0)","v":0},{"$f":"IF($E1080>0,$E1080/$D1080,0)","v":1},0,0,0,{"$f":"ROUND($M1080*DI1080,2)","v":0},{"$f":"IF(ISERROR(VLOOKUP($A1080,#REF!,8,0)),0,(VLOOKUP($A1080,#REF!,8,0)))","v":0},{"$f":"IF($D1080>0,DP1080/$D1080,0)","v":0},{"$f":"IF($E1080>0,$E1080/$D1080,0)","v":1},0,0,0,{"$f":"ROUND($M1080*DP1080,2)","v":0},{"$f":"IF(ISERROR(VLOOKUP($A1080,#REF!,8,0)),0,(VLOOKUP($A1080,#REF!,8,0)))","v":0},{"$f":"IF($D1080>0,DW1080/$D1080,0)","v":0},{"$f":"IF($E1080>0,$E1080/$D1080,0)","v":1},0,0,0,{"$f":"ROUND($M1080*DW1080,2)","v":0},{"$f":"IF(ISERROR(VLOOKUP($A1080,#REF!,8,0)),0,(VLOOKUP($A1080,#REF!,8,0)))","v":0},{"$f":"IF($D1080>0,ED1080/$D1080,0)","v":0},{"$f":"IF($E1080>0,$E1080/$D1080,0)","v":1},0,0,0,{"$f":"ROUND($M1080*ED1080,2)","v":0},{"$f":"IF(ISERROR(VLOOKUP($A1080,#REF!,8,0)),0,(VLOOKUP($A1080,#REF!,8,0)))","v":0},{"$f":"IF($D1080>0,EK1080/$D1080,0)","v":0},{"$f":"IF($E1080>0,$E1080/$D1080,0)","v":1},0,0,0,{"$f":"ROUND($M1080*EK1080,2)","v":0},{"$f":"IF(ISERROR(VLOOKUP($A1080,#REF!,8,0)),0,(VLOOKUP($A1080,#REF!,8,0)))","v":0},{"$f":"IF($D1080>0,ER1080/$D1080,0)","v":0},{"$f":"IF($E1080>0,$E1080/$D1080,0)","v":1},0,0,0,{"$f":"ROUND($M1080*ER1080,2)","v":0},{"$f":"IF(ISERROR(VLOOKUP($A1080,#REF!,8,0)),0,(VLOOKUP($A1080,#REF!,8,0)))","v":0},{"$f":"IF($D1080>0,EY1080/$D1080,0)","v":0},{"$f":"IF($E1080>0,$E1080/$D1080,0)","v":1},0,0,0,{"$f":"ROUND($M1080*EY1080,2)","v":0},{"$f":"IF(ISERROR(VLOOKUP($A1080,#REF!,8,0)),0,(VLOOKUP($A1080,#REF!,8,0)))","v":0},{"$f":"IF($D1080>0,FF1080/$D1080,0)","v":0},{"$f":"IF($E1080>0,$E1080/$D1080,0)","v":1},0,0,0,{"$f":"ROUND($M1080*FF1080,2)","v":0},{"$f":"IF(ISERROR(VLOOKUP($A1080,#REF!,8,0)),0,(VLOOKUP($A1080,#REF!,8,0)))","v":0},{"$f":"IF($D1080>0,FM1080/$D1080,0)","v":0},{"$f":"IF($E1080>0,$E1080/$D1080,0)","v":1},0,0,0,{"$f":"ROUND($M1080*FM1080,2)","v":0},{"$f":"IF(ISERROR(VLOOKUP($A1080,#REF!,8,0)),0,(VLOOKUP($A1080,#REF!,8,0)))","v":0},{"$f":"IF($D1080>0,FT1080/$D1080,0)","v":0},{"$f":"IF($E1080>0,$E1080/$D1080,0)","v":1},0,0,0,{"$f":"ROUND($M1080*FT1080,2)","v":0},{"$f":"IF(ISERROR(VLOOKUP($A1080,#REF!,8,0)),0,(VLOOKUP($A1080,#REF!,8,0)))","v":0},{"$f":"IF($D1080>0,GA1080/$D1080,0)","v":0},{"$f":"IF($E1080>0,$E1080/$D1080,0)","v":1},0,0,0,{"$f":"ROUND($M1080*GA1080,2)","v":0},{"$f":"IF(ISERROR(VLOOKUP($A1080,#REF!,8,0)),0,(VLOOKUP($A1080,#REF!,8,0)))","v":0},{"$f":"IF($D1080>0,GH1080/$D1080,0)","v":0},{"$f":"IF($E1080>0,$E1080/$D1080,0)","v":1},0,0,0,{"$f":"ROUND($M1080*GH1080,2)","v":0},{"$f":"IF(ISERROR(VLOOKUP($A1080,#REF!,8,0)),0,(VLOOKUP($A1080,#REF!,8,0)))","v":0},{"$f":"IF($D1080>0,GO1080/$D1080,0)","v":0},{"$f":"IF($E1080>0,$E1080/$D1080,0)","v":1},0,0,0,{"$f":"ROUND($M1080*GO1080,2)","v":0},{"$f":"IF(ISERROR(VLOOKUP($A1080,#REF!,8,0)),0,(VLOOKUP($A1080,#REF!,8,0)))","v":0},{"$f":"IF($D1080>0,GV1080/$D1080,0)","v":0},{"$f":"IF($E1080>0,$E1080/$D1080,0)","v":1},0,0,0,{"$f":"ROUND($M1080*GV1080,2)","v":0},{"$f":"IF(ISERROR(VLOOKUP($A1080,#REF!,8,0)),0,(VLOOKUP($A1080,#REF!,8,0)))","v":0},{"$f":"IF($D1080>0,HC1080/$D1080,0)","v":0},{"$f":"IF($E1080>0,$E1080/$D1080,0)","v":1},0,0,0,{"$f":"ROUND($M1080*HC1080,2)","v":0},{"$f":"IF(ISERROR(VLOOKUP($A1080,#REF!,8,0)),0,(VLOOKUP($A1080,#REF!,8,0)))","v":0},{"$f":"IF($D1080>0,HJ1080/$D1080,0)","v":0},{"$f":"IF($E1080>0,$E1080/$D1080,0)","v":1},0,0,0,{"$f":"ROUND($M1080*HJ1080,2)","v":0},{"$f":"IF(ISERROR(VLOOKUP($A1080,#REF!,8,0)),0,(VLOOKUP($A1080,#REF!,8,0)))","v":0},{"$f":"IF($D1080>0,HQ1080/$D1080,0)","v":0},{"$f":"IF($E1080>0,$E1080/$D1080,0)","v":1},0,0,0,{"$f":"ROUND($M1080*HQ1080,2)","v":0},{"$f":"IF(ISERROR(VLOOKUP($A1080,#REF!,8,0)),0,(VLOOKUP($A1080,#REF!,8,0)))","v":0},{"$f":"IF($D1080>0,HX1080/$D1080,0)","v":0},{"$f":"IF($E1080>0,$E1080/$D1080,0)","v":1},0,0,0,{"$f":"ROUND($M1080*HX1080,2)","v":0},{"$f":"IF(ISERROR(VLOOKUP($A1080,#REF!,8,0)),0,(VLOOKUP($A1080,#REF!,8,0)))","v":0},{"$f":"IF($D1080>0,IE1080/$D1080,0)","v":0},{"$f":"IF($E1080>0,$E1080/$D1080,0)","v":1},0,0,0,{"$f":"ROUND($M1080*IE1080,2)","v":0},{"$f":"IF(ISERROR(VLOOKUP($A1080,#REF!,8,0)),0,(VLOOKUP($A1080,#REF!,8,0)))","v":0},{"$f":"IF($D1080>0,IL1080/$D1080,0)","v":0},{"$f":"IF($E1080>0,$E1080/$D1080,0)","v":1},0,0,0,{"$f":"ROUND($M1080*IL1080,2)","v":0},{"$f":"IF(ISERROR(VLOOKUP($A1080,#REF!,8,0)),0,(VLOOKUP($A1080,#REF!,8,0)))","v":0},{"$f":"IF($D1080>0,IS1080/$D1080,0)","v":0},{"$f":"IF($E1080>0,$E1080/$D1080,0)","v":1},0,0,0,{"$f":"ROUND($M1080*IS1080,2)","v":0},{"$f":"IF(ISERROR(VLOOKUP($A1080,#REF!,8,0)),0,(VLOOKUP($A1080,#REF!,8,0)))","v":0},{"$f":"IF($D1080>0,IZ1080/$D1080,0)","v":0},{"$f":"IF($E1080>0,$E1080/$D1080,0)","v":1},0,0,0,{"$f":"ROUND($M1080*IZ1080,2)","v":0},{"$f":"IF(ISERROR(VLOOKUP($A1080,#REF!,8,0)),0,(VLOOKUP($A1080,#REF!,8,0)))","v":0},{"$f":"IF($D1080>0,JG1080/$D1080,0)","v":0},{"$f":"IF($E1080>0,$E1080/$D1080,0)","v":1},0,0,0,{"$f":"ROUND($M1080*JG1080,2)","v":0},{"$f":"IF(ISERROR(VLOOKUP($A1080,#REF!,8,0)),0,(VLOOKUP($A1080,#REF!,8,0)))","v":0},{"$f":"IF($D1080>0,JN1080/$D1080,0)","v":0},{"$f":"IF($E1080>0,$E1080/$D1080,0)","v":1},0,0,0,{"$f":"ROUND($M1080*JN1080,2)","v":0},{"$f":"IF(ISERROR(VLOOKUP($A1080,#REF!,8,0)),0,(VLOOKUP($A1080,#REF!,8,0)))","v":0},{"$f":"IF($D1080>0,JU1080/$D1080,0)","v":0},{"$f":"IF($E1080>0,$E1080/$D1080,0)","v":1},0,0,0,{"$f":"ROUND($M1080*JU1080,2)","v":0},{"$f":"IF(ISERROR(VLOOKUP($A1080,#REF!,8,0)),0,(VLOOKUP($A1080,#REF!,8,0)))","v":0},{"$f":"IF($D1080>0,KB1080/$D1080,0)","v":0},{"$f":"IF($E1080>0,$E1080/$D1080,0)","v":1},0,0,0,{"$f":"ROUND($M1080*KB1080,2)","v":0},{"$f":"IF(ISERROR(VLOOKUP($A1080,#REF!,8,0)),0,(VLOOKUP($A1080,#REF!,8,0)))","v":0},{"$f":"IF($D1080>0,KI1080/$D1080,0)","v":0},{"$f":"IF($E1080>0,$E1080/$D1080,0)","v":1},0,0,0,{"$f":"ROUND($M1080*KI1080,2)","v":0},{"$f":"IF(ISERROR(VLOOKUP($A1080,#REF!,8,0)),0,(VLOOKUP($A1080,#REF!,8,0)))","v":0},{"$f":"IF($D1080>0,KP1080/$D1080,0)","v":0},{"$f":"IF($E1080>0,$E1080/$D1080,0)","v":1},0,0,0,{"$f":"ROUND($M1080*KP1080,2)","v":0},{"$f":"IF(ISERROR(VLOOKUP($A1080,#REF!,8,0)),0,(VLOOKUP($A1080,#REF!,8,0)))","v":0},{"$f":"IF($D1080>0,KW1080/$D1080,0)","v":0},{"$f":"IF($E1080>0,$E1080/$D1080,0)","v":1},0,0,0,{"$f":"ROUND($M1080*KW1080,2)","v":0},{"$f":"IF(ISERROR(VLOOKUP($A1080,#REF!,8,0)),0,(VLOOKUP($A1080,#REF!,8,0)))","v":0},{"$f":"IF($D1080>0,LD1080/$D1080,0)","v":0},{"$f":"IF($E1080>0,$E1080/$D1080,0)","v":1},0,0,0,{"$f":"ROUND($M1080*LD1080,2)","v":0},{"$f":"IF(ISERROR(VLOOKUP($A1080,#REF!,8,0)),0,(VLOOKUP($A1080,#REF!,8,0)))","v":0},{"$f":"IF($D1080>0,LK1080/$D1080,0)","v":0},{"$f":"IF($E1080>0,$E1080/$D1080,0)","v":1},0,0,0,{"$f":"ROUND($M1080*LK1080,2)","v":0},{"$f":"IF(ISERROR(VLOOKUP($A1080,#REF!,8,0)),0,(VLOOKUP($A1080,#REF!,8,0)))","v":0},{"$f":"IF($D1080>0,LR1080/$D1080,0)","v":0},{"$f":"IF($E1080>0,$E1080/$D1080,0)","v":1},0,0,0,{"$f":"ROUND($M1080*LR1080,2)","v":0},{"$f":"IF(ISERROR(VLOOKUP($A1080,#REF!,8,0)),0,(VLOOKUP($A1080,#REF!,8,0)))","v":0},{"$f":"IF($D1080>0,LY1080/$D1080,0)","v":0},{"$f":"IF($E1080>0,$E1080/$D1080,0)","v":1},0,0,0,{"$f":"ROUND($M1080*LY1080,2)","v":0},{"$f":"IF(ISERROR(VLOOKUP($A1080,#REF!,8,0)),0,(VLOOKUP($A1080,#REF!,8,0)))","v":0},{"$f":"IF($D1080>0,MF1080/$D1080,0)","v":0},{"$f":"IF($E1080>0,$E1080/$D1080,0)","v":1},0,0,0,{"$f":"ROUND($M1080*MF1080,2)","v":0},{"$f":"IF(ISERROR(VLOOKUP($A1080,#REF!,8,0)),0,(VLOOKUP($A1080,#REF!,8,0)))","v":0},{"$f":"IF($D1080>0,MM1080/$D1080,0)","v":0},{"$f":"IF($E1080>0,$E1080/$D1080,0)","v":1},0,0,0,{"$f":"ROUND($M1080*MM1080,2)","v":0},{"$f":"IF(ISERROR(VLOOKUP($A1080,#REF!,8,0)),0,(VLOOKUP($A1080,#REF!,8,0)))","v":0},{"$f":"IF($D1080>0,MT1080/$D1080,0)","v":0},{"$f":"IF($E1080>0,$E1080/$D1080,0)","v":1},0,0,0,{"$f":"ROUND($M1080*MT1080,2)","v":0},{"$f":"IF(ISERROR(VLOOKUP($A1080,#REF!,8,0)),0,(VLOOKUP($A1080,#REF!,8,0)))","v":0},{"$f":"IF($D1080>0,NA1080/$D1080,0)","v":0},{"$f":"IF($E1080>0,$E1080/$D1080,0)","v":1},0,0,0,{"$f":"ROUND($M1080*NA1080,2)","v":0},{"$f":"IF(ISERROR(VLOOKUP($A1080,#REF!,8,0)),0,(VLOOKUP($A1080,#REF!,8,0)))","v":0},{"$f":"IF($D1080>0,NH1080/$D1080,0)","v":0},{"$f":"IF($E1080>0,$E1080/$D1080,0)","v":1},0,0,0,{"$f":"ROUND($M1080*NH1080,2)","v":0},{"$f":"IF(ISERROR(VLOOKUP($A1080,#REF!,8,0)),0,(VLOOKUP($A1080,#REF!,8,0)))","v":0},{"$f":"IF($D1080>0,NO1080/$D1080,0)","v":0},{"$f":"IF($E1080>0,$E1080/$D1080,0)","v":1},0,0,0,{"$f":"ROUND($M1080*NO1080,2)","v":0},{"$f":"IF(ISERROR(VLOOKUP($A1080,#REF!,8,0)),0,(VLOOKUP($A1080,#REF!,8,0)))","v":0},{"$f":"IF($D1080>0,NV1080/$D1080,0)","v":0},{"$f":"IF($E1080>0,$E1080/$D1080,0)","v":1},0,0,0,{"$f":"ROUND($M1080*NV1080,2)","v":0},{"$f":"IF(ISERROR(VLOOKUP($A1080,#REF!,8,0)),0,(VLOOKUP($A1080,#REF!,8,0)))","v":0},{"$f":"IF($D1080>0,OC1080/$D1080,0)","v":0},{"$f":"IF($E1080>0,$E1080/$D1080,0)","v":1},0,0,0,{"$f":"ROUND($M1080*OC1080,2)","v":0},454.73175999999995,454.73175999999995,1,0]
["VALOR DO REAJUSTE DA 12ª MEDIÇÃO",null,null,null,null,null,null,null,null,null,null,null,null,null,13096.33,{"$f":"SUM(P1034:P1044)+SUM(P1024:P1032)+P464+P362+P241+P46","v":0},null,null,null,null,null,null,null,null,null,null,null,null,null,null,null,null,null,null,null,null,null,null,null,null,null,null,null,null,null,null,null,null,null,null,null,null,null,null,null,null,null,null,null,null,null,null,null,null,null,null,null,null,null,null,null,null,null,null,null,null,null,null,null,null,null,null,null,null,null,null,null,null,null,null,null,null,null,null,null,null,null,null,null,null,null,null,null,null,null,null,null,null,null,null,null,null,null,null,null,null,null,null,null,null,null,null,null,null,null,null,null,null,null,null,null,null,null,null,null,null,null,null,null,null,null,null,null,null,null,null,null,null,null,null,null,null,null,null,null,null,null,null,null,null,null,null,null,null,null,null,null,null,null,null,null,null,null,null,null,null,null,null,null,null,null,null,null,null,null,null,null,null,null,null,null,null,null,null,null,null,null,null,null,null,null,null,null,null,null,null,null,null,null,null,null,null,null,null,null,null,null,null,null,null,null,null,null,null,null,null,null,null,null,null,null,null,null,null,null,null,null,null,null,null,null,null,null,null,null,null,null,null,null,null,null,null,null,null,null,null,null,null,null,null,null,null,null,null,null,null,null,null,null,null,null,null,null,null,null,null,null,null,null,null,null,null,null,null,null,null,null,null,null,null,null,null,null,null,null,null,null,null,null,null,null,null,null,null,null,null,null,null,null,null,null,null,null,null,null,null,null,null,null,null,null,null,null,null,null,null,null,null,null,null,null,null,null,null,null,null,null,null,null,null,null,null,null,null,null,null,null,null,null,null,null,null,null,"FIM","FIM","FIM",null,null,null,null,"FIM","FIM","FIM",null,null,null,null,"FIM","FIM","FIM",null,null,null,null,"FIM","FIM","FIM",null,null,null,null,"FIM","FIM","FIM",null,null,null,null,"FIM","FIM","FIM",null,null,null,null,"FIM","FIM","FIM"]
["VALOR DO REAJUSTE DA 21ª MEDIÇÃO",null,null,null,null,null,null,null,null,null,null,null,null,null,11257.93,null,null,null,null,null,null,null,null,null,null,null,null,null,null,null,null,null,null,null,null,null,null,null,null,null,null,null,null,null,null,null,null,null,null,null,null,null,null,null,null,null,null,null,null,null,null,null,null,null,null,null,null,null,null,null,null,null,null,null,null,null,null,null,null,null,null,null,null,null,null,null,null,null,null,null,null,null,null,null,null,null,null,null,null,null,null,null,null,null,null,null,null,null,null,null,null,null,null,null,null,null,null,null,null,null,null,null,null,null,null,null,null,null,null,null,null,null,null,null,null,null,null,null,null,null,null,null,null,null,null,null,null,null,null,null,null,null,null,null,null,null,null,null,null,null,null,null,null,null,null,null,null,null,null,null,null,null,null,null,null,null,null,null,null,null,null,null,null,null,null,null,null,null,null,null,null,null,null,null,null,null,null,null,null,null,null,null,null,null,null,null,null,null,null,null,null,null,null,null,null,null,null,null,null,null,null,null,null,null,null,null,null,null,null,null,null,null,null,null,null,null,null,null,null,null,null,null,null,null,null,null,null,null,null,null,null,null,null,null,null,null,null,null,null,null,null,null,null,null,null,null,null,null,null,null,null,null,null,null,null,null,null,null,null,null,null,null,null,null,null,null,null,null,null,null,null,null,null,null,null,null,null,null,null,null,null,null,null,null,null,null,null,null,null,null,null,null,null,null,null,null,null,null,null,null,null,null,null,null,null,null,null,null,null,null,null,null,null,null,null,null,null,null,null,null,null,null,null,null,null,null,null,null,null,null,null,null,null,null,null,null,null,null,null,null,null,null,"TOTAL:",{"$f":"SUM(MZ1096:MZ1097)","v":0},null,null,null,null,null,"TOTAL:",{"$f":"SUM(NG1096:NG1097)","v":0},null,null,null,null,null,"TOTAL:",{"$f":"SUM(NN1096:NN1097)","v":0},null,null,null,null,null,"TOTAL:",{"$f":"SUM(NU1096:NU1097)","v":0}]
["VALOR DO REAJUSTE DA 29ª MEDIÇÃO",null,null,null,null,null,null,null,null,null,null,null,null,null,58107.62]
["VALOR DO REAJUSTE DA 32ª MEDIÇÃO",null,null,null,null,null,null,null,null,null,null,null,null,null,20482.419999999998]
["VALOR DO REAJUSTE DA 41ª MEDIÇÃO",null,null,null,null,null,null,null,null,null,null,null,null,null,48888.87]
["VALOR DO REAJUSTE DA 50ª MEDIÇÃO",null,null,null,null,null,null,null,null,null,null,null,null,null,101850.54]
["VALOR MEDIDO DO 3º TA",null,null,null,null,null,null,null,null,null,null,null,null,null,{"$f":"SUM(O1133:O1135)","v":425776.57}]
["1ª MEDIÇÃO DO 4º TA",null,null,null,null,null,null,null,null,null,null,null,null,null,55681.09]
["1ª MEDIÇÃO REAJUSTE DO 4º TA",null,null,null,null,null,null,null,null,null,null,null,null,null,12389.04]
["2ª MEDIÇÃO REAJUSTE DO 4º TA",null,null,null,null,null,null,null,null,null,null,null,null,null,9811.83]
["3ª MEDIÇÃO REAJUSTE DO 4º TA",null,null,null,null,null,null,null,null,null,null,null,null,null,2748.64]
["4ª MEDIÇÃO REAJUSTE DO 4º TA",null,null,null,null,null,null,null,null,null,null,null,null,null,8510.99]
["VALOR MEDIDO REAJUSTE DO 4º TA",null,null,null,null,null,null,null,null,null,null,null,null,null,{"$f":"SUM(O1149:O1152)","v":33460.5}]
["MEDIÇÕES DO 7º TA"]
["1ª MEDIÇÃO DO 7º TA",null,null,null,null,null,null,null,null,null,null,null,null,null,185915]
["2ª MEDIÇÃO DO 7º TA",null,null,null,null,null,null,null,null,null,null,null,null,null,174825.28]
["VALOR MEDIDO DO 7º TA",null,null,null,null,null,null,null,null,null,null,null,null,null,{"$f":"SUM(O1155:O1156)","v":360740.28}]
["MEDIÇÕES DO 8º TA"]
["1ª MEDIÇÃO DO 8º TA",null,null,null,null,null,null,null,null,null,null,null,null,null,233276.7]
["2ª MEDIÇÃO DO 8º TA",null,null,null,null,null,null,null,null,null,null,null,null,null,85521.61]
["VALOR MEDIDO DO 8º TA",null,null,null,null,null,null,null,null,null,null,null,null,null,{"$f":"SUM(O1159:O1160)","v":318798.31}]
["MEDIÇÕES DO REEQUILÍBRIO DE PREÇOS"]
["REEQUILÍBRIO NA 46ª MEDIÇÃO",null,null,null,null,null,null,null,null,null,null,null,null,null,324609.82]
["REEQUILÍBRIO NA 47ª MEDIÇÃO",null,null,null,null,null,null,null,null,null,null,null,null,null,49388.09]
["REEQUILÍBRIO NA 48ª MEDIÇÃO",null,null,null,null,null,null,null,null,null,null,null,null,null,252660.72]
["REEQUILÍBRIO NA 49ª MEDIÇÃO",null,null,null,null,null,null,null,null,null,null,null,null,null,196498.48]
["REEQUILÍBRIO NA 50ª MEDIÇÃO",null,null,null,null,null,null,null,null,null,null,null,null,null,141576.29]
["REEQUILÍBRIO NA 51ª MEDIÇÃO",null,null,null,null,null,null,null,null,null,null,null,null,null,21495.31]
["REEQUILÍBRIO NA 52ª MEDIÇÃO",null,null,null,null,null,null,null,null,null,null,null,null,null,88652.93]
["REEQUILÍBRIO NA 53ª MEDIÇÃO",null,null,null,null,null,null,null,null,null,null,null,null,null,63356.42]
["VALOR MEDIDO DO REEQUILÍBRIO DE PREÇOS ",null,null,null,null,null,null,null,null,null,null,null,null,null,{"$f":"SUM(O1163:O1170)","v":1138238.06}]
["MEDIÇÕES DE DIFERENÇA DE REJUSTE DO IV PARA O V CICLO"]
["DIFERENÇA DE REAJUSTE DE IV PARA O V CICLO 48ª MEDIÇÃO",null,null,null,null,null,null,null,null,null,null,null,null,null,81692.78]
["DIFERENÇA DE REAJUSTE DE IV PARA O V CICLO 49ª MEDIÇÃO",null,null,null,null,null,null,null,null,null,null,null,null,null,130654.67]
["DIFERENÇA DE REAJUSTE DE IV PARA O V CICLO 50ª MEDIÇÃO",null,null,null,null,null,null,null,null,null,null,null,null,null,79740.86]
["DIFERENÇA DE REAJUSTE DE IV PARA O V CICLO 51ª MEDIÇÃO",null,null,null,null,null,null,null,null,null,null,null,null,null,130158.33]
["VALOR MEDIDO DIFERENÇA DE REAJUSTE DO IV PARA O V CICLO",null,null,null,null,null,null,null,null,null,null,null,null,null,{"$f":"SUM(O1173:O1176)","v":422246.64}]
["RESSARCIMENTO DE OBRA PARALIZADA PELO TJPE EM VIRTUDE DA COVID 19",null,null,null,null,null,null,null,null,null,null,null,null,null,160262.89000000001]
["TOTAL",null,null,null,null,null,null,null,null,null,null,null,null,null,{"$f":"SUM(M1084+O1131+O1136+O1141+O1147+O1153+O1157+O1161+O1171+O1177+O1178)","v":18704480.179666653}]